{"text_format":"1","workbook":"xlsx","n_sheets":13,"sheets":["Förbehandling (Sep)","Produktion","Uppgradering","Distribution","Rapport HBL","Rapport DML","Rapport Ej slutkund","Substrat","Data","Resultat","Avfall Web","Egna Data 1","Egna Data 2"],"not_rendered":{"charts":0,"images":66,"macros":1,"external_links":0,"defined_names":29,"comments":10,"pivot_tables":0},"unopened":[],"bounds":{"document_bytes":16777216,"sheet_cells":100000,"rows_first":2000,"rows_last":500,"rows_between":2000,"halvings":0,"cell_chars":16384,"cell_head_chars":4096},"cells_cut":0,"cells_raw":0,"read":"whole","date_system":"1900"}

{"sheet":"Förbehandling (Sep)","index":0,"n_rows":133,"n_cols":19,"rows_kept":133,"cut":false,"hidden":false,"merged":[[0,0,0,13],[27,7,27,8],[3,12,3,13],[25,0,25,5],[27,0,27,6],[3,0,3,11],[1,1,1,5],[2,1,2,5],[86,2,86,6],[110,0,110,7],[110,8,110,17],[62,6,62,7],[84,0,84,4],[86,7,86,12],[66,1,66,4],[72,1,72,4],[73,1,73,4],[79,1,79,4],[80,1,80,4],[67,1,67,4],[68,1,68,4],[69,1,69,4],[70,1,70,4],[71,1,71,4],[74,1,74,4],[75,1,75,4],[76,1,76,4],[77,1,77,4],[78,1,78,4]]}
["HBK Biogasredovisning, ver 3.6 - Förbehandling av substrat (separat anläggning)"]
["Företag:","NNNN"]
["Rapportperiod","2020-01-01 -- 2020-12-31"]
["Substrat till förbehandling",null,null,null,null,null,null,null,null,null,null,null,"Växthusgasberäkning"]
["Substrat","Region","Parti nr","Ursprung","Substrat, typ","Användning  av normalvärde, Ja/Nej","Ingående lagermängd, ton (våtvikt)","Mängd till anläggning eller till lager, ton (våtvikt)","Utgående lagermängd, ton (våtvikt)","Torrsubstans-halt, %","Mängd till förbehandling, ton (våtvikt)","Mängd till biogas-produktion, ton (våtvikt)","Faktor, gCO2eq/ton ts","Mängd CO2eq, ton"]
[null,null,1,null,{"$f":"IF(A6<>\"\",VLOOKUP(A6,Substrat!$A$3:$D$68,2,FALSE),\"\")","v":""},null,null,null,null,null,{"$f":"G6+H6-I6","v":0},{"$f":"IF(A6<>\"\",$F$84/$K$26*K6,\"\")","v":""},{"$f":"IF(A6<>\"\",IF(B6<>\"\",INDEX(Substrat!$B$101:$K$121,MATCH(B6,Region,0),MATCH(A6,Substrat!$B$100:$K$100,0)),VLOOKUP(A6,Substrat!$A$3:$D$68,4,FALSE)),\"\")","v":""},{"$f":"IF(A6<>\"\",IF(AND(NOT(J6>0), M6>0),  #N/A,  K6*J6*M6/1000/1000),\"\")","v":""}]
[null,null,2,null,{"$f":"IF(A7<>\"\",VLOOKUP(A7,Substrat!$A$3:$D$68,2,FALSE),\"\")","v":""},null,null,null,null,null,{"$f":"G7+H7-I7","v":0},{"$f":"IF(A7<>\"\",$F$84/$K$26*K7,\"\")","v":""},{"$f":"IF(A7<>\"\",IF(B7<>\"\",INDEX(Substrat!$B$101:$K$121,MATCH(B7,Region,0),MATCH(A7,Substrat!$B$100:$K$100,0)),VLOOKUP(A7,Substrat!$A$3:$D$68,4,FALSE)),\"\")","v":""},{"$f":"IF(A7<>\"\",IF(AND(NOT(J7>0), M7>0),  #N/A,  K7*J7*M7/1000/1000),\"\")","v":""}]
[null,null,3,null,{"$f":"IF(A8<>\"\",VLOOKUP(A8,Substrat!$A$3:$D$68,2,FALSE),\"\")","v":""},null,null,null,null,null,0,"",{"$f":"IF(A8<>\"\",IF(B8<>\"\",INDEX(Substrat!$B$101:$K$121,MATCH(B8,Region,0),MATCH(A8,Substrat!$B$100:$K$100,0)),VLOOKUP(A8,Substrat!$A$3:$D$68,4,FALSE)),\"\")","v":""},""]
[null,null,4,null,{"$f":"IF(A9<>\"\",VLOOKUP(A9,Substrat!$A$3:$D$68,2,FALSE),\"\")","v":""},null,null,null,null,null,0,"",{"$f":"IF(A9<>\"\",IF(B9<>\"\",INDEX(Substrat!$B$101:$K$121,MATCH(B9,Region,0),MATCH(A9,Substrat!$B$100:$K$100,0)),VLOOKUP(A9,Substrat!$A$3:$D$68,4,FALSE)),\"\")","v":""},""]
[null,null,5,null,{"$f":"IF(A10<>\"\",VLOOKUP(A10,Substrat!$A$3:$D$68,2,FALSE),\"\")","v":""},null,null,null,null,null,0,"",{"$f":"IF(A10<>\"\",IF(B10<>\"\",INDEX(Substrat!$B$101:$K$121,MATCH(B10,Region,0),MATCH(A10,Substrat!$B$100:$K$100,0)),VLOOKUP(A10,Substrat!$A$3:$D$68,4,FALSE)),\"\")","v":""},""]
[null,null,6,null,{"$f":"IF(A11<>\"\",VLOOKUP(A11,Substrat!$A$3:$D$68,2,FALSE),\"\")","v":""},null,null,null,null,null,0,"",{"$f":"IF(A11<>\"\",IF(B11<>\"\",INDEX(Substrat!$B$101:$K$121,MATCH(B11,Region,0),MATCH(A11,Substrat!$B$100:$K$100,0)),VLOOKUP(A11,Substrat!$A$3:$D$68,4,FALSE)),\"\")","v":""},""]
[null,null,7,null,{"$f":"IF(A12<>\"\",VLOOKUP(A12,Substrat!$A$3:$D$68,2,FALSE),\"\")","v":""},null,null,null,null,null,0,"",{"$f":"IF(A12<>\"\",IF(B12<>\"\",INDEX(Substrat!$B$101:$K$121,MATCH(B12,Region,0),MATCH(A12,Substrat!$B$100:$K$100,0)),VLOOKUP(A12,Substrat!$A$3:$D$68,4,FALSE)),\"\")","v":""},""]
[null,null,8,null,{"$f":"IF(A13<>\"\",VLOOKUP(A13,Substrat!$A$3:$D$68,2,FALSE),\"\")","v":""},null,null,null,null,null,0,"",{"$f":"IF(A13<>\"\",IF(B13<>\"\",INDEX(Substrat!$B$101:$K$121,MATCH(B13,Region,0),MATCH(A13,Substrat!$B$100:$K$100,0)),VLOOKUP(A13,Substrat!$A$3:$D$68,4,FALSE)),\"\")","v":""},""]
[null,null,9,null,{"$f":"IF(A14<>\"\",VLOOKUP(A14,Substrat!$A$3:$D$68,2,FALSE),\"\")","v":""},null,null,null,null,null,0,"",{"$f":"IF(A14<>\"\",IF(B14<>\"\",INDEX(Substrat!$B$101:$K$121,MATCH(B14,Region,0),MATCH(A14,Substrat!$B$100:$K$100,0)),VLOOKUP(A14,Substrat!$A$3:$D$68,4,FALSE)),\"\")","v":""},""]
[null,null,10,null,{"$f":"IF(A15<>\"\",VLOOKUP(A15,Substrat!$A$3:$D$68,2,FALSE),\"\")","v":""},null,null,null,null,null,0,"",{"$f":"IF(A15<>\"\",IF(B15<>\"\",INDEX(Substrat!$B$101:$K$121,MATCH(B15,Region,0),MATCH(A15,Substrat!$B$100:$K$100,0)),VLOOKUP(A15,Substrat!$A$3:$D$68,4,FALSE)),\"\")","v":""},""]
[null,null,11,null,{"$f":"IF(A16<>\"\",VLOOKUP(A16,Substrat!$A$3:$D$68,2,FALSE),\"\")","v":""},null,null,null,null,null,0,"",{"$f":"IF(A16<>\"\",IF(B16<>\"\",INDEX(Substrat!$B$101:$K$121,MATCH(B16,Region,0),MATCH(A16,Substrat!$B$100:$K$100,0)),VLOOKUP(A16,Substrat!$A$3:$D$68,4,FALSE)),\"\")","v":""},""]
[null,null,12,null,{"$f":"IF(A17<>\"\",VLOOKUP(A17,Substrat!$A$3:$D$68,2,FALSE),\"\")","v":""},null,null,null,null,null,0,"",{"$f":"IF(A17<>\"\",IF(B17<>\"\",INDEX(Substrat!$B$101:$K$121,MATCH(B17,Region,0),MATCH(A17,Substrat!$B$100:$K$100,0)),VLOOKUP(A17,Substrat!$A$3:$D$68,4,FALSE)),\"\")","v":""},""]
[null,null,13,null,{"$f":"IF(A18<>\"\",VLOOKUP(A18,Substrat!$A$3:$D$68,2,FALSE),\"\")","v":""},null,null,null,null,null,0,"",{"$f":"IF(A18<>\"\",IF(B18<>\"\",INDEX(Substrat!$B$101:$K$121,MATCH(B18,Region,0),MATCH(A18,Substrat!$B$100:$K$100,0)),VLOOKUP(A18,Substrat!$A$3:$D$68,4,FALSE)),\"\")","v":""},""]
[null,null,14,null,{"$f":"IF(A19<>\"\",VLOOKUP(A19,Substrat!$A$3:$D$68,2,FALSE),\"\")","v":""},null,null,null,null,null,0,"",{"$f":"IF(A19<>\"\",IF(B19<>\"\",INDEX(Substrat!$B$101:$K$121,MATCH(B19,Region,0),MATCH(A19,Substrat!$B$100:$K$100,0)),VLOOKUP(A19,Substrat!$A$3:$D$68,4,FALSE)),\"\")","v":""},""]
[null,null,15,null,{"$f":"IF(A20<>\"\",VLOOKUP(A20,Substrat!$A$3:$D$68,2,FALSE),\"\")","v":""},null,null,null,null,null,0,"",{"$f":"IF(A20<>\"\",IF(B20<>\"\",INDEX(Substrat!$B$101:$K$121,MATCH(B20,Region,0),MATCH(A20,Substrat!$B$100:$K$100,0)),VLOOKUP(A20,Substrat!$A$3:$D$68,4,FALSE)),\"\")","v":""},""]
[null,null,16,null,{"$f":"IF(A21<>\"\",VLOOKUP(A21,Substrat!$A$3:$D$68,2,FALSE),\"\")","v":""},null,null,null,null,null,0,"",{"$f":"IF(A21<>\"\",IF(B21<>\"\",INDEX(Substrat!$B$101:$K$121,MATCH(B21,Region,0),MATCH(A21,Substrat!$B$100:$K$100,0)),VLOOKUP(A21,Substrat!$A$3:$D$68,4,FALSE)),\"\")","v":""},""]
[null,null,17,null,{"$f":"IF(A22<>\"\",VLOOKUP(A22,Substrat!$A$3:$D$68,2,FALSE),\"\")","v":""},null,null,null,null,null,0,"",{"$f":"IF(A22<>\"\",IF(B22<>\"\",INDEX(Substrat!$B$101:$K$121,MATCH(B22,Region,0),MATCH(A22,Substrat!$B$100:$K$100,0)),VLOOKUP(A22,Substrat!$A$3:$D$68,4,FALSE)),\"\")","v":""},""]
[null,null,18,null,{"$f":"IF(A23<>\"\",VLOOKUP(A23,Substrat!$A$3:$D$68,2,FALSE),\"\")","v":""},null,null,null,null,null,0,"",{"$f":"IF(A23<>\"\",IF(B23<>\"\",INDEX(Substrat!$B$101:$K$121,MATCH(B23,Region,0),MATCH(A23,Substrat!$B$100:$K$100,0)),VLOOKUP(A23,Substrat!$A$3:$D$68,4,FALSE)),\"\")","v":""},""]
[null,null,19,null,{"$f":"IF(A24<>\"\",VLOOKUP(A24,Substrat!$A$3:$D$68,2,FALSE),\"\")","v":""},null,null,null,null,null,0,"",{"$f":"IF(A24<>\"\",IF(B24<>\"\",INDEX(Substrat!$B$101:$K$121,MATCH(B24,Region,0),MATCH(A24,Substrat!$B$100:$K$100,0)),VLOOKUP(A24,Substrat!$A$3:$D$68,4,FALSE)),\"\")","v":""},""]
[null,null,20,null,{"$f":"IF(A25<>\"\",VLOOKUP(A25,Substrat!$A$3:$D$68,2,FALSE),\"\")","v":""},null,null,null,null,null,0,"",{"$f":"IF(A25<>\"\",IF(B25<>\"\",INDEX(Substrat!$B$101:$K$121,MATCH(B25,Region,0),MATCH(A25,Substrat!$B$100:$K$100,0)),VLOOKUP(A25,Substrat!$A$3:$D$68,4,FALSE)),\"\")","v":""},""]
["Summa till biogasproduktion",null,null,null,null,null,{"$f":"SUM(G6:G25)","v":0},{"$f":"SUM(H6:H25)","v":0},{"$f":"SUM(I6:I25)","v":0},null,{"$f":"SUM(K6:K25)","v":0},{"$f":"SUM(L6:L25)","v":0}]
[]
["Transporter av substrat till anläggning eller till lager på anläggning",null,null,null,null,null,null,"Växthusgasberäkning"]
["Substrat    OBS! Dubbelklicka i de gröna fälten för att få upp en lista med substrat","Parti nr","Mängd substrat, ton","Avstånd, km (MWh el)","Transportsätt","Bränsle","Returfrakt, ja/nej","Faktor, gCO2eq/tonkm (/ MWh)","Mängd CO2eq, ton"]
[null,null,null,null,null,null,null,{"$f":"IF(A30<>\"\", IF(E30=\"Rörledning\",Data!$B$49,  IF(OR(E30=\"Renh.-Stad\",E30=\"Renh.-Landsbygd\",E30=\"Slamsugning - fettavskiljare \"),\"\", IF(G30=\"Ja\", VLOOKUP(E30,Data!$A$134:$C$153,2,FALSE),  IF(G30=\"Nej\", (VLOOKUP(E30,Data!$A$134:$C$153,2,FALSE)+VLOOKUP(E30,Data!$A$134:$C$153,3,FALSE)), #N/A)) * VLOOKUP(F30,Data!$A$51:$C$72,3,FALSE))),\"\")","v":""},{"$f":"IF(E30=\"Rörledning\",D30*H30/1000/1000,IF(OR(E30=\"Renh.-Stad\",E30=\"Renh.-Landsbygd\",E30=\"Slamsugning - fettavskiljare \"),C30*VLOOKUP(E30,Data!$A$146:$E$148,4,FALSE)*VLOOKUP(F30,Data!$A$51:$E$72,3,FALSE)/1000000, IF(A30<>\"\", C30*D30*H30/1000/1000,\"\")))","v":""}]
[null,null,null,null,null,null,null,{"$f":"IF(A31<>\"\", IF(E31=\"Rörledning\",Data!$B$49,  IF(OR(E31=\"Renh.-Stad\",E31=\"Renh.-Landsbygd\",E31=\"Slamsugning - fettavskiljare \"),\"\", IF(G31=\"Ja\", VLOOKUP(E31,Data!$A$134:$C$153,2,FALSE),  IF(G31=\"Nej\", (VLOOKUP(E31,Data!$A$134:$C$153,2,FALSE)+VLOOKUP(E31,Data!$A$134:$C$153,3,FALSE)), #N/A)) * VLOOKUP(F31,Data!$A$51:$C$72,3,FALSE))),\"\")","v":""},{"$f":"IF(E31=\"Rörledning\",D31*H31/1000/1000,IF(OR(E31=\"Renh.-Stad\",E31=\"Renh.-Landsbygd\",E31=\"Slamsugning - fettavskiljare \"),C31*VLOOKUP(E31,Data!$A$146:$E$148,4,FALSE)*VLOOKUP(F31,Data!$A$51:$E$72,3,FALSE)/1000000, IF(A31<>\"\", C31*D31*H31/1000/1000,\"\")))","v":""}]
[null,null,null,null,null,null,null,{"$f":"IF(A32<>\"\", IF(E32=\"Rörledning\",Data!$B$49,  IF(OR(E32=\"Renh.-Stad\",E32=\"Renh.-Landsbygd\",E32=\"Slamsugning - fettavskiljare \"),\"\", IF(G32=\"Ja\", VLOOKUP(E32,Data!$A$134:$C$153,2,FALSE),  IF(G32=\"Nej\", (VLOOKUP(E32,Data!$A$134:$C$153,2,FALSE)+VLOOKUP(E32,Data!$A$134:$C$153,3,FALSE)), #N/A)) * VLOOKUP(F32,Data!$A$51:$C$72,3,FALSE))),\"\")","v":""},{"$f":"IF(E32=\"Rörledning\",D32*H32/1000/1000,IF(OR(E32=\"Renh.-Stad\",E32=\"Renh.-Landsbygd\",E32=\"Slamsugning - fettavskiljare \"),C32*VLOOKUP(E32,Data!$A$146:$E$148,4,FALSE)*VLOOKUP(F32,Data!$A$51:$E$72,3,FALSE)/1000000, IF(A32<>\"\", C32*D32*H32/1000/1000,\"\")))","v":""}]
[null,null,null,null,null,null,null,{"$f":"IF(A33<>\"\", IF(E33=\"Rörledning\",Data!$B$49,  IF(OR(E33=\"Renh.-Stad\",E33=\"Renh.-Landsbygd\",E33=\"Slamsugning - fettavskiljare \"),\"\", IF(G33=\"Ja\", VLOOKUP(E33,Data!$A$134:$C$153,2,FALSE),  IF(G33=\"Nej\", (VLOOKUP(E33,Data!$A$134:$C$153,2,FALSE)+VLOOKUP(E33,Data!$A$134:$C$153,3,FALSE)), #N/A)) * VLOOKUP(F33,Data!$A$51:$C$72,3,FALSE))),\"\")","v":""},{"$f":"IF(E33=\"Rörledning\",D33*H33/1000/1000,IF(OR(E33=\"Renh.-Stad\",E33=\"Renh.-Landsbygd\",E33=\"Slamsugning - fettavskiljare \"),C33*VLOOKUP(E33,Data!$A$146:$E$148,4,FALSE)*VLOOKUP(F33,Data!$A$51:$E$72,3,FALSE)/1000000, IF(A33<>\"\", C33*D33*H33/1000/1000,\"\")))","v":""}]
[null,null,null,null,null,null,null,{"$f":"IF(A34<>\"\", IF(E34=\"Rörledning\",Data!$B$49,  IF(OR(E34=\"Renh.-Stad\",E34=\"Renh.-Landsbygd\",E34=\"Slamsugning - fettavskiljare \"),\"\", IF(G34=\"Ja\", VLOOKUP(E34,Data!$A$134:$C$153,2,FALSE),  IF(G34=\"Nej\", (VLOOKUP(E34,Data!$A$134:$C$153,2,FALSE)+VLOOKUP(E34,Data!$A$134:$C$153,3,FALSE)), #N/A)) * VLOOKUP(F34,Data!$A$51:$C$72,3,FALSE))),\"\")","v":""},{"$f":"IF(E34=\"Rörledning\",D34*H34/1000/1000,IF(OR(E34=\"Renh.-Stad\",E34=\"Renh.-Landsbygd\",E34=\"Slamsugning - fettavskiljare \"),C34*VLOOKUP(E34,Data!$A$146:$E$148,4,FALSE)*VLOOKUP(F34,Data!$A$51:$E$72,3,FALSE)/1000000, IF(A34<>\"\", C34*D34*H34/1000/1000,\"\")))","v":""}]
[null,null,null,null,null,null,null,{"$f":"IF(A35<>\"\", IF(E35=\"Rörledning\",Data!$B$49,  IF(OR(E35=\"Renh.-Stad\",E35=\"Renh.-Landsbygd\",E35=\"Slamsugning - fettavskiljare \"),\"\", IF(G35=\"Ja\", VLOOKUP(E35,Data!$A$134:$C$153,2,FALSE),  IF(G35=\"Nej\", (VLOOKUP(E35,Data!$A$134:$C$153,2,FALSE)+VLOOKUP(E35,Data!$A$134:$C$153,3,FALSE)), #N/A)) * VLOOKUP(F35,Data!$A$51:$C$72,3,FALSE))),\"\")","v":""},{"$f":"IF(E35=\"Rörledning\",D35*H35/1000/1000,IF(OR(E35=\"Renh.-Stad\",E35=\"Renh.-Landsbygd\",E35=\"Slamsugning - fettavskiljare \"),C35*VLOOKUP(E35,Data!$A$146:$E$148,4,FALSE)*VLOOKUP(F35,Data!$A$51:$E$72,3,FALSE)/1000000, IF(A35<>\"\", C35*D35*H35/1000/1000,\"\")))","v":""}]
[null,null,null,null,null,null,null,{"$f":"IF(A36<>\"\", IF(E36=\"Rörledning\",Data!$B$49,  IF(OR(E36=\"Renh.-Stad\",E36=\"Renh.-Landsbygd\",E36=\"Slamsugning - fettavskiljare \"),\"\", IF(G36=\"Ja\", VLOOKUP(E36,Data!$A$134:$C$153,2,FALSE),  IF(G36=\"Nej\", (VLOOKUP(E36,Data!$A$134:$C$153,2,FALSE)+VLOOKUP(E36,Data!$A$134:$C$153,3,FALSE)), #N/A)) * VLOOKUP(F36,Data!$A$51:$C$72,3,FALSE))),\"\")","v":""},{"$f":"IF(E36=\"Rörledning\",D36*H36/1000/1000,IF(OR(E36=\"Renh.-Stad\",E36=\"Renh.-Landsbygd\",E36=\"Slamsugning - fettavskiljare \"),C36*VLOOKUP(E36,Data!$A$146:$E$148,4,FALSE)*VLOOKUP(F36,Data!$A$51:$E$72,3,FALSE)/1000000, IF(A36<>\"\", C36*D36*H36/1000/1000,\"\")))","v":""}]
[null,null,null,null,null,null,null,{"$f":"IF(A37<>\"\", IF(E37=\"Rörledning\",Data!$B$49,  IF(OR(E37=\"Renh.-Stad\",E37=\"Renh.-Landsbygd\",E37=\"Slamsugning - fettavskiljare \"),\"\", IF(G37=\"Ja\", VLOOKUP(E37,Data!$A$134:$C$153,2,FALSE),  IF(G37=\"Nej\", (VLOOKUP(E37,Data!$A$134:$C$153,2,FALSE)+VLOOKUP(E37,Data!$A$134:$C$153,3,FALSE)), #N/A)) * VLOOKUP(F37,Data!$A$51:$C$72,3,FALSE))),\"\")","v":""},{"$f":"IF(E37=\"Rörledning\",D37*H37/1000/1000,IF(OR(E37=\"Renh.-Stad\",E37=\"Renh.-Landsbygd\",E37=\"Slamsugning - fettavskiljare \"),C37*VLOOKUP(E37,Data!$A$146:$E$148,4,FALSE)*VLOOKUP(F37,Data!$A$51:$E$72,3,FALSE)/1000000, IF(A37<>\"\", C37*D37*H37/1000/1000,\"\")))","v":""}]
[null,null,null,null,null,null,null,{"$f":"IF(A38<>\"\", IF(E38=\"Rörledning\",Data!$B$49,  IF(OR(E38=\"Renh.-Stad\",E38=\"Renh.-Landsbygd\",E38=\"Slamsugning - fettavskiljare \"),\"\", IF(G38=\"Ja\", VLOOKUP(E38,Data!$A$134:$C$153,2,FALSE),  IF(G38=\"Nej\", (VLOOKUP(E38,Data!$A$134:$C$153,2,FALSE)+VLOOKUP(E38,Data!$A$134:$C$153,3,FALSE)), #N/A)) * VLOOKUP(F38,Data!$A$51:$C$72,3,FALSE))),\"\")","v":""},{"$f":"IF(E38=\"Rörledning\",D38*H38/1000/1000,IF(OR(E38=\"Renh.-Stad\",E38=\"Renh.-Landsbygd\",E38=\"Slamsugning - fettavskiljare \"),C38*VLOOKUP(E38,Data!$A$146:$E$148,4,FALSE)*VLOOKUP(F38,Data!$A$51:$E$72,3,FALSE)/1000000, IF(A38<>\"\", C38*D38*H38/1000/1000,\"\")))","v":""}]
[null,null,null,null,null,null,null,{"$f":"IF(A39<>\"\", IF(E39=\"Rörledning\",Data!$B$49,  IF(OR(E39=\"Renh.-Stad\",E39=\"Renh.-Landsbygd\",E39=\"Slamsugning - fettavskiljare \"),\"\", IF(G39=\"Ja\", VLOOKUP(E39,Data!$A$134:$C$153,2,FALSE),  IF(G39=\"Nej\", (VLOOKUP(E39,Data!$A$134:$C$153,2,FALSE)+VLOOKUP(E39,Data!$A$134:$C$153,3,FALSE)), #N/A)) * VLOOKUP(F39,Data!$A$51:$C$72,3,FALSE))),\"\")","v":""},{"$f":"IF(E39=\"Rörledning\",D39*H39/1000/1000,IF(OR(E39=\"Renh.-Stad\",E39=\"Renh.-Landsbygd\",E39=\"Slamsugning - fettavskiljare \"),C39*VLOOKUP(E39,Data!$A$146:$E$148,4,FALSE)*VLOOKUP(F39,Data!$A$51:$E$72,3,FALSE)/1000000, IF(A39<>\"\", C39*D39*H39/1000/1000,\"\")))","v":""}]
[null,null,null,null,null,null,null,{"$f":"IF(A40<>\"\", IF(E40=\"Rörledning\",Data!$B$49,  IF(OR(E40=\"Renh.-Stad\",E40=\"Renh.-Landsbygd\",E40=\"Slamsugning - fettavskiljare \"),\"\", IF(G40=\"Ja\", VLOOKUP(E40,Data!$A$134:$C$153,2,FALSE),  IF(G40=\"Nej\", (VLOOKUP(E40,Data!$A$134:$C$153,2,FALSE)+VLOOKUP(E40,Data!$A$134:$C$153,3,FALSE)), #N/A)) * VLOOKUP(F40,Data!$A$51:$C$72,3,FALSE))),\"\")","v":""},{"$f":"IF(E40=\"Rörledning\",D40*H40/1000/1000,IF(OR(E40=\"Renh.-Stad\",E40=\"Renh.-Landsbygd\",E40=\"Slamsugning - fettavskiljare \"),C40*VLOOKUP(E40,Data!$A$146:$E$148,4,FALSE)*VLOOKUP(F40,Data!$A$51:$E$72,3,FALSE)/1000000, IF(A40<>\"\", C40*D40*H40/1000/1000,\"\")))","v":""}]
[null,null,null,null,null,null,null,{"$f":"IF(A41<>\"\", IF(E41=\"Rörledning\",Data!$B$49,  IF(OR(E41=\"Renh.-Stad\",E41=\"Renh.-Landsbygd\",E41=\"Slamsugning - fettavskiljare \"),\"\", IF(G41=\"Ja\", VLOOKUP(E41,Data!$A$134:$C$153,2,FALSE),  IF(G41=\"Nej\", (VLOOKUP(E41,Data!$A$134:$C$153,2,FALSE)+VLOOKUP(E41,Data!$A$134:$C$153,3,FALSE)), #N/A)) * VLOOKUP(F41,Data!$A$51:$C$72,3,FALSE))),\"\")","v":""},{"$f":"IF(E41=\"Rörledning\",D41*H41/1000/1000,IF(OR(E41=\"Renh.-Stad\",E41=\"Renh.-Landsbygd\",E41=\"Slamsugning - fettavskiljare \"),C41*VLOOKUP(E41,Data!$A$146:$E$148,4,FALSE)*VLOOKUP(F41,Data!$A$51:$E$72,3,FALSE)/1000000, IF(A41<>\"\", C41*D41*H41/1000/1000,\"\")))","v":""}]
[null,null,null,null,null,null,null,{"$f":"IF(A42<>\"\", IF(E42=\"Rörledning\",Data!$B$49,  IF(OR(E42=\"Renh.-Stad\",E42=\"Renh.-Landsbygd\",E42=\"Slamsugning - fettavskiljare \"),\"\", IF(G42=\"Ja\", VLOOKUP(E42,Data!$A$134:$C$153,2,FALSE),  IF(G42=\"Nej\", (VLOOKUP(E42,Data!$A$134:$C$153,2,FALSE)+VLOOKUP(E42,Data!$A$134:$C$153,3,FALSE)), #N/A)) * VLOOKUP(F42,Data!$A$51:$C$72,3,FALSE))),\"\")","v":""},{"$f":"IF(E42=\"Rörledning\",D42*H42/1000/1000,IF(OR(E42=\"Renh.-Stad\",E42=\"Renh.-Landsbygd\",E42=\"Slamsugning - fettavskiljare \"),C42*VLOOKUP(E42,Data!$A$146:$E$148,4,FALSE)*VLOOKUP(F42,Data!$A$51:$E$72,3,FALSE)/1000000, IF(A42<>\"\", C42*D42*H42/1000/1000,\"\")))","v":""}]
[null,null,null,null,null,null,null,{"$f":"IF(A43<>\"\", IF(E43=\"Rörledning\",Data!$B$49,  IF(OR(E43=\"Renh.-Stad\",E43=\"Renh.-Landsbygd\",E43=\"Slamsugning - fettavskiljare \"),\"\", IF(G43=\"Ja\", VLOOKUP(E43,Data!$A$134:$C$153,2,FALSE),  IF(G43=\"Nej\", (VLOOKUP(E43,Data!$A$134:$C$153,2,FALSE)+VLOOKUP(E43,Data!$A$134:$C$153,3,FALSE)), #N/A)) * VLOOKUP(F43,Data!$A$51:$C$72,3,FALSE))),\"\")","v":""},{"$f":"IF(E43=\"Rörledning\",D43*H43/1000/1000,IF(OR(E43=\"Renh.-Stad\",E43=\"Renh.-Landsbygd\",E43=\"Slamsugning - fettavskiljare \"),C43*VLOOKUP(E43,Data!$A$146:$E$148,4,FALSE)*VLOOKUP(F43,Data!$A$51:$E$72,3,FALSE)/1000000, IF(A43<>\"\", C43*D43*H43/1000/1000,\"\")))","v":""}]
[null,null,null,null,null,null,null,{"$f":"IF(A44<>\"\", IF(E44=\"Rörledning\",Data!$B$49,  IF(OR(E44=\"Renh.-Stad\",E44=\"Renh.-Landsbygd\",E44=\"Slamsugning - fettavskiljare \"),\"\", IF(G44=\"Ja\", VLOOKUP(E44,Data!$A$134:$C$153,2,FALSE),  IF(G44=\"Nej\", (VLOOKUP(E44,Data!$A$134:$C$153,2,FALSE)+VLOOKUP(E44,Data!$A$134:$C$153,3,FALSE)), #N/A)) * VLOOKUP(F44,Data!$A$51:$C$72,3,FALSE))),\"\")","v":""},{"$f":"IF(E44=\"Rörledning\",D44*H44/1000/1000,IF(OR(E44=\"Renh.-Stad\",E44=\"Renh.-Landsbygd\",E44=\"Slamsugning - fettavskiljare \"),C44*VLOOKUP(E44,Data!$A$146:$E$148,4,FALSE)*VLOOKUP(F44,Data!$A$51:$E$72,3,FALSE)/1000000, IF(A44<>\"\", C44*D44*H44/1000/1000,\"\")))","v":""}]
[null,null,null,null,null,null,null,{"$f":"IF(A45<>\"\", IF(E45=\"Rörledning\",Data!$B$49,  IF(OR(E45=\"Renh.-Stad\",E45=\"Renh.-Landsbygd\",E45=\"Slamsugning - fettavskiljare \"),\"\", IF(G45=\"Ja\", VLOOKUP(E45,Data!$A$134:$C$153,2,FALSE),  IF(G45=\"Nej\", (VLOOKUP(E45,Data!$A$134:$C$153,2,FALSE)+VLOOKUP(E45,Data!$A$134:$C$153,3,FALSE)), #N/A)) * VLOOKUP(F45,Data!$A$51:$C$72,3,FALSE))),\"\")","v":""},{"$f":"IF(E45=\"Rörledning\",D45*H45/1000/1000,IF(OR(E45=\"Renh.-Stad\",E45=\"Renh.-Landsbygd\",E45=\"Slamsugning - fettavskiljare \"),C45*VLOOKUP(E45,Data!$A$146:$E$148,4,FALSE)*VLOOKUP(F45,Data!$A$51:$E$72,3,FALSE)/1000000, IF(A45<>\"\", C45*D45*H45/1000/1000,\"\")))","v":""}]
[null,null,null,null,null,null,null,{"$f":"IF(A46<>\"\", IF(E46=\"Rörledning\",Data!$B$49,  IF(OR(E46=\"Renh.-Stad\",E46=\"Renh.-Landsbygd\",E46=\"Slamsugning - fettavskiljare \"),\"\", IF(G46=\"Ja\", VLOOKUP(E46,Data!$A$134:$C$153,2,FALSE),  IF(G46=\"Nej\", (VLOOKUP(E46,Data!$A$134:$C$153,2,FALSE)+VLOOKUP(E46,Data!$A$134:$C$153,3,FALSE)), #N/A)) * VLOOKUP(F46,Data!$A$51:$C$72,3,FALSE))),\"\")","v":""},{"$f":"IF(E46=\"Rörledning\",D46*H46/1000/1000,IF(OR(E46=\"Renh.-Stad\",E46=\"Renh.-Landsbygd\",E46=\"Slamsugning - fettavskiljare \"),C46*VLOOKUP(E46,Data!$A$146:$E$148,4,FALSE)*VLOOKUP(F46,Data!$A$51:$E$72,3,FALSE)/1000000, IF(A46<>\"\", C46*D46*H46/1000/1000,\"\")))","v":""}]
[null,null,null,null,null,null,null,{"$f":"IF(A47<>\"\", IF(E47=\"Rörledning\",Data!$B$49,  IF(OR(E47=\"Renh.-Stad\",E47=\"Renh.-Landsbygd\",E47=\"Slamsugning - fettavskiljare \"),\"\", IF(G47=\"Ja\", VLOOKUP(E47,Data!$A$134:$C$153,2,FALSE),  IF(G47=\"Nej\", (VLOOKUP(E47,Data!$A$134:$C$153,2,FALSE)+VLOOKUP(E47,Data!$A$134:$C$153,3,FALSE)), #N/A)) * VLOOKUP(F47,Data!$A$51:$C$72,3,FALSE))),\"\")","v":""},{"$f":"IF(E47=\"Rörledning\",D47*H47/1000/1000,IF(OR(E47=\"Renh.-Stad\",E47=\"Renh.-Landsbygd\",E47=\"Slamsugning - fettavskiljare \"),C47*VLOOKUP(E47,Data!$A$146:$E$148,4,FALSE)*VLOOKUP(F47,Data!$A$51:$E$72,3,FALSE)/1000000, IF(A47<>\"\", C47*D47*H47/1000/1000,\"\")))","v":""}]
[null,null,null,null,null,null,null,{"$f":"IF(A48<>\"\", IF(E48=\"Rörledning\",Data!$B$49,  IF(OR(E48=\"Renh.-Stad\",E48=\"Renh.-Landsbygd\",E48=\"Slamsugning - fettavskiljare \"),\"\", IF(G48=\"Ja\", VLOOKUP(E48,Data!$A$134:$C$153,2,FALSE),  IF(G48=\"Nej\", (VLOOKUP(E48,Data!$A$134:$C$153,2,FALSE)+VLOOKUP(E48,Data!$A$134:$C$153,3,FALSE)), #N/A)) * VLOOKUP(F48,Data!$A$51:$C$72,3,FALSE))),\"\")","v":""},{"$f":"IF(E48=\"Rörledning\",D48*H48/1000/1000,IF(OR(E48=\"Renh.-Stad\",E48=\"Renh.-Landsbygd\",E48=\"Slamsugning - fettavskiljare \"),C48*VLOOKUP(E48,Data!$A$146:$E$148,4,FALSE)*VLOOKUP(F48,Data!$A$51:$E$72,3,FALSE)/1000000, IF(A48<>\"\", C48*D48*H48/1000/1000,\"\")))","v":""}]
[null,null,null,null,null,null,null,{"$f":"IF(A49<>\"\", IF(E49=\"Rörledning\",Data!$B$49,  IF(OR(E49=\"Renh.-Stad\",E49=\"Renh.-Landsbygd\",E49=\"Slamsugning - fettavskiljare \"),\"\", IF(G49=\"Ja\", VLOOKUP(E49,Data!$A$134:$C$153,2,FALSE),  IF(G49=\"Nej\", (VLOOKUP(E49,Data!$A$134:$C$153,2,FALSE)+VLOOKUP(E49,Data!$A$134:$C$153,3,FALSE)), #N/A)) * VLOOKUP(F49,Data!$A$51:$C$72,3,FALSE))),\"\")","v":""},{"$f":"IF(E49=\"Rörledning\",D49*H49/1000/1000,IF(OR(E49=\"Renh.-Stad\",E49=\"Renh.-Landsbygd\",E49=\"Slamsugning - fettavskiljare \"),C49*VLOOKUP(E49,Data!$A$146:$E$148,4,FALSE)*VLOOKUP(F49,Data!$A$51:$E$72,3,FALSE)/1000000, IF(A49<>\"\", C49*D49*H49/1000/1000,\"\")))","v":""}]
[null,null,null,null,null,null,null,{"$f":"IF(A50<>\"\", IF(E50=\"Rörledning\",Data!$B$49,  IF(OR(E50=\"Renh.-Stad\",E50=\"Renh.-Landsbygd\",E50=\"Slamsugning - fettavskiljare \"),\"\", IF(G50=\"Ja\", VLOOKUP(E50,Data!$A$134:$C$153,2,FALSE),  IF(G50=\"Nej\", (VLOOKUP(E50,Data!$A$134:$C$153,2,FALSE)+VLOOKUP(E50,Data!$A$134:$C$153,3,FALSE)), #N/A)) * VLOOKUP(F50,Data!$A$51:$C$72,3,FALSE))),\"\")","v":""},{"$f":"IF(E50=\"Rörledning\",D50*H50/1000/1000,IF(OR(E50=\"Renh.-Stad\",E50=\"Renh.-Landsbygd\",E50=\"Slamsugning - fettavskiljare \"),C50*VLOOKUP(E50,Data!$A$146:$E$148,4,FALSE)*VLOOKUP(F50,Data!$A$51:$E$72,3,FALSE)/1000000, IF(A50<>\"\", C50*D50*H50/1000/1000,\"\")))","v":""}]
[null,null,null,null,null,null,null,{"$f":"IF(A51<>\"\", IF(E51=\"Rörledning\",Data!$B$49,  IF(OR(E51=\"Renh.-Stad\",E51=\"Renh.-Landsbygd\",E51=\"Slamsugning - fettavskiljare \"),\"\", IF(G51=\"Ja\", VLOOKUP(E51,Data!$A$134:$C$153,2,FALSE),  IF(G51=\"Nej\", (VLOOKUP(E51,Data!$A$134:$C$153,2,FALSE)+VLOOKUP(E51,Data!$A$134:$C$153,3,FALSE)), #N/A)) * VLOOKUP(F51,Data!$A$51:$C$72,3,FALSE))),\"\")","v":""},{"$f":"IF(E51=\"Rörledning\",D51*H51/1000/1000,IF(OR(E51=\"Renh.-Stad\",E51=\"Renh.-Landsbygd\",E51=\"Slamsugning - fettavskiljare \"),C51*VLOOKUP(E51,Data!$A$146:$E$148,4,FALSE)*VLOOKUP(F51,Data!$A$51:$E$72,3,FALSE)/1000000, IF(A51<>\"\", C51*D51*H51/1000/1000,\"\")))","v":""}]
[null,null,null,null,null,null,null,{"$f":"IF(A52<>\"\", IF(E52=\"Rörledning\",Data!$B$49,  IF(OR(E52=\"Renh.-Stad\",E52=\"Renh.-Landsbygd\",E52=\"Slamsugning - fettavskiljare \"),\"\", IF(G52=\"Ja\", VLOOKUP(E52,Data!$A$134:$C$153,2,FALSE),  IF(G52=\"Nej\", (VLOOKUP(E52,Data!$A$134:$C$153,2,FALSE)+VLOOKUP(E52,Data!$A$134:$C$153,3,FALSE)), #N/A)) * VLOOKUP(F52,Data!$A$51:$C$72,3,FALSE))),\"\")","v":""},{"$f":"IF(E52=\"Rörledning\",D52*H52/1000/1000,IF(OR(E52=\"Renh.-Stad\",E52=\"Renh.-Landsbygd\",E52=\"Slamsugning - fettavskiljare \"),C52*VLOOKUP(E52,Data!$A$146:$E$148,4,FALSE)*VLOOKUP(F52,Data!$A$51:$E$72,3,FALSE)/1000000, IF(A52<>\"\", C52*D52*H52/1000/1000,\"\")))","v":""}]
[null,null,null,null,null,null,null,{"$f":"IF(A53<>\"\", IF(E53=\"Rörledning\",Data!$B$49,  IF(OR(E53=\"Renh.-Stad\",E53=\"Renh.-Landsbygd\",E53=\"Slamsugning - fettavskiljare \"),\"\", IF(G53=\"Ja\", VLOOKUP(E53,Data!$A$134:$C$153,2,FALSE),  IF(G53=\"Nej\", (VLOOKUP(E53,Data!$A$134:$C$153,2,FALSE)+VLOOKUP(E53,Data!$A$134:$C$153,3,FALSE)), #N/A)) * VLOOKUP(F53,Data!$A$51:$C$72,3,FALSE))),\"\")","v":""},{"$f":"IF(E53=\"Rörledning\",D53*H53/1000/1000,IF(OR(E53=\"Renh.-Stad\",E53=\"Renh.-Landsbygd\",E53=\"Slamsugning - fettavskiljare \"),C53*VLOOKUP(E53,Data!$A$146:$E$148,4,FALSE)*VLOOKUP(F53,Data!$A$51:$E$72,3,FALSE)/1000000, IF(A53<>\"\", C53*D53*H53/1000/1000,\"\")))","v":""}]
[null,null,null,null,null,null,null,{"$f":"IF(A54<>\"\", IF(E54=\"Rörledning\",Data!$B$49,  IF(OR(E54=\"Renh.-Stad\",E54=\"Renh.-Landsbygd\",E54=\"Slamsugning - fettavskiljare \"),\"\", IF(G54=\"Ja\", VLOOKUP(E54,Data!$A$134:$C$153,2,FALSE),  IF(G54=\"Nej\", (VLOOKUP(E54,Data!$A$134:$C$153,2,FALSE)+VLOOKUP(E54,Data!$A$134:$C$153,3,FALSE)), #N/A)) * VLOOKUP(F54,Data!$A$51:$C$72,3,FALSE))),\"\")","v":""},{"$f":"IF(E54=\"Rörledning\",D54*H54/1000/1000,IF(OR(E54=\"Renh.-Stad\",E54=\"Renh.-Landsbygd\",E54=\"Slamsugning - fettavskiljare \"),C54*VLOOKUP(E54,Data!$A$146:$E$148,4,FALSE)*VLOOKUP(F54,Data!$A$51:$E$72,3,FALSE)/1000000, IF(A54<>\"\", C54*D54*H54/1000/1000,\"\")))","v":""}]
[null,null,null,null,null,null,null,{"$f":"IF(A55<>\"\", IF(E55=\"Rörledning\",Data!$B$49,  IF(OR(E55=\"Renh.-Stad\",E55=\"Renh.-Landsbygd\",E55=\"Slamsugning - fettavskiljare \"),\"\", IF(G55=\"Ja\", VLOOKUP(E55,Data!$A$134:$C$153,2,FALSE),  IF(G55=\"Nej\", (VLOOKUP(E55,Data!$A$134:$C$153,2,FALSE)+VLOOKUP(E55,Data!$A$134:$C$153,3,FALSE)), #N/A)) * VLOOKUP(F55,Data!$A$51:$C$72,3,FALSE))),\"\")","v":""},{"$f":"IF(E55=\"Rörledning\",D55*H55/1000/1000,IF(OR(E55=\"Renh.-Stad\",E55=\"Renh.-Landsbygd\",E55=\"Slamsugning - fettavskiljare \"),C55*VLOOKUP(E55,Data!$A$146:$E$148,4,FALSE)*VLOOKUP(F55,Data!$A$51:$E$72,3,FALSE)/1000000, IF(A55<>\"\", C55*D55*H55/1000/1000,\"\")))","v":""}]
[null,null,null,null,null,null,null,{"$f":"IF(A56<>\"\", IF(E56=\"Rörledning\",Data!$B$49,  IF(OR(E56=\"Renh.-Stad\",E56=\"Renh.-Landsbygd\",E56=\"Slamsugning - fettavskiljare \"),\"\", IF(G56=\"Ja\", VLOOKUP(E56,Data!$A$134:$C$153,2,FALSE),  IF(G56=\"Nej\", (VLOOKUP(E56,Data!$A$134:$C$153,2,FALSE)+VLOOKUP(E56,Data!$A$134:$C$153,3,FALSE)), #N/A)) * VLOOKUP(F56,Data!$A$51:$C$72,3,FALSE))),\"\")","v":""},{"$f":"IF(E56=\"Rörledning\",D56*H56/1000/1000,IF(OR(E56=\"Renh.-Stad\",E56=\"Renh.-Landsbygd\",E56=\"Slamsugning - fettavskiljare \"),C56*VLOOKUP(E56,Data!$A$146:$E$148,4,FALSE)*VLOOKUP(F56,Data!$A$51:$E$72,3,FALSE)/1000000, IF(A56<>\"\", C56*D56*H56/1000/1000,\"\")))","v":""}]
[null,null,null,null,null,null,null,{"$f":"IF(A57<>\"\", IF(E57=\"Rörledning\",Data!$B$49,  IF(OR(E57=\"Renh.-Stad\",E57=\"Renh.-Landsbygd\",E57=\"Slamsugning - fettavskiljare \"),\"\", IF(G57=\"Ja\", VLOOKUP(E57,Data!$A$134:$C$153,2,FALSE),  IF(G57=\"Nej\", (VLOOKUP(E57,Data!$A$134:$C$153,2,FALSE)+VLOOKUP(E57,Data!$A$134:$C$153,3,FALSE)), #N/A)) * VLOOKUP(F57,Data!$A$51:$C$72,3,FALSE))),\"\")","v":""},{"$f":"IF(E57=\"Rörledning\",D57*H57/1000/1000,IF(OR(E57=\"Renh.-Stad\",E57=\"Renh.-Landsbygd\",E57=\"Slamsugning - fettavskiljare \"),C57*VLOOKUP(E57,Data!$A$146:$E$148,4,FALSE)*VLOOKUP(F57,Data!$A$51:$E$72,3,FALSE)/1000000, IF(A57<>\"\", C57*D57*H57/1000/1000,\"\")))","v":""}]
[null,null,null,null,null,null,null,{"$f":"IF(A58<>\"\", IF(E58=\"Rörledning\",Data!$B$49,  IF(OR(E58=\"Renh.-Stad\",E58=\"Renh.-Landsbygd\",E58=\"Slamsugning - fettavskiljare \"),\"\", IF(G58=\"Ja\", VLOOKUP(E58,Data!$A$134:$C$153,2,FALSE),  IF(G58=\"Nej\", (VLOOKUP(E58,Data!$A$134:$C$153,2,FALSE)+VLOOKUP(E58,Data!$A$134:$C$153,3,FALSE)), #N/A)) * VLOOKUP(F58,Data!$A$51:$C$72,3,FALSE))),\"\")","v":""},{"$f":"IF(E58=\"Rörledning\",D58*H58/1000/1000,IF(OR(E58=\"Renh.-Stad\",E58=\"Renh.-Landsbygd\",E58=\"Slamsugning - fettavskiljare \"),C58*VLOOKUP(E58,Data!$A$146:$E$148,4,FALSE)*VLOOKUP(F58,Data!$A$51:$E$72,3,FALSE)/1000000, IF(A58<>\"\", C58*D58*H58/1000/1000,\"\")))","v":""}]
[null,null,null,null,null,null,null,{"$f":"IF(A59<>\"\", IF(E59=\"Rörledning\",Data!$B$49,  IF(OR(E59=\"Renh.-Stad\",E59=\"Renh.-Landsbygd\",E59=\"Slamsugning - fettavskiljare \"),\"\", IF(G59=\"Ja\", VLOOKUP(E59,Data!$A$134:$C$153,2,FALSE),  IF(G59=\"Nej\", (VLOOKUP(E59,Data!$A$134:$C$153,2,FALSE)+VLOOKUP(E59,Data!$A$134:$C$153,3,FALSE)), #N/A)) * VLOOKUP(F59,Data!$A$51:$C$72,3,FALSE))),\"\")","v":""},{"$f":"IF(E59=\"Rörledning\",D59*H59/1000/1000,IF(OR(E59=\"Renh.-Stad\",E59=\"Renh.-Landsbygd\",E59=\"Slamsugning - fettavskiljare \"),C59*VLOOKUP(E59,Data!$A$146:$E$148,4,FALSE)*VLOOKUP(F59,Data!$A$51:$E$72,3,FALSE)/1000000, IF(A59<>\"\", C59*D59*H59/1000/1000,\"\")))","v":""}]
["Summa transport",null,{"$f":"SUM(C30:C59)","v":0},null,null,null,null,null,{"$f":"SUM(I30:I59)","v":0}]
[]
[]
["Förbehandling (process)",null,null,null,null,null,"Växthusgasberäkning"]
[null,null,null,null,null,"Mängd","Faktor, gCO2eq/enhet","Mängd CO2eq, ton"]
["Elenergi, MWh",null,null,null,null,null,{"$f":"Data!$B$49","v":47000},{"$f":"F65*G65/1000/1000","v":0}]
["Värme (MWh):"]
[null,null,null,null,null,null,{"$f":"IF(A67<>\"\",VLOOKUP(A67,Data!$A$19:$B$47,2,FALSE),\"\")","v":""},{"$f":"IF(A67<>\"\",F67*G67/1000/1000,\"\")","v":""}]
[null,null,null,null,null,null,{"$f":"IF(A68<>\"\",VLOOKUP(A68,Data!$A$19:$B$47,2,FALSE),\"\")","v":""},""]
[null,null,null,null,null,null,{"$f":"IF(A69<>\"\",VLOOKUP(A69,Data!$A$19:$B$47,2,FALSE),\"\")","v":""},""]
[null,null,null,null,null,null,{"$f":"IF(A70<>\"\",VLOOKUP(A70,Data!$A$19:$B$47,2,FALSE),\"\")","v":""},""]
[null,null,null,null,null,null,{"$f":"IF(A71<>\"\",VLOOKUP(A71,Data!$A$19:$B$47,2,FALSE),\"\")","v":""},""]
[null,null,null,null,null,null,{"$f":"IF(A72<>\"\",VLOOKUP(A72,Data!$A$19:$B$47,2,FALSE),\"\")","v":""},""]
["Insatsvaror:"]
[null,null,null,null,null,null,{"$f":"IF(A74<>\"\",VLOOKUP(A74,Data!$A$74:$B$115,2,FALSE),\"\")","v":""},{"$f":"IF(A74<>\"\",F74*G74/1000/1000,\"\")","v":""}]
[null,null,null,null,null,null,{"$f":"IF(A75<>\"\",VLOOKUP(A75,Data!$A$74:$B$115,2,FALSE),\"\")","v":""},""]
[null,null,null,null,null,null,{"$f":"IF(A76<>\"\",VLOOKUP(A76,Data!$A$74:$B$115,2,FALSE),\"\")","v":""},""]
[null,null,null,null,null,null,{"$f":"IF(A77<>\"\",VLOOKUP(A77,Data!$A$74:$B$115,2,FALSE),\"\")","v":""},""]
[null,null,null,null,null,null,{"$f":"IF(A78<>\"\",VLOOKUP(A78,Data!$A$74:$B$115,2,FALSE),\"\")","v":""},""]
[null,null,null,null,null,null,{"$f":"IF(A79<>\"\",VLOOKUP(A79,Data!$A$74:$B$115,2,FALSE),\"\")","v":""},""]
["Bränsle till arbetsmaskiner"]
[null,null,null,null,null,null,{"$f":"IF(A81<>\"\",VLOOKUP(A81,Data!$A$51:$B$72,2,FALSE),\"\")","v":""},{"$f":"IF(A81<>\"\",F81*G81/1000/1000,\"\")","v":""}]
["Summa produktion",null,null,null,null,null,null,{"$f":"SUM(H65:H81)","v":0}]
[]
["Summa slurry levererat till biogasproduktion, ton våtvikt"]
["Slurryns TS-halt, %"]
[]
["Biogasproduktion, sammanställning","Parti nr","Mängder",null,null,null,null,"Växthusgasutsläpp"]
["Substrat",null,"Ursprung","Substrat, typ","Normalvärde,\nNej=Faktisk beräkning","Torrsubstans-halt, intervall, %","Torrsubstanshalt, genomsnitt","Mängd substrat till biogas-produktion, ton (våtvikt)","Från substrat, mängd CO2eq, ton","Från transporter av substrat, mängd CO2eq, ton","Från process, mängd CO2eq, ton","Summa växthusgasut-släpp, CO2eq, ton","Växthusgas-utsläpp, g CO2eq/ton substrat till biogasproduktion (våtvikt)"]
[{"$f":"IF(A6<>\"\",A6,\"\")","v":""},{"$f":"IF(C6<>\"\",C6,\"\")","v":1},{"$f":"IF(D6<>\"\",D6,\"\")","v":""},{"$f":"IF(E6<>\"\",E6,\"\")","v":""},{"$f":"IF(A89<>\"\",IF(F6=\"Ja\",janej(A89),\"Nej\"),\"\")","v":""},{"$f":"IF(A89<>\"\",VLOOKUP(A89,Substrat!$A$3:$L$68,6,FALSE),\"\")","v":""},{"$f":"IF(F89<>\"\",((VALUE(LEFT(F89,FIND(\"-\",F89,1)-1))+VALUE(RIGHT(F89,LEN(F89)-FIND(\"-\",F89,1))))/2)/100,\"\")","v":""},{"$f":"IF(A89<>\"\",L6,\"\")","v":""},{"$f":"IF(A89<>\"\",N6,\"\")","v":""},{"$f":"IF(A89<>\"\",SUMIF($B$30:$B$59,B89,$I$30:$I$59),\"\")","v":""},{"$f":"IF(A89<>\"\",$H$82/$F$84*H89,\"\")","v":""},{"$f":"IF(A89<>\"\",SUM(I89:K89),\"\")","v":""},{"$f":"IF(A89<>\"\",IF(E89=\"Nej\", L89*1000*1000/H89,  0   ),\"\")","v":""}]
["",2,"","",{"$f":"IF(A90<>\"\",IF(F7=\"Ja\",janej(A90),\"Nej\"),\"\")","v":""},{"$f":"IF(A90<>\"\",VLOOKUP(A90,Substrat!$A$3:$L$68,6,FALSE),\"\")","v":""},{"$f":"IF(F90<>\"\",((VALUE(LEFT(F90,FIND(\"-\",F90,1)-1))+VALUE(RIGHT(F90,LEN(F90)-FIND(\"-\",F90,1))))/2)/100,\"\")","v":""},"","","","","",""]
["",3,"","",{"$f":"IF(A91<>\"\",IF(F8=\"Ja\",janej(A91),\"Nej\"),\"\")","v":""},{"$f":"IF(A91<>\"\",VLOOKUP(A91,Substrat!$A$3:$L$68,6,FALSE),\"\")","v":""},"","","","","","",""]
["",4,"","",{"$f":"IF(A92<>\"\",IF(F9=\"Ja\",janej(A92),\"Nej\"),\"\")","v":""},{"$f":"IF(A92<>\"\",VLOOKUP(A92,Substrat!$A$3:$L$68,6,FALSE),\"\")","v":""},"","","","","","",""]
["",5,"","",{"$f":"IF(A93<>\"\",IF(F10=\"Ja\",janej(A93),\"Nej\"),\"\")","v":""},{"$f":"IF(A93<>\"\",VLOOKUP(A93,Substrat!$A$3:$L$68,6,FALSE),\"\")","v":""},"","","","","","",""]
["",6,"","",{"$f":"IF(A94<>\"\",IF(F11=\"Ja\",janej(A94),\"Nej\"),\"\")","v":""},{"$f":"IF(A94<>\"\",VLOOKUP(A94,Substrat!$A$3:$L$68,6,FALSE),\"\")","v":""},"","","","","","",""]
["",7,"","",{"$f":"IF(A95<>\"\",IF(F12=\"Ja\",janej(A95),\"Nej\"),\"\")","v":""},{"$f":"IF(A95<>\"\",VLOOKUP(A95,Substrat!$A$3:$L$68,6,FALSE),\"\")","v":""},"","","","","","",""]
["",8,"","",{"$f":"IF(A96<>\"\",IF(F13=\"Ja\",janej(A96),\"Nej\"),\"\")","v":""},{"$f":"IF(A96<>\"\",VLOOKUP(A96,Substrat!$A$3:$L$68,6,FALSE),\"\")","v":""},"","","","","","",""]
["",9,"","",{"$f":"IF(A97<>\"\",IF(F14=\"Ja\",janej(A97),\"Nej\"),\"\")","v":""},{"$f":"IF(A97<>\"\",VLOOKUP(A97,Substrat!$A$3:$L$68,6,FALSE),\"\")","v":""},"","","","","","",""]
["",10,"","",{"$f":"IF(A98<>\"\",IF(F15=\"Ja\",janej(A98),\"Nej\"),\"\")","v":""},{"$f":"IF(A98<>\"\",VLOOKUP(A98,Substrat!$A$3:$L$68,6,FALSE),\"\")","v":""},"","","","","","",""]
["",11,"","",{"$f":"IF(A99<>\"\",IF(F16=\"Ja\",janej(A99),\"Nej\"),\"\")","v":""},{"$f":"IF(A99<>\"\",VLOOKUP(A99,Substrat!$A$3:$L$68,6,FALSE),\"\")","v":""},"","","","","","",""]
["",12,"","",{"$f":"IF(A100<>\"\",IF(F17=\"Ja\",janej(A100),\"Nej\"),\"\")","v":""},{"$f":"IF(A100<>\"\",VLOOKUP(A100,Substrat!$A$3:$L$68,6,FALSE),\"\")","v":""},"","","","","","",""]
["",13,"","",{"$f":"IF(A101<>\"\",IF(F18=\"Ja\",janej(A101),\"Nej\"),\"\")","v":""},{"$f":"IF(A101<>\"\",VLOOKUP(A101,Substrat!$A$3:$L$68,6,FALSE),\"\")","v":""},"","","","","","",""]
["",14,"","",{"$f":"IF(A102<>\"\",IF(F19=\"Ja\",janej(A102),\"Nej\"),\"\")","v":""},{"$f":"IF(A102<>\"\",VLOOKUP(A102,Substrat!$A$3:$L$68,6,FALSE),\"\")","v":""},"","","","","","",""]
["",15,"","",{"$f":"IF(A103<>\"\",IF(F20=\"Ja\",janej(A103),\"Nej\"),\"\")","v":""},{"$f":"IF(A103<>\"\",VLOOKUP(A103,Substrat!$A$3:$L$68,6,FALSE),\"\")","v":""},"","","","","","",""]
["",16,"","",{"$f":"IF(A104<>\"\",IF(F21=\"Ja\",janej(A104),\"Nej\"),\"\")","v":""},{"$f":"IF(A104<>\"\",VLOOKUP(A104,Substrat!$A$3:$L$68,6,FALSE),\"\")","v":""},"","","","","","",""]
["",17,"","",{"$f":"IF(A105<>\"\",IF(F22=\"Ja\",janej(A105),\"Nej\"),\"\")","v":""},{"$f":"IF(A105<>\"\",VLOOKUP(A105,Substrat!$A$3:$L$68,6,FALSE),\"\")","v":""},"","","","","","",""]
["",18,"","",{"$f":"IF(A106<>\"\",IF(F23=\"Ja\",janej(A106),\"Nej\"),\"\")","v":""},{"$f":"IF(A106<>\"\",VLOOKUP(A106,Substrat!$A$3:$L$68,6,FALSE),\"\")","v":""},"","","","","","",""]
["",{"$f":"IF(C24<>\"\",C24,\"\")","v":19},"","",{"$f":"IF(A107<>\"\",IF(F24=\"Ja\",janej(A107),\"Nej\"),\"\")","v":""},{"$f":"IF(A107<>\"\",VLOOKUP(A107,Substrat!$A$3:$L$68,6,FALSE),\"\")","v":""},"","","","","","",""]
["",20,"","",{"$f":"IF(A108<>\"\",IF(F25=\"Ja\",janej(A108),\"Nej\"),\"\")","v":""},{"$f":"IF(A108<>\"\",VLOOKUP(A108,Substrat!$A$3:$L$68,6,FALSE),\"\")","v":""},"","","","","","",""]
["Summa",null,null,null,null,null,null,{"$f":"SUM(H89:H108)","v":0},{"$f":"SUM(I89:I108)","v":0},{"$f":"SUM(J89:J108)","v":0},{"$f":"SUM(K89:K108)","v":0},{"$f":"SUM(L89:L108)","v":0}]
[1]
["Hållbarhetsdata till annan aktör som producerar biogas av slurry",null,null,null,null,null,null,null,"Fördelning av slurry på kunder"]
["Substrat","Ursprung","Substrat, typ","Normalvärde,\nNej=Faktisk beräkning","Mängd substrat till biogas-produktion, ton (våtvikt)","Torrsubstanshalt hos slury, %","Teoretiskt gasproduktion, Nm3/ton våtvikt","Växthusgasutsläpp, g CO2eq/ton torrsubstans","Kund 1","Kund 2","Kund 3","Kund 4","Kund 5","Kund 6","Kund 7","Kund 8","Kund 9","Kund 10","Avvikelse"]
[{"$f":"IF(H89<>\"\",A89 & \" Förb.\",\"\")","v":""},{"$f":"IF(H89<>\"\",C89,\"\")","v":""},{"$f":"IF(H89<>\"\",D89,\"\")","v":""},{"$f":"IF(H89<>\"\",E89,\"\")","v":""},{"$f":"IF(H89<>\"\",H89,\"\")","v":""},{"$f":"IF(H89<>\"\",F$85,\"\")","v":""},{"$f":"IF(A89<>\"\",VLOOKUP(A89,Substrat!$A$3:$L$68,3,FALSE)/G89*F113,\"\")","v":""},{"$f":"IF(H89<>\"\",M89/F$85,\"\")","v":""},null,null,null,null,null,null,null,null,null,null,{"$f":"IF(A113<>\"\",  E113-SUM(I113:R113),  \"\")","v":""}]
[{"$f":"IF(H90<>\"\",A90 & \" Förb.\",\"\")","v":""},{"$f":"IF(H90<>\"\",C90,\"\")","v":""},{"$f":"IF(H90<>\"\",D90,\"\")","v":""},{"$f":"IF(H90<>\"\",E90,\"\")","v":""},{"$f":"IF(H90<>\"\",H90,\"\")","v":""},{"$f":"IF(H90<>\"\",F$85,\"\")","v":""},{"$f":"IF(A90<>\"\",VLOOKUP(A90,Substrat!$A$3:$L$68,3,FALSE)/G90*F114,\"\")","v":""},{"$f":"IF(H90<>\"\",M90/F$85,\"\")","v":""},null,null,null,null,null,null,null,null,null,null,{"$f":"IF(A114<>\"\",  E114-SUM(I114:R114),  \"\")","v":""}]
["","","","","","",{"$f":"IF(A91<>\"\",VLOOKUP(A91,Substrat!$A$3:$L$68,3,FALSE)/G91*F115,\"\")","v":""},"",null,null,null,null,null,null,null,null,null,null,""]
["","","","","","",{"$f":"IF(A92<>\"\",VLOOKUP(A92,Substrat!$A$3:$L$68,3,FALSE)/G92*F116,\"\")","v":""},"",null,null,null,null,null,null,null,null,null,null,""]
["","","","","","",{"$f":"IF(A93<>\"\",VLOOKUP(A93,Substrat!$A$3:$L$68,3,FALSE)/G93*F117,\"\")","v":""},"",null,null,null,null,null,null,null,null,null,null,""]
["","","","","","",{"$f":"IF(A94<>\"\",VLOOKUP(A94,Substrat!$A$3:$L$68,3,FALSE)/G94*F118,\"\")","v":""},"",null,null,null,null,null,null,null,null,null,null,""]
["","","","","","",{"$f":"IF(A95<>\"\",VLOOKUP(A95,Substrat!$A$3:$L$68,3,FALSE)/G95*F119,\"\")","v":""},"",null,null,null,null,null,null,null,null,null,null,""]
["","","","","","",{"$f":"IF(A96<>\"\",VLOOKUP(A96,Substrat!$A$3:$L$68,3,FALSE)/G96*F120,\"\")","v":""},"",null,null,null,null,null,null,null,null,null,null,""]
["","","","","","",{"$f":"IF(A97<>\"\",VLOOKUP(A97,Substrat!$A$3:$L$68,3,FALSE)/G97*F121,\"\")","v":""},"",null,null,null,null,null,null,null,null,null,null,""]
["","","","","","",{"$f":"IF(A98<>\"\",VLOOKUP(A98,Substrat!$A$3:$L$68,3,FALSE)/G98*F122,\"\")","v":""},"",null,null,null,null,null,null,null,null,null,null,""]
["","","","","","",{"$f":"IF(A99<>\"\",VLOOKUP(A99,Substrat!$A$3:$L$68,3,FALSE)/G99*F123,\"\")","v":""},"",null,null,null,null,null,null,null,null,null,null,""]
["","","","","","",{"$f":"IF(A100<>\"\",VLOOKUP(A100,Substrat!$A$3:$L$68,3,FALSE)/G100*F124,\"\")","v":""},"",null,null,null,null,null,null,null,null,null,null,""]
["","","","","","",{"$f":"IF(A101<>\"\",VLOOKUP(A101,Substrat!$A$3:$L$68,3,FALSE)/G101*F125,\"\")","v":""},"",null,null,null,null,null,null,null,null,null,null,""]
["","","","","","",{"$f":"IF(A102<>\"\",VLOOKUP(A102,Substrat!$A$3:$L$68,3,FALSE)/G102*F126,\"\")","v":""},"",null,null,null,null,null,null,null,null,null,null,""]
["","","","","","",{"$f":"IF(A103<>\"\",VLOOKUP(A103,Substrat!$A$3:$L$68,3,FALSE)/G103*F127,\"\")","v":""},"",null,null,null,null,null,null,null,null,null,null,""]
["","","","","","",{"$f":"IF(A104<>\"\",VLOOKUP(A104,Substrat!$A$3:$L$68,3,FALSE)/G104*F128,\"\")","v":""},"",null,null,null,null,null,null,null,null,null,null,""]
["","","","","","",{"$f":"IF(A105<>\"\",VLOOKUP(A105,Substrat!$A$3:$L$68,3,FALSE)/G105*F129,\"\")","v":""},"",null,null,null,null,null,null,null,null,null,null,""]
["","","","","","",{"$f":"IF(A106<>\"\",VLOOKUP(A106,Substrat!$A$3:$L$68,3,FALSE)/G106*F130,\"\")","v":""},"",null,null,null,null,null,null,null,null,null,null,""]
["","","","","","",{"$f":"IF(A107<>\"\",VLOOKUP(A107,Substrat!$A$3:$L$68,3,FALSE)/G107*F131,\"\")","v":""},"",null,null,null,null,null,null,null,null,null,null,""]
["","","","","","",{"$f":"IF(A108<>\"\",VLOOKUP(A108,Substrat!$A$3:$L$68,3,FALSE)/G108*F132,\"\")","v":""},"",null,null,null,null,null,null,null,null,null,null,""]
["Summa",null,null,null,{"$f":"SUM(E113:E132)","v":0},null,null,null,{"$f":"SUM(I113:I132)","v":0},0,0,0,0,0,0,0,0,0]

{"sheet":"Produktion","index":1,"n_rows":203,"n_cols":23,"rows_kept":203,"cut":false,"hidden":false,"merged":[[3,17,3,19],[0,0,0,17],[127,0,127,4],[128,0,128,4],[126,0,126,7],[93,6,93,7],[126,10,126,15],[128,10,128,14],[121,10,121,15],[122,10,122,14],[1,1,1,4],[2,1,2,4],[1,7,1,8],[93,3,93,5],[3,12,3,14],[3,0,3,11],[37,0,37,6],[37,7,37,8],[135,16,135,20],[135,14,135,15],[135,7,135,13],[129,10,129,14],[130,10,130,14],[97,0,97,1],[96,0,96,1],[95,0,95,1],[117,0,117,1],[38,11,38,13],[170,0,170,8],[124,0,124,3],[129,0,129,4],[130,0,130,4],[133,0,133,4],[135,1,135,6],[131,0,131,4],[132,0,132,4]]}
["HBK Biogasredovisning, ver 3.6 - Produktion av biogas"]
["Företag:","NNN",null,null,null,"Organisationsnummer:",null,"xxxxxx-xxxx"]
["Rapportperiod","2020-01-01 -- 2020-12-31"]
["Substrat till biogasproduktion",null,null,null,null,null,null,null,null,null,null,null,"Gasproduktion",null,null,"Växthusgasberäkning",null,"Avfall Web",null,null,"Noteringar"]
["Substrat","Region","Parti nr","Kompletterande information","Ursprung","Substrat, typ","Användning  av normalvärde, Ja/Nej","Ingående lagermängd, ton (våtvikt)","Mängd till anläggning eller till lager, ton (våtvikt)","Utgående lagermängd, ton (våtvikt)","Torrsubstans-halt, %","Mängd till biogas-produktion, ton (våtvikt)",{"$f":"IF($G$131=\"Nm3\",\"Specifik gasproduktion, Nm3/ton\",\"Specifik gasproduktion, kg/ton\")","v":"Specifik gasproduktion, Nm3/ton"},{"$f":"IF($G$131=\"Nm3\",\"Gasproduktion, teoretisk, tusental Nm3\",\"Gasproduktion, teoretisk, tusental kg\")","v":"Gasproduktion, teoretisk, tusental Nm3"},{"$f":"IF($G$131=\"Nm3\",\"Gasproduktion, justerad, tusental Nm3\",\"Gasproduktion, justerad, tusental kg\")","v":"Gasproduktion, justerad, tusental Nm3"},"Faktor, gCO2eq/ton ts","Mängd CO2eq, ton","Kod","Normerad mängd, ton (våtvikt)","Korrigering p.g.a. normering, ton","För egna noteringar länkar till dokument etc"]
[null,"",1,null,null,null,null,null,null,null,null,{"$f":"IF(A6<>\"\", H6+I6-J6, \"\")","v":""},{"$f":"IF(A6<>\"\",IF($G$131=\"Nm3\",VLOOKUP(A6,Substrat!$A$3:$D$68,3,FALSE),VLOOKUP(A6,Substrat!$A$3:$D$68,3,FALSE)/$H$131),\"\")","v":""},{"$f":"IF(A6<>\"\",L6*M6/1000,\"\")","v":""},{"$f":"IF(A6<>\"\",$F$131/$N$36*N6,\"\")","v":""},{"$f":"IF(A6<>\"\",IF(F6=\"Gröda\",INDEX(Substrat!$B$101:$K$121,MATCH(B6,Region,0),MATCH(A6,Substrat!$B$100:$K$100,0)),VLOOKUP(A6,Substrat!$A$3:$D$68,4,FALSE)),\"\")","v":""},{"$f":"IF(A6<>\"\",IF(AND(NOT(K6>0), P6>0),  #N/A,  L6*K6*P6/1000/1000),\"\")","v":""},{"$f":"IF(A6<>\"\",VLOOKUP(A6,Substrat!$A$3:$H$68,8,FALSE),\"\")","v":""},{"$f":"IF(A6<>\"\", IF(R6=\"EB8\", IF(A6<>\"Fett från hushåll, restauranger och storkök\",  I6*((VALUE(LEFT(VLOOKUP(A6,Substrat!$A$3:$L$68,6,FALSE),FIND(\"-\",VLOOKUP(A6,Substrat!$A$3:$L$68,6,FALSE),1)-1))+VALUE(RIGHT(VLOOKUP(A6,Substrat!$A$3:$L$68,6,FALSE),LEN(VLOOKUP(A6,Substrat!$A$3:$L$68,6,FALSE))-FIND(\"-\",VLOOKUP(A6,Substrat!$A$3:$L$68,6,FALSE),1))))/2/100)/0.3, I6),I6),\"\")","v":""},{"$f":"IF(A6<>\"\", S6-I6, \"\")","v":""}]
[null,null,2,null,null,null,null,null,null,null,null,"",{"$f":"IF(A7<>\"\",IF($G$131=\"Nm3\",VLOOKUP(A7,Substrat!$A$3:$D$68,3,FALSE),VLOOKUP(A7,Substrat!$A$3:$D$68,3,FALSE)/$H$131),\"\")","v":""},"","",{"$f":"IF(A7<>\"\",IF(F7=\"Gröda\",INDEX(Substrat!$B$101:$K$121,MATCH(B7,Region,0),MATCH(A7,Substrat!$B$100:$K$100,0)),VLOOKUP(A7,Substrat!$A$3:$D$68,4,FALSE)),\"\")","v":""},"",{"$f":"IF(A7<>\"\",VLOOKUP(A7,Substrat!$A$3:$H$68,8,FALSE),\"\")","v":""},{"$f":"IF(A7<>\"\", IF(R7=\"EB8\", IF(A7<>\"Fett från hushåll, restauranger och storkök\",  I7*((VALUE(LEFT(VLOOKUP(A7,Substrat!$A$3:$L$68,6,FALSE),FIND(\"-\",VLOOKUP(A7,Substrat!$A$3:$L$68,6,FALSE),1)-1))+VALUE(RIGHT(VLOOKUP(A7,Substrat!$A$3:$L$68,6,FALSE),LEN(VLOOKUP(A7,Substrat!$A$3:$L$68,6,FALSE))-FIND(\"-\",VLOOKUP(A7,Substrat!$A$3:$L$68,6,FALSE),1))))/2/100)/0.3, I7),I7),\"\")","v":""},""]
[null,null,3,null,null,null,null,null,null,null,null,"",{"$f":"IF(A8<>\"\",IF($G$131=\"Nm3\",VLOOKUP(A8,Substrat!$A$3:$D$68,3,FALSE),VLOOKUP(A8,Substrat!$A$3:$D$68,3,FALSE)/$H$131),\"\")","v":""},"","",{"$f":"IF(A8<>\"\",IF(F8=\"Gröda\",INDEX(Substrat!$B$101:$K$121,MATCH(B8,Region,0),MATCH(A8,Substrat!$B$100:$K$100,0)),VLOOKUP(A8,Substrat!$A$3:$D$68,4,FALSE)),\"\")","v":""},"",{"$f":"IF(A8<>\"\",VLOOKUP(A8,Substrat!$A$3:$H$68,8,FALSE),\"\")","v":""},{"$f":"IF(A8<>\"\", IF(R8=\"EB8\", IF(A8<>\"Fett från hushåll, restauranger och storkök\",  I8*((VALUE(LEFT(VLOOKUP(A8,Substrat!$A$3:$L$68,6,FALSE),FIND(\"-\",VLOOKUP(A8,Substrat!$A$3:$L$68,6,FALSE),1)-1))+VALUE(RIGHT(VLOOKUP(A8,Substrat!$A$3:$L$68,6,FALSE),LEN(VLOOKUP(A8,Substrat!$A$3:$L$68,6,FALSE))-FIND(\"-\",VLOOKUP(A8,Substrat!$A$3:$L$68,6,FALSE),1))))/2/100)/0.3, I8),I8),\"\")","v":""},""]
[null,null,4,null,null,null,null,null,null,null,null,"",{"$f":"IF(A9<>\"\",IF($G$131=\"Nm3\",VLOOKUP(A9,Substrat!$A$3:$D$68,3,FALSE),VLOOKUP(A9,Substrat!$A$3:$D$68,3,FALSE)/$H$131),\"\")","v":""},"","",{"$f":"IF(A9<>\"\",IF(F9=\"Gröda\",INDEX(Substrat!$B$101:$K$121,MATCH(B9,Region,0),MATCH(A9,Substrat!$B$100:$K$100,0)),VLOOKUP(A9,Substrat!$A$3:$D$68,4,FALSE)),\"\")","v":""},"",{"$f":"IF(A9<>\"\",VLOOKUP(A9,Substrat!$A$3:$H$68,8,FALSE),\"\")","v":""},{"$f":"IF(A9<>\"\", IF(R9=\"EB8\", IF(A9<>\"Fett från hushåll, restauranger och storkök\",  I9*((VALUE(LEFT(VLOOKUP(A9,Substrat!$A$3:$L$68,6,FALSE),FIND(\"-\",VLOOKUP(A9,Substrat!$A$3:$L$68,6,FALSE),1)-1))+VALUE(RIGHT(VLOOKUP(A9,Substrat!$A$3:$L$68,6,FALSE),LEN(VLOOKUP(A9,Substrat!$A$3:$L$68,6,FALSE))-FIND(\"-\",VLOOKUP(A9,Substrat!$A$3:$L$68,6,FALSE),1))))/2/100)/0.3, I9),I9),\"\")","v":""},""]
[null,null,5,null,null,null,null,null,null,null,null,"",{"$f":"IF(A10<>\"\",IF($G$131=\"Nm3\",VLOOKUP(A10,Substrat!$A$3:$D$68,3,FALSE),VLOOKUP(A10,Substrat!$A$3:$D$68,3,FALSE)/$H$131),\"\")","v":""},"","",{"$f":"IF(A10<>\"\",IF(F10=\"Gröda\",INDEX(Substrat!$B$101:$K$121,MATCH(B10,Region,0),MATCH(A10,Substrat!$B$100:$K$100,0)),VLOOKUP(A10,Substrat!$A$3:$D$68,4,FALSE)),\"\")","v":""},"",{"$f":"IF(A10<>\"\",VLOOKUP(A10,Substrat!$A$3:$H$68,8,FALSE),\"\")","v":""},{"$f":"IF(A10<>\"\", IF(R10=\"EB8\", IF(A10<>\"Fett från hushåll, restauranger och storkök\",  I10*((VALUE(LEFT(VLOOKUP(A10,Substrat!$A$3:$L$68,6,FALSE),FIND(\"-\",VLOOKUP(A10,Substrat!$A$3:$L$68,6,FALSE),1)-1))+VALUE(RIGHT(VLOOKUP(A10,Substrat!$A$3:$L$68,6,FALSE),LEN(VLOOKUP(A10,Substrat!$A$3:$L$68,6,FALSE))-FIND(\"-\",VLOOKUP(A10,Substrat!$A$3:$L$68,6,FALSE),1))))/2/100)/0.3, I10),I10),\"\")","v":""},""]
[null,null,6,null,null,null,null,null,null,null,null,"",{"$f":"IF(A11<>\"\",IF($G$131=\"Nm3\",VLOOKUP(A11,Substrat!$A$3:$D$68,3,FALSE),VLOOKUP(A11,Substrat!$A$3:$D$68,3,FALSE)/$H$131),\"\")","v":""},"","",{"$f":"IF(A11<>\"\",IF(F11=\"Gröda\",INDEX(Substrat!$B$101:$K$121,MATCH(B11,Region,0),MATCH(A11,Substrat!$B$100:$K$100,0)),VLOOKUP(A11,Substrat!$A$3:$D$68,4,FALSE)),\"\")","v":""},"",{"$f":"IF(A11<>\"\",VLOOKUP(A11,Substrat!$A$3:$H$68,8,FALSE),\"\")","v":""},{"$f":"IF(A11<>\"\", IF(R11=\"EB8\", IF(A11<>\"Fett från hushåll, restauranger och storkök\",  I11*((VALUE(LEFT(VLOOKUP(A11,Substrat!$A$3:$L$68,6,FALSE),FIND(\"-\",VLOOKUP(A11,Substrat!$A$3:$L$68,6,FALSE),1)-1))+VALUE(RIGHT(VLOOKUP(A11,Substrat!$A$3:$L$68,6,FALSE),LEN(VLOOKUP(A11,Substrat!$A$3:$L$68,6,FALSE))-FIND(\"-\",VLOOKUP(A11,Substrat!$A$3:$L$68,6,FALSE),1))))/2/100)/0.3, I11),I11),\"\")","v":""},""]
[null,null,7,null,null,null,null,null,null,null,null,"",{"$f":"IF(A12<>\"\",IF($G$131=\"Nm3\",VLOOKUP(A12,Substrat!$A$3:$D$68,3,FALSE),VLOOKUP(A12,Substrat!$A$3:$D$68,3,FALSE)/$H$131),\"\")","v":""},"","",{"$f":"IF(A12<>\"\",IF(F12=\"Gröda\",INDEX(Substrat!$B$101:$K$121,MATCH(B12,Region,0),MATCH(A12,Substrat!$B$100:$K$100,0)),VLOOKUP(A12,Substrat!$A$3:$D$68,4,FALSE)),\"\")","v":""},"",{"$f":"IF(A12<>\"\",VLOOKUP(A12,Substrat!$A$3:$H$68,8,FALSE),\"\")","v":""},{"$f":"IF(A12<>\"\", IF(R12=\"EB8\", IF(A12<>\"Fett från hushåll, restauranger och storkök\",  I12*((VALUE(LEFT(VLOOKUP(A12,Substrat!$A$3:$L$68,6,FALSE),FIND(\"-\",VLOOKUP(A12,Substrat!$A$3:$L$68,6,FALSE),1)-1))+VALUE(RIGHT(VLOOKUP(A12,Substrat!$A$3:$L$68,6,FALSE),LEN(VLOOKUP(A12,Substrat!$A$3:$L$68,6,FALSE))-FIND(\"-\",VLOOKUP(A12,Substrat!$A$3:$L$68,6,FALSE),1))))/2/100)/0.3, I12),I12),\"\")","v":""},""]
[null,"",8,null,null,{"$f":"IF(A13<>\"\",VLOOKUP(A13,Substrat!$A$3:$D$68,2,FALSE),\"\")","v":""},null,null,null,null,null,"",{"$f":"IF(A13<>\"\",IF($G$131=\"Nm3\",VLOOKUP(A13,Substrat!$A$3:$D$68,3,FALSE),VLOOKUP(A13,Substrat!$A$3:$D$68,3,FALSE)/$H$131),\"\")","v":""},"","",{"$f":"IF(A13<>\"\",IF(F13=\"Gröda\",INDEX(Substrat!$B$101:$K$121,MATCH(B13,Region,0),MATCH(A13,Substrat!$B$100:$K$100,0)),VLOOKUP(A13,Substrat!$A$3:$D$68,4,FALSE)),\"\")","v":""},"",{"$f":"IF(A13<>\"\",VLOOKUP(A13,Substrat!$A$3:$H$68,8,FALSE),\"\")","v":""},{"$f":"IF(A13<>\"\", IF(R13=\"EB8\", IF(A13<>\"Fett från hushåll, restauranger och storkök\",  I13*((VALUE(LEFT(VLOOKUP(A13,Substrat!$A$3:$L$68,6,FALSE),FIND(\"-\",VLOOKUP(A13,Substrat!$A$3:$L$68,6,FALSE),1)-1))+VALUE(RIGHT(VLOOKUP(A13,Substrat!$A$3:$L$68,6,FALSE),LEN(VLOOKUP(A13,Substrat!$A$3:$L$68,6,FALSE))-FIND(\"-\",VLOOKUP(A13,Substrat!$A$3:$L$68,6,FALSE),1))))/2/100)/0.3, I13),I13),\"\")","v":""},""]
[null,"",9,null,null,{"$f":"IF(A14<>\"\",VLOOKUP(A14,Substrat!$A$3:$D$68,2,FALSE),\"\")","v":""},null,null,null,null,null,"",{"$f":"IF(A14<>\"\",IF($G$131=\"Nm3\",VLOOKUP(A14,Substrat!$A$3:$D$68,3,FALSE),VLOOKUP(A14,Substrat!$A$3:$D$68,3,FALSE)/$H$131),\"\")","v":""},"","",{"$f":"IF(A14<>\"\",IF(F14=\"Gröda\",INDEX(Substrat!$B$101:$K$121,MATCH(B14,Region,0),MATCH(A14,Substrat!$B$100:$K$100,0)),VLOOKUP(A14,Substrat!$A$3:$D$68,4,FALSE)),\"\")","v":""},"",{"$f":"IF(A14<>\"\",VLOOKUP(A14,Substrat!$A$3:$H$68,8,FALSE),\"\")","v":""},{"$f":"IF(A14<>\"\", IF(R14=\"EB8\", IF(A14<>\"Fett från hushåll, restauranger och storkök\",  I14*((VALUE(LEFT(VLOOKUP(A14,Substrat!$A$3:$L$68,6,FALSE),FIND(\"-\",VLOOKUP(A14,Substrat!$A$3:$L$68,6,FALSE),1)-1))+VALUE(RIGHT(VLOOKUP(A14,Substrat!$A$3:$L$68,6,FALSE),LEN(VLOOKUP(A14,Substrat!$A$3:$L$68,6,FALSE))-FIND(\"-\",VLOOKUP(A14,Substrat!$A$3:$L$68,6,FALSE),1))))/2/100)/0.3, I14),I14),\"\")","v":""},""]
[null,"",10,null,null,{"$f":"IF(A15<>\"\",VLOOKUP(A15,Substrat!$A$3:$D$68,2,FALSE),\"\")","v":""},null,null,null,null,null,"",{"$f":"IF(A15<>\"\",IF($G$131=\"Nm3\",VLOOKUP(A15,Substrat!$A$3:$D$68,3,FALSE),VLOOKUP(A15,Substrat!$A$3:$D$68,3,FALSE)/$H$131),\"\")","v":""},"","",{"$f":"IF(A15<>\"\",IF(F15=\"Gröda\",INDEX(Substrat!$B$101:$K$121,MATCH(B15,Region,0),MATCH(A15,Substrat!$B$100:$K$100,0)),VLOOKUP(A15,Substrat!$A$3:$D$68,4,FALSE)),\"\")","v":""},"",{"$f":"IF(A15<>\"\",VLOOKUP(A15,Substrat!$A$3:$H$68,8,FALSE),\"\")","v":""},{"$f":"IF(A15<>\"\", IF(R15=\"EB8\", IF(A15<>\"Fett från hushåll, restauranger och storkök\",  I15*((VALUE(LEFT(VLOOKUP(A15,Substrat!$A$3:$L$68,6,FALSE),FIND(\"-\",VLOOKUP(A15,Substrat!$A$3:$L$68,6,FALSE),1)-1))+VALUE(RIGHT(VLOOKUP(A15,Substrat!$A$3:$L$68,6,FALSE),LEN(VLOOKUP(A15,Substrat!$A$3:$L$68,6,FALSE))-FIND(\"-\",VLOOKUP(A15,Substrat!$A$3:$L$68,6,FALSE),1))))/2/100)/0.3, I15),I15),\"\")","v":""},""]
[null,"",11,null,null,{"$f":"IF(A16<>\"\",VLOOKUP(A16,Substrat!$A$3:$D$68,2,FALSE),\"\")","v":""},null,null,null,null,null,"",{"$f":"IF(A16<>\"\",IF($G$131=\"Nm3\",VLOOKUP(A16,Substrat!$A$3:$D$68,3,FALSE),VLOOKUP(A16,Substrat!$A$3:$D$68,3,FALSE)/$H$131),\"\")","v":""},"","",{"$f":"IF(A16<>\"\",IF(F16=\"Gröda\",INDEX(Substrat!$B$101:$K$121,MATCH(B16,Region,0),MATCH(A16,Substrat!$B$100:$K$100,0)),VLOOKUP(A16,Substrat!$A$3:$D$68,4,FALSE)),\"\")","v":""},"",{"$f":"IF(A16<>\"\",VLOOKUP(A16,Substrat!$A$3:$H$68,8,FALSE),\"\")","v":""},{"$f":"IF(A16<>\"\", IF(R16=\"EB8\", IF(A16<>\"Fett från hushåll, restauranger och storkök\",  I16*((VALUE(LEFT(VLOOKUP(A16,Substrat!$A$3:$L$68,6,FALSE),FIND(\"-\",VLOOKUP(A16,Substrat!$A$3:$L$68,6,FALSE),1)-1))+VALUE(RIGHT(VLOOKUP(A16,Substrat!$A$3:$L$68,6,FALSE),LEN(VLOOKUP(A16,Substrat!$A$3:$L$68,6,FALSE))-FIND(\"-\",VLOOKUP(A16,Substrat!$A$3:$L$68,6,FALSE),1))))/2/100)/0.3, I16),I16),\"\")","v":""},""]
[null,"",12,null,null,{"$f":"IF(A17<>\"\",VLOOKUP(A17,Substrat!$A$3:$D$68,2,FALSE),\"\")","v":""},null,null,null,null,null,"",{"$f":"IF(A17<>\"\",IF($G$131=\"Nm3\",VLOOKUP(A17,Substrat!$A$3:$D$68,3,FALSE),VLOOKUP(A17,Substrat!$A$3:$D$68,3,FALSE)/$H$131),\"\")","v":""},"","",{"$f":"IF(A17<>\"\",IF(F17=\"Gröda\",INDEX(Substrat!$B$101:$K$121,MATCH(B17,Region,0),MATCH(A17,Substrat!$B$100:$K$100,0)),VLOOKUP(A17,Substrat!$A$3:$D$68,4,FALSE)),\"\")","v":""},"",{"$f":"IF(A17<>\"\",VLOOKUP(A17,Substrat!$A$3:$H$68,8,FALSE),\"\")","v":""},{"$f":"IF(A17<>\"\", IF(R17=\"EB8\", IF(A17<>\"Fett från hushåll, restauranger och storkök\",  I17*((VALUE(LEFT(VLOOKUP(A17,Substrat!$A$3:$L$68,6,FALSE),FIND(\"-\",VLOOKUP(A17,Substrat!$A$3:$L$68,6,FALSE),1)-1))+VALUE(RIGHT(VLOOKUP(A17,Substrat!$A$3:$L$68,6,FALSE),LEN(VLOOKUP(A17,Substrat!$A$3:$L$68,6,FALSE))-FIND(\"-\",VLOOKUP(A17,Substrat!$A$3:$L$68,6,FALSE),1))))/2/100)/0.3, I17),I17),\"\")","v":""},""]
[null,"",13,null,null,{"$f":"IF(A18<>\"\",VLOOKUP(A18,Substrat!$A$3:$D$68,2,FALSE),\"\")","v":""},null,null,null,null,null,"",{"$f":"IF(A18<>\"\",IF($G$131=\"Nm3\",VLOOKUP(A18,Substrat!$A$3:$D$68,3,FALSE),VLOOKUP(A18,Substrat!$A$3:$D$68,3,FALSE)/$H$131),\"\")","v":""},"","",{"$f":"IF(A18<>\"\",IF(F18=\"Gröda\",INDEX(Substrat!$B$101:$K$121,MATCH(B18,Region,0),MATCH(A18,Substrat!$B$100:$K$100,0)),VLOOKUP(A18,Substrat!$A$3:$D$68,4,FALSE)),\"\")","v":""},"",{"$f":"IF(A18<>\"\",VLOOKUP(A18,Substrat!$A$3:$H$68,8,FALSE),\"\")","v":""},{"$f":"IF(A18<>\"\", IF(R18=\"EB8\", IF(A18<>\"Fett från hushåll, restauranger och storkök\",  I18*((VALUE(LEFT(VLOOKUP(A18,Substrat!$A$3:$L$68,6,FALSE),FIND(\"-\",VLOOKUP(A18,Substrat!$A$3:$L$68,6,FALSE),1)-1))+VALUE(RIGHT(VLOOKUP(A18,Substrat!$A$3:$L$68,6,FALSE),LEN(VLOOKUP(A18,Substrat!$A$3:$L$68,6,FALSE))-FIND(\"-\",VLOOKUP(A18,Substrat!$A$3:$L$68,6,FALSE),1))))/2/100)/0.3, I18),I18),\"\")","v":""},""]
[null,"",14,null,null,{"$f":"IF(A19<>\"\",VLOOKUP(A19,Substrat!$A$3:$D$68,2,FALSE),\"\")","v":""},null,null,null,null,null,"",{"$f":"IF(A19<>\"\",IF($G$131=\"Nm3\",VLOOKUP(A19,Substrat!$A$3:$D$68,3,FALSE),VLOOKUP(A19,Substrat!$A$3:$D$68,3,FALSE)/$H$131),\"\")","v":""},"","",{"$f":"IF(A19<>\"\",IF(F19=\"Gröda\",INDEX(Substrat!$B$101:$K$121,MATCH(B19,Region,0),MATCH(A19,Substrat!$B$100:$K$100,0)),VLOOKUP(A19,Substrat!$A$3:$D$68,4,FALSE)),\"\")","v":""},"",{"$f":"IF(A19<>\"\",VLOOKUP(A19,Substrat!$A$3:$H$68,8,FALSE),\"\")","v":""},{"$f":"IF(A19<>\"\", IF(R19=\"EB8\", IF(A19<>\"Fett från hushåll, restauranger och storkök\",  I19*((VALUE(LEFT(VLOOKUP(A19,Substrat!$A$3:$L$68,6,FALSE),FIND(\"-\",VLOOKUP(A19,Substrat!$A$3:$L$68,6,FALSE),1)-1))+VALUE(RIGHT(VLOOKUP(A19,Substrat!$A$3:$L$68,6,FALSE),LEN(VLOOKUP(A19,Substrat!$A$3:$L$68,6,FALSE))-FIND(\"-\",VLOOKUP(A19,Substrat!$A$3:$L$68,6,FALSE),1))))/2/100)/0.3, I19),I19),\"\")","v":""},""]
[null,"",15,null,null,{"$f":"IF(A20<>\"\",VLOOKUP(A20,Substrat!$A$3:$D$68,2,FALSE),\"\")","v":""},null,null,null,null,null,"",{"$f":"IF(A20<>\"\",IF($G$131=\"Nm3\",VLOOKUP(A20,Substrat!$A$3:$D$68,3,FALSE),VLOOKUP(A20,Substrat!$A$3:$D$68,3,FALSE)/$H$131),\"\")","v":""},"","",{"$f":"IF(A20<>\"\",IF(F20=\"Gröda\",INDEX(Substrat!$B$101:$K$121,MATCH(B20,Region,0),MATCH(A20,Substrat!$B$100:$K$100,0)),VLOOKUP(A20,Substrat!$A$3:$D$68,4,FALSE)),\"\")","v":""},"",{"$f":"IF(A20<>\"\",VLOOKUP(A20,Substrat!$A$3:$H$68,8,FALSE),\"\")","v":""},{"$f":"IF(A20<>\"\", IF(R20=\"EB8\", IF(A20<>\"Fett från hushåll, restauranger och storkök\",  I20*((VALUE(LEFT(VLOOKUP(A20,Substrat!$A$3:$L$68,6,FALSE),FIND(\"-\",VLOOKUP(A20,Substrat!$A$3:$L$68,6,FALSE),1)-1))+VALUE(RIGHT(VLOOKUP(A20,Substrat!$A$3:$L$68,6,FALSE),LEN(VLOOKUP(A20,Substrat!$A$3:$L$68,6,FALSE))-FIND(\"-\",VLOOKUP(A20,Substrat!$A$3:$L$68,6,FALSE),1))))/2/100)/0.3, I20),I20),\"\")","v":""},""]
[null,"",16,null,null,{"$f":"IF(A21<>\"\",VLOOKUP(A21,Substrat!$A$3:$D$68,2,FALSE),\"\")","v":""},null,null,null,null,null,"",{"$f":"IF(A21<>\"\",IF($G$131=\"Nm3\",VLOOKUP(A21,Substrat!$A$3:$D$68,3,FALSE),VLOOKUP(A21,Substrat!$A$3:$D$68,3,FALSE)/$H$131),\"\")","v":""},"","",{"$f":"IF(A21<>\"\",IF(F21=\"Gröda\",INDEX(Substrat!$B$101:$K$121,MATCH(B21,Region,0),MATCH(A21,Substrat!$B$100:$K$100,0)),VLOOKUP(A21,Substrat!$A$3:$D$68,4,FALSE)),\"\")","v":""},"",{"$f":"IF(A21<>\"\",VLOOKUP(A21,Substrat!$A$3:$H$68,8,FALSE),\"\")","v":""},{"$f":"IF(A21<>\"\", IF(R21=\"EB8\", IF(A21<>\"Fett från hushåll, restauranger och storkök\",  I21*((VALUE(LEFT(VLOOKUP(A21,Substrat!$A$3:$L$68,6,FALSE),FIND(\"-\",VLOOKUP(A21,Substrat!$A$3:$L$68,6,FALSE),1)-1))+VALUE(RIGHT(VLOOKUP(A21,Substrat!$A$3:$L$68,6,FALSE),LEN(VLOOKUP(A21,Substrat!$A$3:$L$68,6,FALSE))-FIND(\"-\",VLOOKUP(A21,Substrat!$A$3:$L$68,6,FALSE),1))))/2/100)/0.3, I21),I21),\"\")","v":""},""]
[null,"",17,null,null,{"$f":"IF(A22<>\"\",VLOOKUP(A22,Substrat!$A$3:$D$68,2,FALSE),\"\")","v":""},null,null,null,null,null,"",{"$f":"IF(A22<>\"\",IF($G$131=\"Nm3\",VLOOKUP(A22,Substrat!$A$3:$D$68,3,FALSE),VLOOKUP(A22,Substrat!$A$3:$D$68,3,FALSE)/$H$131),\"\")","v":""},"","",{"$f":"IF(A22<>\"\",IF(F22=\"Gröda\",INDEX(Substrat!$B$101:$K$121,MATCH(B22,Region,0),MATCH(A22,Substrat!$B$100:$K$100,0)),VLOOKUP(A22,Substrat!$A$3:$D$68,4,FALSE)),\"\")","v":""},"",{"$f":"IF(A22<>\"\",VLOOKUP(A22,Substrat!$A$3:$H$68,8,FALSE),\"\")","v":""},{"$f":"IF(A22<>\"\", IF(R22=\"EB8\", IF(A22<>\"Fett från hushåll, restauranger och storkök\",  I22*((VALUE(LEFT(VLOOKUP(A22,Substrat!$A$3:$L$68,6,FALSE),FIND(\"-\",VLOOKUP(A22,Substrat!$A$3:$L$68,6,FALSE),1)-1))+VALUE(RIGHT(VLOOKUP(A22,Substrat!$A$3:$L$68,6,FALSE),LEN(VLOOKUP(A22,Substrat!$A$3:$L$68,6,FALSE))-FIND(\"-\",VLOOKUP(A22,Substrat!$A$3:$L$68,6,FALSE),1))))/2/100)/0.3, I22),I22),\"\")","v":""},""]
[null,"",18,null,null,{"$f":"IF(A23<>\"\",VLOOKUP(A23,Substrat!$A$3:$D$68,2,FALSE),\"\")","v":""},null,null,null,null,null,"",{"$f":"IF(A23<>\"\",IF($G$131=\"Nm3\",VLOOKUP(A23,Substrat!$A$3:$D$68,3,FALSE),VLOOKUP(A23,Substrat!$A$3:$D$68,3,FALSE)/$H$131),\"\")","v":""},"","",{"$f":"IF(A23<>\"\",IF(F23=\"Gröda\",INDEX(Substrat!$B$101:$K$121,MATCH(B23,Region,0),MATCH(A23,Substrat!$B$100:$K$100,0)),VLOOKUP(A23,Substrat!$A$3:$D$68,4,FALSE)),\"\")","v":""},"",{"$f":"IF(A23<>\"\",VLOOKUP(A23,Substrat!$A$3:$H$68,8,FALSE),\"\")","v":""},{"$f":"IF(A23<>\"\", IF(R23=\"EB8\", IF(A23<>\"Fett från hushåll, restauranger och storkök\",  I23*((VALUE(LEFT(VLOOKUP(A23,Substrat!$A$3:$L$68,6,FALSE),FIND(\"-\",VLOOKUP(A23,Substrat!$A$3:$L$68,6,FALSE),1)-1))+VALUE(RIGHT(VLOOKUP(A23,Substrat!$A$3:$L$68,6,FALSE),LEN(VLOOKUP(A23,Substrat!$A$3:$L$68,6,FALSE))-FIND(\"-\",VLOOKUP(A23,Substrat!$A$3:$L$68,6,FALSE),1))))/2/100)/0.3, I23),I23),\"\")","v":""},""]
[null,"",19,null,null,{"$f":"IF(A24<>\"\",VLOOKUP(A24,Substrat!$A$3:$D$68,2,FALSE),\"\")","v":""},null,null,null,null,null,"",{"$f":"IF(A24<>\"\",IF($G$131=\"Nm3\",VLOOKUP(A24,Substrat!$A$3:$D$68,3,FALSE),VLOOKUP(A24,Substrat!$A$3:$D$68,3,FALSE)/$H$131),\"\")","v":""},"","",{"$f":"IF(A24<>\"\",IF(F24=\"Gröda\",INDEX(Substrat!$B$101:$K$121,MATCH(B24,Region,0),MATCH(A24,Substrat!$B$100:$K$100,0)),VLOOKUP(A24,Substrat!$A$3:$D$68,4,FALSE)),\"\")","v":""},"",{"$f":"IF(A24<>\"\",VLOOKUP(A24,Substrat!$A$3:$H$68,8,FALSE),\"\")","v":""},{"$f":"IF(A24<>\"\", IF(R24=\"EB8\", IF(A24<>\"Fett från hushåll, restauranger och storkök\",  I24*((VALUE(LEFT(VLOOKUP(A24,Substrat!$A$3:$L$68,6,FALSE),FIND(\"-\",VLOOKUP(A24,Substrat!$A$3:$L$68,6,FALSE),1)-1))+VALUE(RIGHT(VLOOKUP(A24,Substrat!$A$3:$L$68,6,FALSE),LEN(VLOOKUP(A24,Substrat!$A$3:$L$68,6,FALSE))-FIND(\"-\",VLOOKUP(A24,Substrat!$A$3:$L$68,6,FALSE),1))))/2/100)/0.3, I24),I24),\"\")","v":""},""]
[null,"",20,null,null,{"$f":"IF(A25<>\"\",VLOOKUP(A25,Substrat!$A$3:$D$68,2,FALSE),\"\")","v":""},null,null,null,null,null,"",{"$f":"IF(A25<>\"\",IF($G$131=\"Nm3\",VLOOKUP(A25,Substrat!$A$3:$D$68,3,FALSE),VLOOKUP(A25,Substrat!$A$3:$D$68,3,FALSE)/$H$131),\"\")","v":""},"","",{"$f":"IF(A25<>\"\",IF(F25=\"Gröda\",INDEX(Substrat!$B$101:$K$121,MATCH(B25,Region,0),MATCH(A25,Substrat!$B$100:$K$100,0)),VLOOKUP(A25,Substrat!$A$3:$D$68,4,FALSE)),\"\")","v":""},"",{"$f":"IF(A25<>\"\",VLOOKUP(A25,Substrat!$A$3:$H$68,8,FALSE),\"\")","v":""},{"$f":"IF(A25<>\"\", IF(R25=\"EB8\", IF(A25<>\"Fett från hushåll, restauranger och storkök\",  I25*((VALUE(LEFT(VLOOKUP(A25,Substrat!$A$3:$L$68,6,FALSE),FIND(\"-\",VLOOKUP(A25,Substrat!$A$3:$L$68,6,FALSE),1)-1))+VALUE(RIGHT(VLOOKUP(A25,Substrat!$A$3:$L$68,6,FALSE),LEN(VLOOKUP(A25,Substrat!$A$3:$L$68,6,FALSE))-FIND(\"-\",VLOOKUP(A25,Substrat!$A$3:$L$68,6,FALSE),1))))/2/100)/0.3, I25),I25),\"\")","v":""},""]
[null,"",21,null,null,{"$f":"IF(A26<>\"\",VLOOKUP(A26,Substrat!$A$3:$D$68,2,FALSE),\"\")","v":""},null,null,null,null,null,"",{"$f":"IF(A26<>\"\",IF($G$131=\"Nm3\",VLOOKUP(A26,Substrat!$A$3:$D$68,3,FALSE),VLOOKUP(A26,Substrat!$A$3:$D$68,3,FALSE)/$H$131),\"\")","v":""},"","",{"$f":"IF(A26<>\"\",IF(F26=\"Gröda\",INDEX(Substrat!$B$101:$K$121,MATCH(B26,Region,0),MATCH(A26,Substrat!$B$100:$K$100,0)),VLOOKUP(A26,Substrat!$A$3:$D$68,4,FALSE)),\"\")","v":""},"",{"$f":"IF(A26<>\"\",VLOOKUP(A26,Substrat!$A$3:$H$68,8,FALSE),\"\")","v":""},{"$f":"IF(A26<>\"\", IF(R26=\"EB8\", IF(A26<>\"Fett från hushåll, restauranger och storkök\",  I26*((VALUE(LEFT(VLOOKUP(A26,Substrat!$A$3:$L$68,6,FALSE),FIND(\"-\",VLOOKUP(A26,Substrat!$A$3:$L$68,6,FALSE),1)-1))+VALUE(RIGHT(VLOOKUP(A26,Substrat!$A$3:$L$68,6,FALSE),LEN(VLOOKUP(A26,Substrat!$A$3:$L$68,6,FALSE))-FIND(\"-\",VLOOKUP(A26,Substrat!$A$3:$L$68,6,FALSE),1))))/2/100)/0.3, I26),I26),\"\")","v":""},""]
[null,"",22,null,null,{"$f":"IF(A27<>\"\",VLOOKUP(A27,Substrat!$A$3:$D$68,2,FALSE),\"\")","v":""},null,null,null,null,null,"",{"$f":"IF(A27<>\"\",IF($G$131=\"Nm3\",VLOOKUP(A27,Substrat!$A$3:$D$68,3,FALSE),VLOOKUP(A27,Substrat!$A$3:$D$68,3,FALSE)/$H$131),\"\")","v":""},"","",{"$f":"IF(A27<>\"\",IF(F27=\"Gröda\",INDEX(Substrat!$B$101:$K$121,MATCH(B27,Region,0),MATCH(A27,Substrat!$B$100:$K$100,0)),VLOOKUP(A27,Substrat!$A$3:$D$68,4,FALSE)),\"\")","v":""},"",{"$f":"IF(A27<>\"\",VLOOKUP(A27,Substrat!$A$3:$H$68,8,FALSE),\"\")","v":""},{"$f":"IF(A27<>\"\", IF(R27=\"EB8\", IF(A27<>\"Fett från hushåll, restauranger och storkök\",  I27*((VALUE(LEFT(VLOOKUP(A27,Substrat!$A$3:$L$68,6,FALSE),FIND(\"-\",VLOOKUP(A27,Substrat!$A$3:$L$68,6,FALSE),1)-1))+VALUE(RIGHT(VLOOKUP(A27,Substrat!$A$3:$L$68,6,FALSE),LEN(VLOOKUP(A27,Substrat!$A$3:$L$68,6,FALSE))-FIND(\"-\",VLOOKUP(A27,Substrat!$A$3:$L$68,6,FALSE),1))))/2/100)/0.3, I27),I27),\"\")","v":""},""]
[null,"",23,null,null,{"$f":"IF(A28<>\"\",VLOOKUP(A28,Substrat!$A$3:$D$68,2,FALSE),\"\")","v":""},null,null,null,null,null,"",{"$f":"IF(A28<>\"\",IF($G$131=\"Nm3\",VLOOKUP(A28,Substrat!$A$3:$D$68,3,FALSE),VLOOKUP(A28,Substrat!$A$3:$D$68,3,FALSE)/$H$131),\"\")","v":""},"","",{"$f":"IF(A28<>\"\",IF(F28=\"Gröda\",INDEX(Substrat!$B$101:$K$121,MATCH(B28,Region,0),MATCH(A28,Substrat!$B$100:$K$100,0)),VLOOKUP(A28,Substrat!$A$3:$D$68,4,FALSE)),\"\")","v":""},"",{"$f":"IF(A28<>\"\",VLOOKUP(A28,Substrat!$A$3:$H$68,8,FALSE),\"\")","v":""},{"$f":"IF(A28<>\"\", IF(R28=\"EB8\", IF(A28<>\"Fett från hushåll, restauranger och storkök\",  I28*((VALUE(LEFT(VLOOKUP(A28,Substrat!$A$3:$L$68,6,FALSE),FIND(\"-\",VLOOKUP(A28,Substrat!$A$3:$L$68,6,FALSE),1)-1))+VALUE(RIGHT(VLOOKUP(A28,Substrat!$A$3:$L$68,6,FALSE),LEN(VLOOKUP(A28,Substrat!$A$3:$L$68,6,FALSE))-FIND(\"-\",VLOOKUP(A28,Substrat!$A$3:$L$68,6,FALSE),1))))/2/100)/0.3, I28),I28),\"\")","v":""},""]
[null,null,24,null,null,{"$f":"IF(A29<>\"\",VLOOKUP(A29,Substrat!$A$3:$D$68,2,FALSE),\"\")","v":""},null,null,null,null,null,"",{"$f":"IF(A29<>\"\",IF($G$131=\"Nm3\",VLOOKUP(A29,Substrat!$A$3:$D$68,3,FALSE),VLOOKUP(A29,Substrat!$A$3:$D$68,3,FALSE)/$H$131),\"\")","v":""},"","",{"$f":"IF(A29<>\"\",IF(F29=\"Gröda\",INDEX(Substrat!$B$101:$K$121,MATCH(B29,Region,0),MATCH(A29,Substrat!$B$100:$K$100,0)),VLOOKUP(A29,Substrat!$A$3:$D$68,4,FALSE)),\"\")","v":""},"",{"$f":"IF(A29<>\"\",VLOOKUP(A29,Substrat!$A$3:$H$68,8,FALSE),\"\")","v":""},{"$f":"IF(A29<>\"\", IF(R29=\"EB8\", IF(A29<>\"Fett från hushåll, restauranger och storkök\",  I29*((VALUE(LEFT(VLOOKUP(A29,Substrat!$A$3:$L$68,6,FALSE),FIND(\"-\",VLOOKUP(A29,Substrat!$A$3:$L$68,6,FALSE),1)-1))+VALUE(RIGHT(VLOOKUP(A29,Substrat!$A$3:$L$68,6,FALSE),LEN(VLOOKUP(A29,Substrat!$A$3:$L$68,6,FALSE))-FIND(\"-\",VLOOKUP(A29,Substrat!$A$3:$L$68,6,FALSE),1))))/2/100)/0.3, I29),I29),\"\")","v":""},""]
[null,null,25,null,null,{"$f":"IF(A30<>\"\",VLOOKUP(A30,Substrat!$A$3:$D$68,2,FALSE),\"\")","v":""},null,null,null,null,null,"",{"$f":"IF(A30<>\"\",IF($G$131=\"Nm3\",VLOOKUP(A30,Substrat!$A$3:$D$68,3,FALSE),VLOOKUP(A30,Substrat!$A$3:$D$68,3,FALSE)/$H$131),\"\")","v":""},"","",{"$f":"IF(A30<>\"\",IF(F30=\"Gröda\",INDEX(Substrat!$B$101:$K$121,MATCH(B30,Region,0),MATCH(A30,Substrat!$B$100:$K$100,0)),VLOOKUP(A30,Substrat!$A$3:$D$68,4,FALSE)),\"\")","v":""},"",{"$f":"IF(A30<>\"\",VLOOKUP(A30,Substrat!$A$3:$H$68,8,FALSE),\"\")","v":""},{"$f":"IF(A30<>\"\", IF(R30=\"EB8\", IF(A30<>\"Fett från hushåll, restauranger och storkök\",  I30*((VALUE(LEFT(VLOOKUP(A30,Substrat!$A$3:$L$68,6,FALSE),FIND(\"-\",VLOOKUP(A30,Substrat!$A$3:$L$68,6,FALSE),1)-1))+VALUE(RIGHT(VLOOKUP(A30,Substrat!$A$3:$L$68,6,FALSE),LEN(VLOOKUP(A30,Substrat!$A$3:$L$68,6,FALSE))-FIND(\"-\",VLOOKUP(A30,Substrat!$A$3:$L$68,6,FALSE),1))))/2/100)/0.3, I30),I30),\"\")","v":""},""]
[null,null,26,null,null,{"$f":"IF(A31<>\"\",VLOOKUP(A31,Substrat!$A$3:$D$68,2,FALSE),\"\")","v":""},null,null,null,null,null,"",{"$f":"IF(A31<>\"\",IF($G$131=\"Nm3\",VLOOKUP(A31,Substrat!$A$3:$D$68,3,FALSE),VLOOKUP(A31,Substrat!$A$3:$D$68,3,FALSE)/$H$131),\"\")","v":""},"","",{"$f":"IF(A31<>\"\",IF(F31=\"Gröda\",INDEX(Substrat!$B$101:$K$121,MATCH(B31,Region,0),MATCH(A31,Substrat!$B$100:$K$100,0)),VLOOKUP(A31,Substrat!$A$3:$D$68,4,FALSE)),\"\")","v":""},"",{"$f":"IF(A31<>\"\",VLOOKUP(A31,Substrat!$A$3:$H$68,8,FALSE),\"\")","v":""},{"$f":"IF(A31<>\"\", IF(R31=\"EB8\", IF(A31<>\"Fett från hushåll, restauranger och storkök\",  I31*((VALUE(LEFT(VLOOKUP(A31,Substrat!$A$3:$L$68,6,FALSE),FIND(\"-\",VLOOKUP(A31,Substrat!$A$3:$L$68,6,FALSE),1)-1))+VALUE(RIGHT(VLOOKUP(A31,Substrat!$A$3:$L$68,6,FALSE),LEN(VLOOKUP(A31,Substrat!$A$3:$L$68,6,FALSE))-FIND(\"-\",VLOOKUP(A31,Substrat!$A$3:$L$68,6,FALSE),1))))/2/100)/0.3, I31),I31),\"\")","v":""},""]
[null,null,27,null,null,{"$f":"IF(A32<>\"\",VLOOKUP(A32,Substrat!$A$3:$D$68,2,FALSE),\"\")","v":""},null,null,null,null,null,"",{"$f":"IF(A32<>\"\",IF($G$131=\"Nm3\",VLOOKUP(A32,Substrat!$A$3:$D$68,3,FALSE),VLOOKUP(A32,Substrat!$A$3:$D$68,3,FALSE)/$H$131),\"\")","v":""},"","",{"$f":"IF(A32<>\"\",IF(F32=\"Gröda\",INDEX(Substrat!$B$101:$K$121,MATCH(B32,Region,0),MATCH(A32,Substrat!$B$100:$K$100,0)),VLOOKUP(A32,Substrat!$A$3:$D$68,4,FALSE)),\"\")","v":""},"",{"$f":"IF(A32<>\"\",VLOOKUP(A32,Substrat!$A$3:$H$68,8,FALSE),\"\")","v":""},{"$f":"IF(A32<>\"\", IF(R32=\"EB8\", IF(A32<>\"Fett från hushåll, restauranger och storkök\",  I32*((VALUE(LEFT(VLOOKUP(A32,Substrat!$A$3:$L$68,6,FALSE),FIND(\"-\",VLOOKUP(A32,Substrat!$A$3:$L$68,6,FALSE),1)-1))+VALUE(RIGHT(VLOOKUP(A32,Substrat!$A$3:$L$68,6,FALSE),LEN(VLOOKUP(A32,Substrat!$A$3:$L$68,6,FALSE))-FIND(\"-\",VLOOKUP(A32,Substrat!$A$3:$L$68,6,FALSE),1))))/2/100)/0.3, I32),I32),\"\")","v":""},""]
[null,null,28,null,null,{"$f":"IF(A33<>\"\",VLOOKUP(A33,Substrat!$A$3:$D$68,2,FALSE),\"\")","v":""},null,null,null,null,null,"",{"$f":"IF(A33<>\"\",IF($G$131=\"Nm3\",VLOOKUP(A33,Substrat!$A$3:$D$68,3,FALSE),VLOOKUP(A33,Substrat!$A$3:$D$68,3,FALSE)/$H$131),\"\")","v":""},"","",{"$f":"IF(A33<>\"\",IF(F33=\"Gröda\",INDEX(Substrat!$B$101:$K$121,MATCH(B33,Region,0),MATCH(A33,Substrat!$B$100:$K$100,0)),VLOOKUP(A33,Substrat!$A$3:$D$68,4,FALSE)),\"\")","v":""},"",{"$f":"IF(A33<>\"\",VLOOKUP(A33,Substrat!$A$3:$H$68,8,FALSE),\"\")","v":""},{"$f":"IF(A33<>\"\", IF(R33=\"EB8\", IF(A33<>\"Fett från hushåll, restauranger och storkök\",  I33*((VALUE(LEFT(VLOOKUP(A33,Substrat!$A$3:$L$68,6,FALSE),FIND(\"-\",VLOOKUP(A33,Substrat!$A$3:$L$68,6,FALSE),1)-1))+VALUE(RIGHT(VLOOKUP(A33,Substrat!$A$3:$L$68,6,FALSE),LEN(VLOOKUP(A33,Substrat!$A$3:$L$68,6,FALSE))-FIND(\"-\",VLOOKUP(A33,Substrat!$A$3:$L$68,6,FALSE),1))))/2/100)/0.3, I33),I33),\"\")","v":""},""]
[null,null,29,null,null,{"$f":"IF(A34<>\"\",VLOOKUP(A34,Substrat!$A$3:$D$68,2,FALSE),\"\")","v":""},null,null,null,null,null,"",{"$f":"IF(A34<>\"\",IF($G$131=\"Nm3\",VLOOKUP(A34,Substrat!$A$3:$D$68,3,FALSE),VLOOKUP(A34,Substrat!$A$3:$D$68,3,FALSE)/$H$131),\"\")","v":""},"","",{"$f":"IF(A34<>\"\",IF(F34=\"Gröda\",INDEX(Substrat!$B$101:$K$121,MATCH(B34,Region,0),MATCH(A34,Substrat!$B$100:$K$100,0)),VLOOKUP(A34,Substrat!$A$3:$D$68,4,FALSE)),\"\")","v":""},"",{"$f":"IF(A34<>\"\",VLOOKUP(A34,Substrat!$A$3:$H$68,8,FALSE),\"\")","v":""},{"$f":"IF(A34<>\"\", IF(R34=\"EB8\", IF(A34<>\"Fett från hushåll, restauranger och storkök\",  I34*((VALUE(LEFT(VLOOKUP(A34,Substrat!$A$3:$L$68,6,FALSE),FIND(\"-\",VLOOKUP(A34,Substrat!$A$3:$L$68,6,FALSE),1)-1))+VALUE(RIGHT(VLOOKUP(A34,Substrat!$A$3:$L$68,6,FALSE),LEN(VLOOKUP(A34,Substrat!$A$3:$L$68,6,FALSE))-FIND(\"-\",VLOOKUP(A34,Substrat!$A$3:$L$68,6,FALSE),1))))/2/100)/0.3, I34),I34),\"\")","v":""},""]
[null,null,30,null,null,{"$f":"IF(A35<>\"\",VLOOKUP(A35,Substrat!$A$3:$D$68,2,FALSE),\"\")","v":""},null,null,null,null,null,{"$f":"IF(A35<>\"\", H35+I35-J35, \"\")","v":""},{"$f":"IF(A35<>\"\",IF($G$131=\"Nm3\",VLOOKUP(A35,Substrat!$A$3:$D$68,3,FALSE),VLOOKUP(A35,Substrat!$A$3:$D$68,3,FALSE)/$H$131),\"\")","v":""},{"$f":"IF(A35<>\"\",L35*M35/1000,\"\")","v":""},{"$f":"IF(A35<>\"\",$F$131/$N$36*N35,\"\")","v":""},{"$f":"IF(A35<>\"\",IF(F35=\"Gröda\",INDEX(Substrat!$B$101:$K$121,MATCH(B35,Region,0),MATCH(A35,Substrat!$B$100:$K$100,0)),VLOOKUP(A35,Substrat!$A$3:$D$68,4,FALSE)),\"\")","v":""},{"$f":"IF(A35<>\"\",IF(AND(NOT(K35>0), P35>0),  #N/A,  L35*K35*P35/1000/1000),\"\")","v":""},{"$f":"IF(A35<>\"\",VLOOKUP(A35,Substrat!$A$3:$H$68,8,FALSE),\"\")","v":""},{"$f":"IF(A35<>\"\", IF(R35=\"EB8\", IF(A35<>\"Fett från hushåll, restauranger och storkök\",  I35*((VALUE(LEFT(VLOOKUP(A35,Substrat!$A$3:$L$68,6,FALSE),FIND(\"-\",VLOOKUP(A35,Substrat!$A$3:$L$68,6,FALSE),1)-1))+VALUE(RIGHT(VLOOKUP(A35,Substrat!$A$3:$L$68,6,FALSE),LEN(VLOOKUP(A35,Substrat!$A$3:$L$68,6,FALSE))-FIND(\"-\",VLOOKUP(A35,Substrat!$A$3:$L$68,6,FALSE),1))))/2/100)/0.3, I35),I35),\"\")","v":""},{"$f":"IF(A35<>\"\", S35-I35, \"\")","v":""}]
["Summa till biogasproduktion",null,null,null,null,null,null,{"$f":"SUM(H6:H35)","v":0},{"$f":"SUM(I6:I35)","v":0},{"$f":"SUM(J6:J35)","v":0},null,{"$f":"SUM(L6:L35)","v":0},null,{"$f":"SUM(N6:N35)","v":0},{"$f":"SUM(O6:O35)","v":0},null,{"$f":"SUM(Q6:Q35)","v":0},null,{"$f":"SUM(S6:S35)","v":0},0]
[]
["Transporter av substrat till anläggning eller till lager på anläggning",null,null,null,null,null,null,"Växthusgasberäkning",null,"Noteringar",null,"Gasproduktion jämfört med teoretisk",null,null,{"$f":"O36/N36 - 1","v":{"$error":"#DIV/0!"}}]
["Substrat    OBS! Dubbelklicka i de gröna fälten för att få upp en lista med substrat","Parti nr","Mängd substrat, ton","Avstånd, km (MWh el)","Transportsätt","Bränsle","Returfrakt, ja/nej","Faktor, gCO2eq/tonkm (/ MWh)","Mängd CO2eq, ton","För egna noteringar länkar etc",null,"Gränsvärde för markering",null,null,0.2]
[null,null,null,null,null,null,null,{"$f":"IF(A40<>\"\", IF(E40=\"Rörledning\",Data!$B$49,  IF(OR(E40=\"Renh.-Stad\",E40=\"Renh.-Landsbygd\",E40=\"Slamsugning - fettavskiljare \"),\"\", IF(G40=\"Ja\", VLOOKUP(E40,Data!$A$134:$C$153,2,FALSE),  IF(G40=\"Nej\", (VLOOKUP(E40,Data!$A$134:$C$153,2,FALSE)+VLOOKUP(E40,Data!$A$134:$C$153,3,FALSE)), #N/A)) * VLOOKUP(F40,Data!$A$51:$C$72,3,FALSE))),\"\")","v":""},{"$f":"IF(E40=\"Rörledning\",D40*H40/1000/1000,IF(OR(E40=\"Renh.-Stad\",E40=\"Renh.-Landsbygd\",E40=\"Slamsugning - fettavskiljare \"),C40*VLOOKUP(E40,Data!$A$146:$E$148,4,FALSE)*VLOOKUP(F40,Data!$A$51:$E$72,3,FALSE)/1000000, IF(A40<>\"\", C40*D40*H40/1000/1000,\"\")))","v":""}]
[null,null,null,null,null,null,null,{"$f":"IF(A41<>\"\", IF(E41=\"Rörledning\",Data!$B$49,  IF(OR(E41=\"Renh.-Stad\",E41=\"Renh.-Landsbygd\",E41=\"Slamsugning - fettavskiljare \"),\"\", IF(G41=\"Ja\", VLOOKUP(E41,Data!$A$134:$C$153,2,FALSE),  IF(G41=\"Nej\", (VLOOKUP(E41,Data!$A$134:$C$153,2,FALSE)+VLOOKUP(E41,Data!$A$134:$C$153,3,FALSE)), #N/A)) * VLOOKUP(F41,Data!$A$51:$C$72,3,FALSE))),\"\")","v":""},{"$f":"IF(E41=\"Rörledning\",D41*H41/1000/1000,IF(OR(E41=\"Renh.-Stad\",E41=\"Renh.-Landsbygd\",E41=\"Slamsugning - fettavskiljare \"),C41*VLOOKUP(E41,Data!$A$146:$E$148,4,FALSE)*VLOOKUP(F41,Data!$A$51:$E$72,3,FALSE)/1000000, IF(A41<>\"\", C41*D41*H41/1000/1000,\"\")))","v":""}]
[null,null,null,null,null,null,null,{"$f":"IF(A42<>\"\", IF(E42=\"Rörledning\",Data!$B$49,  IF(OR(E42=\"Renh.-Stad\",E42=\"Renh.-Landsbygd\",E42=\"Slamsugning - fettavskiljare \"),\"\", IF(G42=\"Ja\", VLOOKUP(E42,Data!$A$134:$C$153,2,FALSE),  IF(G42=\"Nej\", (VLOOKUP(E42,Data!$A$134:$C$153,2,FALSE)+VLOOKUP(E42,Data!$A$134:$C$153,3,FALSE)), #N/A)) * VLOOKUP(F42,Data!$A$51:$C$72,3,FALSE))),\"\")","v":""},{"$f":"IF(E42=\"Rörledning\",D42*H42/1000/1000,IF(OR(E42=\"Renh.-Stad\",E42=\"Renh.-Landsbygd\",E42=\"Slamsugning - fettavskiljare \"),C42*VLOOKUP(E42,Data!$A$146:$E$148,4,FALSE)*VLOOKUP(F42,Data!$A$51:$E$72,3,FALSE)/1000000, IF(A42<>\"\", C42*D42*H42/1000/1000,\"\")))","v":""}]
[null,null,null,null,null,null,null,{"$f":"IF(A43<>\"\", IF(E43=\"Rörledning\",Data!$B$49,  IF(OR(E43=\"Renh.-Stad\",E43=\"Renh.-Landsbygd\",E43=\"Slamsugning - fettavskiljare \"),\"\", IF(G43=\"Ja\", VLOOKUP(E43,Data!$A$134:$C$153,2,FALSE),  IF(G43=\"Nej\", (VLOOKUP(E43,Data!$A$134:$C$153,2,FALSE)+VLOOKUP(E43,Data!$A$134:$C$153,3,FALSE)), #N/A)) * VLOOKUP(F43,Data!$A$51:$C$72,3,FALSE))),\"\")","v":""},{"$f":"IF(E43=\"Rörledning\",D43*H43/1000/1000,IF(OR(E43=\"Renh.-Stad\",E43=\"Renh.-Landsbygd\",E43=\"Slamsugning - fettavskiljare \"),C43*VLOOKUP(E43,Data!$A$146:$E$148,4,FALSE)*VLOOKUP(F43,Data!$A$51:$E$72,3,FALSE)/1000000, IF(A43<>\"\", C43*D43*H43/1000/1000,\"\")))","v":""}]
[null,null,null,null,null,null,null,{"$f":"IF(A44<>\"\", IF(E44=\"Rörledning\",Data!$B$49,  IF(OR(E44=\"Renh.-Stad\",E44=\"Renh.-Landsbygd\",E44=\"Slamsugning - fettavskiljare \"),\"\", IF(G44=\"Ja\", VLOOKUP(E44,Data!$A$134:$C$153,2,FALSE),  IF(G44=\"Nej\", (VLOOKUP(E44,Data!$A$134:$C$153,2,FALSE)+VLOOKUP(E44,Data!$A$134:$C$153,3,FALSE)), #N/A)) * VLOOKUP(F44,Data!$A$51:$C$72,3,FALSE))),\"\")","v":""},{"$f":"IF(E44=\"Rörledning\",D44*H44/1000/1000,IF(OR(E44=\"Renh.-Stad\",E44=\"Renh.-Landsbygd\",E44=\"Slamsugning - fettavskiljare \"),C44*VLOOKUP(E44,Data!$A$146:$E$148,4,FALSE)*VLOOKUP(F44,Data!$A$51:$E$72,3,FALSE)/1000000, IF(A44<>\"\", C44*D44*H44/1000/1000,\"\")))","v":""}]
[null,null,null,null,null,null,null,{"$f":"IF(A45<>\"\", IF(E45=\"Rörledning\",Data!$B$49,  IF(OR(E45=\"Renh.-Stad\",E45=\"Renh.-Landsbygd\",E45=\"Slamsugning - fettavskiljare \"),\"\", IF(G45=\"Ja\", VLOOKUP(E45,Data!$A$134:$C$153,2,FALSE),  IF(G45=\"Nej\", (VLOOKUP(E45,Data!$A$134:$C$153,2,FALSE)+VLOOKUP(E45,Data!$A$134:$C$153,3,FALSE)), #N/A)) * VLOOKUP(F45,Data!$A$51:$C$72,3,FALSE))),\"\")","v":""},{"$f":"IF(E45=\"Rörledning\",D45*H45/1000/1000,IF(OR(E45=\"Renh.-Stad\",E45=\"Renh.-Landsbygd\",E45=\"Slamsugning - fettavskiljare \"),C45*VLOOKUP(E45,Data!$A$146:$E$148,4,FALSE)*VLOOKUP(F45,Data!$A$51:$E$72,3,FALSE)/1000000, IF(A45<>\"\", C45*D45*H45/1000/1000,\"\")))","v":""}]
[null,null,null,null,null,null,null,{"$f":"IF(A46<>\"\", IF(E46=\"Rörledning\",Data!$B$49,  IF(OR(E46=\"Renh.-Stad\",E46=\"Renh.-Landsbygd\",E46=\"Slamsugning - fettavskiljare \"),\"\", IF(G46=\"Ja\", VLOOKUP(E46,Data!$A$134:$C$153,2,FALSE),  IF(G46=\"Nej\", (VLOOKUP(E46,Data!$A$134:$C$153,2,FALSE)+VLOOKUP(E46,Data!$A$134:$C$153,3,FALSE)), #N/A)) * VLOOKUP(F46,Data!$A$51:$C$72,3,FALSE))),\"\")","v":""},{"$f":"IF(E46=\"Rörledning\",D46*H46/1000/1000,IF(OR(E46=\"Renh.-Stad\",E46=\"Renh.-Landsbygd\",E46=\"Slamsugning - fettavskiljare \"),C46*VLOOKUP(E46,Data!$A$146:$E$148,4,FALSE)*VLOOKUP(F46,Data!$A$51:$E$72,3,FALSE)/1000000, IF(A46<>\"\", C46*D46*H46/1000/1000,\"\")))","v":""}]
[null,null,null,null,null,null,null,{"$f":"IF(A47<>\"\", IF(E47=\"Rörledning\",Data!$B$49,  IF(OR(E47=\"Renh.-Stad\",E47=\"Renh.-Landsbygd\",E47=\"Slamsugning - fettavskiljare \"),\"\", IF(G47=\"Ja\", VLOOKUP(E47,Data!$A$134:$C$153,2,FALSE),  IF(G47=\"Nej\", (VLOOKUP(E47,Data!$A$134:$C$153,2,FALSE)+VLOOKUP(E47,Data!$A$134:$C$153,3,FALSE)), #N/A)) * VLOOKUP(F47,Data!$A$51:$C$72,3,FALSE))),\"\")","v":""},{"$f":"IF(E47=\"Rörledning\",D47*H47/1000/1000,IF(OR(E47=\"Renh.-Stad\",E47=\"Renh.-Landsbygd\",E47=\"Slamsugning - fettavskiljare \"),C47*VLOOKUP(E47,Data!$A$146:$E$148,4,FALSE)*VLOOKUP(F47,Data!$A$51:$E$72,3,FALSE)/1000000, IF(A47<>\"\", C47*D47*H47/1000/1000,\"\")))","v":""}]
[null,null,null,null,null,null,null,{"$f":"IF(A48<>\"\", IF(E48=\"Rörledning\",Data!$B$49,  IF(OR(E48=\"Renh.-Stad\",E48=\"Renh.-Landsbygd\",E48=\"Slamsugning - fettavskiljare \"),\"\", IF(G48=\"Ja\", VLOOKUP(E48,Data!$A$134:$C$153,2,FALSE),  IF(G48=\"Nej\", (VLOOKUP(E48,Data!$A$134:$C$153,2,FALSE)+VLOOKUP(E48,Data!$A$134:$C$153,3,FALSE)), #N/A)) * VLOOKUP(F48,Data!$A$51:$C$72,3,FALSE))),\"\")","v":""},{"$f":"IF(E48=\"Rörledning\",D48*H48/1000/1000,IF(OR(E48=\"Renh.-Stad\",E48=\"Renh.-Landsbygd\",E48=\"Slamsugning - fettavskiljare \"),C48*VLOOKUP(E48,Data!$A$146:$E$148,4,FALSE)*VLOOKUP(F48,Data!$A$51:$E$72,3,FALSE)/1000000, IF(A48<>\"\", C48*D48*H48/1000/1000,\"\")))","v":""}]
[null,null,null,null,null,null,null,{"$f":"IF(A49<>\"\", IF(E49=\"Rörledning\",Data!$B$49,  IF(OR(E49=\"Renh.-Stad\",E49=\"Renh.-Landsbygd\",E49=\"Slamsugning - fettavskiljare \"),\"\", IF(G49=\"Ja\", VLOOKUP(E49,Data!$A$134:$C$153,2,FALSE),  IF(G49=\"Nej\", (VLOOKUP(E49,Data!$A$134:$C$153,2,FALSE)+VLOOKUP(E49,Data!$A$134:$C$153,3,FALSE)), #N/A)) * VLOOKUP(F49,Data!$A$51:$C$72,3,FALSE))),\"\")","v":""},{"$f":"IF(E49=\"Rörledning\",D49*H49/1000/1000,IF(OR(E49=\"Renh.-Stad\",E49=\"Renh.-Landsbygd\",E49=\"Slamsugning - fettavskiljare \"),C49*VLOOKUP(E49,Data!$A$146:$E$148,4,FALSE)*VLOOKUP(F49,Data!$A$51:$E$72,3,FALSE)/1000000, IF(A49<>\"\", C49*D49*H49/1000/1000,\"\")))","v":""}]
[null,null,null,null,null,null,null,{"$f":"IF(A50<>\"\", IF(E50=\"Rörledning\",Data!$B$49,  IF(OR(E50=\"Renh.-Stad\",E50=\"Renh.-Landsbygd\",E50=\"Slamsugning - fettavskiljare \"),\"\", IF(G50=\"Ja\", VLOOKUP(E50,Data!$A$134:$C$153,2,FALSE),  IF(G50=\"Nej\", (VLOOKUP(E50,Data!$A$134:$C$153,2,FALSE)+VLOOKUP(E50,Data!$A$134:$C$153,3,FALSE)), #N/A)) * VLOOKUP(F50,Data!$A$51:$C$72,3,FALSE))),\"\")","v":""},{"$f":"IF(E50=\"Rörledning\",D50*H50/1000/1000,IF(OR(E50=\"Renh.-Stad\",E50=\"Renh.-Landsbygd\",E50=\"Slamsugning - fettavskiljare \"),C50*VLOOKUP(E50,Data!$A$146:$E$148,4,FALSE)*VLOOKUP(F50,Data!$A$51:$E$72,3,FALSE)/1000000, IF(A50<>\"\", C50*D50*H50/1000/1000,\"\")))","v":""}]
[null,null,null,null,null,null,null,{"$f":"IF(A51<>\"\", IF(E51=\"Rörledning\",Data!$B$49,  IF(OR(E51=\"Renh.-Stad\",E51=\"Renh.-Landsbygd\",E51=\"Slamsugning - fettavskiljare \"),\"\", IF(G51=\"Ja\", VLOOKUP(E51,Data!$A$134:$C$153,2,FALSE),  IF(G51=\"Nej\", (VLOOKUP(E51,Data!$A$134:$C$153,2,FALSE)+VLOOKUP(E51,Data!$A$134:$C$153,3,FALSE)), #N/A)) * VLOOKUP(F51,Data!$A$51:$C$72,3,FALSE))),\"\")","v":""},{"$f":"IF(E51=\"Rörledning\",D51*H51/1000/1000,IF(OR(E51=\"Renh.-Stad\",E51=\"Renh.-Landsbygd\",E51=\"Slamsugning - fettavskiljare \"),C51*VLOOKUP(E51,Data!$A$146:$E$148,4,FALSE)*VLOOKUP(F51,Data!$A$51:$E$72,3,FALSE)/1000000, IF(A51<>\"\", C51*D51*H51/1000/1000,\"\")))","v":""}]
[null,null,null,null,null,null,null,{"$f":"IF(A52<>\"\", IF(E52=\"Rörledning\",Data!$B$49,  IF(OR(E52=\"Renh.-Stad\",E52=\"Renh.-Landsbygd\",E52=\"Slamsugning - fettavskiljare \"),\"\", IF(G52=\"Ja\", VLOOKUP(E52,Data!$A$134:$C$153,2,FALSE),  IF(G52=\"Nej\", (VLOOKUP(E52,Data!$A$134:$C$153,2,FALSE)+VLOOKUP(E52,Data!$A$134:$C$153,3,FALSE)), #N/A)) * VLOOKUP(F52,Data!$A$51:$C$72,3,FALSE))),\"\")","v":""},{"$f":"IF(E52=\"Rörledning\",D52*H52/1000/1000,IF(OR(E52=\"Renh.-Stad\",E52=\"Renh.-Landsbygd\",E52=\"Slamsugning - fettavskiljare \"),C52*VLOOKUP(E52,Data!$A$146:$E$148,4,FALSE)*VLOOKUP(F52,Data!$A$51:$E$72,3,FALSE)/1000000, IF(A52<>\"\", C52*D52*H52/1000/1000,\"\")))","v":""}]
[null,null,null,null,null,null,null,{"$f":"IF(A53<>\"\", IF(E53=\"Rörledning\",Data!$B$49,  IF(OR(E53=\"Renh.-Stad\",E53=\"Renh.-Landsbygd\",E53=\"Slamsugning - fettavskiljare \"),\"\", IF(G53=\"Ja\", VLOOKUP(E53,Data!$A$134:$C$153,2,FALSE),  IF(G53=\"Nej\", (VLOOKUP(E53,Data!$A$134:$C$153,2,FALSE)+VLOOKUP(E53,Data!$A$134:$C$153,3,FALSE)), #N/A)) * VLOOKUP(F53,Data!$A$51:$C$72,3,FALSE))),\"\")","v":""},{"$f":"IF(E53=\"Rörledning\",D53*H53/1000/1000,IF(OR(E53=\"Renh.-Stad\",E53=\"Renh.-Landsbygd\",E53=\"Slamsugning - fettavskiljare \"),C53*VLOOKUP(E53,Data!$A$146:$E$148,4,FALSE)*VLOOKUP(F53,Data!$A$51:$E$72,3,FALSE)/1000000, IF(A53<>\"\", C53*D53*H53/1000/1000,\"\")))","v":""}]
[null,null,null,null,null,null,null,{"$f":"IF(A54<>\"\", IF(E54=\"Rörledning\",Data!$B$49,  IF(OR(E54=\"Renh.-Stad\",E54=\"Renh.-Landsbygd\",E54=\"Slamsugning - fettavskiljare \"),\"\", IF(G54=\"Ja\", VLOOKUP(E54,Data!$A$134:$C$153,2,FALSE),  IF(G54=\"Nej\", (VLOOKUP(E54,Data!$A$134:$C$153,2,FALSE)+VLOOKUP(E54,Data!$A$134:$C$153,3,FALSE)), #N/A)) * VLOOKUP(F54,Data!$A$51:$C$72,3,FALSE))),\"\")","v":""},{"$f":"IF(E54=\"Rörledning\",D54*H54/1000/1000,IF(OR(E54=\"Renh.-Stad\",E54=\"Renh.-Landsbygd\",E54=\"Slamsugning - fettavskiljare \"),C54*VLOOKUP(E54,Data!$A$146:$E$148,4,FALSE)*VLOOKUP(F54,Data!$A$51:$E$72,3,FALSE)/1000000, IF(A54<>\"\", C54*D54*H54/1000/1000,\"\")))","v":""}]
[null,null,null,null,null,null,null,{"$f":"IF(A55<>\"\", IF(E55=\"Rörledning\",Data!$B$49,  IF(OR(E55=\"Renh.-Stad\",E55=\"Renh.-Landsbygd\",E55=\"Slamsugning - fettavskiljare \"),\"\", IF(G55=\"Ja\", VLOOKUP(E55,Data!$A$134:$C$153,2,FALSE),  IF(G55=\"Nej\", (VLOOKUP(E55,Data!$A$134:$C$153,2,FALSE)+VLOOKUP(E55,Data!$A$134:$C$153,3,FALSE)), #N/A)) * VLOOKUP(F55,Data!$A$51:$C$72,3,FALSE))),\"\")","v":""},{"$f":"IF(E55=\"Rörledning\",D55*H55/1000/1000,IF(OR(E55=\"Renh.-Stad\",E55=\"Renh.-Landsbygd\",E55=\"Slamsugning - fettavskiljare \"),C55*VLOOKUP(E55,Data!$A$146:$E$148,4,FALSE)*VLOOKUP(F55,Data!$A$51:$E$72,3,FALSE)/1000000, IF(A55<>\"\", C55*D55*H55/1000/1000,\"\")))","v":""}]
[null,null,null,null,null,null,null,{"$f":"IF(A56<>\"\", IF(E56=\"Rörledning\",Data!$B$49,  IF(OR(E56=\"Renh.-Stad\",E56=\"Renh.-Landsbygd\",E56=\"Slamsugning - fettavskiljare \"),\"\", IF(G56=\"Ja\", VLOOKUP(E56,Data!$A$134:$C$153,2,FALSE),  IF(G56=\"Nej\", (VLOOKUP(E56,Data!$A$134:$C$153,2,FALSE)+VLOOKUP(E56,Data!$A$134:$C$153,3,FALSE)), #N/A)) * VLOOKUP(F56,Data!$A$51:$C$72,3,FALSE))),\"\")","v":""},{"$f":"IF(E56=\"Rörledning\",D56*H56/1000/1000,IF(OR(E56=\"Renh.-Stad\",E56=\"Renh.-Landsbygd\",E56=\"Slamsugning - fettavskiljare \"),C56*VLOOKUP(E56,Data!$A$146:$E$148,4,FALSE)*VLOOKUP(F56,Data!$A$51:$E$72,3,FALSE)/1000000, IF(A56<>\"\", C56*D56*H56/1000/1000,\"\")))","v":""}]
[null,null,null,null,null,null,null,{"$f":"IF(A57<>\"\", IF(E57=\"Rörledning\",Data!$B$49,  IF(OR(E57=\"Renh.-Stad\",E57=\"Renh.-Landsbygd\",E57=\"Slamsugning - fettavskiljare \"),\"\", IF(G57=\"Ja\", VLOOKUP(E57,Data!$A$134:$C$153,2,FALSE),  IF(G57=\"Nej\", (VLOOKUP(E57,Data!$A$134:$C$153,2,FALSE)+VLOOKUP(E57,Data!$A$134:$C$153,3,FALSE)), #N/A)) * VLOOKUP(F57,Data!$A$51:$C$72,3,FALSE))),\"\")","v":""},{"$f":"IF(E57=\"Rörledning\",D57*H57/1000/1000,IF(OR(E57=\"Renh.-Stad\",E57=\"Renh.-Landsbygd\",E57=\"Slamsugning - fettavskiljare \"),C57*VLOOKUP(E57,Data!$A$146:$E$148,4,FALSE)*VLOOKUP(F57,Data!$A$51:$E$72,3,FALSE)/1000000, IF(A57<>\"\", C57*D57*H57/1000/1000,\"\")))","v":""}]
[null,null,null,null,null,null,null,{"$f":"IF(A58<>\"\", IF(E58=\"Rörledning\",Data!$B$49,  IF(OR(E58=\"Renh.-Stad\",E58=\"Renh.-Landsbygd\",E58=\"Slamsugning - fettavskiljare \"),\"\", IF(G58=\"Ja\", VLOOKUP(E58,Data!$A$134:$C$153,2,FALSE),  IF(G58=\"Nej\", (VLOOKUP(E58,Data!$A$134:$C$153,2,FALSE)+VLOOKUP(E58,Data!$A$134:$C$153,3,FALSE)), #N/A)) * VLOOKUP(F58,Data!$A$51:$C$72,3,FALSE))),\"\")","v":""},{"$f":"IF(E58=\"Rörledning\",D58*H58/1000/1000,IF(OR(E58=\"Renh.-Stad\",E58=\"Renh.-Landsbygd\",E58=\"Slamsugning - fettavskiljare \"),C58*VLOOKUP(E58,Data!$A$146:$E$148,4,FALSE)*VLOOKUP(F58,Data!$A$51:$E$72,3,FALSE)/1000000, IF(A58<>\"\", C58*D58*H58/1000/1000,\"\")))","v":""}]
[null,null,null,null,null,null,null,{"$f":"IF(A59<>\"\", IF(E59=\"Rörledning\",Data!$B$49,  IF(OR(E59=\"Renh.-Stad\",E59=\"Renh.-Landsbygd\",E59=\"Slamsugning - fettavskiljare \"),\"\", IF(G59=\"Ja\", VLOOKUP(E59,Data!$A$134:$C$153,2,FALSE),  IF(G59=\"Nej\", (VLOOKUP(E59,Data!$A$134:$C$153,2,FALSE)+VLOOKUP(E59,Data!$A$134:$C$153,3,FALSE)), #N/A)) * VLOOKUP(F59,Data!$A$51:$C$72,3,FALSE))),\"\")","v":""},{"$f":"IF(E59=\"Rörledning\",D59*H59/1000/1000,IF(OR(E59=\"Renh.-Stad\",E59=\"Renh.-Landsbygd\",E59=\"Slamsugning - fettavskiljare \"),C59*VLOOKUP(E59,Data!$A$146:$E$148,4,FALSE)*VLOOKUP(F59,Data!$A$51:$E$72,3,FALSE)/1000000, IF(A59<>\"\", C59*D59*H59/1000/1000,\"\")))","v":""}]
[null,null,null,null,null,null,null,{"$f":"IF(A60<>\"\", IF(E60=\"Rörledning\",Data!$B$49,  IF(OR(E60=\"Renh.-Stad\",E60=\"Renh.-Landsbygd\",E60=\"Slamsugning - fettavskiljare \"),\"\", IF(G60=\"Ja\", VLOOKUP(E60,Data!$A$134:$C$153,2,FALSE),  IF(G60=\"Nej\", (VLOOKUP(E60,Data!$A$134:$C$153,2,FALSE)+VLOOKUP(E60,Data!$A$134:$C$153,3,FALSE)), #N/A)) * VLOOKUP(F60,Data!$A$51:$C$72,3,FALSE))),\"\")","v":""},{"$f":"IF(E60=\"Rörledning\",D60*H60/1000/1000,IF(OR(E60=\"Renh.-Stad\",E60=\"Renh.-Landsbygd\",E60=\"Slamsugning - fettavskiljare \"),C60*VLOOKUP(E60,Data!$A$146:$E$148,4,FALSE)*VLOOKUP(F60,Data!$A$51:$E$72,3,FALSE)/1000000, IF(A60<>\"\", C60*D60*H60/1000/1000,\"\")))","v":""}]
[null,null,null,null,null,null,null,{"$f":"IF(A61<>\"\", IF(E61=\"Rörledning\",Data!$B$49,  IF(OR(E61=\"Renh.-Stad\",E61=\"Renh.-Landsbygd\",E61=\"Slamsugning - fettavskiljare \"),\"\", IF(G61=\"Ja\", VLOOKUP(E61,Data!$A$134:$C$153,2,FALSE),  IF(G61=\"Nej\", (VLOOKUP(E61,Data!$A$134:$C$153,2,FALSE)+VLOOKUP(E61,Data!$A$134:$C$153,3,FALSE)), #N/A)) * VLOOKUP(F61,Data!$A$51:$C$72,3,FALSE))),\"\")","v":""},{"$f":"IF(E61=\"Rörledning\",D61*H61/1000/1000,IF(OR(E61=\"Renh.-Stad\",E61=\"Renh.-Landsbygd\",E61=\"Slamsugning - fettavskiljare \"),C61*VLOOKUP(E61,Data!$A$146:$E$148,4,FALSE)*VLOOKUP(F61,Data!$A$51:$E$72,3,FALSE)/1000000, IF(A61<>\"\", C61*D61*H61/1000/1000,\"\")))","v":""}]
[null,null,null,null,null,null,null,{"$f":"IF(A62<>\"\", IF(E62=\"Rörledning\",Data!$B$49,  IF(OR(E62=\"Renh.-Stad\",E62=\"Renh.-Landsbygd\",E62=\"Slamsugning - fettavskiljare \"),\"\", IF(G62=\"Ja\", VLOOKUP(E62,Data!$A$134:$C$153,2,FALSE),  IF(G62=\"Nej\", (VLOOKUP(E62,Data!$A$134:$C$153,2,FALSE)+VLOOKUP(E62,Data!$A$134:$C$153,3,FALSE)), #N/A)) * VLOOKUP(F62,Data!$A$51:$C$72,3,FALSE))),\"\")","v":""},{"$f":"IF(E62=\"Rörledning\",D62*H62/1000/1000,IF(OR(E62=\"Renh.-Stad\",E62=\"Renh.-Landsbygd\",E62=\"Slamsugning - fettavskiljare \"),C62*VLOOKUP(E62,Data!$A$146:$E$148,4,FALSE)*VLOOKUP(F62,Data!$A$51:$E$72,3,FALSE)/1000000, IF(A62<>\"\", C62*D62*H62/1000/1000,\"\")))","v":""}]
[null,null,null,null,null,null,null,{"$f":"IF(A63<>\"\", IF(E63=\"Rörledning\",Data!$B$49,  IF(OR(E63=\"Renh.-Stad\",E63=\"Renh.-Landsbygd\",E63=\"Slamsugning - fettavskiljare \"),\"\", IF(G63=\"Ja\", VLOOKUP(E63,Data!$A$134:$C$153,2,FALSE),  IF(G63=\"Nej\", (VLOOKUP(E63,Data!$A$134:$C$153,2,FALSE)+VLOOKUP(E63,Data!$A$134:$C$153,3,FALSE)), #N/A)) * VLOOKUP(F63,Data!$A$51:$C$72,3,FALSE))),\"\")","v":""},{"$f":"IF(E63=\"Rörledning\",D63*H63/1000/1000,IF(OR(E63=\"Renh.-Stad\",E63=\"Renh.-Landsbygd\",E63=\"Slamsugning - fettavskiljare \"),C63*VLOOKUP(E63,Data!$A$146:$E$148,4,FALSE)*VLOOKUP(F63,Data!$A$51:$E$72,3,FALSE)/1000000, IF(A63<>\"\", C63*D63*H63/1000/1000,\"\")))","v":""}]
[null,null,null,null,null,null,null,{"$f":"IF(A64<>\"\", IF(E64=\"Rörledning\",Data!$B$49,  IF(OR(E64=\"Renh.-Stad\",E64=\"Renh.-Landsbygd\",E64=\"Slamsugning - fettavskiljare \"),\"\", IF(G64=\"Ja\", VLOOKUP(E64,Data!$A$134:$C$153,2,FALSE),  IF(G64=\"Nej\", (VLOOKUP(E64,Data!$A$134:$C$153,2,FALSE)+VLOOKUP(E64,Data!$A$134:$C$153,3,FALSE)), #N/A)) * VLOOKUP(F64,Data!$A$51:$C$72,3,FALSE))),\"\")","v":""},{"$f":"IF(E64=\"Rörledning\",D64*H64/1000/1000,IF(OR(E64=\"Renh.-Stad\",E64=\"Renh.-Landsbygd\",E64=\"Slamsugning - fettavskiljare \"),C64*VLOOKUP(E64,Data!$A$146:$E$148,4,FALSE)*VLOOKUP(F64,Data!$A$51:$E$72,3,FALSE)/1000000, IF(A64<>\"\", C64*D64*H64/1000/1000,\"\")))","v":""}]
[null,null,null,null,null,null,null,{"$f":"IF(A65<>\"\", IF(E65=\"Rörledning\",Data!$B$49,  IF(OR(E65=\"Renh.-Stad\",E65=\"Renh.-Landsbygd\",E65=\"Slamsugning - fettavskiljare \"),\"\", IF(G65=\"Ja\", VLOOKUP(E65,Data!$A$134:$C$153,2,FALSE),  IF(G65=\"Nej\", (VLOOKUP(E65,Data!$A$134:$C$153,2,FALSE)+VLOOKUP(E65,Data!$A$134:$C$153,3,FALSE)), #N/A)) * VLOOKUP(F65,Data!$A$51:$C$72,3,FALSE))),\"\")","v":""},{"$f":"IF(E65=\"Rörledning\",D65*H65/1000/1000,IF(OR(E65=\"Renh.-Stad\",E65=\"Renh.-Landsbygd\",E65=\"Slamsugning - fettavskiljare \"),C65*VLOOKUP(E65,Data!$A$146:$E$148,4,FALSE)*VLOOKUP(F65,Data!$A$51:$E$72,3,FALSE)/1000000, IF(A65<>\"\", C65*D65*H65/1000/1000,\"\")))","v":""}]
[null,null,null,null,null,null,null,{"$f":"IF(A66<>\"\", IF(E66=\"Rörledning\",Data!$B$49,  IF(OR(E66=\"Renh.-Stad\",E66=\"Renh.-Landsbygd\",E66=\"Slamsugning - fettavskiljare \"),\"\", IF(G66=\"Ja\", VLOOKUP(E66,Data!$A$134:$C$153,2,FALSE),  IF(G66=\"Nej\", (VLOOKUP(E66,Data!$A$134:$C$153,2,FALSE)+VLOOKUP(E66,Data!$A$134:$C$153,3,FALSE)), #N/A)) * VLOOKUP(F66,Data!$A$51:$C$72,3,FALSE))),\"\")","v":""},{"$f":"IF(E66=\"Rörledning\",D66*H66/1000/1000,IF(OR(E66=\"Renh.-Stad\",E66=\"Renh.-Landsbygd\",E66=\"Slamsugning - fettavskiljare \"),C66*VLOOKUP(E66,Data!$A$146:$E$148,4,FALSE)*VLOOKUP(F66,Data!$A$51:$E$72,3,FALSE)/1000000, IF(A66<>\"\", C66*D66*H66/1000/1000,\"\")))","v":""}]
[null,null,null,null,null,null,null,{"$f":"IF(A67<>\"\", IF(E67=\"Rörledning\",Data!$B$49,  IF(OR(E67=\"Renh.-Stad\",E67=\"Renh.-Landsbygd\",E67=\"Slamsugning - fettavskiljare \"),\"\", IF(G67=\"Ja\", VLOOKUP(E67,Data!$A$134:$C$153,2,FALSE),  IF(G67=\"Nej\", (VLOOKUP(E67,Data!$A$134:$C$153,2,FALSE)+VLOOKUP(E67,Data!$A$134:$C$153,3,FALSE)), #N/A)) * VLOOKUP(F67,Data!$A$51:$C$72,3,FALSE))),\"\")","v":""},{"$f":"IF(E67=\"Rörledning\",D67*H67/1000/1000,IF(OR(E67=\"Renh.-Stad\",E67=\"Renh.-Landsbygd\",E67=\"Slamsugning - fettavskiljare \"),C67*VLOOKUP(E67,Data!$A$146:$E$148,4,FALSE)*VLOOKUP(F67,Data!$A$51:$E$72,3,FALSE)/1000000, IF(A67<>\"\", C67*D67*H67/1000/1000,\"\")))","v":""}]
[null,null,null,null,null,null,null,{"$f":"IF(A68<>\"\", IF(E68=\"Rörledning\",Data!$B$49,  IF(OR(E68=\"Renh.-Stad\",E68=\"Renh.-Landsbygd\",E68=\"Slamsugning - fettavskiljare \"),\"\", IF(G68=\"Ja\", VLOOKUP(E68,Data!$A$134:$C$153,2,FALSE),  IF(G68=\"Nej\", (VLOOKUP(E68,Data!$A$134:$C$153,2,FALSE)+VLOOKUP(E68,Data!$A$134:$C$153,3,FALSE)), #N/A)) * VLOOKUP(F68,Data!$A$51:$C$72,3,FALSE))),\"\")","v":""},{"$f":"IF(E68=\"Rörledning\",D68*H68/1000/1000,IF(OR(E68=\"Renh.-Stad\",E68=\"Renh.-Landsbygd\",E68=\"Slamsugning - fettavskiljare \"),C68*VLOOKUP(E68,Data!$A$146:$E$148,4,FALSE)*VLOOKUP(F68,Data!$A$51:$E$72,3,FALSE)/1000000, IF(A68<>\"\", C68*D68*H68/1000/1000,\"\")))","v":""}]
[null,null,null,null,null,null,null,{"$f":"IF(A69<>\"\", IF(E69=\"Rörledning\",Data!$B$49,  IF(OR(E69=\"Renh.-Stad\",E69=\"Renh.-Landsbygd\",E69=\"Slamsugning - fettavskiljare \"),\"\", IF(G69=\"Ja\", VLOOKUP(E69,Data!$A$134:$C$153,2,FALSE),  IF(G69=\"Nej\", (VLOOKUP(E69,Data!$A$134:$C$153,2,FALSE)+VLOOKUP(E69,Data!$A$134:$C$153,3,FALSE)), #N/A)) * VLOOKUP(F69,Data!$A$51:$C$72,3,FALSE))),\"\")","v":""},{"$f":"IF(E69=\"Rörledning\",D69*H69/1000/1000,IF(OR(E69=\"Renh.-Stad\",E69=\"Renh.-Landsbygd\",E69=\"Slamsugning - fettavskiljare \"),C69*VLOOKUP(E69,Data!$A$146:$E$148,4,FALSE)*VLOOKUP(F69,Data!$A$51:$E$72,3,FALSE)/1000000, IF(A69<>\"\", C69*D69*H69/1000/1000,\"\")))","v":""}]
[null,null,null,null,null,null,null,{"$f":"IF(A70<>\"\", IF(E70=\"Rörledning\",Data!$B$49,  IF(OR(E70=\"Renh.-Stad\",E70=\"Renh.-Landsbygd\",E70=\"Slamsugning - fettavskiljare \"),\"\", IF(G70=\"Ja\", VLOOKUP(E70,Data!$A$134:$C$153,2,FALSE),  IF(G70=\"Nej\", (VLOOKUP(E70,Data!$A$134:$C$153,2,FALSE)+VLOOKUP(E70,Data!$A$134:$C$153,3,FALSE)), #N/A)) * VLOOKUP(F70,Data!$A$51:$C$72,3,FALSE))),\"\")","v":""},{"$f":"IF(E70=\"Rörledning\",D70*H70/1000/1000,IF(OR(E70=\"Renh.-Stad\",E70=\"Renh.-Landsbygd\",E70=\"Slamsugning - fettavskiljare \"),C70*VLOOKUP(E70,Data!$A$146:$E$148,4,FALSE)*VLOOKUP(F70,Data!$A$51:$E$72,3,FALSE)/1000000, IF(A70<>\"\", C70*D70*H70/1000/1000,\"\")))","v":""}]
[null,null,null,null,null,null,null,{"$f":"IF(A71<>\"\", IF(E71=\"Rörledning\",Data!$B$49,  IF(OR(E71=\"Renh.-Stad\",E71=\"Renh.-Landsbygd\",E71=\"Slamsugning - fettavskiljare \"),\"\", IF(G71=\"Ja\", VLOOKUP(E71,Data!$A$134:$C$153,2,FALSE),  IF(G71=\"Nej\", (VLOOKUP(E71,Data!$A$134:$C$153,2,FALSE)+VLOOKUP(E71,Data!$A$134:$C$153,3,FALSE)), #N/A)) * VLOOKUP(F71,Data!$A$51:$C$72,3,FALSE))),\"\")","v":""},{"$f":"IF(E71=\"Rörledning\",D71*H71/1000/1000,IF(OR(E71=\"Renh.-Stad\",E71=\"Renh.-Landsbygd\",E71=\"Slamsugning - fettavskiljare \"),C71*VLOOKUP(E71,Data!$A$146:$E$148,4,FALSE)*VLOOKUP(F71,Data!$A$51:$E$72,3,FALSE)/1000000, IF(A71<>\"\", C71*D71*H71/1000/1000,\"\")))","v":""}]
[null,null,null,null,null,null,null,{"$f":"IF(A72<>\"\", IF(E72=\"Rörledning\",Data!$B$49,  IF(OR(E72=\"Renh.-Stad\",E72=\"Renh.-Landsbygd\",E72=\"Slamsugning - fettavskiljare \"),\"\", IF(G72=\"Ja\", VLOOKUP(E72,Data!$A$134:$C$153,2,FALSE),  IF(G72=\"Nej\", (VLOOKUP(E72,Data!$A$134:$C$153,2,FALSE)+VLOOKUP(E72,Data!$A$134:$C$153,3,FALSE)), #N/A)) * VLOOKUP(F72,Data!$A$51:$C$72,3,FALSE))),\"\")","v":""},{"$f":"IF(E72=\"Rörledning\",D72*H72/1000/1000,IF(OR(E72=\"Renh.-Stad\",E72=\"Renh.-Landsbygd\",E72=\"Slamsugning - fettavskiljare \"),C72*VLOOKUP(E72,Data!$A$146:$E$148,4,FALSE)*VLOOKUP(F72,Data!$A$51:$E$72,3,FALSE)/1000000, IF(A72<>\"\", C72*D72*H72/1000/1000,\"\")))","v":""}]
[null,null,null,null,null,null,null,{"$f":"IF(A73<>\"\", IF(E73=\"Rörledning\",Data!$B$49,  IF(OR(E73=\"Renh.-Stad\",E73=\"Renh.-Landsbygd\",E73=\"Slamsugning - fettavskiljare \"),\"\", IF(G73=\"Ja\", VLOOKUP(E73,Data!$A$134:$C$153,2,FALSE),  IF(G73=\"Nej\", (VLOOKUP(E73,Data!$A$134:$C$153,2,FALSE)+VLOOKUP(E73,Data!$A$134:$C$153,3,FALSE)), #N/A)) * VLOOKUP(F73,Data!$A$51:$C$72,3,FALSE))),\"\")","v":""},{"$f":"IF(E73=\"Rörledning\",D73*H73/1000/1000,IF(OR(E73=\"Renh.-Stad\",E73=\"Renh.-Landsbygd\",E73=\"Slamsugning - fettavskiljare \"),C73*VLOOKUP(E73,Data!$A$146:$E$148,4,FALSE)*VLOOKUP(F73,Data!$A$51:$E$72,3,FALSE)/1000000, IF(A73<>\"\", C73*D73*H73/1000/1000,\"\")))","v":""}]
[null,null,null,null,null,null,null,{"$f":"IF(A74<>\"\", IF(E74=\"Rörledning\",Data!$B$49,  IF(OR(E74=\"Renh.-Stad\",E74=\"Renh.-Landsbygd\",E74=\"Slamsugning - fettavskiljare \"),\"\", IF(G74=\"Ja\", VLOOKUP(E74,Data!$A$134:$C$153,2,FALSE),  IF(G74=\"Nej\", (VLOOKUP(E74,Data!$A$134:$C$153,2,FALSE)+VLOOKUP(E74,Data!$A$134:$C$153,3,FALSE)), #N/A)) * VLOOKUP(F74,Data!$A$51:$C$72,3,FALSE))),\"\")","v":""},{"$f":"IF(E74=\"Rörledning\",D74*H74/1000/1000,IF(OR(E74=\"Renh.-Stad\",E74=\"Renh.-Landsbygd\",E74=\"Slamsugning - fettavskiljare \"),C74*VLOOKUP(E74,Data!$A$146:$E$148,4,FALSE)*VLOOKUP(F74,Data!$A$51:$E$72,3,FALSE)/1000000, IF(A74<>\"\", C74*D74*H74/1000/1000,\"\")))","v":""}]
[null,null,null,null,null,null,null,{"$f":"IF(A75<>\"\", IF(E75=\"Rörledning\",Data!$B$49,  IF(OR(E75=\"Renh.-Stad\",E75=\"Renh.-Landsbygd\",E75=\"Slamsugning - fettavskiljare \"),\"\", IF(G75=\"Ja\", VLOOKUP(E75,Data!$A$134:$C$153,2,FALSE),  IF(G75=\"Nej\", (VLOOKUP(E75,Data!$A$134:$C$153,2,FALSE)+VLOOKUP(E75,Data!$A$134:$C$153,3,FALSE)), #N/A)) * VLOOKUP(F75,Data!$A$51:$C$72,3,FALSE))),\"\")","v":""},{"$f":"IF(E75=\"Rörledning\",D75*H75/1000/1000,IF(OR(E75=\"Renh.-Stad\",E75=\"Renh.-Landsbygd\",E75=\"Slamsugning - fettavskiljare \"),C75*VLOOKUP(E75,Data!$A$146:$E$148,4,FALSE)*VLOOKUP(F75,Data!$A$51:$E$72,3,FALSE)/1000000, IF(A75<>\"\", C75*D75*H75/1000/1000,\"\")))","v":""}]
[null,null,null,null,null,null,null,{"$f":"IF(A76<>\"\", IF(E76=\"Rörledning\",Data!$B$49,  IF(OR(E76=\"Renh.-Stad\",E76=\"Renh.-Landsbygd\",E76=\"Slamsugning - fettavskiljare \"),\"\", IF(G76=\"Ja\", VLOOKUP(E76,Data!$A$134:$C$153,2,FALSE),  IF(G76=\"Nej\", (VLOOKUP(E76,Data!$A$134:$C$153,2,FALSE)+VLOOKUP(E76,Data!$A$134:$C$153,3,FALSE)), #N/A)) * VLOOKUP(F76,Data!$A$51:$C$72,3,FALSE))),\"\")","v":""},{"$f":"IF(E76=\"Rörledning\",D76*H76/1000/1000,IF(OR(E76=\"Renh.-Stad\",E76=\"Renh.-Landsbygd\",E76=\"Slamsugning - fettavskiljare \"),C76*VLOOKUP(E76,Data!$A$146:$E$148,4,FALSE)*VLOOKUP(F76,Data!$A$51:$E$72,3,FALSE)/1000000, IF(A76<>\"\", C76*D76*H76/1000/1000,\"\")))","v":""}]
[null,null,null,null,null,null,null,{"$f":"IF(A77<>\"\", IF(E77=\"Rörledning\",Data!$B$49,  IF(OR(E77=\"Renh.-Stad\",E77=\"Renh.-Landsbygd\",E77=\"Slamsugning - fettavskiljare \"),\"\", IF(G77=\"Ja\", VLOOKUP(E77,Data!$A$134:$C$153,2,FALSE),  IF(G77=\"Nej\", (VLOOKUP(E77,Data!$A$134:$C$153,2,FALSE)+VLOOKUP(E77,Data!$A$134:$C$153,3,FALSE)), #N/A)) * VLOOKUP(F77,Data!$A$51:$C$72,3,FALSE))),\"\")","v":""},{"$f":"IF(E77=\"Rörledning\",D77*H77/1000/1000,IF(OR(E77=\"Renh.-Stad\",E77=\"Renh.-Landsbygd\",E77=\"Slamsugning - fettavskiljare \"),C77*VLOOKUP(E77,Data!$A$146:$E$148,4,FALSE)*VLOOKUP(F77,Data!$A$51:$E$72,3,FALSE)/1000000, IF(A77<>\"\", C77*D77*H77/1000/1000,\"\")))","v":""}]
[null,null,null,null,null,null,null,{"$f":"IF(A78<>\"\", IF(E78=\"Rörledning\",Data!$B$49,  IF(OR(E78=\"Renh.-Stad\",E78=\"Renh.-Landsbygd\",E78=\"Slamsugning - fettavskiljare \"),\"\", IF(G78=\"Ja\", VLOOKUP(E78,Data!$A$134:$C$153,2,FALSE),  IF(G78=\"Nej\", (VLOOKUP(E78,Data!$A$134:$C$153,2,FALSE)+VLOOKUP(E78,Data!$A$134:$C$153,3,FALSE)), #N/A)) * VLOOKUP(F78,Data!$A$51:$C$72,3,FALSE))),\"\")","v":""},{"$f":"IF(E78=\"Rörledning\",D78*H78/1000/1000,IF(OR(E78=\"Renh.-Stad\",E78=\"Renh.-Landsbygd\",E78=\"Slamsugning - fettavskiljare \"),C78*VLOOKUP(E78,Data!$A$146:$E$148,4,FALSE)*VLOOKUP(F78,Data!$A$51:$E$72,3,FALSE)/1000000, IF(A78<>\"\", C78*D78*H78/1000/1000,\"\")))","v":""}]
[null,null,null,null,null,null,null,{"$f":"IF(A79<>\"\", IF(E79=\"Rörledning\",Data!$B$49,  IF(OR(E79=\"Renh.-Stad\",E79=\"Renh.-Landsbygd\",E79=\"Slamsugning - fettavskiljare \"),\"\", IF(G79=\"Ja\", VLOOKUP(E79,Data!$A$134:$C$153,2,FALSE),  IF(G79=\"Nej\", (VLOOKUP(E79,Data!$A$134:$C$153,2,FALSE)+VLOOKUP(E79,Data!$A$134:$C$153,3,FALSE)), #N/A)) * VLOOKUP(F79,Data!$A$51:$C$72,3,FALSE))),\"\")","v":""},{"$f":"IF(E79=\"Rörledning\",D79*H79/1000/1000,IF(OR(E79=\"Renh.-Stad\",E79=\"Renh.-Landsbygd\",E79=\"Slamsugning - fettavskiljare \"),C79*VLOOKUP(E79,Data!$A$146:$E$148,4,FALSE)*VLOOKUP(F79,Data!$A$51:$E$72,3,FALSE)/1000000, IF(A79<>\"\", C79*D79*H79/1000/1000,\"\")))","v":""}]
[null,null,null,null,null,null,null,{"$f":"IF(A80<>\"\", IF(E80=\"Rörledning\",Data!$B$49,  IF(OR(E80=\"Renh.-Stad\",E80=\"Renh.-Landsbygd\",E80=\"Slamsugning - fettavskiljare \"),\"\", IF(G80=\"Ja\", VLOOKUP(E80,Data!$A$134:$C$153,2,FALSE),  IF(G80=\"Nej\", (VLOOKUP(E80,Data!$A$134:$C$153,2,FALSE)+VLOOKUP(E80,Data!$A$134:$C$153,3,FALSE)), #N/A)) * VLOOKUP(F80,Data!$A$51:$C$72,3,FALSE))),\"\")","v":""},{"$f":"IF(E80=\"Rörledning\",D80*H80/1000/1000,IF(OR(E80=\"Renh.-Stad\",E80=\"Renh.-Landsbygd\",E80=\"Slamsugning - fettavskiljare \"),C80*VLOOKUP(E80,Data!$A$146:$E$148,4,FALSE)*VLOOKUP(F80,Data!$A$51:$E$72,3,FALSE)/1000000, IF(A80<>\"\", C80*D80*H80/1000/1000,\"\")))","v":""}]
[null,null,null,null,null,null,null,{"$f":"IF(A81<>\"\", IF(E81=\"Rörledning\",Data!$B$49,  IF(OR(E81=\"Renh.-Stad\",E81=\"Renh.-Landsbygd\",E81=\"Slamsugning - fettavskiljare \"),\"\", IF(G81=\"Ja\", VLOOKUP(E81,Data!$A$134:$C$153,2,FALSE),  IF(G81=\"Nej\", (VLOOKUP(E81,Data!$A$134:$C$153,2,FALSE)+VLOOKUP(E81,Data!$A$134:$C$153,3,FALSE)), #N/A)) * VLOOKUP(F81,Data!$A$51:$C$72,3,FALSE))),\"\")","v":""},{"$f":"IF(E81=\"Rörledning\",D81*H81/1000/1000,IF(OR(E81=\"Renh.-Stad\",E81=\"Renh.-Landsbygd\",E81=\"Slamsugning - fettavskiljare \"),C81*VLOOKUP(E81,Data!$A$146:$E$148,4,FALSE)*VLOOKUP(F81,Data!$A$51:$E$72,3,FALSE)/1000000, IF(A81<>\"\", C81*D81*H81/1000/1000,\"\")))","v":""}]
[null,null,null,null,null,null,null,{"$f":"IF(A82<>\"\", IF(E82=\"Rörledning\",Data!$B$49,  IF(OR(E82=\"Renh.-Stad\",E82=\"Renh.-Landsbygd\",E82=\"Slamsugning - fettavskiljare \"),\"\", IF(G82=\"Ja\", VLOOKUP(E82,Data!$A$134:$C$153,2,FALSE),  IF(G82=\"Nej\", (VLOOKUP(E82,Data!$A$134:$C$153,2,FALSE)+VLOOKUP(E82,Data!$A$134:$C$153,3,FALSE)), #N/A)) * VLOOKUP(F82,Data!$A$51:$C$72,3,FALSE))),\"\")","v":""},{"$f":"IF(E82=\"Rörledning\",D82*H82/1000/1000,IF(OR(E82=\"Renh.-Stad\",E82=\"Renh.-Landsbygd\",E82=\"Slamsugning - fettavskiljare \"),C82*VLOOKUP(E82,Data!$A$146:$E$148,4,FALSE)*VLOOKUP(F82,Data!$A$51:$E$72,3,FALSE)/1000000, IF(A82<>\"\", C82*D82*H82/1000/1000,\"\")))","v":""}]
[null,null,null,null,null,null,null,{"$f":"IF(A83<>\"\", IF(E83=\"Rörledning\",Data!$B$49,  IF(OR(E83=\"Renh.-Stad\",E83=\"Renh.-Landsbygd\",E83=\"Slamsugning - fettavskiljare \"),\"\", IF(G83=\"Ja\", VLOOKUP(E83,Data!$A$134:$C$153,2,FALSE),  IF(G83=\"Nej\", (VLOOKUP(E83,Data!$A$134:$C$153,2,FALSE)+VLOOKUP(E83,Data!$A$134:$C$153,3,FALSE)), #N/A)) * VLOOKUP(F83,Data!$A$51:$C$72,3,FALSE))),\"\")","v":""},{"$f":"IF(E83=\"Rörledning\",D83*H83/1000/1000,IF(OR(E83=\"Renh.-Stad\",E83=\"Renh.-Landsbygd\",E83=\"Slamsugning - fettavskiljare \"),C83*VLOOKUP(E83,Data!$A$146:$E$148,4,FALSE)*VLOOKUP(F83,Data!$A$51:$E$72,3,FALSE)/1000000, IF(A83<>\"\", C83*D83*H83/1000/1000,\"\")))","v":""}]
[null,null,null,null,null,null,null,{"$f":"IF(A84<>\"\", IF(E84=\"Rörledning\",Data!$B$49,  IF(OR(E84=\"Renh.-Stad\",E84=\"Renh.-Landsbygd\",E84=\"Slamsugning - fettavskiljare \"),\"\", IF(G84=\"Ja\", VLOOKUP(E84,Data!$A$134:$C$153,2,FALSE),  IF(G84=\"Nej\", (VLOOKUP(E84,Data!$A$134:$C$153,2,FALSE)+VLOOKUP(E84,Data!$A$134:$C$153,3,FALSE)), #N/A)) * VLOOKUP(F84,Data!$A$51:$C$72,3,FALSE))),\"\")","v":""},{"$f":"IF(E84=\"Rörledning\",D84*H84/1000/1000,IF(OR(E84=\"Renh.-Stad\",E84=\"Renh.-Landsbygd\",E84=\"Slamsugning - fettavskiljare \"),C84*VLOOKUP(E84,Data!$A$146:$E$148,4,FALSE)*VLOOKUP(F84,Data!$A$51:$E$72,3,FALSE)/1000000, IF(A84<>\"\", C84*D84*H84/1000/1000,\"\")))","v":""}]
[null,null,null,null,null,null,null,{"$f":"IF(A85<>\"\", IF(E85=\"Rörledning\",Data!$B$49,  IF(OR(E85=\"Renh.-Stad\",E85=\"Renh.-Landsbygd\",E85=\"Slamsugning - fettavskiljare \"),\"\", IF(G85=\"Ja\", VLOOKUP(E85,Data!$A$134:$C$153,2,FALSE),  IF(G85=\"Nej\", (VLOOKUP(E85,Data!$A$134:$C$153,2,FALSE)+VLOOKUP(E85,Data!$A$134:$C$153,3,FALSE)), #N/A)) * VLOOKUP(F85,Data!$A$51:$C$72,3,FALSE))),\"\")","v":""},{"$f":"IF(E85=\"Rörledning\",D85*H85/1000/1000,IF(OR(E85=\"Renh.-Stad\",E85=\"Renh.-Landsbygd\",E85=\"Slamsugning - fettavskiljare \"),C85*VLOOKUP(E85,Data!$A$146:$E$148,4,FALSE)*VLOOKUP(F85,Data!$A$51:$E$72,3,FALSE)/1000000, IF(A85<>\"\", C85*D85*H85/1000/1000,\"\")))","v":""}]
[null,null,null,null,null,null,null,{"$f":"IF(A86<>\"\", IF(E86=\"Rörledning\",Data!$B$49,  IF(OR(E86=\"Renh.-Stad\",E86=\"Renh.-Landsbygd\",E86=\"Slamsugning - fettavskiljare \"),\"\", IF(G86=\"Ja\", VLOOKUP(E86,Data!$A$134:$C$153,2,FALSE),  IF(G86=\"Nej\", (VLOOKUP(E86,Data!$A$134:$C$153,2,FALSE)+VLOOKUP(E86,Data!$A$134:$C$153,3,FALSE)), #N/A)) * VLOOKUP(F86,Data!$A$51:$C$72,3,FALSE))),\"\")","v":""},{"$f":"IF(E86=\"Rörledning\",D86*H86/1000/1000,IF(OR(E86=\"Renh.-Stad\",E86=\"Renh.-Landsbygd\",E86=\"Slamsugning - fettavskiljare \"),C86*VLOOKUP(E86,Data!$A$146:$E$148,4,FALSE)*VLOOKUP(F86,Data!$A$51:$E$72,3,FALSE)/1000000, IF(A86<>\"\", C86*D86*H86/1000/1000,\"\")))","v":""}]
[null,null,null,null,null,null,null,{"$f":"IF(A87<>\"\", IF(E87=\"Rörledning\",Data!$B$49,  IF(OR(E87=\"Renh.-Stad\",E87=\"Renh.-Landsbygd\",E87=\"Slamsugning - fettavskiljare \"),\"\", IF(G87=\"Ja\", VLOOKUP(E87,Data!$A$134:$C$153,2,FALSE),  IF(G87=\"Nej\", (VLOOKUP(E87,Data!$A$134:$C$153,2,FALSE)+VLOOKUP(E87,Data!$A$134:$C$153,3,FALSE)), #N/A)) * VLOOKUP(F87,Data!$A$51:$C$72,3,FALSE))),\"\")","v":""},{"$f":"IF(E87=\"Rörledning\",D87*H87/1000/1000,IF(OR(E87=\"Renh.-Stad\",E87=\"Renh.-Landsbygd\",E87=\"Slamsugning - fettavskiljare \"),C87*VLOOKUP(E87,Data!$A$146:$E$148,4,FALSE)*VLOOKUP(F87,Data!$A$51:$E$72,3,FALSE)/1000000, IF(A87<>\"\", C87*D87*H87/1000/1000,\"\")))","v":""}]
[null,null,null,null,null,null,null,{"$f":"IF(A88<>\"\", IF(E88=\"Rörledning\",Data!$B$49,  IF(OR(E88=\"Renh.-Stad\",E88=\"Renh.-Landsbygd\",E88=\"Slamsugning - fettavskiljare \"),\"\", IF(G88=\"Ja\", VLOOKUP(E88,Data!$A$134:$C$153,2,FALSE),  IF(G88=\"Nej\", (VLOOKUP(E88,Data!$A$134:$C$153,2,FALSE)+VLOOKUP(E88,Data!$A$134:$C$153,3,FALSE)), #N/A)) * VLOOKUP(F88,Data!$A$51:$C$72,3,FALSE))),\"\")","v":""},{"$f":"IF(E88=\"Rörledning\",D88*H88/1000/1000,IF(OR(E88=\"Renh.-Stad\",E88=\"Renh.-Landsbygd\",E88=\"Slamsugning - fettavskiljare \"),C88*VLOOKUP(E88,Data!$A$146:$E$148,4,FALSE)*VLOOKUP(F88,Data!$A$51:$E$72,3,FALSE)/1000000, IF(A88<>\"\", C88*D88*H88/1000/1000,\"\")))","v":""}]
[null,null,null,null,null,null,null,{"$f":"IF(A89<>\"\", IF(E89=\"Rörledning\",Data!$B$49,  IF(OR(E89=\"Renh.-Stad\",E89=\"Renh.-Landsbygd\",E89=\"Slamsugning - fettavskiljare \"),\"\", IF(G89=\"Ja\", VLOOKUP(E89,Data!$A$134:$C$153,2,FALSE),  IF(G89=\"Nej\", (VLOOKUP(E89,Data!$A$134:$C$153,2,FALSE)+VLOOKUP(E89,Data!$A$134:$C$153,3,FALSE)), #N/A)) * VLOOKUP(F89,Data!$A$51:$C$72,3,FALSE))),\"\")","v":""},{"$f":"IF(E89=\"Rörledning\",D89*H89/1000/1000,IF(OR(E89=\"Renh.-Stad\",E89=\"Renh.-Landsbygd\",E89=\"Slamsugning - fettavskiljare \"),C89*VLOOKUP(E89,Data!$A$146:$E$148,4,FALSE)*VLOOKUP(F89,Data!$A$51:$E$72,3,FALSE)/1000000, IF(A89<>\"\", C89*D89*H89/1000/1000,\"\")))","v":""}]
[null,null,null,null,null,null,null,{"$f":"IF(A90<>\"\", IF(E90=\"Rörledning\",Data!$B$49,  IF(OR(E90=\"Renh.-Stad\",E90=\"Renh.-Landsbygd\",E90=\"Slamsugning - fettavskiljare \"),\"\", IF(G90=\"Ja\", VLOOKUP(E90,Data!$A$134:$C$153,2,FALSE),  IF(G90=\"Nej\", (VLOOKUP(E90,Data!$A$134:$C$153,2,FALSE)+VLOOKUP(E90,Data!$A$134:$C$153,3,FALSE)), #N/A)) * VLOOKUP(F90,Data!$A$51:$C$72,3,FALSE))),\"\")","v":""},{"$f":"IF(E90=\"Rörledning\",D90*H90/1000/1000,IF(OR(E90=\"Renh.-Stad\",E90=\"Renh.-Landsbygd\",E90=\"Slamsugning - fettavskiljare \"),C90*VLOOKUP(E90,Data!$A$146:$E$148,4,FALSE)*VLOOKUP(F90,Data!$A$51:$E$72,3,FALSE)/1000000, IF(A90<>\"\", C90*D90*H90/1000/1000,\"\")))","v":""}]
["Summa transport",null,{"$f":"SUM(C40:C90)","v":0},null,null,null,null,null,{"$f":"SUM(I40:I90)","v":0}]
[]
[]
["Växthusgasutsläpp från biogasproduktion (process)",null,null,"Växthusgasberäkning",null,null,"Förbrukning",null,"Noteringar"]
[null,null,"Mängd","Faktor, gCO2eq / enhet","Mängd CO2eq, ton","Mängd g CO2eq/MJ","Förbrukning, kWh/ton substrat",{"$f":"\"Förbrukning kWh/Nm3 metan\"","v":"Förbrukning kWh/Nm3 metan"},"För egna noteringar länkar etc"]
["Elenergi"]
["Inköpt el, MWh",null,null,{"$f":"Data!$B$49","v":47000},{"$f":"C97*D97/1000/1000","v":0},{"$f":"IF(E97<>\"\",((E97*1000*1000/($F$134*1000*$F$128)) / Data!$B$6),\"\")","v":{"$error":"#DIV/0!"}},{"$f":"C97*1000/$I$36","v":{"$error":"#DIV/0!"}},{"$f":"IF($G$131=\"Nm3\",C97/(($F$131+$F$129)*$F$128),C97/(($F$131+$F$129)*$F$128/$H$131))","v":{"$error":"#DIV/0!"}}]
["El producerad internt i anläggningen med gasmotor/gasturbin",null,null,0,{"$f":"C98*D98/1000/1000","v":0},{"$f":"IF(E98<>\"\",((E98*1000*1000/($F$134*1000*$F$128)) / Data!$B$6),\"\")","v":{"$error":"#DIV/0!"}}]
["Summa el (fördelas på partier i sammanställningen nedan)",null,null,null,{"$f":"SUMIF(F97:F98,\">0,1\",E97:E98)","v":0}]
["Bränsle till arbetsmaskiner, flytande i liter, gas i kg"]
[null,null,null,{"$f":"IF(A101<>\"\",VLOOKUP(A101,Data!$A$51:$B$72,2,FALSE),\"\")","v":""},{"$f":"IF(A101<>\"\",C101*D101/1000/1000,\"\")","v":""},{"$f":"IF(E101<>\"\",((E101*1000*1000/($F$134*1000*$F$128)) / Data!$B$6),\"\")","v":""}]
["Summa bränsle till arbetsmaskiner (fördelas på partier i sammanställningen nedan)",null,null,null,{"$f":"SUMIF(F101,\">0,1\",E101)","v":0}]
["Värme (MWh):"]
[null,null,null,{"$f":"IF(A104<>\"\",VLOOKUP(A104,Data!$A$19:$B$47,2,FALSE),\"\")","v":""},{"$f":"IF(A104<>\"\",C104*D104/1000/1000,\"\")","v":""},{"$f":"IF(E104<>\"\",((E104*1000*1000/($F$134*1000*$F$128)) / Data!$B$6),\"\")","v":""},{"$f":"C104*1000/$I$36","v":{"$error":"#DIV/0!"}},{"$f":"IF($G$131=\"Nm3\",C104/(($F$131+$F$129)*$F$128),C104/(($F$131+$F$129)*$F$128/$H$131))","v":{"$error":"#DIV/0!"}}]
[null,null,null,{"$f":"IF(A105<>\"\",VLOOKUP(A105,Data!$A$19:$B$47,2,FALSE),\"\")","v":""},"",{"$f":"IF(E105<>\"\",((E105*1000*1000/($F$134*1000*$F$128)) / Data!$B$6),\"\")","v":""},{"$error":"#DIV/0!"},{"$error":"#DIV/0!"}]
[null,null,null,{"$f":"IF(A106<>\"\",VLOOKUP(A106,Data!$A$19:$B$47,2,FALSE),\"\")","v":""},"",{"$f":"IF(E106<>\"\",((E106*1000*1000/($F$134*1000*$F$128)) / Data!$B$6),\"\")","v":""},{"$error":"#DIV/0!"},{"$error":"#DIV/0!"}]
[null,null,null,{"$f":"IF(A107<>\"\",VLOOKUP(A107,Data!$A$19:$B$47,2,FALSE),\"\")","v":""},"",{"$f":"IF(E107<>\"\",((E107*1000*1000/($F$134*1000*$F$128)) / Data!$B$6),\"\")","v":""},{"$error":"#DIV/0!"},{"$error":"#DIV/0!"}]
[null,null,null,{"$f":"IF(A108<>\"\",VLOOKUP(A108,Data!$A$19:$B$47,2,FALSE),\"\")","v":""},"",{"$f":"IF(E108<>\"\",((E108*1000*1000/($F$134*1000*$F$128)) / Data!$B$6),\"\")","v":""},{"$error":"#DIV/0!"},{"$error":"#DIV/0!"}]
[null,null,null,{"$f":"IF(A109<>\"\",VLOOKUP(A109,Data!$A$19:$B$47,2,FALSE),\"\")","v":""},"",{"$f":"IF(E109<>\"\",((E109*1000*1000/($F$134*1000*$F$128)) / Data!$B$6),\"\")","v":""},{"$error":"#DIV/0!"},{"$error":"#DIV/0!"}]
["Summa värme (fördelas på partier i sammanställningen nedan)",null,null,null,{"$f":"SUMIF(F104:F109,\">0,1\",E104:E109)","v":0}]
["Insatsvaror:"]
[null,null,null,{"$f":"IF(A112<>\"\",VLOOKUP(A112,Data!$A$74:$B$115,2,FALSE),\"\")","v":""},{"$f":"IF(A112<>\"\",C112*D112/1000/1000,\"\")","v":""},{"$f":"IF(E112<>\"\",((E112*1000*1000/($F$134*1000*$F$128)) / Data!$B$6),\"\")","v":""}]
[null,null,null,{"$f":"IF(A113<>\"\",VLOOKUP(A113,Data!$A$74:$B$115,2,FALSE),\"\")","v":""},"",{"$f":"IF(E113<>\"\",((E113*1000*1000/($F$134*1000*$F$128)) / Data!$B$6),\"\")","v":""}]
[null,null,null,{"$f":"IF(A114<>\"\",VLOOKUP(A114,Data!$A$74:$B$115,2,FALSE),\"\")","v":""},"",{"$f":"IF(E114<>\"\",((E114*1000*1000/($F$134*1000*$F$128)) / Data!$B$6),\"\")","v":""}]
[null,null,null,{"$f":"IF(A115<>\"\",VLOOKUP(A115,Data!$A$74:$B$115,2,FALSE),\"\")","v":""},"",{"$f":"IF(E115<>\"\",((E115*1000*1000/($F$134*1000*$F$128)) / Data!$B$6),\"\")","v":""}]
[null,null,null,{"$f":"IF(A116<>\"\",VLOOKUP(A116,Data!$A$74:$B$115,2,FALSE),\"\")","v":""},"",{"$f":"IF(E116<>\"\",((E116*1000*1000/($F$134*1000*$F$128)) / Data!$B$6),\"\")","v":""}]
[null,null,null,{"$f":"IF(A117<>\"\",VLOOKUP(A117,Data!$A$74:$B$115,2,FALSE),\"\")","v":""},"",{"$f":"IF(E117<>\"\",((E117*1000*1000/($F$134*1000*$F$128)) / Data!$B$6),\"\")","v":""}]
["Metanförlust"]
["Defaultvärde biogasanlägningar, exklusive rötresthantering, %",{"$f":"IF(A119<>\"\",VLOOKUP(A119,Data!A118:B123,2,FALSE),\"\")","v":2.2000000000000001E-3},{"$f":"IF($G$131=\"Nm3\",$B$119*($F$131*$F$128+$C$123*3.6/Data!$B$6), $B$119*($F$131*$F$128/$H$131+$C$123*3.6/Data!$B$6))","v":0},{"$f":"Data!$B$3","v":23},{"$f":"C119*Data!$B$5*D119","v":0},{"$f":"IF(E119<>\"\",((E119*1000*1000/($F$134*1000*$F$128)) / Data!$B$6),\"\")","v":{"$error":"#DIV/0!"}}]
["Summa utsläpp från insatsvaror och metanförlust (före eventuella tillgodoräknanden)",null,null,null,{"$f":"SUMIF(F112:F119,\">0,1\",E112:E119)","v":0}]
[]
["Tillgodoräknande av överskottsel som producerats från biogas med gasmotor och som säljs till nätet",null,null,null,null,"Noteringar",null,null,null,null,"Tillgodoräknande av överskottsel från kraftvärmeproduktion, eee",null,null,null,null,null,"Noteringar"]
["El som sålt till elnätet, MWh",null,null,null,{"$f":"IF($G$131=\"Nm3\",\n($Q$36+$I$91+$E$99+$E$102+$E$110+$E$120)*($C$123*3.6*1000/($F$131*1000*$F$128*Data!$B$6+$C$123*3.6*1000)),\n($Q$36+$I$91+$E$99+$E$102+$E$110+$E$120)*($C$123*3.6*1000/($F$131*1000*$F$128*Data!$B$6/$H$131+$C$123*3.6*1000)))","v":{"$error":"#DIV/0!"}},null,null,null,null,null,"Tillgodoräknande enligt särskild utredning, gCO2eq/MJ"]
[]
["Utsläpp från insatsvaror och metanförlust efter eventuellt tillgodoräknanden (fördelas på partier i sammanställningen nedan)",null,null,null,{"$f":"E120-E123","v":{"$error":"#DIV/0!"}}]
[]
["Biogasproduktion och användning",null,null,null,null,null,null,null,"Noteringar",null,"Beräkning av effektivt värmevärde hos biogödseln och slam från avloppsrening",null,null,null,null,null,"Noteringar"]
["Producerad biogas, metanhalt, %  (volym-procent)",null,null,null,null,0.65,"Enhet","Densitet",null,null,"Effektivt värmevärde, torr vara, MJ/kg",null,null,null,null,17]
[{"$f":"IF($G$129=\"Nm3\",\"Fackling, tusental Nm3\",\"Fackling, tusental kg\")","v":"Fackling, tusental Nm3"},null,null,null,null,null,{"$f":"G131","v":"Nm3"},{"$f":"H131","v":1.1192920207977295},null,null,"Effektivt värmevärde, våt vara, MJ/kg ",null,null,null,null,{"$f":"P128*P131-(1-P131)*2.44","v":-2.44}]
[{"$f":"IF($G$130=\"Nm3\",\"Intern användning för uppvärmning eller för produktion av el och värme med gasmotor, tusental Nm3 \",\"Intern användning för uppvärmning eller för produktion av el och värme med gasmotor, tusental kg\")","v":"Intern användning för uppvärmning eller för produktion av el och värme med gasmotor, tusental Nm3 "},null,null,null,null,null,{"$f":"G131","v":"Nm3"},{"$f":"H131","v":1.1192920207977295},null,null,"Mängd biogödsel eller slam, ton"]
[{"$f":"IF($G$131=\"Nm3\",\"Biogasproduktion till uppgradering och extern användning, tusental Nm3 \",\"Biogasproduktion till uppgradering och extern användning, tusental kg\")","v":"Biogasproduktion till uppgradering och extern användning, tusental Nm3 "},null,null,null,null,null,"Nm3",{"$f":"Denscalc(F128)","v":1.1192920207977295},null,null,"Gödselns eller slammets torrsubstanshalt, %"]
[{"$f":"IF($G$131=\"Nm3\",\"Försäljning av rågas till extern industriell användning, tusental Nm3 \",\"Försäljning av rågas till extern industriell användning, tusental kg\")","v":"Försäljning av rågas till extern industriell användning, tusental Nm3 "},null,null,null,null,null,{"$f":"G131","v":"Nm3"},{"$f":"H131","v":1.1192920207977295}]
[{"$f":"IF($G$131=\"Nm3\",\"Försäljning av rågas till extern värmeproduktion, tusental Nm3 \",\"Försäljning av rågas till extern värmeproduktion, tusental kg\")","v":"Försäljning av rågas till extern värmeproduktion, tusental Nm3 "},null,null,null,null,null,{"$f":"G131","v":"Nm3"},{"$f":"H131","v":1.1192920207977295}]
[{"$f":"IF($G$131=\"Nm3\",\"Producerad biogas till uppgradering, tusental Nm3\",\"Producerad biogas till uppgradering, tusental kg\")","v":"Producerad biogas till uppgradering, tusental Nm3"},null,null,null,null,{"$f":"F131-F132-F133","v":0},{"$f":"G132","v":"Nm3"},{"$f":"H131","v":1.1192920207977295}]
[]
["Biogasproduktion, sammanställning","Substrat",null,null,null,null,null,"Växthusgasutsläpp",null,null,null,null,null,null,"Växthusgasutsläpp, allokering",null,"Mängd biogas"]
["Substrat","Parti nr","Kompl. Info","Ursprung","Substrat, typ","Normalvärde,\nNej=Faktisk beräkning","Mängd substrat till biogas-produktion, ton (våtvikt)","Från substrat, mängd CO2eq, ton","Från transporter av substrat, mängd CO2eq, ton","Från förbrukning av el, mängd CO2eq, ton","Från bränsle till arbetsmaskiner, mängd CO2eq, ton","Från förbrukning av värme, mängd CO2eq, ton","Från process övrigt, mängd CO2eq, ton","Summa växthusgasut-släpp, ton CO2eq","Biogödsel, g CO2eq/MJ","Biogas, g CO2eq/MJ",{"$f":"IF(G131=\"Nm3\", \"Gasproduktion per parti, Nm3 (tusental)\", \"Gasproduktion per parti, kg (tusental)\")","v":"Gasproduktion per parti, Nm3 (tusental)"},{"$f":"IF(G131=\"Nm3\", \"Annan användning än till fordonsbränsle, Nm3 (tusental) \", \"Annan användning än till fordonsbränsle, kg (tusental) \")","v":"Annan användning än till fordonsbränsle, Nm3 (tusental) "},{"$f":"IF(G131=\"Nm3\", \"Sålt till annan aktör (med skatteuppskov), Nm3 (tusental) \", \"Sålt till annan aktör (med skatteuppskov), kg (tusental) \")","v":"Sålt till annan aktör (med skatteuppskov), Nm3 (tusental) "},{"$f":"IF(G131=\"Nm3\", \"Mängd biogas till uppgradering, Nm3 (tusental) \", \"Mängd biogas till uppgradering, kg (tusental) \")","v":"Mängd biogas till uppgradering, Nm3 (tusental) "},"Enhet",null,"Växthusgasutsläpp, ej allokerat, g CO2eq/MJ"]
[{"$f":"IF(A6<>\"\",A6,\"\")","v":""},{"$f":"IF(C6<>\"\",C6,\"\")","v":1},"",{"$f":"IF(E6<>\"\",E6,\"\")","v":""},"",{"$f":"IF(A138<>\"\",IF(G6=\"Ja\",janej(A138),\"Nej\"),\"\")","v":""},{"$f":"IF(A138<>\"\",L6,\"\")","v":""},{"$f":"IF(A138<>\"\",Q6,\"\")","v":""},{"$f":"IF(A138<>\"\",IF(slam(A138),0, SUMIF($B$40:$B$90,B138,$I$40:$I$90)),\"\")","v":""},{"$f":"IF(A138<>\"\",IF(slam(A138),0, $E$99/$G$168*G138),\"\")","v":""},{"$f":"IF(A138<>\"\",IF(slam(A138),0, $E$102/$G$168*G138),\"\")","v":""},{"$f":"IF(A138<>\"\",IF(slam(A138),0, $E$110/$G$168*G138),\"\")","v":""},{"$f":"IF(A138<>\"\",IF(slam(A138),0, $E$125/$Q$168*Q138),\"\")","v":""},{"$f":"IF(A138<>\"\",SUM(H138:M138),\"\")","v":""},{"$f":"IF(AND($P$129>0,$F138=\"Nej\"), ((IF($G$131=\"Nm3\",  W138*((($P$130*1000/$G$168)*$G138*$P$129)/($Q138*1000*$F$128*Data!$B$6+(($P$130*1000/$G$168)*$G138*$P$129))),   (W138*((($P$130*1000/$G$168)*$G138*$P$129)/(($Q138*1000/$H$131)*$F$128*Data!$B$6+(($P$130*1000/$G$168)*$G138*$P$129)) ))))), 0)","v":0},{"$f":"IF(AND($P$129>0,F138=\"Nej\"),  IF($G$131=\"Nm3\",W138*(($Q138*1000*$F$128*Data!$B$6)/($Q138*1000*$F$128*Data!$B$6+(($P$130*1000/$G$168)*$G138*$P$129))),  (W138*(($Q138*1000/$H$131)*$F$128*Data!$B$6)/(($Q138*1000/$H$131)*$F$128*Data!$B$6+(($P$130*1000/$G$168)*$G138*$P$129)))),W138)","v":""},{"$f":"IF(A138<>\"\",O6,\"\")","v":""},{"$f":"IF(A138<>\"\",$F$132/$F$131*Q138+$F$133/$F$131*Q138,\"\")","v":""},null,{"$f":"IF(A138<>\"\",Q138-R138-S138,\"\")","v":""},{"$f":"IF(A138<>\"\",$G$131,\"\")","v":""},null,{"$f":"IF(A138<>\"\",IF(F138=\"Nej\", IF($G$131=\"Nm3\",(((N138*1000*1000)/(Q138*$F$128*1000)/Data!$B$6)-$P$123),(((N138*1000*1000)/(Q138/$H$131*$F$128*1000)/Data!$B$6)-$P$123)),F138),\"\")","v":""}]
["",{"$f":"IF(C7<>\"\",C7,\"\")","v":2},"","","",{"$f":"IF(A139<>\"\",IF(G7=\"Ja\",janej(A139),\"Nej\"),\"\")","v":""},{"$f":"IF(A139<>\"\",L7,\"\")","v":""},"",{"$f":"IF(A139<>\"\",IF(slam(A139),0, SUMIF($B$40:$B$90,B139,$I$40:$I$90)),\"\")","v":""},{"$f":"IF(A139<>\"\",IF(slam(A139),0, $E$99/$G$168*G139),\"\")","v":""},{"$f":"IF(A139<>\"\",IF(slam(A139),0, $E$102/$G$168*G139),\"\")","v":""},{"$f":"IF(A139<>\"\",IF(slam(A139),0, $E$110/$G$168*G139),\"\")","v":""},{"$f":"IF(A139<>\"\",IF(slam(A139),0, $E$125/$Q$168*Q139),\"\")","v":""},{"$f":"IF(A139<>\"\",SUM(H139:M139),\"\")","v":""},{"$f":"IF(AND($P$129>0,$F139=\"Nej\"), ((IF($G$131=\"Nm3\",  W139*((($P$130*1000/$G$168)*$G139*$P$129)/($Q139*1000*$F$128*Data!$B$6+(($P$130*1000/$G$168)*$G139*$P$129))),   (W139*((($P$130*1000/$G$168)*$G139*$P$129)/(($Q139*1000/$H$131)*$F$128*Data!$B$6+(($P$130*1000/$G$168)*$G139*$P$129)) ))))), 0)","v":0},{"$f":"IF(AND($P$129>0,F139=\"Nej\"),  IF($G$131=\"Nm3\",W139*(($Q139*1000*$F$128*Data!$B$6)/($Q139*1000*$F$128*Data!$B$6+(($P$130*1000/$G$168)*$G139*$P$129))),  (W139*(($Q139*1000/$H$131)*$F$128*Data!$B$6)/(($Q139*1000/$H$131)*$F$128*Data!$B$6+(($P$130*1000/$G$168)*$G139*$P$129)))),W139)","v":""},{"$f":"IF(A139<>\"\",O7,\"\")","v":""},"",null,{"$f":"IF(A139<>\"\",Q139-R139-S139,\"\")","v":""},{"$f":"IF(A139<>\"\",$G$131,\"\")","v":""},null,{"$f":"IF(A139<>\"\",IF(F139=\"Nej\", IF($G$131=\"Nm3\",(((N139*1000*1000)/(Q139*$F$128*1000)/Data!$B$6)-$P$123),(((N139*1000*1000)/(Q139/$H$131*$F$128*1000)/Data!$B$6)-$P$123)),F139),\"\")","v":""}]
["",3,"","","",{"$f":"IF(A140<>\"\",IF(G8=\"Ja\",janej(A140),\"Nej\"),\"\")","v":""},"","",{"$f":"IF(A140<>\"\",IF(slam(A140),0, SUMIF($B$40:$B$90,B140,$I$40:$I$90)),\"\")","v":""},{"$f":"IF(A140<>\"\",IF(slam(A140),0, $E$99/$G$168*G140),\"\")","v":""},{"$f":"IF(A140<>\"\",IF(slam(A140),0, $E$102/$G$168*G140),\"\")","v":""},{"$f":"IF(A140<>\"\",IF(slam(A140),0, $E$110/$G$168*G140),\"\")","v":""},{"$f":"IF(A140<>\"\",IF(slam(A140),0, $E$125/$Q$168*Q140),\"\")","v":""},"",{"$f":"IF(AND($P$129>0,$F140=\"Nej\"), ((IF($G$131=\"Nm3\",  W140*((($P$130*1000/$G$168)*$G140*$P$129)/($Q140*1000*$F$128*Data!$B$6+(($P$130*1000/$G$168)*$G140*$P$129))),   (W140*((($P$130*1000/$G$168)*$G140*$P$129)/(($Q140*1000/$H$131)*$F$128*Data!$B$6+(($P$130*1000/$G$168)*$G140*$P$129)) ))))), 0)","v":0},{"$f":"IF(AND($P$129>0,F140=\"Nej\"),  IF($G$131=\"Nm3\",W140*(($Q140*1000*$F$128*Data!$B$6)/($Q140*1000*$F$128*Data!$B$6+(($P$130*1000/$G$168)*$G140*$P$129))),  (W140*(($Q140*1000/$H$131)*$F$128*Data!$B$6)/(($Q140*1000/$H$131)*$F$128*Data!$B$6+(($P$130*1000/$G$168)*$G140*$P$129)))),W140)","v":""},"","",null,"","",null,{"$f":"IF(A140<>\"\",IF(F140=\"Nej\", IF($G$131=\"Nm3\",(((N140*1000*1000)/(Q140*$F$128*1000)/Data!$B$6)-$P$123),(((N140*1000*1000)/(Q140/$H$131*$F$128*1000)/Data!$B$6)-$P$123)),F140),\"\")","v":""}]
["",4,"","","",{"$f":"IF(A141<>\"\",IF(G9=\"Ja\",janej(A141),\"Nej\"),\"\")","v":""},"","",{"$f":"IF(A141<>\"\",IF(slam(A141),0, SUMIF($B$40:$B$90,B141,$I$40:$I$90)),\"\")","v":""},{"$f":"IF(A141<>\"\",IF(slam(A141),0, $E$99/$G$168*G141),\"\")","v":""},{"$f":"IF(A141<>\"\",IF(slam(A141),0, $E$102/$G$168*G141),\"\")","v":""},{"$f":"IF(A141<>\"\",IF(slam(A141),0, $E$110/$G$168*G141),\"\")","v":""},{"$f":"IF(A141<>\"\",IF(slam(A141),0, $E$125/$Q$168*Q141),\"\")","v":""},"",{"$f":"IF(AND($P$129>0,$F141=\"Nej\"), ((IF($G$131=\"Nm3\",  W141*((($P$130*1000/$G$168)*$G141*$P$129)/($Q141*1000*$F$128*Data!$B$6+(($P$130*1000/$G$168)*$G141*$P$129))),   (W141*((($P$130*1000/$G$168)*$G141*$P$129)/(($Q141*1000/$H$131)*$F$128*Data!$B$6+(($P$130*1000/$G$168)*$G141*$P$129)) ))))), 0)","v":0},{"$f":"IF(AND($P$129>0,F141=\"Nej\"),  IF($G$131=\"Nm3\",W141*(($Q141*1000*$F$128*Data!$B$6)/($Q141*1000*$F$128*Data!$B$6+(($P$130*1000/$G$168)*$G141*$P$129))),  (W141*(($Q141*1000/$H$131)*$F$128*Data!$B$6)/(($Q141*1000/$H$131)*$F$128*Data!$B$6+(($P$130*1000/$G$168)*$G141*$P$129)))),W141)","v":""},"","",null,"","",null,{"$f":"IF(A141<>\"\",IF(F141=\"Nej\", IF($G$131=\"Nm3\",(((N141*1000*1000)/(Q141*$F$128*1000)/Data!$B$6)-$P$123),(((N141*1000*1000)/(Q141/$H$131*$F$128*1000)/Data!$B$6)-$P$123)),F141),\"\")","v":""}]
["",5,"","","",{"$f":"IF(A142<>\"\",IF(G10=\"Ja\",janej(A142),\"Nej\"),\"\")","v":""},"","",{"$f":"IF(A142<>\"\",IF(slam(A142),0, SUMIF($B$40:$B$90,B142,$I$40:$I$90)),\"\")","v":""},{"$f":"IF(A142<>\"\",IF(slam(A142),0, $E$99/$G$168*G142),\"\")","v":""},{"$f":"IF(A142<>\"\",IF(slam(A142),0, $E$102/$G$168*G142),\"\")","v":""},{"$f":"IF(A142<>\"\",IF(slam(A142),0, $E$110/$G$168*G142),\"\")","v":""},{"$f":"IF(A142<>\"\",IF(slam(A142),0, $E$125/$Q$168*Q142),\"\")","v":""},"",{"$f":"IF(AND($P$129>0,$F142=\"Nej\"), ((IF($G$131=\"Nm3\",  W142*((($P$130*1000/$G$168)*$G142*$P$129)/($Q142*1000*$F$128*Data!$B$6+(($P$130*1000/$G$168)*$G142*$P$129))),   (W142*((($P$130*1000/$G$168)*$G142*$P$129)/(($Q142*1000/$H$131)*$F$128*Data!$B$6+(($P$130*1000/$G$168)*$G142*$P$129)) ))))), 0)","v":0},{"$f":"IF(AND($P$129>0,F142=\"Nej\"),  IF($G$131=\"Nm3\",W142*(($Q142*1000*$F$128*Data!$B$6)/($Q142*1000*$F$128*Data!$B$6+(($P$130*1000/$G$168)*$G142*$P$129))),  (W142*(($Q142*1000/$H$131)*$F$128*Data!$B$6)/(($Q142*1000/$H$131)*$F$128*Data!$B$6+(($P$130*1000/$G$168)*$G142*$P$129)))),W142)","v":""},"","",null,"","",null,{"$f":"IF(A142<>\"\",IF(F142=\"Nej\", IF($G$131=\"Nm3\",(((N142*1000*1000)/(Q142*$F$128*1000)/Data!$B$6)-$P$123),(((N142*1000*1000)/(Q142/$H$131*$F$128*1000)/Data!$B$6)-$P$123)),F142),\"\")","v":""}]
["",6,"","","",{"$f":"IF(A143<>\"\",IF(G11=\"Ja\",janej(A143),\"Nej\"),\"\")","v":""},"","",{"$f":"IF(A143<>\"\",IF(slam(A143),0, SUMIF($B$40:$B$90,B143,$I$40:$I$90)),\"\")","v":""},{"$f":"IF(A143<>\"\",IF(slam(A143),0, $E$99/$G$168*G143),\"\")","v":""},{"$f":"IF(A143<>\"\",IF(slam(A143),0, $E$102/$G$168*G143),\"\")","v":""},{"$f":"IF(A143<>\"\",IF(slam(A143),0, $E$110/$G$168*G143),\"\")","v":""},{"$f":"IF(A143<>\"\",IF(slam(A143),0, $E$125/$Q$168*Q143),\"\")","v":""},"",{"$f":"IF(AND($P$129>0,$F143=\"Nej\"), ((IF($G$131=\"Nm3\",  W143*((($P$130*1000/$G$168)*$G143*$P$129)/($Q143*1000*$F$128*Data!$B$6+(($P$130*1000/$G$168)*$G143*$P$129))),   (W143*((($P$130*1000/$G$168)*$G143*$P$129)/(($Q143*1000/$H$131)*$F$128*Data!$B$6+(($P$130*1000/$G$168)*$G143*$P$129)) ))))), 0)","v":0},{"$f":"IF(AND($P$129>0,F143=\"Nej\"),  IF($G$131=\"Nm3\",W143*(($Q143*1000*$F$128*Data!$B$6)/($Q143*1000*$F$128*Data!$B$6+(($P$130*1000/$G$168)*$G143*$P$129))),  (W143*(($Q143*1000/$H$131)*$F$128*Data!$B$6)/(($Q143*1000/$H$131)*$F$128*Data!$B$6+(($P$130*1000/$G$168)*$G143*$P$129)))),W143)","v":""},"","",null,"","",null,{"$f":"IF(A143<>\"\",IF(F143=\"Nej\", IF($G$131=\"Nm3\",(((N143*1000*1000)/(Q143*$F$128*1000)/Data!$B$6)-$P$123),(((N143*1000*1000)/(Q143/$H$131*$F$128*1000)/Data!$B$6)-$P$123)),F143),\"\")","v":""}]
["",7,"","","",{"$f":"IF(A144<>\"\",IF(G12=\"Ja\",janej(A144),\"Nej\"),\"\")","v":""},"","",{"$f":"IF(A144<>\"\",IF(slam(A144),0, SUMIF($B$40:$B$90,B144,$I$40:$I$90)),\"\")","v":""},{"$f":"IF(A144<>\"\",IF(slam(A144),0, $E$99/$G$168*G144),\"\")","v":""},{"$f":"IF(A144<>\"\",IF(slam(A144),0, $E$102/$G$168*G144),\"\")","v":""},{"$f":"IF(A144<>\"\",IF(slam(A144),0, $E$110/$G$168*G144),\"\")","v":""},{"$f":"IF(A144<>\"\",IF(slam(A144),0, $E$125/$Q$168*Q144),\"\")","v":""},"",{"$f":"IF(AND($P$129>0,$F144=\"Nej\"), ((IF($G$131=\"Nm3\",  W144*((($P$130*1000/$G$168)*$G144*$P$129)/($Q144*1000*$F$128*Data!$B$6+(($P$130*1000/$G$168)*$G144*$P$129))),   (W144*((($P$130*1000/$G$168)*$G144*$P$129)/(($Q144*1000/$H$131)*$F$128*Data!$B$6+(($P$130*1000/$G$168)*$G144*$P$129)) ))))), 0)","v":0},{"$f":"IF(AND($P$129>0,F144=\"Nej\"),  IF($G$131=\"Nm3\",W144*(($Q144*1000*$F$128*Data!$B$6)/($Q144*1000*$F$128*Data!$B$6+(($P$130*1000/$G$168)*$G144*$P$129))),  (W144*(($Q144*1000/$H$131)*$F$128*Data!$B$6)/(($Q144*1000/$H$131)*$F$128*Data!$B$6+(($P$130*1000/$G$168)*$G144*$P$129)))),W144)","v":""},"","",null,"","",null,{"$f":"IF(A144<>\"\",IF(F144=\"Nej\", IF($G$131=\"Nm3\",(((N144*1000*1000)/(Q144*$F$128*1000)/Data!$B$6)-$P$123),(((N144*1000*1000)/(Q144/$H$131*$F$128*1000)/Data!$B$6)-$P$123)),F144),\"\")","v":""}]
["",8,"","","",{"$f":"IF(A145<>\"\",IF(G13=\"Ja\",janej(A145),\"Nej\"),\"\")","v":""},"","",{"$f":"IF(A145<>\"\",IF(slam(A145),0, SUMIF($B$40:$B$90,B145,$I$40:$I$90)),\"\")","v":""},{"$f":"IF(A145<>\"\",IF(slam(A145),0, $E$99/$G$168*G145),\"\")","v":""},{"$f":"IF(A145<>\"\",IF(slam(A145),0, $E$102/$G$168*G145),\"\")","v":""},{"$f":"IF(A145<>\"\",IF(slam(A145),0, $E$110/$G$168*G145),\"\")","v":""},{"$f":"IF(A145<>\"\",IF(slam(A145),0, $E$125/$Q$168*Q145),\"\")","v":""},"",{"$f":"IF(AND($P$129>0,$F145=\"Nej\"), ((IF($G$131=\"Nm3\",  W145*((($P$130*1000/$G$168)*$G145*$P$129)/($Q145*1000*$F$128*Data!$B$6+(($P$130*1000/$G$168)*$G145*$P$129))),   (W145*((($P$130*1000/$G$168)*$G145*$P$129)/(($Q145*1000/$H$131)*$F$128*Data!$B$6+(($P$130*1000/$G$168)*$G145*$P$129)) ))))), 0)","v":0},{"$f":"IF(AND($P$129>0,F145=\"Nej\"),  IF($G$131=\"Nm3\",W145*(($Q145*1000*$F$128*Data!$B$6)/($Q145*1000*$F$128*Data!$B$6+(($P$130*1000/$G$168)*$G145*$P$129))),  (W145*(($Q145*1000/$H$131)*$F$128*Data!$B$6)/(($Q145*1000/$H$131)*$F$128*Data!$B$6+(($P$130*1000/$G$168)*$G145*$P$129)))),W145)","v":""},"","",null,"","",null,{"$f":"IF(A145<>\"\",IF(F145=\"Nej\", IF($G$131=\"Nm3\",(((N145*1000*1000)/(Q145*$F$128*1000)/Data!$B$6)-$P$123),(((N145*1000*1000)/(Q145/$H$131*$F$128*1000)/Data!$B$6)-$P$123)),F145),\"\")","v":""}]
["",9,"","","",{"$f":"IF(A146<>\"\",IF(G14=\"Ja\",janej(A146),\"Nej\"),\"\")","v":""},"","",{"$f":"IF(A146<>\"\",IF(slam(A146),0, SUMIF($B$40:$B$90,B146,$I$40:$I$90)),\"\")","v":""},{"$f":"IF(A146<>\"\",IF(slam(A146),0, $E$99/$G$168*G146),\"\")","v":""},{"$f":"IF(A146<>\"\",IF(slam(A146),0, $E$102/$G$168*G146),\"\")","v":""},{"$f":"IF(A146<>\"\",IF(slam(A146),0, $E$110/$G$168*G146),\"\")","v":""},{"$f":"IF(A146<>\"\",IF(slam(A146),0, $E$125/$Q$168*Q146),\"\")","v":""},"",{"$f":"IF(AND($P$129>0,$F146=\"Nej\"), ((IF($G$131=\"Nm3\",  W146*((($P$130*1000/$G$168)*$G146*$P$129)/($Q146*1000*$F$128*Data!$B$6+(($P$130*1000/$G$168)*$G146*$P$129))),   (W146*((($P$130*1000/$G$168)*$G146*$P$129)/(($Q146*1000/$H$131)*$F$128*Data!$B$6+(($P$130*1000/$G$168)*$G146*$P$129)) ))))), 0)","v":0},{"$f":"IF(AND($P$129>0,F146=\"Nej\"),  IF($G$131=\"Nm3\",W146*(($Q146*1000*$F$128*Data!$B$6)/($Q146*1000*$F$128*Data!$B$6+(($P$130*1000/$G$168)*$G146*$P$129))),  (W146*(($Q146*1000/$H$131)*$F$128*Data!$B$6)/(($Q146*1000/$H$131)*$F$128*Data!$B$6+(($P$130*1000/$G$168)*$G146*$P$129)))),W146)","v":""},"","",null,"","",null,{"$f":"IF(A146<>\"\",IF(F146=\"Nej\", IF($G$131=\"Nm3\",(((N146*1000*1000)/(Q146*$F$128*1000)/Data!$B$6)-$P$123),(((N146*1000*1000)/(Q146/$H$131*$F$128*1000)/Data!$B$6)-$P$123)),F146),\"\")","v":""}]
["",10,"","","",{"$f":"IF(A147<>\"\",IF(G15=\"Ja\",janej(A147),\"Nej\"),\"\")","v":""},"","",{"$f":"IF(A147<>\"\",IF(slam(A147),0, SUMIF($B$40:$B$90,B147,$I$40:$I$90)),\"\")","v":""},{"$f":"IF(A147<>\"\",IF(slam(A147),0, $E$99/$G$168*G147),\"\")","v":""},{"$f":"IF(A147<>\"\",IF(slam(A147),0, $E$102/$G$168*G147),\"\")","v":""},{"$f":"IF(A147<>\"\",IF(slam(A147),0, $E$110/$G$168*G147),\"\")","v":""},{"$f":"IF(A147<>\"\",IF(slam(A147),0, $E$125/$Q$168*Q147),\"\")","v":""},"",{"$f":"IF(AND($P$129>0,$F147=\"Nej\"), ((IF($G$131=\"Nm3\",  W147*((($P$130*1000/$G$168)*$G147*$P$129)/($Q147*1000*$F$128*Data!$B$6+(($P$130*1000/$G$168)*$G147*$P$129))),   (W147*((($P$130*1000/$G$168)*$G147*$P$129)/(($Q147*1000/$H$131)*$F$128*Data!$B$6+(($P$130*1000/$G$168)*$G147*$P$129)) ))))), 0)","v":0},{"$f":"IF(AND($P$129>0,F147=\"Nej\"),  IF($G$131=\"Nm3\",W147*(($Q147*1000*$F$128*Data!$B$6)/($Q147*1000*$F$128*Data!$B$6+(($P$130*1000/$G$168)*$G147*$P$129))),  (W147*(($Q147*1000/$H$131)*$F$128*Data!$B$6)/(($Q147*1000/$H$131)*$F$128*Data!$B$6+(($P$130*1000/$G$168)*$G147*$P$129)))),W147)","v":""},"","",null,"","",null,{"$f":"IF(A147<>\"\",IF(F147=\"Nej\", IF($G$131=\"Nm3\",(((N147*1000*1000)/(Q147*$F$128*1000)/Data!$B$6)-$P$123),(((N147*1000*1000)/(Q147/$H$131*$F$128*1000)/Data!$B$6)-$P$123)),F147),\"\")","v":""}]
["",11,"","","",{"$f":"IF(A148<>\"\",IF(G16=\"Ja\",janej(A148),\"Nej\"),\"\")","v":""},"","",{"$f":"IF(A148<>\"\",IF(slam(A148),0, SUMIF($B$40:$B$90,B148,$I$40:$I$90)),\"\")","v":""},{"$f":"IF(A148<>\"\",IF(slam(A148),0, $E$99/$G$168*G148),\"\")","v":""},{"$f":"IF(A148<>\"\",IF(slam(A148),0, $E$102/$G$168*G148),\"\")","v":""},{"$f":"IF(A148<>\"\",IF(slam(A148),0, $E$110/$G$168*G148),\"\")","v":""},{"$f":"IF(A148<>\"\",IF(slam(A148),0, $E$125/$Q$168*Q148),\"\")","v":""},"",{"$f":"IF(AND($P$129>0,$F148=\"Nej\"), ((IF($G$131=\"Nm3\",  W148*((($P$130*1000/$G$168)*$G148*$P$129)/($Q148*1000*$F$128*Data!$B$6+(($P$130*1000/$G$168)*$G148*$P$129))),   (W148*((($P$130*1000/$G$168)*$G148*$P$129)/(($Q148*1000/$H$131)*$F$128*Data!$B$6+(($P$130*1000/$G$168)*$G148*$P$129)) ))))), 0)","v":0},{"$f":"IF(AND($P$129>0,F148=\"Nej\"),  IF($G$131=\"Nm3\",W148*(($Q148*1000*$F$128*Data!$B$6)/($Q148*1000*$F$128*Data!$B$6+(($P$130*1000/$G$168)*$G148*$P$129))),  (W148*(($Q148*1000/$H$131)*$F$128*Data!$B$6)/(($Q148*1000/$H$131)*$F$128*Data!$B$6+(($P$130*1000/$G$168)*$G148*$P$129)))),W148)","v":""},"","",null,"","",null,{"$f":"IF(A148<>\"\",IF(F148=\"Nej\", IF($G$131=\"Nm3\",(((N148*1000*1000)/(Q148*$F$128*1000)/Data!$B$6)-$P$123),(((N148*1000*1000)/(Q148/$H$131*$F$128*1000)/Data!$B$6)-$P$123)),F148),\"\")","v":""}]
["",12,"","","",{"$f":"IF(A149<>\"\",IF(G17=\"Ja\",janej(A149),\"Nej\"),\"\")","v":""},"","",{"$f":"IF(A149<>\"\",IF(slam(A149),0, SUMIF($B$40:$B$90,B149,$I$40:$I$90)),\"\")","v":""},{"$f":"IF(A149<>\"\",IF(slam(A149),0, $E$99/$G$168*G149),\"\")","v":""},{"$f":"IF(A149<>\"\",IF(slam(A149),0, $E$102/$G$168*G149),\"\")","v":""},{"$f":"IF(A149<>\"\",IF(slam(A149),0, $E$110/$G$168*G149),\"\")","v":""},{"$f":"IF(A149<>\"\",IF(slam(A149),0, $E$125/$Q$168*Q149),\"\")","v":""},"",{"$f":"IF(AND($P$129>0,$F149=\"Nej\"), ((IF($G$131=\"Nm3\",  W149*((($P$130*1000/$G$168)*$G149*$P$129)/($Q149*1000*$F$128*Data!$B$6+(($P$130*1000/$G$168)*$G149*$P$129))),   (W149*((($P$130*1000/$G$168)*$G149*$P$129)/(($Q149*1000/$H$131)*$F$128*Data!$B$6+(($P$130*1000/$G$168)*$G149*$P$129)) ))))), 0)","v":0},{"$f":"IF(AND($P$129>0,F149=\"Nej\"),  IF($G$131=\"Nm3\",W149*(($Q149*1000*$F$128*Data!$B$6)/($Q149*1000*$F$128*Data!$B$6+(($P$130*1000/$G$168)*$G149*$P$129))),  (W149*(($Q149*1000/$H$131)*$F$128*Data!$B$6)/(($Q149*1000/$H$131)*$F$128*Data!$B$6+(($P$130*1000/$G$168)*$G149*$P$129)))),W149)","v":""},"","",null,"","",null,{"$f":"IF(A149<>\"\",IF(F149=\"Nej\", IF($G$131=\"Nm3\",(((N149*1000*1000)/(Q149*$F$128*1000)/Data!$B$6)-$P$123),(((N149*1000*1000)/(Q149/$H$131*$F$128*1000)/Data!$B$6)-$P$123)),F149),\"\")","v":""}]
["",13,"","","",{"$f":"IF(A150<>\"\",IF(G18=\"Ja\",janej(A150),\"Nej\"),\"\")","v":""},"","",{"$f":"IF(A150<>\"\",IF(slam(A150),0, SUMIF($B$40:$B$90,B150,$I$40:$I$90)),\"\")","v":""},{"$f":"IF(A150<>\"\",IF(slam(A150),0, $E$99/$G$168*G150),\"\")","v":""},{"$f":"IF(A150<>\"\",IF(slam(A150),0, $E$102/$G$168*G150),\"\")","v":""},{"$f":"IF(A150<>\"\",IF(slam(A150),0, $E$110/$G$168*G150),\"\")","v":""},{"$f":"IF(A150<>\"\",IF(slam(A150),0, $E$125/$Q$168*Q150),\"\")","v":""},"",{"$f":"IF(AND($P$129>0,$F150=\"Nej\"), ((IF($G$131=\"Nm3\",  W150*((($P$130*1000/$G$168)*$G150*$P$129)/($Q150*1000*$F$128*Data!$B$6+(($P$130*1000/$G$168)*$G150*$P$129))),   (W150*((($P$130*1000/$G$168)*$G150*$P$129)/(($Q150*1000/$H$131)*$F$128*Data!$B$6+(($P$130*1000/$G$168)*$G150*$P$129)) ))))), 0)","v":0},{"$f":"IF(AND($P$129>0,F150=\"Nej\"),  IF($G$131=\"Nm3\",W150*(($Q150*1000*$F$128*Data!$B$6)/($Q150*1000*$F$128*Data!$B$6+(($P$130*1000/$G$168)*$G150*$P$129))),  (W150*(($Q150*1000/$H$131)*$F$128*Data!$B$6)/(($Q150*1000/$H$131)*$F$128*Data!$B$6+(($P$130*1000/$G$168)*$G150*$P$129)))),W150)","v":""},"","",null,"","",null,{"$f":"IF(A150<>\"\",IF(F150=\"Nej\", IF($G$131=\"Nm3\",(((N150*1000*1000)/(Q150*$F$128*1000)/Data!$B$6)-$P$123),(((N150*1000*1000)/(Q150/$H$131*$F$128*1000)/Data!$B$6)-$P$123)),F150),\"\")","v":""}]
["",14,"","","",{"$f":"IF(A151<>\"\",IF(G19=\"Ja\",janej(A151),\"Nej\"),\"\")","v":""},"","",{"$f":"IF(A151<>\"\",IF(slam(A151),0, SUMIF($B$40:$B$90,B151,$I$40:$I$90)),\"\")","v":""},{"$f":"IF(A151<>\"\",IF(slam(A151),0, $E$99/$G$168*G151),\"\")","v":""},{"$f":"IF(A151<>\"\",IF(slam(A151),0, $E$102/$G$168*G151),\"\")","v":""},{"$f":"IF(A151<>\"\",IF(slam(A151),0, $E$110/$G$168*G151),\"\")","v":""},{"$f":"IF(A151<>\"\",IF(slam(A151),0, $E$125/$Q$168*Q151),\"\")","v":""},"",{"$f":"IF(AND($P$129>0,$F151=\"Nej\"), ((IF($G$131=\"Nm3\",  W151*((($P$130*1000/$G$168)*$G151*$P$129)/($Q151*1000*$F$128*Data!$B$6+(($P$130*1000/$G$168)*$G151*$P$129))),   (W151*((($P$130*1000/$G$168)*$G151*$P$129)/(($Q151*1000/$H$131)*$F$128*Data!$B$6+(($P$130*1000/$G$168)*$G151*$P$129)) ))))), 0)","v":0},{"$f":"IF(AND($P$129>0,F151=\"Nej\"),  IF($G$131=\"Nm3\",W151*(($Q151*1000*$F$128*Data!$B$6)/($Q151*1000*$F$128*Data!$B$6+(($P$130*1000/$G$168)*$G151*$P$129))),  (W151*(($Q151*1000/$H$131)*$F$128*Data!$B$6)/(($Q151*1000/$H$131)*$F$128*Data!$B$6+(($P$130*1000/$G$168)*$G151*$P$129)))),W151)","v":""},"","",null,"","",null,{"$f":"IF(A151<>\"\",IF(F151=\"Nej\", IF($G$131=\"Nm3\",(((N151*1000*1000)/(Q151*$F$128*1000)/Data!$B$6)-$P$123),(((N151*1000*1000)/(Q151/$H$131*$F$128*1000)/Data!$B$6)-$P$123)),F151),\"\")","v":""}]
["",15,"","","",{"$f":"IF(A152<>\"\",IF(G20=\"Ja\",janej(A152),\"Nej\"),\"\")","v":""},"","",{"$f":"IF(A152<>\"\",IF(slam(A152),0, SUMIF($B$40:$B$90,B152,$I$40:$I$90)),\"\")","v":""},{"$f":"IF(A152<>\"\",IF(slam(A152),0, $E$99/$G$168*G152),\"\")","v":""},{"$f":"IF(A152<>\"\",IF(slam(A152),0, $E$102/$G$168*G152),\"\")","v":""},{"$f":"IF(A152<>\"\",IF(slam(A152),0, $E$110/$G$168*G152),\"\")","v":""},{"$f":"IF(A152<>\"\",IF(slam(A152),0, $E$125/$Q$168*Q152),\"\")","v":""},"",{"$f":"IF(AND($P$129>0,$F152=\"Nej\"), ((IF($G$131=\"Nm3\",  W152*((($P$130*1000/$G$168)*$G152*$P$129)/($Q152*1000*$F$128*Data!$B$6+(($P$130*1000/$G$168)*$G152*$P$129))),   (W152*((($P$130*1000/$G$168)*$G152*$P$129)/(($Q152*1000/$H$131)*$F$128*Data!$B$6+(($P$130*1000/$G$168)*$G152*$P$129)) ))))), 0)","v":0},{"$f":"IF(AND($P$129>0,F152=\"Nej\"),  IF($G$131=\"Nm3\",W152*(($Q152*1000*$F$128*Data!$B$6)/($Q152*1000*$F$128*Data!$B$6+(($P$130*1000/$G$168)*$G152*$P$129))),  (W152*(($Q152*1000/$H$131)*$F$128*Data!$B$6)/(($Q152*1000/$H$131)*$F$128*Data!$B$6+(($P$130*1000/$G$168)*$G152*$P$129)))),W152)","v":""},"","",null,"","",null,{"$f":"IF(A152<>\"\",IF(F152=\"Nej\", IF($G$131=\"Nm3\",(((N152*1000*1000)/(Q152*$F$128*1000)/Data!$B$6)-$P$123),(((N152*1000*1000)/(Q152/$H$131*$F$128*1000)/Data!$B$6)-$P$123)),F152),\"\")","v":""}]
["",16,"","","",{"$f":"IF(A153<>\"\",IF(G21=\"Ja\",janej(A153),\"Nej\"),\"\")","v":""},"","",{"$f":"IF(A153<>\"\",IF(slam(A153),0, SUMIF($B$40:$B$90,B153,$I$40:$I$90)),\"\")","v":""},{"$f":"IF(A153<>\"\",IF(slam(A153),0, $E$99/$G$168*G153),\"\")","v":""},{"$f":"IF(A153<>\"\",IF(slam(A153),0, $E$102/$G$168*G153),\"\")","v":""},{"$f":"IF(A153<>\"\",IF(slam(A153),0, $E$110/$G$168*G153),\"\")","v":""},{"$f":"IF(A153<>\"\",IF(slam(A153),0, $E$125/$Q$168*Q153),\"\")","v":""},"",{"$f":"IF(AND($P$129>0,$F153=\"Nej\"), ((IF($G$131=\"Nm3\",  W153*((($P$130*1000/$G$168)*$G153*$P$129)/($Q153*1000*$F$128*Data!$B$6+(($P$130*1000/$G$168)*$G153*$P$129))),   (W153*((($P$130*1000/$G$168)*$G153*$P$129)/(($Q153*1000/$H$131)*$F$128*Data!$B$6+(($P$130*1000/$G$168)*$G153*$P$129)) ))))), 0)","v":0},{"$f":"IF(AND($P$129>0,F153=\"Nej\"),  IF($G$131=\"Nm3\",W153*(($Q153*1000*$F$128*Data!$B$6)/($Q153*1000*$F$128*Data!$B$6+(($P$130*1000/$G$168)*$G153*$P$129))),  (W153*(($Q153*1000/$H$131)*$F$128*Data!$B$6)/(($Q153*1000/$H$131)*$F$128*Data!$B$6+(($P$130*1000/$G$168)*$G153*$P$129)))),W153)","v":""},"","",null,"","",null,{"$f":"IF(A153<>\"\",IF(F153=\"Nej\", IF($G$131=\"Nm3\",(((N153*1000*1000)/(Q153*$F$128*1000)/Data!$B$6)-$P$123),(((N153*1000*1000)/(Q153/$H$131*$F$128*1000)/Data!$B$6)-$P$123)),F153),\"\")","v":""}]
["",17,"","","",{"$f":"IF(A154<>\"\",IF(G22=\"Ja\",janej(A154),\"Nej\"),\"\")","v":""},"","",{"$f":"IF(A154<>\"\",IF(slam(A154),0, SUMIF($B$40:$B$90,B154,$I$40:$I$90)),\"\")","v":""},{"$f":"IF(A154<>\"\",IF(slam(A154),0, $E$99/$G$168*G154),\"\")","v":""},{"$f":"IF(A154<>\"\",IF(slam(A154),0, $E$102/$G$168*G154),\"\")","v":""},{"$f":"IF(A154<>\"\",IF(slam(A154),0, $E$110/$G$168*G154),\"\")","v":""},{"$f":"IF(A154<>\"\",IF(slam(A154),0, $E$125/$Q$168*Q154),\"\")","v":""},"",{"$f":"IF(AND($P$129>0,$F154=\"Nej\"), ((IF($G$131=\"Nm3\",  W154*((($P$130*1000/$G$168)*$G154*$P$129)/($Q154*1000*$F$128*Data!$B$6+(($P$130*1000/$G$168)*$G154*$P$129))),   (W154*((($P$130*1000/$G$168)*$G154*$P$129)/(($Q154*1000/$H$131)*$F$128*Data!$B$6+(($P$130*1000/$G$168)*$G154*$P$129)) ))))), 0)","v":0},{"$f":"IF(AND($P$129>0,F154=\"Nej\"),  IF($G$131=\"Nm3\",W154*(($Q154*1000*$F$128*Data!$B$6)/($Q154*1000*$F$128*Data!$B$6+(($P$130*1000/$G$168)*$G154*$P$129))),  (W154*(($Q154*1000/$H$131)*$F$128*Data!$B$6)/(($Q154*1000/$H$131)*$F$128*Data!$B$6+(($P$130*1000/$G$168)*$G154*$P$129)))),W154)","v":""},"","",null,"","",null,{"$f":"IF(A154<>\"\",IF(F154=\"Nej\", IF($G$131=\"Nm3\",(((N154*1000*1000)/(Q154*$F$128*1000)/Data!$B$6)-$P$123),(((N154*1000*1000)/(Q154/$H$131*$F$128*1000)/Data!$B$6)-$P$123)),F154),\"\")","v":""}]
["",18,"","","",{"$f":"IF(A155<>\"\",IF(G23=\"Ja\",janej(A155),\"Nej\"),\"\")","v":""},"","",{"$f":"IF(A155<>\"\",IF(slam(A155),0, SUMIF($B$40:$B$90,B155,$I$40:$I$90)),\"\")","v":""},{"$f":"IF(A155<>\"\",IF(slam(A155),0, $E$99/$G$168*G155),\"\")","v":""},{"$f":"IF(A155<>\"\",IF(slam(A155),0, $E$102/$G$168*G155),\"\")","v":""},{"$f":"IF(A155<>\"\",IF(slam(A155),0, $E$110/$G$168*G155),\"\")","v":""},{"$f":"IF(A155<>\"\",IF(slam(A155),0, $E$125/$Q$168*Q155),\"\")","v":""},"",{"$f":"IF(AND($P$129>0,$F155=\"Nej\"), ((IF($G$131=\"Nm3\",  W155*((($P$130*1000/$G$168)*$G155*$P$129)/($Q155*1000*$F$128*Data!$B$6+(($P$130*1000/$G$168)*$G155*$P$129))),   (W155*((($P$130*1000/$G$168)*$G155*$P$129)/(($Q155*1000/$H$131)*$F$128*Data!$B$6+(($P$130*1000/$G$168)*$G155*$P$129)) ))))), 0)","v":0},{"$f":"IF(AND($P$129>0,F155=\"Nej\"),  IF($G$131=\"Nm3\",W155*(($Q155*1000*$F$128*Data!$B$6)/($Q155*1000*$F$128*Data!$B$6+(($P$130*1000/$G$168)*$G155*$P$129))),  (W155*(($Q155*1000/$H$131)*$F$128*Data!$B$6)/(($Q155*1000/$H$131)*$F$128*Data!$B$6+(($P$130*1000/$G$168)*$G155*$P$129)))),W155)","v":""},"","",null,"","",null,{"$f":"IF(A155<>\"\",IF(F155=\"Nej\", IF($G$131=\"Nm3\",(((N155*1000*1000)/(Q155*$F$128*1000)/Data!$B$6)-$P$123),(((N155*1000*1000)/(Q155/$H$131*$F$128*1000)/Data!$B$6)-$P$123)),F155),\"\")","v":""}]
["",19,"","","",{"$f":"IF(A156<>\"\",IF(G24=\"Ja\",janej(A156),\"Nej\"),\"\")","v":""},"","",{"$f":"IF(A156<>\"\",IF(slam(A156),0, SUMIF($B$40:$B$90,B156,$I$40:$I$90)),\"\")","v":""},{"$f":"IF(A156<>\"\",IF(slam(A156),0, $E$99/$G$168*G156),\"\")","v":""},{"$f":"IF(A156<>\"\",IF(slam(A156),0, $E$102/$G$168*G156),\"\")","v":""},{"$f":"IF(A156<>\"\",IF(slam(A156),0, $E$110/$G$168*G156),\"\")","v":""},{"$f":"IF(A156<>\"\",IF(slam(A156),0, $E$125/$Q$168*Q156),\"\")","v":""},"",{"$f":"IF(AND($P$129>0,$F156=\"Nej\"), ((IF($G$131=\"Nm3\",  W156*((($P$130*1000/$G$168)*$G156*$P$129)/($Q156*1000*$F$128*Data!$B$6+(($P$130*1000/$G$168)*$G156*$P$129))),   (W156*((($P$130*1000/$G$168)*$G156*$P$129)/(($Q156*1000/$H$131)*$F$128*Data!$B$6+(($P$130*1000/$G$168)*$G156*$P$129)) ))))), 0)","v":0},{"$f":"IF(AND($P$129>0,F156=\"Nej\"),  IF($G$131=\"Nm3\",W156*(($Q156*1000*$F$128*Data!$B$6)/($Q156*1000*$F$128*Data!$B$6+(($P$130*1000/$G$168)*$G156*$P$129))),  (W156*(($Q156*1000/$H$131)*$F$128*Data!$B$6)/(($Q156*1000/$H$131)*$F$128*Data!$B$6+(($P$130*1000/$G$168)*$G156*$P$129)))),W156)","v":""},"","",null,"","",null,{"$f":"IF(A156<>\"\",IF(F156=\"Nej\", IF($G$131=\"Nm3\",(((N156*1000*1000)/(Q156*$F$128*1000)/Data!$B$6)-$P$123),(((N156*1000*1000)/(Q156/$H$131*$F$128*1000)/Data!$B$6)-$P$123)),F156),\"\")","v":""}]
["",20,"","","",{"$f":"IF(A157<>\"\",IF(G25=\"Ja\",janej(A157),\"Nej\"),\"\")","v":""},"","",{"$f":"IF(A157<>\"\",IF(slam(A157),0, SUMIF($B$40:$B$90,B157,$I$40:$I$90)),\"\")","v":""},{"$f":"IF(A157<>\"\",IF(slam(A157),0, $E$99/$G$168*G157),\"\")","v":""},{"$f":"IF(A157<>\"\",IF(slam(A157),0, $E$102/$G$168*G157),\"\")","v":""},{"$f":"IF(A157<>\"\",IF(slam(A157),0, $E$110/$G$168*G157),\"\")","v":""},{"$f":"IF(A157<>\"\",IF(slam(A157),0, $E$125/$Q$168*Q157),\"\")","v":""},"",{"$f":"IF(AND($P$129>0,$F157=\"Nej\"), ((IF($G$131=\"Nm3\",  W157*((($P$130*1000/$G$168)*$G157*$P$129)/($Q157*1000*$F$128*Data!$B$6+(($P$130*1000/$G$168)*$G157*$P$129))),   (W157*((($P$130*1000/$G$168)*$G157*$P$129)/(($Q157*1000/$H$131)*$F$128*Data!$B$6+(($P$130*1000/$G$168)*$G157*$P$129)) ))))), 0)","v":0},{"$f":"IF(AND($P$129>0,F157=\"Nej\"),  IF($G$131=\"Nm3\",W157*(($Q157*1000*$F$128*Data!$B$6)/($Q157*1000*$F$128*Data!$B$6+(($P$130*1000/$G$168)*$G157*$P$129))),  (W157*(($Q157*1000/$H$131)*$F$128*Data!$B$6)/(($Q157*1000/$H$131)*$F$128*Data!$B$6+(($P$130*1000/$G$168)*$G157*$P$129)))),W157)","v":""},"","",null,"","",null,{"$f":"IF(A157<>\"\",IF(F157=\"Nej\", IF($G$131=\"Nm3\",(((N157*1000*1000)/(Q157*$F$128*1000)/Data!$B$6)-$P$123),(((N157*1000*1000)/(Q157/$H$131*$F$128*1000)/Data!$B$6)-$P$123)),F157),\"\")","v":""}]
["",21,"","","",{"$f":"IF(A158<>\"\",IF(G26=\"Ja\",janej(A158),\"Nej\"),\"\")","v":""},"","",{"$f":"IF(A158<>\"\",IF(slam(A158),0, SUMIF($B$40:$B$90,B158,$I$40:$I$90)),\"\")","v":""},{"$f":"IF(A158<>\"\",IF(slam(A158),0, $E$99/$G$168*G158),\"\")","v":""},{"$f":"IF(A158<>\"\",IF(slam(A158),0, $E$102/$G$168*G158),\"\")","v":""},{"$f":"IF(A158<>\"\",IF(slam(A158),0, $E$110/$G$168*G158),\"\")","v":""},{"$f":"IF(A158<>\"\",IF(slam(A158),0, $E$125/$Q$168*Q158),\"\")","v":""},"",{"$f":"IF(AND($P$129>0,$F158=\"Nej\"), ((IF($G$131=\"Nm3\",  W158*((($P$130*1000/$G$168)*$G158*$P$129)/($Q158*1000*$F$128*Data!$B$6+(($P$130*1000/$G$168)*$G158*$P$129))),   (W158*((($P$130*1000/$G$168)*$G158*$P$129)/(($Q158*1000/$H$131)*$F$128*Data!$B$6+(($P$130*1000/$G$168)*$G158*$P$129)) ))))), 0)","v":0},{"$f":"IF(AND($P$129>0,F158=\"Nej\"),  IF($G$131=\"Nm3\",W158*(($Q158*1000*$F$128*Data!$B$6)/($Q158*1000*$F$128*Data!$B$6+(($P$130*1000/$G$168)*$G158*$P$129))),  (W158*(($Q158*1000/$H$131)*$F$128*Data!$B$6)/(($Q158*1000/$H$131)*$F$128*Data!$B$6+(($P$130*1000/$G$168)*$G158*$P$129)))),W158)","v":""},"","",null,"","",null,{"$f":"IF(A158<>\"\",IF(F158=\"Nej\", IF($G$131=\"Nm3\",(((N158*1000*1000)/(Q158*$F$128*1000)/Data!$B$6)-$P$123),(((N158*1000*1000)/(Q158/$H$131*$F$128*1000)/Data!$B$6)-$P$123)),F158),\"\")","v":""}]
["",22,"","","",{"$f":"IF(A159<>\"\",IF(G27=\"Ja\",janej(A159),\"Nej\"),\"\")","v":""},"","",{"$f":"IF(A159<>\"\",IF(slam(A159),0, SUMIF($B$40:$B$90,B159,$I$40:$I$90)),\"\")","v":""},{"$f":"IF(A159<>\"\",IF(slam(A159),0, $E$99/$G$168*G159),\"\")","v":""},{"$f":"IF(A159<>\"\",IF(slam(A159),0, $E$102/$G$168*G159),\"\")","v":""},{"$f":"IF(A159<>\"\",IF(slam(A159),0, $E$110/$G$168*G159),\"\")","v":""},{"$f":"IF(A159<>\"\",IF(slam(A159),0, $E$125/$Q$168*Q159),\"\")","v":""},"",{"$f":"IF(AND($P$129>0,$F159=\"Nej\"), ((IF($G$131=\"Nm3\",  W159*((($P$130*1000/$G$168)*$G159*$P$129)/($Q159*1000*$F$128*Data!$B$6+(($P$130*1000/$G$168)*$G159*$P$129))),   (W159*((($P$130*1000/$G$168)*$G159*$P$129)/(($Q159*1000/$H$131)*$F$128*Data!$B$6+(($P$130*1000/$G$168)*$G159*$P$129)) ))))), 0)","v":0},{"$f":"IF(AND($P$129>0,F159=\"Nej\"),  IF($G$131=\"Nm3\",W159*(($Q159*1000*$F$128*Data!$B$6)/($Q159*1000*$F$128*Data!$B$6+(($P$130*1000/$G$168)*$G159*$P$129))),  (W159*(($Q159*1000/$H$131)*$F$128*Data!$B$6)/(($Q159*1000/$H$131)*$F$128*Data!$B$6+(($P$130*1000/$G$168)*$G159*$P$129)))),W159)","v":""},"","",null,"","",null,{"$f":"IF(A159<>\"\",IF(F159=\"Nej\", IF($G$131=\"Nm3\",(((N159*1000*1000)/(Q159*$F$128*1000)/Data!$B$6)-$P$123),(((N159*1000*1000)/(Q159/$H$131*$F$128*1000)/Data!$B$6)-$P$123)),F159),\"\")","v":""}]
["",23,"","","",{"$f":"IF(A160<>\"\",IF(G28=\"Ja\",janej(A160),\"Nej\"),\"\")","v":""},"","",{"$f":"IF(A160<>\"\",IF(slam(A160),0, SUMIF($B$40:$B$90,B160,$I$40:$I$90)),\"\")","v":""},{"$f":"IF(A160<>\"\",IF(slam(A160),0, $E$99/$G$168*G160),\"\")","v":""},{"$f":"IF(A160<>\"\",IF(slam(A160),0, $E$102/$G$168*G160),\"\")","v":""},{"$f":"IF(A160<>\"\",IF(slam(A160),0, $E$110/$G$168*G160),\"\")","v":""},{"$f":"IF(A160<>\"\",IF(slam(A160),0, $E$125/$Q$168*Q160),\"\")","v":""},"",{"$f":"IF(AND($P$129>0,$F160=\"Nej\"), ((IF($G$131=\"Nm3\",  W160*((($P$130*1000/$G$168)*$G160*$P$129)/($Q160*1000*$F$128*Data!$B$6+(($P$130*1000/$G$168)*$G160*$P$129))),   (W160*((($P$130*1000/$G$168)*$G160*$P$129)/(($Q160*1000/$H$131)*$F$128*Data!$B$6+(($P$130*1000/$G$168)*$G160*$P$129)) ))))), 0)","v":0},{"$f":"IF(AND($P$129>0,F160=\"Nej\"),  IF($G$131=\"Nm3\",W160*(($Q160*1000*$F$128*Data!$B$6)/($Q160*1000*$F$128*Data!$B$6+(($P$130*1000/$G$168)*$G160*$P$129))),  (W160*(($Q160*1000/$H$131)*$F$128*Data!$B$6)/(($Q160*1000/$H$131)*$F$128*Data!$B$6+(($P$130*1000/$G$168)*$G160*$P$129)))),W160)","v":""},"","",null,"","",null,{"$f":"IF(A160<>\"\",IF(F160=\"Nej\", IF($G$131=\"Nm3\",(((N160*1000*1000)/(Q160*$F$128*1000)/Data!$B$6)-$P$123),(((N160*1000*1000)/(Q160/$H$131*$F$128*1000)/Data!$B$6)-$P$123)),F160),\"\")","v":""}]
["",24,"","","",{"$f":"IF(A161<>\"\",IF(G29=\"Ja\",janej(A161),\"Nej\"),\"\")","v":""},"","",{"$f":"IF(A161<>\"\",IF(slam(A161),0, SUMIF($B$40:$B$90,B161,$I$40:$I$90)),\"\")","v":""},{"$f":"IF(A161<>\"\",IF(slam(A161),0, $E$99/$G$168*G161),\"\")","v":""},{"$f":"IF(A161<>\"\",IF(slam(A161),0, $E$102/$G$168*G161),\"\")","v":""},{"$f":"IF(A161<>\"\",IF(slam(A161),0, $E$110/$G$168*G161),\"\")","v":""},{"$f":"IF(A161<>\"\",IF(slam(A161),0, $E$125/$Q$168*Q161),\"\")","v":""},"",{"$f":"IF(AND($P$129>0,$F161=\"Nej\"), ((IF($G$131=\"Nm3\",  W161*((($P$130*1000/$G$168)*$G161*$P$129)/($Q161*1000*$F$128*Data!$B$6+(($P$130*1000/$G$168)*$G161*$P$129))),   (W161*((($P$130*1000/$G$168)*$G161*$P$129)/(($Q161*1000/$H$131)*$F$128*Data!$B$6+(($P$130*1000/$G$168)*$G161*$P$129)) ))))), 0)","v":0},{"$f":"IF(AND($P$129>0,F161=\"Nej\"),  IF($G$131=\"Nm3\",W161*(($Q161*1000*$F$128*Data!$B$6)/($Q161*1000*$F$128*Data!$B$6+(($P$130*1000/$G$168)*$G161*$P$129))),  (W161*(($Q161*1000/$H$131)*$F$128*Data!$B$6)/(($Q161*1000/$H$131)*$F$128*Data!$B$6+(($P$130*1000/$G$168)*$G161*$P$129)))),W161)","v":""},"","",null,"","",null,{"$f":"IF(A161<>\"\",IF(F161=\"Nej\", IF($G$131=\"Nm3\",(((N161*1000*1000)/(Q161*$F$128*1000)/Data!$B$6)-$P$123),(((N161*1000*1000)/(Q161/$H$131*$F$128*1000)/Data!$B$6)-$P$123)),F161),\"\")","v":""}]
["",25,"","","",{"$f":"IF(A162<>\"\",IF(G30=\"Ja\",janej(A162),\"Nej\"),\"\")","v":""},"","",{"$f":"IF(A162<>\"\",IF(slam(A162),0, SUMIF($B$40:$B$90,B162,$I$40:$I$90)),\"\")","v":""},{"$f":"IF(A162<>\"\",IF(slam(A162),0, $E$99/$G$168*G162),\"\")","v":""},{"$f":"IF(A162<>\"\",IF(slam(A162),0, $E$102/$G$168*G162),\"\")","v":""},{"$f":"IF(A162<>\"\",IF(slam(A162),0, $E$110/$G$168*G162),\"\")","v":""},{"$f":"IF(A162<>\"\",IF(slam(A162),0, $E$125/$Q$168*Q162),\"\")","v":""},"",{"$f":"IF(AND($P$129>0,$F162=\"Nej\"), ((IF($G$131=\"Nm3\",  W162*((($P$130*1000/$G$168)*$G162*$P$129)/($Q162*1000*$F$128*Data!$B$6+(($P$130*1000/$G$168)*$G162*$P$129))),   (W162*((($P$130*1000/$G$168)*$G162*$P$129)/(($Q162*1000/$H$131)*$F$128*Data!$B$6+(($P$130*1000/$G$168)*$G162*$P$129)) ))))), 0)","v":0},{"$f":"IF(AND($P$129>0,F162=\"Nej\"),  IF($G$131=\"Nm3\",W162*(($Q162*1000*$F$128*Data!$B$6)/($Q162*1000*$F$128*Data!$B$6+(($P$130*1000/$G$168)*$G162*$P$129))),  (W162*(($Q162*1000/$H$131)*$F$128*Data!$B$6)/(($Q162*1000/$H$131)*$F$128*Data!$B$6+(($P$130*1000/$G$168)*$G162*$P$129)))),W162)","v":""},"","",null,"","",null,{"$f":"IF(A162<>\"\",IF(F162=\"Nej\", IF($G$131=\"Nm3\",(((N162*1000*1000)/(Q162*$F$128*1000)/Data!$B$6)-$P$123),(((N162*1000*1000)/(Q162/$H$131*$F$128*1000)/Data!$B$6)-$P$123)),F162),\"\")","v":""}]
["",26,"","","",{"$f":"IF(A163<>\"\",IF(G31=\"Ja\",janej(A163),\"Nej\"),\"\")","v":""},"","",{"$f":"IF(A163<>\"\",IF(slam(A163),0, SUMIF($B$40:$B$90,B163,$I$40:$I$90)),\"\")","v":""},{"$f":"IF(A163<>\"\",IF(slam(A163),0, $E$99/$G$168*G163),\"\")","v":""},{"$f":"IF(A163<>\"\",IF(slam(A163),0, $E$102/$G$168*G163),\"\")","v":""},{"$f":"IF(A163<>\"\",IF(slam(A163),0, $E$110/$G$168*G163),\"\")","v":""},{"$f":"IF(A163<>\"\",IF(slam(A163),0, $E$125/$Q$168*Q163),\"\")","v":""},"",{"$f":"IF(AND($P$129>0,$F163=\"Nej\"), ((IF($G$131=\"Nm3\",  W163*((($P$130*1000/$G$168)*$G163*$P$129)/($Q163*1000*$F$128*Data!$B$6+(($P$130*1000/$G$168)*$G163*$P$129))),   (W163*((($P$130*1000/$G$168)*$G163*$P$129)/(($Q163*1000/$H$131)*$F$128*Data!$B$6+(($P$130*1000/$G$168)*$G163*$P$129)) ))))), 0)","v":0},{"$f":"IF(AND($P$129>0,F163=\"Nej\"),  IF($G$131=\"Nm3\",W163*(($Q163*1000*$F$128*Data!$B$6)/($Q163*1000*$F$128*Data!$B$6+(($P$130*1000/$G$168)*$G163*$P$129))),  (W163*(($Q163*1000/$H$131)*$F$128*Data!$B$6)/(($Q163*1000/$H$131)*$F$128*Data!$B$6+(($P$130*1000/$G$168)*$G163*$P$129)))),W163)","v":""},"","",null,"","",null,{"$f":"IF(A163<>\"\",IF(F163=\"Nej\", IF($G$131=\"Nm3\",(((N163*1000*1000)/(Q163*$F$128*1000)/Data!$B$6)-$P$123),(((N163*1000*1000)/(Q163/$H$131*$F$128*1000)/Data!$B$6)-$P$123)),F163),\"\")","v":""}]
["",27,"","","",{"$f":"IF(A164<>\"\",IF(G32=\"Ja\",janej(A164),\"Nej\"),\"\")","v":""},"","",{"$f":"IF(A164<>\"\",IF(slam(A164),0, SUMIF($B$40:$B$90,B164,$I$40:$I$90)),\"\")","v":""},{"$f":"IF(A164<>\"\",IF(slam(A164),0, $E$99/$G$168*G164),\"\")","v":""},{"$f":"IF(A164<>\"\",IF(slam(A164),0, $E$102/$G$168*G164),\"\")","v":""},{"$f":"IF(A164<>\"\",IF(slam(A164),0, $E$110/$G$168*G164),\"\")","v":""},{"$f":"IF(A164<>\"\",IF(slam(A164),0, $E$125/$Q$168*Q164),\"\")","v":""},"",{"$f":"IF(AND($P$129>0,$F164=\"Nej\"), ((IF($G$131=\"Nm3\",  W164*((($P$130*1000/$G$168)*$G164*$P$129)/($Q164*1000*$F$128*Data!$B$6+(($P$130*1000/$G$168)*$G164*$P$129))),   (W164*((($P$130*1000/$G$168)*$G164*$P$129)/(($Q164*1000/$H$131)*$F$128*Data!$B$6+(($P$130*1000/$G$168)*$G164*$P$129)) ))))), 0)","v":0},{"$f":"IF(AND($P$129>0,F164=\"Nej\"),  IF($G$131=\"Nm3\",W164*(($Q164*1000*$F$128*Data!$B$6)/($Q164*1000*$F$128*Data!$B$6+(($P$130*1000/$G$168)*$G164*$P$129))),  (W164*(($Q164*1000/$H$131)*$F$128*Data!$B$6)/(($Q164*1000/$H$131)*$F$128*Data!$B$6+(($P$130*1000/$G$168)*$G164*$P$129)))),W164)","v":""},"","",null,"","",null,{"$f":"IF(A164<>\"\",IF(F164=\"Nej\", IF($G$131=\"Nm3\",(((N164*1000*1000)/(Q164*$F$128*1000)/Data!$B$6)-$P$123),(((N164*1000*1000)/(Q164/$H$131*$F$128*1000)/Data!$B$6)-$P$123)),F164),\"\")","v":""}]
["",28,"","","",{"$f":"IF(A165<>\"\",IF(G33=\"Ja\",janej(A165),\"Nej\"),\"\")","v":""},"","",{"$f":"IF(A165<>\"\",IF(slam(A165),0, SUMIF($B$40:$B$90,B165,$I$40:$I$90)),\"\")","v":""},{"$f":"IF(A165<>\"\",IF(slam(A165),0, $E$99/$G$168*G165),\"\")","v":""},{"$f":"IF(A165<>\"\",IF(slam(A165),0, $E$102/$G$168*G165),\"\")","v":""},{"$f":"IF(A165<>\"\",IF(slam(A165),0, $E$110/$G$168*G165),\"\")","v":""},{"$f":"IF(A165<>\"\",IF(slam(A165),0, $E$125/$Q$168*Q165),\"\")","v":""},"",{"$f":"IF(AND($P$129>0,$F165=\"Nej\"), ((IF($G$131=\"Nm3\",  W165*((($P$130*1000/$G$168)*$G165*$P$129)/($Q165*1000*$F$128*Data!$B$6+(($P$130*1000/$G$168)*$G165*$P$129))),   (W165*((($P$130*1000/$G$168)*$G165*$P$129)/(($Q165*1000/$H$131)*$F$128*Data!$B$6+(($P$130*1000/$G$168)*$G165*$P$129)) ))))), 0)","v":0},{"$f":"IF(AND($P$129>0,F165=\"Nej\"),  IF($G$131=\"Nm3\",W165*(($Q165*1000*$F$128*Data!$B$6)/($Q165*1000*$F$128*Data!$B$6+(($P$130*1000/$G$168)*$G165*$P$129))),  (W165*(($Q165*1000/$H$131)*$F$128*Data!$B$6)/(($Q165*1000/$H$131)*$F$128*Data!$B$6+(($P$130*1000/$G$168)*$G165*$P$129)))),W165)","v":""},"","",null,"","",null,{"$f":"IF(A165<>\"\",IF(F165=\"Nej\", IF($G$131=\"Nm3\",(((N165*1000*1000)/(Q165*$F$128*1000)/Data!$B$6)-$P$123),(((N165*1000*1000)/(Q165/$H$131*$F$128*1000)/Data!$B$6)-$P$123)),F165),\"\")","v":""}]
["",29,"","","",{"$f":"IF(A166<>\"\",IF(G34=\"Ja\",janej(A166),\"Nej\"),\"\")","v":""},"","",{"$f":"IF(A166<>\"\",IF(slam(A166),0, SUMIF($B$40:$B$90,B166,$I$40:$I$90)),\"\")","v":""},{"$f":"IF(A166<>\"\",IF(slam(A166),0, $E$99/$G$168*G166),\"\")","v":""},{"$f":"IF(A166<>\"\",IF(slam(A166),0, $E$102/$G$168*G166),\"\")","v":""},{"$f":"IF(A166<>\"\",IF(slam(A166),0, $E$110/$G$168*G166),\"\")","v":""},{"$f":"IF(A166<>\"\",IF(slam(A166),0, $E$125/$Q$168*Q166),\"\")","v":""},"",{"$f":"IF(AND($P$129>0,$F166=\"Nej\"), ((IF($G$131=\"Nm3\",  W166*((($P$130*1000/$G$168)*$G166*$P$129)/($Q166*1000*$F$128*Data!$B$6+(($P$130*1000/$G$168)*$G166*$P$129))),   (W166*((($P$130*1000/$G$168)*$G166*$P$129)/(($Q166*1000/$H$131)*$F$128*Data!$B$6+(($P$130*1000/$G$168)*$G166*$P$129)) ))))), 0)","v":0},{"$f":"IF(AND($P$129>0,F166=\"Nej\"),  IF($G$131=\"Nm3\",W166*(($Q166*1000*$F$128*Data!$B$6)/($Q166*1000*$F$128*Data!$B$6+(($P$130*1000/$G$168)*$G166*$P$129))),  (W166*(($Q166*1000/$H$131)*$F$128*Data!$B$6)/(($Q166*1000/$H$131)*$F$128*Data!$B$6+(($P$130*1000/$G$168)*$G166*$P$129)))),W166)","v":""},"","",null,"","",null,{"$f":"IF(A166<>\"\",IF(F166=\"Nej\", IF($G$131=\"Nm3\",(((N166*1000*1000)/(Q166*$F$128*1000)/Data!$B$6)-$P$123),(((N166*1000*1000)/(Q166/$H$131*$F$128*1000)/Data!$B$6)-$P$123)),F166),\"\")","v":""}]
["",30,"","","",{"$f":"IF(A167<>\"\",IF(G35=\"Ja\",janej(A167),\"Nej\"),\"\")","v":""},"","",{"$f":"IF(A167<>\"\",IF(slam(A167),0, SUMIF($B$40:$B$90,B167,$I$40:$I$90)),\"\")","v":""},{"$f":"IF(A167<>\"\",IF(slam(A167),0, $E$99/$G$168*G167),\"\")","v":""},{"$f":"IF(A167<>\"\",IF(slam(A167),0, $E$102/$G$168*G167),\"\")","v":""},{"$f":"IF(A167<>\"\",IF(slam(A167),0, $E$110/$G$168*G167),\"\")","v":""},{"$f":"IF(A167<>\"\",IF(slam(A167),0, $E$125/$Q$168*Q167),\"\")","v":""},"",{"$f":"IF(AND($P$129>0,$F167=\"Nej\"), ((IF($G$131=\"Nm3\",  W167*((($P$130*1000/$G$168)*$G167*$P$129)/($Q167*1000*$F$128*Data!$B$6+(($P$130*1000/$G$168)*$G167*$P$129))),   (W167*((($P$130*1000/$G$168)*$G167*$P$129)/(($Q167*1000/$H$131)*$F$128*Data!$B$6+(($P$130*1000/$G$168)*$G167*$P$129)) ))))), 0)","v":0},{"$f":"IF(AND($P$129>0,F167=\"Nej\"),  IF($G$131=\"Nm3\",W167*(($Q167*1000*$F$128*Data!$B$6)/($Q167*1000*$F$128*Data!$B$6+(($P$130*1000/$G$168)*$G167*$P$129))),  (W167*(($Q167*1000/$H$131)*$F$128*Data!$B$6)/(($Q167*1000/$H$131)*$F$128*Data!$B$6+(($P$130*1000/$G$168)*$G167*$P$129)))),W167)","v":""},"","",null,"","",null,{"$f":"IF(A167<>\"\",IF(F167=\"Nej\", IF($G$131=\"Nm3\",(((N167*1000*1000)/(Q167*$F$128*1000)/Data!$B$6)-$P$123),(((N167*1000*1000)/(Q167/$H$131*$F$128*1000)/Data!$B$6)-$P$123)),F167),\"\")","v":""}]
["Summa",null,null,null,null,null,{"$f":"SUM(G138:G167)","v":0},0,0,0,0,0,0,0,null,null,{"$f":"SUM(Q138:Q167)","v":0},{"$f":"SUM(R138:R167)","v":0},{"$f":"SUM(S138:S167)","v":0},{"$f":"SUM(T138:T167)","v":0}]
[]
[]
["Underlag för redovisning av hållbarhetsdata till annan aktör som uppgraderar biogasen "]
["Substrat","Kompl. information","Ursprung","Substrat, typ","Normalvärde,\nNej=Faktisk beräkning",{"$f":"S137","v":"Sålt till annan aktör (med skatteuppskov), Nm3 (tusental) "},"Enhet","Metanhalt, %","Växthusgasutsläpp, g CO2eq/MJ"]
[{"$f":"IF(S138>0,A138,\"\")","v":""},{"$f":"IF(S138>0,C138,\"\")","v":""},{"$f":"IF(S138>0,D138,\"\")","v":""},{"$f":"IF(S138>0,E138,\"\")","v":""},{"$f":"IF(S138>0,F138,\"\")","v":""},{"$f":"IF(S138>0,S138,\"\")","v":""},{"$f":"IF(S138>0,$G$131,\"\")","v":""},{"$f":"IF(S138>0,F$128,\"\")","v":""},{"$f":"IF($S138>0,$P138,\"\")","v":""}]
["","","","","",{"$f":"IF(S139>0,S139,\"\")","v":""},"","",{"$f":"IF($S139>0,$P139,\"\")","v":""}]
["","","","","","","","",""]
["","","","","","","","",""]
["","","","","","","","",""]
["","","","","","","","",""]
["","","","","","","","",""]
["","","","","","","","",""]
["","","","","","","","",""]
["","","","","","","","",""]
["","","","","","","","",""]
["","","","","","","","",""]
["","","","","","","","",""]
["","","","","","","","",""]
["","","","","","","","",""]
["","","","","","","","",""]
["","","","","","","","",""]
["","","","","","","","",""]
["","","","","","","","",""]
["","","","","","","","",""]
["","","","","","","","",""]
["","","","","","","","",""]
["","","","","","","","",""]
["","","","","","","","",""]
["","","","","","","","",""]
["","","","","","","","",""]
["","","","","","","","",""]
["","","","","","","","",""]
["","","","","","","","",""]
["","","","","","","","",""]
["Summa",null,null,null,null,{"$f":"SUM(F173:F202)","v":0}]

{"sheet":"Uppgradering","index":2,"n_rows":160,"n_cols":59,"rows_kept":160,"cut":false,"hidden":false,"merged":[[1,50,1,58],[2,1,2,5],[2,50,2,58],[0,49,0,58],[3,0,3,10],[93,4,93,6],[70,4,70,6],[1,1,1,5],[70,36,70,37],[159,0,159,1],[3,30,3,34],[137,0,137,1],[114,0,114,1],[91,0,91,1],[3,12,3,16],[3,18,3,22],[3,24,3,28],[68,36,68,37],[69,36,69,37]]}
["HBK Biogasredovisning, ver 3.6 - Uppgradering av biogas till fordonskvalitet",null,null,null,null,null,null,null,null,null,null,null,null,null,null,null,null,null,null,null,null,null,null,null,null,null,null,null,null,null,null,null,null,null,null,null,null,null,null,null,null,null,null,null,null,null,null,null,null,"Underlag för redovisning av hållbarhetsdata till annan aktör som distribuerar biogasen "]
["Företag (länkad från bladet produktion):",{"$f":"Produktion!B2","v":"NNN"},null,null,null,null,null,null,null,null,null,null,null,null,null,null,null,null,null,null,null,null,null,null,null,null,null,null,null,null,null,null,null,null,null,null,null,null,null,null,null,null,null,null,null,null,null,null,null,{"$f":"A2","v":"Företag (länkad från bladet produktion):"},{"$f":"B2","v":"NNN"}]
["Rapportperiod (länkad från bladet produktion):",{"$f":"Produktion!B3","v":"2020-01-01 -- 2020-12-31"},null,null,null,null,null,null,null,null,null,null,null,null,null,null,null,null,null,null,null,null,null,null,null,null,null,null,null,null,null,null,null,null,null,null,null,null,null,null,null,null,null,null,null,null,null,null,null,{"$f":"A3","v":"Rapportperiod (länkad från bladet produktion):"},{"$f":"B3","v":"2020-01-01 -- 2020-12-31"}]
["Inkommande rågas",null,null,null,null,null,null,null,null,null,null,null,"Uppgradering anläggning 1",null,null,null,null,null,"Uppgradering anläggning 2",null,null,null,null,null,"Uppgradering anläggning 3",null,null,null,null,null,"Uppgradering - flytande biogas (LBG)",null,null,null,null,null,"Uppgraderad gas - sammanfattning, länkas till distribution"]
[null,"Parti nr","Kompletterande information","Ursprung","Substrat, typ","Normalvärde,\nNej=Faktisk beräkning",{"$f":"IF(Produktion!G131=\"Nm3\", \"Mängd, Nm3 (tusental) \", \"Mängd, kg (tusental) \")","v":"Mängd, Nm3 (tusental) "},"Enhet, Nm3/kg","Metanhalt, %","Växthusgas-utsläpp, g CO2eq/MJ","Biogas till uppgradering, Nm3 (tusental)","Parti nr","Mängd rågas in, Nm3 (tusental)",{"$f":"IF(C76=\"Nm3\", \"Mängd uppgraderad, Nm3 (tusental) \", \"Mängd uppgraderad biogas, kg (tusental)\")","v":"Mängd uppgraderad biogas, kg (tusental)"},"Enhet, Nm3/kg","Metanhalt uppgraderad gas, %","Växthusgas-utsläpp, g CO2eq/MJ","Parti nr","Mängd rågas in, Nm3 (tusental)","Mängd uppgraderad gas, Nm3 (tusental)","Enhet, Nm3/kg","Metanhalt uppgraderad gas, %","Växthusgas-utsläpp, g CO2eq/MJ","Parti nr","Mängd rågas in, Nm3 (tusental)","Mängd uppgraderad gas, Nm3 (tusental)","Enhet, Nm3/kg","Metanhalt uppgraderad gas, %","Växthusgas-utsläpp, g CO2eq/MJ","Parti nr","Mängd rågas in, Nm3 (tusental)","Mängd uppgraderad gas, kg (tusental)","Enhet, kg","Metanhalt uppgraderad gas, %","Växthusgas-utsläpp, g CO2eq/MJ","Parti nr","Summa rågas till uppgradering, Nm3 (tusental)","Avvikelse rågasfördelning, Nm3 (tusental)","Summa uppgraderad gas, Nm3 / kg (tusental)","Enhet, Nm3/kg","Form, Gas/flytande","Sålt till annan aktör med skatteuppskov,  Nm3 / kg (tusental)","Till förvätskning,  Nm3 / kg (tusental)","Till distribution i egna anläggningar,  Nm3 / kg (tusental)","Metanhalt, %","Normalvärde,\nNej=Faktisk beräkning","Växthusgasutsläpp, uppgradering, g CO2eq/MJ","Växthusgasutsläpp, summa produktion och uppgradering CO2eq/MJ","Parti nr","Substrat","Kompletterande information","Ursprung","Substrat, typ","Normalvärde,\nNej=Faktisk beräkning","Mängd biogas, Nm3 / kg(tusental)","Form, Gas / flytande","Enhet","Metanhalt, %","Växthusgasutsläpp, summa produktion och uppgradering CO2eq/MJ"]
["Egen produktion av biogas (från bladet Produktion)"]
[{"$f":"Produktion!A138","v":""},1,{"$f":"Produktion!C138","v":""},{"$f":"Produktion!D138","v":""},{"$f":"Produktion!E138","v":""},{"$f":"Produktion!F138","v":""},{"$f":"Produktion!T138","v":""},{"$f":"IF(A7<>\"\",Produktion!$G$131,\"\")","v":""},{"$f":"IF(A7<>\"\",Produktion!$F$128,\"\")","v":""},{"$f":"Produktion!P138","v":""},{"$f":"IF(H7=\"kg\",G7/Denscalc(I7),G7)","v":""},1,null,{"$f":"IF(M7<>\"\",$C$75/$M$68*M7,\"\")","v":""},{"$f":"IF(M7>0,$C$76,\"\")","v":""},{"$f":"IF(M7<>\"\",$B$77,\"\")","v":""},{"$f":"IF(M7<>\"\",IF($F7=\"Nej\",IF($C$76=\"Nm3\",($F$92*1000*1000/($N$68*1000*  $B$77) / Data!$B$6),($F$92*1000*1000/(($N$68*1000 / Denscalc($B$77))*  $B$77) / Data!$B$6)),0  ),\"\")","v":""},1,null,{"$f":"IF(S7<>\"\",$C$98/$S$68*S7,\"\")","v":""},{"$f":"IF(S7>0,$C$99,\"\")","v":""},{"$f":"IF(S7<>\"\",$B$100,\"\")","v":""},{"$f":"IF(S7<>\"\",IF($F7=\"Nej\", IF($C$99=\"Nm3\",($F$115*1000*1000/($T$68*1000*  $B$100) / Data!$B$6),($F$115*1000*1000/(($T$68*1000 / Denscalc($B$100))*  $B$100) / Data!$B$6)),0 ),\"\")","v":""},1,null,{"$f":"IF(Y7<>\"\",$C$121/$Y$68*Y7,\"\")","v":""},{"$f":"IF(Y7>0, $C$122,\"\")","v":""},{"$f":"IF(Y7<>\"\",$B$123,\"\")","v":""},{"$f":"IF(Y7<>\"\",IF($F7=\"Nej\", IF($C$122=\"Nm3\",($F$138*1000*1000/($Z$68*1000*  $B$123) / Data!$B$6),($F$138*1000*1000/(($Z$68*1000 / Denscalc($B$123))*  $B$123) / Data!$B$6)),0  ),\"\")","v":""},1,null,{"$f":"IF(AE7<>\"\",$C$144/$AE$68*AE7,\"\")","v":""},{"$f":"IF(AE7>0,\"kg\",\"\")","v":""},{"$f":"IF(AE7<>\"\",$B$145,\"\")","v":""},{"$f":"IF(AE7<>\"\",IF(F7=\"Nej\",($F$160*1000*1000/($AF$69*1000 *   AH7 )) / Data!$B$7, 0   ),\"\")","v":""},1,{"$f":"IF(A7<>\"\",IF(AE7>0, AE7, (M7+S7+Y7)),\"\")","v":""},{"$f":"IF(A7<>\"\",K7-AK7,\"\")","v":""},{"$f":"IF(A7<>\"\",IF(AE7>0, AF7, SUM(N7,T7,Z7)),\"\")","v":""},{"$f":"IF(A7<>\"\",IF(OR(AA7=\"kg\",U7=\"kg\",O7=\"kg\",AG7=\"kg\"),\"kg\",\"Nm3\"),\"\")","v":""},{"$f":"IF(A7<>\"\", IF(OR(AF7=0,AF7=\"\"), \"Gas\", \"Flytande\"),\"\")","v":""},null,null,{"$f":"IF(A7<>\"\",(AM7-AP7-AQ7),\"\")","v":""},{"$f":"IF(A7<>\"\",IF(AE7>0,AH7, IF(AM7>0,(IF(N7<>\"\",N7*P7,0)+IF(T7<>\"\",T7*V7,0)+IF(Z7<>\"\",Z7*AB7,0))/AM7,0)),\"\")","v":""},{"$f":"IF(F7<>0,F7,\"\")","v":""},{"$f":"IF(A7<>\"\",IF(AE7>0,AI7, IF(AM7>0,(IF(N7<>\"\",Q7*N7*P7,0)+IF(T7<>\"\",W7*T7*V7,0)+IF(Z7<>\"\",AC7*Z7*AB7,0))/(AM7*AS7),0)),\"\")","v":""},{"$f":"IF(A7<>\"\",IF(AT7=\"Nej\",SUM(J7+AU7),AT7),\"\")","v":""},1,{"$f":"IF(AP7>0,A7,\"\")","v":""},{"$f":"IF(AP7>0,C7,\"\")","v":""},{"$f":"IF(AP7>0,D7,\"\")","v":""},{"$f":"IF(AP7>0,E7,\"\")","v":""},{"$f":"IF(AP7>0,F7,\"\")","v":""},{"$f":"IF(AP7>0,AP7,\"\")","v":""},{"$f":"IF(AP7>0,AO7,\"\")","v":""},{"$f":"IF(AP7>0,AN7,\"\")","v":""},{"$f":"IF(AP7>0,AS7,\"\")","v":""},{"$f":"IF(AP7>0,AV7,\"\")","v":""}]
[{"$f":"Produktion!A139","v":""},2,{"$f":"Produktion!C139","v":""},{"$f":"Produktion!D139","v":""},{"$f":"Produktion!E139","v":""},{"$f":"Produktion!F139","v":""},{"$f":"Produktion!T139","v":""},{"$f":"IF(A8<>\"\",Produktion!$G$131,\"\")","v":""},{"$f":"IF(A8<>\"\",Produktion!$F$128,\"\")","v":""},{"$f":"Produktion!P139","v":""},{"$f":"IF(H8=\"kg\",G8/Denscalc(I8),G8)","v":""},2,null,"",{"$f":"IF(M8>0,$C$76,\"\")","v":""},{"$f":"IF(M8<>\"\",$B$77,\"\")","v":""},{"$f":"IF(M8<>\"\",IF($F8=\"Nej\",IF($C$76=\"Nm3\",($F$92*1000*1000/($N$68*1000*  $B$77) / Data!$B$6),($F$92*1000*1000/(($N$68*1000 / Denscalc($B$77))*  $B$77) / Data!$B$6)),0  ),\"\")","v":""},2,null,"","","",{"$f":"IF(S8<>\"\",IF($F8=\"Nej\", IF($C$99=\"Nm3\",($F$115*1000*1000/($T$68*1000*  $B$100) / Data!$B$6),($F$115*1000*1000/(($T$68*1000 / Denscalc($B$100))*  $B$100) / Data!$B$6)),0 ),\"\")","v":""},2,null,"","","",{"$f":"IF(Y8<>\"\",IF($F8=\"Nej\", IF($C$122=\"Nm3\",($F$138*1000*1000/($Z$68*1000*  $B$123) / Data!$B$6),($F$138*1000*1000/(($Z$68*1000 / Denscalc($B$123))*  $B$123) / Data!$B$6)),0  ),\"\")","v":""},2,null,"",{"$f":"IF(AE8>0,\"kg\",\"\")","v":""},"",{"$f":"IF(AE8<>\"\",IF(F8=\"Nej\",($F$160*1000*1000/($AF$69*1000 *   AH8 )) / Data!$B$7, 0   ),\"\")","v":""},2,{"$f":"IF(A8<>\"\",IF(AE8>0, AE8, (M8+S8+Y8)),\"\")","v":""},{"$f":"IF(A8<>\"\",K8-AK8,\"\")","v":""},{"$f":"IF(A8<>\"\",IF(AE8>0, AF8, SUM(N8,T8,Z8)),\"\")","v":""},{"$f":"IF(A8<>\"\",IF(OR(AA8=\"kg\",U8=\"kg\",O8=\"kg\",AG8=\"kg\"),\"kg\",\"Nm3\"),\"\")","v":""},{"$f":"IF(A8<>\"\", IF(OR(AF8=0,AF8=\"\"), \"Gas\", \"Flytande\"),\"\")","v":""},null,null,{"$f":"IF(A8<>\"\",(AM8-AP8-AQ8),\"\")","v":""},"","","",{"$f":"IF(A8<>\"\",IF(AT8=\"Nej\",SUM(J8+AU8),AT8),\"\")","v":""},2,{"$f":"IF(AP8>0,A8,\"\")","v":""},{"$f":"IF(AP8>0,C8,\"\")","v":""},{"$f":"IF(AP8>0,D8,\"\")","v":""},{"$f":"IF(AP8>0,E8,\"\")","v":""},{"$f":"IF(AP8>0,F8,\"\")","v":""},{"$f":"IF(AP8>0,AP8,\"\")","v":""},{"$f":"IF(AP8>0,AO8,\"\")","v":""},{"$f":"IF(AP8>0,AN8,\"\")","v":""},{"$f":"IF(AP8>0,AS8,\"\")","v":""},{"$f":"IF(AP8>0,AV8,\"\")","v":""}]
[{"$f":"Produktion!A140","v":""},3,{"$f":"Produktion!C140","v":""},{"$f":"Produktion!D140","v":""},{"$f":"Produktion!E140","v":""},{"$f":"Produktion!F140","v":""},{"$f":"Produktion!T140","v":""},{"$f":"IF(A9<>\"\",Produktion!$G$131,\"\")","v":""},{"$f":"IF(A9<>\"\",Produktion!$F$128,\"\")","v":""},{"$f":"Produktion!P140","v":""},"",3,null,"","","",{"$f":"IF(M9<>\"\",IF($F9=\"Nej\",IF($C$76=\"Nm3\",($F$92*1000*1000/($N$68*1000*  $B$77) / Data!$B$6),($F$92*1000*1000/(($N$68*1000 / Denscalc($B$77))*  $B$77) / Data!$B$6)),0  ),\"\")","v":""},3,null,"","","",{"$f":"IF(S9<>\"\",IF($F9=\"Nej\", IF($C$99=\"Nm3\",($F$115*1000*1000/($T$68*1000*  $B$100) / Data!$B$6),($F$115*1000*1000/(($T$68*1000 / Denscalc($B$100))*  $B$100) / Data!$B$6)),0 ),\"\")","v":""},3,null,"","","",{"$f":"IF(Y9<>\"\",IF($F9=\"Nej\", IF($C$122=\"Nm3\",($F$138*1000*1000/($Z$68*1000*  $B$123) / Data!$B$6),($F$138*1000*1000/(($Z$68*1000 / Denscalc($B$123))*  $B$123) / Data!$B$6)),0  ),\"\")","v":""},3,null,"","","",{"$f":"IF(AE9<>\"\",IF(F9=\"Nej\",($F$160*1000*1000/($AF$69*1000 *   AH9 )) / Data!$B$7, 0   ),\"\")","v":""},3,"","","","","",null,null,"","","","","",3,"","","","","","","","","",""]
[{"$f":"Produktion!A141","v":""},4,{"$f":"Produktion!C141","v":""},{"$f":"Produktion!D141","v":""},{"$f":"Produktion!E141","v":""},{"$f":"Produktion!F141","v":""},{"$f":"Produktion!T141","v":""},{"$f":"IF(A10<>\"\",Produktion!$G$131,\"\")","v":""},{"$f":"IF(A10<>\"\",Produktion!$F$128,\"\")","v":""},{"$f":"Produktion!P141","v":""},"",4,null,"","","",{"$f":"IF(M10<>\"\",IF($F10=\"Nej\",IF($C$76=\"Nm3\",($F$92*1000*1000/($N$68*1000*  $B$77) / Data!$B$6),($F$92*1000*1000/(($N$68*1000 / Denscalc($B$77))*  $B$77) / Data!$B$6)),0  ),\"\")","v":""},4,null,"","","",{"$f":"IF(S10<>\"\",IF($F10=\"Nej\", IF($C$99=\"Nm3\",($F$115*1000*1000/($T$68*1000*  $B$100) / Data!$B$6),($F$115*1000*1000/(($T$68*1000 / Denscalc($B$100))*  $B$100) / Data!$B$6)),0 ),\"\")","v":""},4,null,"","","",{"$f":"IF(Y10<>\"\",IF($F10=\"Nej\", IF($C$122=\"Nm3\",($F$138*1000*1000/($Z$68*1000*  $B$123) / Data!$B$6),($F$138*1000*1000/(($Z$68*1000 / Denscalc($B$123))*  $B$123) / Data!$B$6)),0  ),\"\")","v":""},4,null,"","","",{"$f":"IF(AE10<>\"\",IF(F10=\"Nej\",($F$160*1000*1000/($AF$69*1000 *   AH10 )) / Data!$B$7, 0   ),\"\")","v":""},4,"","","","","",null,null,"","","","","",4,"","","","","","","","","",""]
[{"$f":"Produktion!A142","v":""},5,{"$f":"Produktion!C142","v":""},{"$f":"Produktion!D142","v":""},{"$f":"Produktion!E142","v":""},{"$f":"Produktion!F142","v":""},{"$f":"Produktion!T142","v":""},{"$f":"IF(A11<>\"\",Produktion!$G$131,\"\")","v":""},{"$f":"IF(A11<>\"\",Produktion!$F$128,\"\")","v":""},{"$f":"Produktion!P142","v":""},"",5,null,"","","",{"$f":"IF(M11<>\"\",IF($F11=\"Nej\",IF($C$76=\"Nm3\",($F$92*1000*1000/($N$68*1000*  $B$77) / Data!$B$6),($F$92*1000*1000/(($N$68*1000 / Denscalc($B$77))*  $B$77) / Data!$B$6)),0  ),\"\")","v":""},5,null,"","","",{"$f":"IF(S11<>\"\",IF($F11=\"Nej\", IF($C$99=\"Nm3\",($F$115*1000*1000/($T$68*1000*  $B$100) / Data!$B$6),($F$115*1000*1000/(($T$68*1000 / Denscalc($B$100))*  $B$100) / Data!$B$6)),0 ),\"\")","v":""},5,null,"","","",{"$f":"IF(Y11<>\"\",IF($F11=\"Nej\", IF($C$122=\"Nm3\",($F$138*1000*1000/($Z$68*1000*  $B$123) / Data!$B$6),($F$138*1000*1000/(($Z$68*1000 / Denscalc($B$123))*  $B$123) / Data!$B$6)),0  ),\"\")","v":""},5,null,"","","",{"$f":"IF(AE11<>\"\",IF(F11=\"Nej\",($F$160*1000*1000/($AF$69*1000 *   AH11 )) / Data!$B$7, 0   ),\"\")","v":""},5,"","","","","",null,null,"","","","","",5,"","","","","","","","","",""]
[{"$f":"Produktion!A143","v":""},6,{"$f":"Produktion!C143","v":""},{"$f":"Produktion!D143","v":""},{"$f":"Produktion!E143","v":""},{"$f":"Produktion!F143","v":""},{"$f":"Produktion!T143","v":""},{"$f":"IF(A12<>\"\",Produktion!$G$131,\"\")","v":""},{"$f":"IF(A12<>\"\",Produktion!$F$128,\"\")","v":""},{"$f":"Produktion!P143","v":""},"",6,null,"","","",{"$f":"IF(M12<>\"\",IF($F12=\"Nej\",IF($C$76=\"Nm3\",($F$92*1000*1000/($N$68*1000*  $B$77) / Data!$B$6),($F$92*1000*1000/(($N$68*1000 / Denscalc($B$77))*  $B$77) / Data!$B$6)),0  ),\"\")","v":""},6,null,"","","",{"$f":"IF(S12<>\"\",IF($F12=\"Nej\", IF($C$99=\"Nm3\",($F$115*1000*1000/($T$68*1000*  $B$100) / Data!$B$6),($F$115*1000*1000/(($T$68*1000 / Denscalc($B$100))*  $B$100) / Data!$B$6)),0 ),\"\")","v":""},6,null,"","","",{"$f":"IF(Y12<>\"\",IF($F12=\"Nej\", IF($C$122=\"Nm3\",($F$138*1000*1000/($Z$68*1000*  $B$123) / Data!$B$6),($F$138*1000*1000/(($Z$68*1000 / Denscalc($B$123))*  $B$123) / Data!$B$6)),0  ),\"\")","v":""},6,null,"","","",{"$f":"IF(AE12<>\"\",IF(F12=\"Nej\",($F$160*1000*1000/($AF$69*1000 *   AH12 )) / Data!$B$7, 0   ),\"\")","v":""},6,"","","","","",null,null,"","","","","",6,"","","","","","","","","",""]
[{"$f":"Produktion!A144","v":""},7,{"$f":"Produktion!C144","v":""},{"$f":"Produktion!D144","v":""},{"$f":"Produktion!E144","v":""},{"$f":"Produktion!F144","v":""},{"$f":"Produktion!T144","v":""},{"$f":"IF(A13<>\"\",Produktion!$G$131,\"\")","v":""},{"$f":"IF(A13<>\"\",Produktion!$F$128,\"\")","v":""},{"$f":"Produktion!P144","v":""},"",7,null,"","","",{"$f":"IF(M13<>\"\",IF($F13=\"Nej\",IF($C$76=\"Nm3\",($F$92*1000*1000/($N$68*1000*  $B$77) / Data!$B$6),($F$92*1000*1000/(($N$68*1000 / Denscalc($B$77))*  $B$77) / Data!$B$6)),0  ),\"\")","v":""},7,null,"","","",{"$f":"IF(S13<>\"\",IF($F13=\"Nej\", IF($C$99=\"Nm3\",($F$115*1000*1000/($T$68*1000*  $B$100) / Data!$B$6),($F$115*1000*1000/(($T$68*1000 / Denscalc($B$100))*  $B$100) / Data!$B$6)),0 ),\"\")","v":""},7,null,"","","",{"$f":"IF(Y13<>\"\",IF($F13=\"Nej\", IF($C$122=\"Nm3\",($F$138*1000*1000/($Z$68*1000*  $B$123) / Data!$B$6),($F$138*1000*1000/(($Z$68*1000 / Denscalc($B$123))*  $B$123) / Data!$B$6)),0  ),\"\")","v":""},7,null,"","","",{"$f":"IF(AE13<>\"\",IF(F13=\"Nej\",($F$160*1000*1000/($AF$69*1000 *   AH13 )) / Data!$B$7, 0   ),\"\")","v":""},7,"","","","","",null,null,"","","","","",7,"","","","","","","","","",""]
[{"$f":"Produktion!A145","v":""},8,{"$f":"Produktion!C145","v":""},{"$f":"Produktion!D145","v":""},{"$f":"Produktion!E145","v":""},{"$f":"Produktion!F145","v":""},{"$f":"Produktion!T145","v":""},{"$f":"IF(A14<>\"\",Produktion!$G$131,\"\")","v":""},{"$f":"IF(A14<>\"\",Produktion!$F$128,\"\")","v":""},{"$f":"Produktion!P145","v":""},"",8,null,"","","",{"$f":"IF(M14<>\"\",IF($F14=\"Nej\",IF($C$76=\"Nm3\",($F$92*1000*1000/($N$68*1000*  $B$77) / Data!$B$6),($F$92*1000*1000/(($N$68*1000 / Denscalc($B$77))*  $B$77) / Data!$B$6)),0  ),\"\")","v":""},8,null,"","","",{"$f":"IF(S14<>\"\",IF($F14=\"Nej\", IF($C$99=\"Nm3\",($F$115*1000*1000/($T$68*1000*  $B$100) / Data!$B$6),($F$115*1000*1000/(($T$68*1000 / Denscalc($B$100))*  $B$100) / Data!$B$6)),0 ),\"\")","v":""},8,null,"","","",{"$f":"IF(Y14<>\"\",IF($F14=\"Nej\", IF($C$122=\"Nm3\",($F$138*1000*1000/($Z$68*1000*  $B$123) / Data!$B$6),($F$138*1000*1000/(($Z$68*1000 / Denscalc($B$123))*  $B$123) / Data!$B$6)),0  ),\"\")","v":""},8,null,"","","",{"$f":"IF(AE14<>\"\",IF(F14=\"Nej\",($F$160*1000*1000/($AF$69*1000 *   AH14 )) / Data!$B$7, 0   ),\"\")","v":""},8,"","","","","",null,null,"","","","","",8,"","","","","","","","","",""]
[{"$f":"Produktion!A146","v":""},9,{"$f":"Produktion!C146","v":""},{"$f":"Produktion!D146","v":""},{"$f":"Produktion!E146","v":""},{"$f":"Produktion!F146","v":""},{"$f":"Produktion!T146","v":""},{"$f":"IF(A15<>\"\",Produktion!$G$131,\"\")","v":""},{"$f":"IF(A15<>\"\",Produktion!$F$128,\"\")","v":""},{"$f":"Produktion!P146","v":""},"",9,null,"","","",{"$f":"IF(M15<>\"\",IF($F15=\"Nej\",IF($C$76=\"Nm3\",($F$92*1000*1000/($N$68*1000*  $B$77) / Data!$B$6),($F$92*1000*1000/(($N$68*1000 / Denscalc($B$77))*  $B$77) / Data!$B$6)),0  ),\"\")","v":""},9,null,"","","",{"$f":"IF(S15<>\"\",IF($F15=\"Nej\", IF($C$99=\"Nm3\",($F$115*1000*1000/($T$68*1000*  $B$100) / Data!$B$6),($F$115*1000*1000/(($T$68*1000 / Denscalc($B$100))*  $B$100) / Data!$B$6)),0 ),\"\")","v":""},9,null,"","","",{"$f":"IF(Y15<>\"\",IF($F15=\"Nej\", IF($C$122=\"Nm3\",($F$138*1000*1000/($Z$68*1000*  $B$123) / Data!$B$6),($F$138*1000*1000/(($Z$68*1000 / Denscalc($B$123))*  $B$123) / Data!$B$6)),0  ),\"\")","v":""},9,null,"","","",{"$f":"IF(AE15<>\"\",IF(F15=\"Nej\",($F$160*1000*1000/($AF$69*1000 *   AH15 )) / Data!$B$7, 0   ),\"\")","v":""},9,"","","","","",null,null,"","","","","",9,"","","","","","","","","",""]
[{"$f":"Produktion!A147","v":""},10,{"$f":"Produktion!C147","v":""},{"$f":"Produktion!D147","v":""},{"$f":"Produktion!E147","v":""},{"$f":"Produktion!F147","v":""},{"$f":"Produktion!T147","v":""},{"$f":"IF(A16<>\"\",Produktion!$G$131,\"\")","v":""},{"$f":"IF(A16<>\"\",Produktion!$F$128,\"\")","v":""},{"$f":"Produktion!P147","v":""},"",10,null,"","","",{"$f":"IF(M16<>\"\",IF($F16=\"Nej\",IF($C$76=\"Nm3\",($F$92*1000*1000/($N$68*1000*  $B$77) / Data!$B$6),($F$92*1000*1000/(($N$68*1000 / Denscalc($B$77))*  $B$77) / Data!$B$6)),0  ),\"\")","v":""},10,null,"","","",{"$f":"IF(S16<>\"\",IF($F16=\"Nej\", IF($C$99=\"Nm3\",($F$115*1000*1000/($T$68*1000*  $B$100) / Data!$B$6),($F$115*1000*1000/(($T$68*1000 / Denscalc($B$100))*  $B$100) / Data!$B$6)),0 ),\"\")","v":""},10,null,"","","",{"$f":"IF(Y16<>\"\",IF($F16=\"Nej\", IF($C$122=\"Nm3\",($F$138*1000*1000/($Z$68*1000*  $B$123) / Data!$B$6),($F$138*1000*1000/(($Z$68*1000 / Denscalc($B$123))*  $B$123) / Data!$B$6)),0  ),\"\")","v":""},10,null,"","","",{"$f":"IF(AE16<>\"\",IF(F16=\"Nej\",($F$160*1000*1000/($AF$69*1000 *   AH16 )) / Data!$B$7, 0   ),\"\")","v":""},10,"","","","","",null,null,"","","","","",10,"","","","","","","","","",""]
[{"$f":"Produktion!A148","v":""},11,{"$f":"Produktion!C148","v":""},{"$f":"Produktion!D148","v":""},{"$f":"Produktion!E148","v":""},{"$f":"Produktion!F148","v":""},{"$f":"Produktion!T148","v":""},{"$f":"IF(A17<>\"\",Produktion!$G$131,\"\")","v":""},{"$f":"IF(A17<>\"\",Produktion!$F$128,\"\")","v":""},{"$f":"Produktion!P148","v":""},"",11,null,"","","",{"$f":"IF(M17<>\"\",IF($F17=\"Nej\",IF($C$76=\"Nm3\",($F$92*1000*1000/($N$68*1000*  $B$77) / Data!$B$6),($F$92*1000*1000/(($N$68*1000 / Denscalc($B$77))*  $B$77) / Data!$B$6)),0  ),\"\")","v":""},11,null,"","","",{"$f":"IF(S17<>\"\",IF($F17=\"Nej\", IF($C$99=\"Nm3\",($F$115*1000*1000/($T$68*1000*  $B$100) / Data!$B$6),($F$115*1000*1000/(($T$68*1000 / Denscalc($B$100))*  $B$100) / Data!$B$6)),0 ),\"\")","v":""},11,null,"","","",{"$f":"IF(Y17<>\"\",IF($F17=\"Nej\", IF($C$122=\"Nm3\",($F$138*1000*1000/($Z$68*1000*  $B$123) / Data!$B$6),($F$138*1000*1000/(($Z$68*1000 / Denscalc($B$123))*  $B$123) / Data!$B$6)),0  ),\"\")","v":""},11,null,"","","",{"$f":"IF(AE17<>\"\",IF(F17=\"Nej\",($F$160*1000*1000/($AF$69*1000 *   AH17 )) / Data!$B$7, 0   ),\"\")","v":""},11,"","","","","",null,null,"","","","","",11,"","","","","","","","","",""]
[{"$f":"Produktion!A149","v":""},12,{"$f":"Produktion!C149","v":""},{"$f":"Produktion!D149","v":""},{"$f":"Produktion!E149","v":""},{"$f":"Produktion!F149","v":""},{"$f":"Produktion!T149","v":""},{"$f":"IF(A18<>\"\",Produktion!$G$131,\"\")","v":""},{"$f":"IF(A18<>\"\",Produktion!$F$128,\"\")","v":""},{"$f":"Produktion!P149","v":""},"",12,null,"","","",{"$f":"IF(M18<>\"\",IF($F18=\"Nej\",IF($C$76=\"Nm3\",($F$92*1000*1000/($N$68*1000*  $B$77) / Data!$B$6),($F$92*1000*1000/(($N$68*1000 / Denscalc($B$77))*  $B$77) / Data!$B$6)),0  ),\"\")","v":""},12,null,"","","",{"$f":"IF(S18<>\"\",IF($F18=\"Nej\", IF($C$99=\"Nm3\",($F$115*1000*1000/($T$68*1000*  $B$100) / Data!$B$6),($F$115*1000*1000/(($T$68*1000 / Denscalc($B$100))*  $B$100) / Data!$B$6)),0 ),\"\")","v":""},12,null,"","","",{"$f":"IF(Y18<>\"\",IF($F18=\"Nej\", IF($C$122=\"Nm3\",($F$138*1000*1000/($Z$68*1000*  $B$123) / Data!$B$6),($F$138*1000*1000/(($Z$68*1000 / Denscalc($B$123))*  $B$123) / Data!$B$6)),0  ),\"\")","v":""},12,null,"","","",{"$f":"IF(AE18<>\"\",IF(F18=\"Nej\",($F$160*1000*1000/($AF$69*1000 *   AH18 )) / Data!$B$7, 0   ),\"\")","v":""},12,"","","","","",null,null,"","","","","",12,"","","","","","","","","",""]
[{"$f":"Produktion!A150","v":""},13,{"$f":"Produktion!C150","v":""},{"$f":"Produktion!D150","v":""},{"$f":"Produktion!E150","v":""},{"$f":"Produktion!F150","v":""},{"$f":"Produktion!T150","v":""},{"$f":"IF(A19<>\"\",Produktion!$G$131,\"\")","v":""},{"$f":"IF(A19<>\"\",Produktion!$F$128,\"\")","v":""},{"$f":"Produktion!P150","v":""},"",13,null,"","","",{"$f":"IF(M19<>\"\",IF($F19=\"Nej\",IF($C$76=\"Nm3\",($F$92*1000*1000/($N$68*1000*  $B$77) / Data!$B$6),($F$92*1000*1000/(($N$68*1000 / Denscalc($B$77))*  $B$77) / Data!$B$6)),0  ),\"\")","v":""},13,null,"","","",{"$f":"IF(S19<>\"\",IF($F19=\"Nej\", IF($C$99=\"Nm3\",($F$115*1000*1000/($T$68*1000*  $B$100) / Data!$B$6),($F$115*1000*1000/(($T$68*1000 / Denscalc($B$100))*  $B$100) / Data!$B$6)),0 ),\"\")","v":""},13,null,"","","",{"$f":"IF(Y19<>\"\",IF($F19=\"Nej\", IF($C$122=\"Nm3\",($F$138*1000*1000/($Z$68*1000*  $B$123) / Data!$B$6),($F$138*1000*1000/(($Z$68*1000 / Denscalc($B$123))*  $B$123) / Data!$B$6)),0  ),\"\")","v":""},13,null,"","","",{"$f":"IF(AE19<>\"\",IF(F19=\"Nej\",($F$160*1000*1000/($AF$69*1000 *   AH19 )) / Data!$B$7, 0   ),\"\")","v":""},13,"","","","","",null,null,"","","","","",13,"","","","","","","","","",""]
[{"$f":"Produktion!A151","v":""},14,{"$f":"Produktion!C151","v":""},{"$f":"Produktion!D151","v":""},{"$f":"Produktion!E151","v":""},{"$f":"Produktion!F151","v":""},{"$f":"Produktion!T151","v":""},{"$f":"IF(A20<>\"\",Produktion!$G$131,\"\")","v":""},{"$f":"IF(A20<>\"\",Produktion!$F$128,\"\")","v":""},{"$f":"Produktion!P151","v":""},"",14,null,"","","",{"$f":"IF(M20<>\"\",IF($F20=\"Nej\",IF($C$76=\"Nm3\",($F$92*1000*1000/($N$68*1000*  $B$77) / Data!$B$6),($F$92*1000*1000/(($N$68*1000 / Denscalc($B$77))*  $B$77) / Data!$B$6)),0  ),\"\")","v":""},14,null,"","","",{"$f":"IF(S20<>\"\",IF($F20=\"Nej\", IF($C$99=\"Nm3\",($F$115*1000*1000/($T$68*1000*  $B$100) / Data!$B$6),($F$115*1000*1000/(($T$68*1000 / Denscalc($B$100))*  $B$100) / Data!$B$6)),0 ),\"\")","v":""},14,null,"","","",{"$f":"IF(Y20<>\"\",IF($F20=\"Nej\", IF($C$122=\"Nm3\",($F$138*1000*1000/($Z$68*1000*  $B$123) / Data!$B$6),($F$138*1000*1000/(($Z$68*1000 / Denscalc($B$123))*  $B$123) / Data!$B$6)),0  ),\"\")","v":""},14,null,"","","",{"$f":"IF(AE20<>\"\",IF(F20=\"Nej\",($F$160*1000*1000/($AF$69*1000 *   AH20 )) / Data!$B$7, 0   ),\"\")","v":""},14,"","","","","",null,null,"","","","","",14,"","","","","","","","","",""]
[{"$f":"Produktion!A152","v":""},15,{"$f":"Produktion!C152","v":""},{"$f":"Produktion!D152","v":""},{"$f":"Produktion!E152","v":""},{"$f":"Produktion!F152","v":""},{"$f":"Produktion!T152","v":""},{"$f":"IF(A21<>\"\",Produktion!$G$131,\"\")","v":""},{"$f":"IF(A21<>\"\",Produktion!$F$128,\"\")","v":""},{"$f":"Produktion!P152","v":""},"",15,null,"","","",{"$f":"IF(M21<>\"\",IF($F21=\"Nej\",IF($C$76=\"Nm3\",($F$92*1000*1000/($N$68*1000*  $B$77) / Data!$B$6),($F$92*1000*1000/(($N$68*1000 / Denscalc($B$77))*  $B$77) / Data!$B$6)),0  ),\"\")","v":""},15,null,"","","",{"$f":"IF(S21<>\"\",IF($F21=\"Nej\", IF($C$99=\"Nm3\",($F$115*1000*1000/($T$68*1000*  $B$100) / Data!$B$6),($F$115*1000*1000/(($T$68*1000 / Denscalc($B$100))*  $B$100) / Data!$B$6)),0 ),\"\")","v":""},15,null,"","","",{"$f":"IF(Y21<>\"\",IF($F21=\"Nej\", IF($C$122=\"Nm3\",($F$138*1000*1000/($Z$68*1000*  $B$123) / Data!$B$6),($F$138*1000*1000/(($Z$68*1000 / Denscalc($B$123))*  $B$123) / Data!$B$6)),0  ),\"\")","v":""},15,null,"","","",{"$f":"IF(AE21<>\"\",IF(F21=\"Nej\",($F$160*1000*1000/($AF$69*1000 *   AH21 )) / Data!$B$7, 0   ),\"\")","v":""},15,"","","","","",null,null,"","","","","",15,"","","","","","","","","",""]
[{"$f":"Produktion!A153","v":""},16,{"$f":"Produktion!C153","v":""},{"$f":"Produktion!D153","v":""},{"$f":"Produktion!E153","v":""},{"$f":"Produktion!F153","v":""},{"$f":"Produktion!T153","v":""},{"$f":"IF(A22<>\"\",Produktion!$G$131,\"\")","v":""},{"$f":"IF(A22<>\"\",Produktion!$F$128,\"\")","v":""},{"$f":"Produktion!P153","v":""},"",16,null,"","","",{"$f":"IF(M22<>\"\",IF($F22=\"Nej\",IF($C$76=\"Nm3\",($F$92*1000*1000/($N$68*1000*  $B$77) / Data!$B$6),($F$92*1000*1000/(($N$68*1000 / Denscalc($B$77))*  $B$77) / Data!$B$6)),0  ),\"\")","v":""},16,null,"","","",{"$f":"IF(S22<>\"\",IF($F22=\"Nej\", IF($C$99=\"Nm3\",($F$115*1000*1000/($T$68*1000*  $B$100) / Data!$B$6),($F$115*1000*1000/(($T$68*1000 / Denscalc($B$100))*  $B$100) / Data!$B$6)),0 ),\"\")","v":""},16,null,"","","",{"$f":"IF(Y22<>\"\",IF($F22=\"Nej\", IF($C$122=\"Nm3\",($F$138*1000*1000/($Z$68*1000*  $B$123) / Data!$B$6),($F$138*1000*1000/(($Z$68*1000 / Denscalc($B$123))*  $B$123) / Data!$B$6)),0  ),\"\")","v":""},16,null,"","","",{"$f":"IF(AE22<>\"\",IF(F22=\"Nej\",($F$160*1000*1000/($AF$69*1000 *   AH22 )) / Data!$B$7, 0   ),\"\")","v":""},16,"","","","","",null,null,"","","","","",16,"","","","","","","","","",""]
[{"$f":"Produktion!A154","v":""},17,{"$f":"Produktion!C154","v":""},{"$f":"Produktion!D154","v":""},{"$f":"Produktion!E154","v":""},{"$f":"Produktion!F154","v":""},{"$f":"Produktion!T154","v":""},{"$f":"IF(A23<>\"\",Produktion!$G$131,\"\")","v":""},{"$f":"IF(A23<>\"\",Produktion!$F$128,\"\")","v":""},{"$f":"Produktion!P154","v":""},"",17,null,"","","",{"$f":"IF(M23<>\"\",IF($F23=\"Nej\",IF($C$76=\"Nm3\",($F$92*1000*1000/($N$68*1000*  $B$77) / Data!$B$6),($F$92*1000*1000/(($N$68*1000 / Denscalc($B$77))*  $B$77) / Data!$B$6)),0  ),\"\")","v":""},17,null,"","","",{"$f":"IF(S23<>\"\",IF($F23=\"Nej\", IF($C$99=\"Nm3\",($F$115*1000*1000/($T$68*1000*  $B$100) / Data!$B$6),($F$115*1000*1000/(($T$68*1000 / Denscalc($B$100))*  $B$100) / Data!$B$6)),0 ),\"\")","v":""},17,null,"","","",{"$f":"IF(Y23<>\"\",IF($F23=\"Nej\", IF($C$122=\"Nm3\",($F$138*1000*1000/($Z$68*1000*  $B$123) / Data!$B$6),($F$138*1000*1000/(($Z$68*1000 / Denscalc($B$123))*  $B$123) / Data!$B$6)),0  ),\"\")","v":""},17,null,"","","",{"$f":"IF(AE23<>\"\",IF(F23=\"Nej\",($F$160*1000*1000/($AF$69*1000 *   AH23 )) / Data!$B$7, 0   ),\"\")","v":""},17,"","","","","",null,null,"","","","","",17,"","","","","","","","","",""]
[{"$f":"Produktion!A155","v":""},18,{"$f":"Produktion!C155","v":""},{"$f":"Produktion!D155","v":""},{"$f":"Produktion!E155","v":""},{"$f":"Produktion!F155","v":""},{"$f":"Produktion!T155","v":""},{"$f":"IF(A24<>\"\",Produktion!$G$131,\"\")","v":""},{"$f":"IF(A24<>\"\",Produktion!$F$128,\"\")","v":""},{"$f":"Produktion!P155","v":""},"",18,null,"","","",{"$f":"IF(M24<>\"\",IF($F24=\"Nej\",IF($C$76=\"Nm3\",($F$92*1000*1000/($N$68*1000*  $B$77) / Data!$B$6),($F$92*1000*1000/(($N$68*1000 / Denscalc($B$77))*  $B$77) / Data!$B$6)),0  ),\"\")","v":""},18,null,"","","",{"$f":"IF(S24<>\"\",IF($F24=\"Nej\", IF($C$99=\"Nm3\",($F$115*1000*1000/($T$68*1000*  $B$100) / Data!$B$6),($F$115*1000*1000/(($T$68*1000 / Denscalc($B$100))*  $B$100) / Data!$B$6)),0 ),\"\")","v":""},18,null,"","","",{"$f":"IF(Y24<>\"\",IF($F24=\"Nej\", IF($C$122=\"Nm3\",($F$138*1000*1000/($Z$68*1000*  $B$123) / Data!$B$6),($F$138*1000*1000/(($Z$68*1000 / Denscalc($B$123))*  $B$123) / Data!$B$6)),0  ),\"\")","v":""},18,null,"","","",{"$f":"IF(AE24<>\"\",IF(F24=\"Nej\",($F$160*1000*1000/($AF$69*1000 *   AH24 )) / Data!$B$7, 0   ),\"\")","v":""},18,"","","","","",null,null,"","","","","",18,"","","","","","","","","",""]
[{"$f":"Produktion!A156","v":""},19,{"$f":"Produktion!C156","v":""},{"$f":"Produktion!D156","v":""},{"$f":"Produktion!E156","v":""},{"$f":"Produktion!F156","v":""},{"$f":"Produktion!T156","v":""},{"$f":"IF(A25<>\"\",Produktion!$G$131,\"\")","v":""},{"$f":"IF(A25<>\"\",Produktion!$F$128,\"\")","v":""},{"$f":"Produktion!P156","v":""},"",19,null,"","","",{"$f":"IF(M25<>\"\",IF($F25=\"Nej\",IF($C$76=\"Nm3\",($F$92*1000*1000/($N$68*1000*  $B$77) / Data!$B$6),($F$92*1000*1000/(($N$68*1000 / Denscalc($B$77))*  $B$77) / Data!$B$6)),0  ),\"\")","v":""},19,null,"","","",{"$f":"IF(S25<>\"\",IF($F25=\"Nej\", IF($C$99=\"Nm3\",($F$115*1000*1000/($T$68*1000*  $B$100) / Data!$B$6),($F$115*1000*1000/(($T$68*1000 / Denscalc($B$100))*  $B$100) / Data!$B$6)),0 ),\"\")","v":""},19,null,"","","",{"$f":"IF(Y25<>\"\",IF($F25=\"Nej\", IF($C$122=\"Nm3\",($F$138*1000*1000/($Z$68*1000*  $B$123) / Data!$B$6),($F$138*1000*1000/(($Z$68*1000 / Denscalc($B$123))*  $B$123) / Data!$B$6)),0  ),\"\")","v":""},19,null,"","","",{"$f":"IF(AE25<>\"\",IF(F25=\"Nej\",($F$160*1000*1000/($AF$69*1000 *   AH25 )) / Data!$B$7, 0   ),\"\")","v":""},19,"","","","","",null,null,"","","","","",19,"","","","","","","","","",""]
[{"$f":"Produktion!A157","v":""},20,{"$f":"Produktion!C157","v":""},{"$f":"Produktion!D157","v":""},{"$f":"Produktion!E157","v":""},{"$f":"Produktion!F157","v":""},{"$f":"Produktion!T157","v":""},{"$f":"IF(A26<>\"\",Produktion!$G$131,\"\")","v":""},{"$f":"IF(A26<>\"\",Produktion!$F$128,\"\")","v":""},{"$f":"Produktion!P157","v":""},"",20,null,"","","",{"$f":"IF(M26<>\"\",IF($F26=\"Nej\",IF($C$76=\"Nm3\",($F$92*1000*1000/($N$68*1000*  $B$77) / Data!$B$6),($F$92*1000*1000/(($N$68*1000 / Denscalc($B$77))*  $B$77) / Data!$B$6)),0  ),\"\")","v":""},20,null,"","","",{"$f":"IF(S26<>\"\",IF($F26=\"Nej\", IF($C$99=\"Nm3\",($F$115*1000*1000/($T$68*1000*  $B$100) / Data!$B$6),($F$115*1000*1000/(($T$68*1000 / Denscalc($B$100))*  $B$100) / Data!$B$6)),0 ),\"\")","v":""},20,null,"","","",{"$f":"IF(Y26<>\"\",IF($F26=\"Nej\", IF($C$122=\"Nm3\",($F$138*1000*1000/($Z$68*1000*  $B$123) / Data!$B$6),($F$138*1000*1000/(($Z$68*1000 / Denscalc($B$123))*  $B$123) / Data!$B$6)),0  ),\"\")","v":""},20,null,"","","",{"$f":"IF(AE26<>\"\",IF(F26=\"Nej\",($F$160*1000*1000/($AF$69*1000 *   AH26 )) / Data!$B$7, 0   ),\"\")","v":""},20,"","","","","",null,null,"","","","","",20,"","","","","","","","","",""]
[{"$f":"Produktion!A158","v":""},21,{"$f":"Produktion!C158","v":""},{"$f":"Produktion!D158","v":""},{"$f":"Produktion!E158","v":""},{"$f":"Produktion!F158","v":""},{"$f":"Produktion!T158","v":""},{"$f":"IF(A27<>\"\",Produktion!$G$131,\"\")","v":""},{"$f":"IF(A27<>\"\",Produktion!$F$128,\"\")","v":""},{"$f":"Produktion!P158","v":""},"",21,null,"","","",{"$f":"IF(M27<>\"\",IF($F27=\"Nej\",IF($C$76=\"Nm3\",($F$92*1000*1000/($N$68*1000*  $B$77) / Data!$B$6),($F$92*1000*1000/(($N$68*1000 / Denscalc($B$77))*  $B$77) / Data!$B$6)),0  ),\"\")","v":""},21,null,"","","",{"$f":"IF(S27<>\"\",IF($F27=\"Nej\", IF($C$99=\"Nm3\",($F$115*1000*1000/($T$68*1000*  $B$100) / Data!$B$6),($F$115*1000*1000/(($T$68*1000 / Denscalc($B$100))*  $B$100) / Data!$B$6)),0 ),\"\")","v":""},21,null,"","","",{"$f":"IF(Y27<>\"\",IF($F27=\"Nej\", IF($C$122=\"Nm3\",($F$138*1000*1000/($Z$68*1000*  $B$123) / Data!$B$6),($F$138*1000*1000/(($Z$68*1000 / Denscalc($B$123))*  $B$123) / Data!$B$6)),0  ),\"\")","v":""},21,null,"","","",{"$f":"IF(AE27<>\"\",IF(F27=\"Nej\",($F$160*1000*1000/($AF$69*1000 *   AH27 )) / Data!$B$7, 0   ),\"\")","v":""},21,"","","","","",null,null,"","","","","",21,"","","","","","","","","",""]
[{"$f":"Produktion!A159","v":""},22,{"$f":"Produktion!C159","v":""},{"$f":"Produktion!D159","v":""},{"$f":"Produktion!E159","v":""},{"$f":"Produktion!F159","v":""},{"$f":"Produktion!T159","v":""},{"$f":"IF(A28<>\"\",Produktion!$G$131,\"\")","v":""},{"$f":"IF(A28<>\"\",Produktion!$F$128,\"\")","v":""},{"$f":"Produktion!P159","v":""},"",22,null,"","","",{"$f":"IF(M28<>\"\",IF($F28=\"Nej\",IF($C$76=\"Nm3\",($F$92*1000*1000/($N$68*1000*  $B$77) / Data!$B$6),($F$92*1000*1000/(($N$68*1000 / Denscalc($B$77))*  $B$77) / Data!$B$6)),0  ),\"\")","v":""},22,null,"","","",{"$f":"IF(S28<>\"\",IF($F28=\"Nej\", IF($C$99=\"Nm3\",($F$115*1000*1000/($T$68*1000*  $B$100) / Data!$B$6),($F$115*1000*1000/(($T$68*1000 / Denscalc($B$100))*  $B$100) / Data!$B$6)),0 ),\"\")","v":""},22,null,"","","",{"$f":"IF(Y28<>\"\",IF($F28=\"Nej\", IF($C$122=\"Nm3\",($F$138*1000*1000/($Z$68*1000*  $B$123) / Data!$B$6),($F$138*1000*1000/(($Z$68*1000 / Denscalc($B$123))*  $B$123) / Data!$B$6)),0  ),\"\")","v":""},22,null,"","","",{"$f":"IF(AE28<>\"\",IF(F28=\"Nej\",($F$160*1000*1000/($AF$69*1000 *   AH28 )) / Data!$B$7, 0   ),\"\")","v":""},22,"","","","","",null,null,"","","","","",22,"","","","","","","","","",""]
[{"$f":"Produktion!A160","v":""},23,{"$f":"Produktion!C160","v":""},{"$f":"Produktion!D160","v":""},{"$f":"Produktion!E160","v":""},{"$f":"Produktion!F160","v":""},{"$f":"Produktion!T160","v":""},{"$f":"IF(A29<>\"\",Produktion!$G$131,\"\")","v":""},{"$f":"IF(A29<>\"\",Produktion!$F$128,\"\")","v":""},{"$f":"Produktion!P160","v":""},"",23,null,"","","",{"$f":"IF(M29<>\"\",IF($F29=\"Nej\",IF($C$76=\"Nm3\",($F$92*1000*1000/($N$68*1000*  $B$77) / Data!$B$6),($F$92*1000*1000/(($N$68*1000 / Denscalc($B$77))*  $B$77) / Data!$B$6)),0  ),\"\")","v":""},23,null,"","","",{"$f":"IF(S29<>\"\",IF($F29=\"Nej\", IF($C$99=\"Nm3\",($F$115*1000*1000/($T$68*1000*  $B$100) / Data!$B$6),($F$115*1000*1000/(($T$68*1000 / Denscalc($B$100))*  $B$100) / Data!$B$6)),0 ),\"\")","v":""},23,null,"","","",{"$f":"IF(Y29<>\"\",IF($F29=\"Nej\", IF($C$122=\"Nm3\",($F$138*1000*1000/($Z$68*1000*  $B$123) / Data!$B$6),($F$138*1000*1000/(($Z$68*1000 / Denscalc($B$123))*  $B$123) / Data!$B$6)),0  ),\"\")","v":""},23,null,"","","",{"$f":"IF(AE29<>\"\",IF(F29=\"Nej\",($F$160*1000*1000/($AF$69*1000 *   AH29 )) / Data!$B$7, 0   ),\"\")","v":""},23,"","","","","",null,null,"","","","","",23,"","","","","","","","","",""]
[{"$f":"Produktion!A161","v":""},24,{"$f":"Produktion!C161","v":""},{"$f":"Produktion!D161","v":""},{"$f":"Produktion!E161","v":""},{"$f":"Produktion!F161","v":""},{"$f":"Produktion!T161","v":""},{"$f":"IF(A30<>\"\",Produktion!$G$131,\"\")","v":""},{"$f":"IF(A30<>\"\",Produktion!$F$128,\"\")","v":""},{"$f":"Produktion!P161","v":""},"",24,null,"","","",{"$f":"IF(M30<>\"\",IF($F30=\"Nej\",IF($C$76=\"Nm3\",($F$92*1000*1000/($N$68*1000*  $B$77) / Data!$B$6),($F$92*1000*1000/(($N$68*1000 / Denscalc($B$77))*  $B$77) / Data!$B$6)),0  ),\"\")","v":""},24,null,"","","",{"$f":"IF(S30<>\"\",IF($F30=\"Nej\", IF($C$99=\"Nm3\",($F$115*1000*1000/($T$68*1000*  $B$100) / Data!$B$6),($F$115*1000*1000/(($T$68*1000 / Denscalc($B$100))*  $B$100) / Data!$B$6)),0 ),\"\")","v":""},24,null,"","","",{"$f":"IF(Y30<>\"\",IF($F30=\"Nej\", IF($C$122=\"Nm3\",($F$138*1000*1000/($Z$68*1000*  $B$123) / Data!$B$6),($F$138*1000*1000/(($Z$68*1000 / Denscalc($B$123))*  $B$123) / Data!$B$6)),0  ),\"\")","v":""},24,null,"","","",{"$f":"IF(AE30<>\"\",IF(F30=\"Nej\",($F$160*1000*1000/($AF$69*1000 *   AH30 )) / Data!$B$7, 0   ),\"\")","v":""},24,"","","","","",null,null,"","","","","",24,"","","","","","","","","",""]
[{"$f":"Produktion!A162","v":""},25,{"$f":"Produktion!C162","v":""},{"$f":"Produktion!D162","v":""},{"$f":"Produktion!E162","v":""},{"$f":"Produktion!F162","v":""},{"$f":"Produktion!T162","v":""},{"$f":"IF(A31<>\"\",Produktion!$G$131,\"\")","v":""},{"$f":"IF(A31<>\"\",Produktion!$F$128,\"\")","v":""},{"$f":"Produktion!P162","v":""},"",25,null,"","","",{"$f":"IF(M31<>\"\",IF($F31=\"Nej\",IF($C$76=\"Nm3\",($F$92*1000*1000/($N$68*1000*  $B$77) / Data!$B$6),($F$92*1000*1000/(($N$68*1000 / Denscalc($B$77))*  $B$77) / Data!$B$6)),0  ),\"\")","v":""},25,null,"","","",{"$f":"IF(S31<>\"\",IF($F31=\"Nej\", IF($C$99=\"Nm3\",($F$115*1000*1000/($T$68*1000*  $B$100) / Data!$B$6),($F$115*1000*1000/(($T$68*1000 / Denscalc($B$100))*  $B$100) / Data!$B$6)),0 ),\"\")","v":""},25,null,"","","",{"$f":"IF(Y31<>\"\",IF($F31=\"Nej\", IF($C$122=\"Nm3\",($F$138*1000*1000/($Z$68*1000*  $B$123) / Data!$B$6),($F$138*1000*1000/(($Z$68*1000 / Denscalc($B$123))*  $B$123) / Data!$B$6)),0  ),\"\")","v":""},25,null,"","","",{"$f":"IF(AE31<>\"\",IF(F31=\"Nej\",($F$160*1000*1000/($AF$69*1000 *   AH31 )) / Data!$B$7, 0   ),\"\")","v":""},25,"","","","","",null,null,"","","","","",25,"","","","","","","","","",""]
[{"$f":"Produktion!A163","v":""},26,{"$f":"Produktion!C163","v":""},{"$f":"Produktion!D163","v":""},{"$f":"Produktion!E163","v":""},{"$f":"Produktion!F163","v":""},{"$f":"Produktion!T163","v":""},{"$f":"IF(A32<>\"\",Produktion!$G$131,\"\")","v":""},{"$f":"IF(A32<>\"\",Produktion!$F$128,\"\")","v":""},{"$f":"Produktion!P163","v":""},"",26,null,"","","",{"$f":"IF(M32<>\"\",IF($F32=\"Nej\",IF($C$76=\"Nm3\",($F$92*1000*1000/($N$68*1000*  $B$77) / Data!$B$6),($F$92*1000*1000/(($N$68*1000 / Denscalc($B$77))*  $B$77) / Data!$B$6)),0  ),\"\")","v":""},26,null,"","","",{"$f":"IF(S32<>\"\",IF($F32=\"Nej\", IF($C$99=\"Nm3\",($F$115*1000*1000/($T$68*1000*  $B$100) / Data!$B$6),($F$115*1000*1000/(($T$68*1000 / Denscalc($B$100))*  $B$100) / Data!$B$6)),0 ),\"\")","v":""},26,null,"","","",{"$f":"IF(Y32<>\"\",IF($F32=\"Nej\", IF($C$122=\"Nm3\",($F$138*1000*1000/($Z$68*1000*  $B$123) / Data!$B$6),($F$138*1000*1000/(($Z$68*1000 / Denscalc($B$123))*  $B$123) / Data!$B$6)),0  ),\"\")","v":""},26,null,"","","",{"$f":"IF(AE32<>\"\",IF(F32=\"Nej\",($F$160*1000*1000/($AF$69*1000 *   AH32 )) / Data!$B$7, 0   ),\"\")","v":""},26,"","","","","",null,null,"","","","","",26,"","","","","","","","","",""]
[{"$f":"Produktion!A164","v":""},27,{"$f":"Produktion!C164","v":""},{"$f":"Produktion!D164","v":""},{"$f":"Produktion!E164","v":""},{"$f":"Produktion!F164","v":""},{"$f":"Produktion!T164","v":""},{"$f":"IF(A33<>\"\",Produktion!$G$131,\"\")","v":""},{"$f":"IF(A33<>\"\",Produktion!$F$128,\"\")","v":""},{"$f":"Produktion!P164","v":""},"",27,null,"","","",{"$f":"IF(M33<>\"\",IF($F33=\"Nej\",IF($C$76=\"Nm3\",($F$92*1000*1000/($N$68*1000*  $B$77) / Data!$B$6),($F$92*1000*1000/(($N$68*1000 / Denscalc($B$77))*  $B$77) / Data!$B$6)),0  ),\"\")","v":""},27,null,"","","",{"$f":"IF(S33<>\"\",IF($F33=\"Nej\", IF($C$99=\"Nm3\",($F$115*1000*1000/($T$68*1000*  $B$100) / Data!$B$6),($F$115*1000*1000/(($T$68*1000 / Denscalc($B$100))*  $B$100) / Data!$B$6)),0 ),\"\")","v":""},27,null,"","","",{"$f":"IF(Y33<>\"\",IF($F33=\"Nej\", IF($C$122=\"Nm3\",($F$138*1000*1000/($Z$68*1000*  $B$123) / Data!$B$6),($F$138*1000*1000/(($Z$68*1000 / Denscalc($B$123))*  $B$123) / Data!$B$6)),0  ),\"\")","v":""},27,null,"","","",{"$f":"IF(AE33<>\"\",IF(F33=\"Nej\",($F$160*1000*1000/($AF$69*1000 *   AH33 )) / Data!$B$7, 0   ),\"\")","v":""},27,"","","","","",null,null,"","","","","",27,"","","","","","","","","",""]
[{"$f":"Produktion!A165","v":""},28,{"$f":"Produktion!C165","v":""},{"$f":"Produktion!D165","v":""},{"$f":"Produktion!E165","v":""},{"$f":"Produktion!F165","v":""},{"$f":"Produktion!T165","v":""},{"$f":"IF(A34<>\"\",Produktion!$G$131,\"\")","v":""},{"$f":"IF(A34<>\"\",Produktion!$F$128,\"\")","v":""},{"$f":"Produktion!P165","v":""},"",28,null,"","","",{"$f":"IF(M34<>\"\",IF($F34=\"Nej\",IF($C$76=\"Nm3\",($F$92*1000*1000/($N$68*1000*  $B$77) / Data!$B$6),($F$92*1000*1000/(($N$68*1000 / Denscalc($B$77))*  $B$77) / Data!$B$6)),0  ),\"\")","v":""},28,null,"","","",{"$f":"IF(S34<>\"\",IF($F34=\"Nej\", IF($C$99=\"Nm3\",($F$115*1000*1000/($T$68*1000*  $B$100) / Data!$B$6),($F$115*1000*1000/(($T$68*1000 / Denscalc($B$100))*  $B$100) / Data!$B$6)),0 ),\"\")","v":""},28,null,"","","",{"$f":"IF(Y34<>\"\",IF($F34=\"Nej\", IF($C$122=\"Nm3\",($F$138*1000*1000/($Z$68*1000*  $B$123) / Data!$B$6),($F$138*1000*1000/(($Z$68*1000 / Denscalc($B$123))*  $B$123) / Data!$B$6)),0  ),\"\")","v":""},28,null,"","","",{"$f":"IF(AE34<>\"\",IF(F34=\"Nej\",($F$160*1000*1000/($AF$69*1000 *   AH34 )) / Data!$B$7, 0   ),\"\")","v":""},28,"","","","","",null,null,"","","","","",28,"","","","","","","","","",""]
[{"$f":"Produktion!A166","v":""},29,{"$f":"Produktion!C166","v":""},{"$f":"Produktion!D166","v":""},{"$f":"Produktion!E166","v":""},{"$f":"Produktion!F166","v":""},{"$f":"Produktion!T166","v":""},{"$f":"IF(A35<>\"\",Produktion!$G$131,\"\")","v":""},{"$f":"IF(A35<>\"\",Produktion!$F$128,\"\")","v":""},{"$f":"Produktion!P166","v":""},"",29,null,"","","",{"$f":"IF(M35<>\"\",IF($F35=\"Nej\",IF($C$76=\"Nm3\",($F$92*1000*1000/($N$68*1000*  $B$77) / Data!$B$6),($F$92*1000*1000/(($N$68*1000 / Denscalc($B$77))*  $B$77) / Data!$B$6)),0  ),\"\")","v":""},29,null,"","","",{"$f":"IF(S35<>\"\",IF($F35=\"Nej\", IF($C$99=\"Nm3\",($F$115*1000*1000/($T$68*1000*  $B$100) / Data!$B$6),($F$115*1000*1000/(($T$68*1000 / Denscalc($B$100))*  $B$100) / Data!$B$6)),0 ),\"\")","v":""},29,null,"","","",{"$f":"IF(Y35<>\"\",IF($F35=\"Nej\", IF($C$122=\"Nm3\",($F$138*1000*1000/($Z$68*1000*  $B$123) / Data!$B$6),($F$138*1000*1000/(($Z$68*1000 / Denscalc($B$123))*  $B$123) / Data!$B$6)),0  ),\"\")","v":""},29,null,"","","",{"$f":"IF(AE35<>\"\",IF(F35=\"Nej\",($F$160*1000*1000/($AF$69*1000 *   AH35 )) / Data!$B$7, 0   ),\"\")","v":""},29,"","","","","",null,null,"","","","","",29,"","","","","","","","","",""]
[{"$f":"Produktion!A167","v":""},30,{"$f":"Produktion!C167","v":""},{"$f":"Produktion!D167","v":""},{"$f":"Produktion!E167","v":""},{"$f":"Produktion!F167","v":""},{"$f":"Produktion!T167","v":""},{"$f":"IF(A36<>\"\",Produktion!$G$131,\"\")","v":""},{"$f":"IF(A36<>\"\",Produktion!$F$128,\"\")","v":""},{"$f":"Produktion!P167","v":""},"",30,null,"","","",{"$f":"IF(M36<>\"\",IF($F36=\"Nej\",IF($C$76=\"Nm3\",($F$92*1000*1000/($N$68*1000*  $B$77) / Data!$B$6),($F$92*1000*1000/(($N$68*1000 / Denscalc($B$77))*  $B$77) / Data!$B$6)),0  ),\"\")","v":""},30,null,"","","",{"$f":"IF(S36<>\"\",IF($F36=\"Nej\", IF($C$99=\"Nm3\",($F$115*1000*1000/($T$68*1000*  $B$100) / Data!$B$6),($F$115*1000*1000/(($T$68*1000 / Denscalc($B$100))*  $B$100) / Data!$B$6)),0 ),\"\")","v":""},30,null,"","","",{"$f":"IF(Y36<>\"\",IF($F36=\"Nej\", IF($C$122=\"Nm3\",($F$138*1000*1000/($Z$68*1000*  $B$123) / Data!$B$6),($F$138*1000*1000/(($Z$68*1000 / Denscalc($B$123))*  $B$123) / Data!$B$6)),0  ),\"\")","v":""},30,null,"","","",{"$f":"IF(AE36<>\"\",IF(F36=\"Nej\",($F$160*1000*1000/($AF$69*1000 *   AH36 )) / Data!$B$7, 0   ),\"\")","v":""},30,"","","","","",null,null,"","","","","",30,"","","","","","","","","",""]
["Inköpt rågas",null,null,null,null,null,null,null,null,null,null,null,null,"",null,{"$f":"IF(M37<>\"\",$B$77,\"\")","v":""},null,null,null,{"$f":"IF(S37<>\"\",$C$75/$M$68*S37,\"\")","v":""},null,{"$f":"IF(S37<>\"\",$B$77,\"\")","v":""},null,null,null,{"$f":"IF(Y37<>\"\",$C$75/$M$68*Y37,\"\")","v":""},null,{"$f":"IF(Y37<>\"\",$B$77,\"\")","v":""},null,null,null,{"$f":"IF(AE37<>\"\",$C$75/$M$68*AE37,\"\")","v":""},null,{"$f":"IF(AE37<>\"\",$B$77,\"\")","v":""}]
[null,31,null,null,null,null,null,null,null,null,{"$f":"IF(H38=\"kg\",G38/Denscalc(I38),G38)","v":0},31,null,"","",{"$f":"IF(M38<>\"\",$B$77,\"\")","v":""},{"$f":"IF(M38<>\"\",IF($F38=\"Nej\",IF($C$76=\"Nm3\",($F$92*1000*1000/($N$68*1000*  $B$77) / Data!$B$6),($F$92*1000*1000/(($N$68*1000 / Denscalc($B$77))*  $B$77) / Data!$B$6)),0  ),\"\")","v":""},31,null,{"$f":"IF(S38<>\"\",$C$98/$S$68*S38,\"\")","v":""},{"$f":"IF(S38>0,$C$99,\"\")","v":""},{"$f":"IF(S38<>\"\",$B$100,\"\")","v":""},{"$f":"IF(S38<>\"\",IF($F38=\"Nej\", IF($C$99=\"Nm3\",($F$115*1000*1000/($T$68*1000*  $B$100) / Data!$B$6),($F$115*1000*1000/(($T$68*1000 / Denscalc($B$100))*  $B$100) / Data!$B$6)),0 ),\"\")","v":""},31,null,{"$f":"IF(Y38<>\"\",$C$121/$Y$68*Y38,\"\")","v":""},{"$f":"IF(Y38>0, $C$122,\"\")","v":""},{"$f":"IF(Y38<>\"\",$B$123,\"\")","v":""},{"$f":"IF(Y38<>\"\",IF($F38=\"Nej\", IF($C$122=\"Nm3\",($F$138*1000*1000/($Z$68*1000*  $B$123) / Data!$B$6),($F$138*1000*1000/(($Z$68*1000 / Denscalc($B$123))*  $B$123) / Data!$B$6)),0  ),\"\")","v":""},31,null,{"$f":"IF(AE38<>\"\",$C$144/$AE$68*AE38,\"\")","v":""},"",{"$f":"IF(AE38<>\"\",$B$145,\"\")","v":""},{"$f":"IF(AE38<>\"\",IF(F38=\"Nej\",($F$160*1000*1000/($AF$69*1000 *   AH38 )) / Data!$B$7, 0   ),\"\")","v":""},31,{"$f":"IF(A38<>\"\",IF(AE38>0, AE38, (M38+S38+Y38)),\"\")","v":""},{"$f":"IF(A38<>\"\",G38-AK38,\"\")","v":""},{"$f":"IF(A38<>\"\",IF(AE38>0, AF38, SUM(N38,T38,Z38)),\"\")","v":""},{"$f":"IF(A38<>\"\",IF(OR(AA38=\"kg\",U38=\"kg\",O38=\"kg\",AG38=\"kg\"),\"kg\",\"Nm3\"),\"\")","v":""},{"$f":"IF(A38<>\"\", IF(OR(AF38=0,AF38=\"\"), \"Gas\", \"Flytande\"),\"\")","v":""},null,null,"",{"$f":"IF(A38<>\"\",IF(AE38>0,AH38, IF(AM38>0,(IF(N38<>\"\",N38*P38,0)+IF(T38<>\"\",T38*V38,0)+IF(Z38<>\"\",Z38*AB38,0))/AM38,0)),\"\")","v":""},{"$f":"IF(F38<>0,F38,\"\")","v":""},{"$f":"IF(A38<>\"\",IF(AE38>0,AI38, IF(AM38>0,(IF(N38<>\"\",Q38*N38*P38,0)+IF(T38<>\"\",W38*T38*V38,0)+IF(Z38<>\"\",AC38*Z38*AB38,0))/(AM38*AS38),0)),\"\")","v":""},"",31,{"$f":"IF(AP38>0,A38,\"\")","v":""},{"$f":"IF(AP38>0,C38,\"\")","v":""},{"$f":"IF(AP38>0,D38,\"\")","v":""},{"$f":"IF(AP38>0,E38,\"\")","v":""},{"$f":"IF(AP38>0,F38,\"\")","v":""},{"$f":"IF(AP38>0,AP38,\"\")","v":""},{"$f":"IF(AP38>0,AO38,\"\")","v":""},{"$f":"IF(AP38>0,AN38,\"\")","v":""},{"$f":"IF(AP38>0,AS38,\"\")","v":""},{"$f":"IF(AP38>0,AV38,\"\")","v":""}]
[null,32,null,null,null,null,null,null,null,null,0,32,null,"","",{"$f":"IF(M39<>\"\",$B$77,\"\")","v":""},{"$f":"IF(M39<>\"\",IF($F39=\"Nej\",IF($C$76=\"Nm3\",($F$92*1000*1000/($N$68*1000*  $B$77) / Data!$B$6),($F$92*1000*1000/(($N$68*1000 / Denscalc($B$77))*  $B$77) / Data!$B$6)),0  ),\"\")","v":""},32,null,"","","",{"$f":"IF(S39<>\"\",IF($F39=\"Nej\", IF($C$99=\"Nm3\",($F$115*1000*1000/($T$68*1000*  $B$100) / Data!$B$6),($F$115*1000*1000/(($T$68*1000 / Denscalc($B$100))*  $B$100) / Data!$B$6)),0 ),\"\")","v":""},32,null,"","","",{"$f":"IF(Y39<>\"\",IF($F39=\"Nej\", IF($C$122=\"Nm3\",($F$138*1000*1000/($Z$68*1000*  $B$123) / Data!$B$6),($F$138*1000*1000/(($Z$68*1000 / Denscalc($B$123))*  $B$123) / Data!$B$6)),0  ),\"\")","v":""},32,null,"","","",{"$f":"IF(AE39<>\"\",IF(F39=\"Nej\",($F$160*1000*1000/($AF$69*1000 *   AH39 )) / Data!$B$7, 0   ),\"\")","v":""},32,{"$f":"IF(A39<>\"\",IF(AE39>0, AE39, (M39+S39+Y39)),\"\")","v":""},{"$f":"IF(A39<>\"\",G39-AK39,\"\")","v":""},{"$f":"IF(A39<>\"\",IF(AE39>0, AF39, SUM(N39,T39,Z39)),\"\")","v":""},{"$f":"IF(A39<>\"\",IF(OR(AA39=\"kg\",U39=\"kg\",O39=\"kg\",AG39=\"kg\"),\"kg\",\"Nm3\"),\"\")","v":""},{"$f":"IF(A39<>\"\", IF(OR(AF39=0,AF39=\"\"), \"Gas\", \"Flytande\"),\"\")","v":""},null,null,"",{"$f":"IF(A39<>\"\",IF(AE39>0,AH39, IF(AM39>0,(IF(N39<>\"\",N39*P39,0)+IF(T39<>\"\",T39*V39,0)+IF(Z39<>\"\",Z39*AB39,0))/AM39,0)),\"\")","v":""},{"$f":"IF(F39<>0,F39,\"\")","v":""},{"$f":"IF(A39<>\"\",IF(AE39>0,AI39, IF(AM39>0,(IF(N39<>\"\",Q39*N39*P39,0)+IF(T39<>\"\",W39*T39*V39,0)+IF(Z39<>\"\",AC39*Z39*AB39,0))/(AM39*AS39),0)),\"\")","v":""},"",32,{"$f":"IF(AP39>0,A39,\"\")","v":""},{"$f":"IF(AP39>0,C39,\"\")","v":""},{"$f":"IF(AP39>0,D39,\"\")","v":""},{"$f":"IF(AP39>0,E39,\"\")","v":""},{"$f":"IF(AP39>0,F39,\"\")","v":""},{"$f":"IF(AP39>0,AP39,\"\")","v":""},{"$f":"IF(AP39>0,AO39,\"\")","v":""},{"$f":"IF(AP39>0,AN39,\"\")","v":""},{"$f":"IF(AP39>0,AS39,\"\")","v":""},{"$f":"IF(AP39>0,AV39,\"\")","v":""}]
[null,33,null,null,null,null,null,null,null,null,0,33,null,"","","",{"$f":"IF(M40<>\"\",IF($F40=\"Nej\",IF($C$76=\"Nm3\",($F$92*1000*1000/($N$68*1000*  $B$77) / Data!$B$6),($F$92*1000*1000/(($N$68*1000 / Denscalc($B$77))*  $B$77) / Data!$B$6)),0  ),\"\")","v":""},33,null,"","","",{"$f":"IF(S40<>\"\",IF($F40=\"Nej\", IF($C$99=\"Nm3\",($F$115*1000*1000/($T$68*1000*  $B$100) / Data!$B$6),($F$115*1000*1000/(($T$68*1000 / Denscalc($B$100))*  $B$100) / Data!$B$6)),0 ),\"\")","v":""},33,null,"","","",{"$f":"IF(Y40<>\"\",IF($F40=\"Nej\", IF($C$122=\"Nm3\",($F$138*1000*1000/($Z$68*1000*  $B$123) / Data!$B$6),($F$138*1000*1000/(($Z$68*1000 / Denscalc($B$123))*  $B$123) / Data!$B$6)),0  ),\"\")","v":""},33,null,"","","",{"$f":"IF(AE40<>\"\",IF(F40=\"Nej\",($F$160*1000*1000/($AF$69*1000 *   AH40 )) / Data!$B$7, 0   ),\"\")","v":""},33,"","","","","",null,null,"","","","","",33,"","","","","","","","","",""]
[null,34,null,null,null,null,null,null,null,null,0,34,null,"","","",{"$f":"IF(M41<>\"\",IF($F41=\"Nej\",IF($C$76=\"Nm3\",($F$92*1000*1000/($N$68*1000*  $B$77) / Data!$B$6),($F$92*1000*1000/(($N$68*1000 / Denscalc($B$77))*  $B$77) / Data!$B$6)),0  ),\"\")","v":""},34,null,"","","",{"$f":"IF(S41<>\"\",IF($F41=\"Nej\", IF($C$99=\"Nm3\",($F$115*1000*1000/($T$68*1000*  $B$100) / Data!$B$6),($F$115*1000*1000/(($T$68*1000 / Denscalc($B$100))*  $B$100) / Data!$B$6)),0 ),\"\")","v":""},34,null,"","","",{"$f":"IF(Y41<>\"\",IF($F41=\"Nej\", IF($C$122=\"Nm3\",($F$138*1000*1000/($Z$68*1000*  $B$123) / Data!$B$6),($F$138*1000*1000/(($Z$68*1000 / Denscalc($B$123))*  $B$123) / Data!$B$6)),0  ),\"\")","v":""},34,null,"","","",{"$f":"IF(AE41<>\"\",IF(F41=\"Nej\",($F$160*1000*1000/($AF$69*1000 *   AH41 )) / Data!$B$7, 0   ),\"\")","v":""},34,"","","","","",null,null,"","","","","",34,"","","","","","","","","",""]
[null,35,null,null,null,null,null,null,null,null,0,35,null,"","","",{"$f":"IF(M42<>\"\",IF($F42=\"Nej\",IF($C$76=\"Nm3\",($F$92*1000*1000/($N$68*1000*  $B$77) / Data!$B$6),($F$92*1000*1000/(($N$68*1000 / Denscalc($B$77))*  $B$77) / Data!$B$6)),0  ),\"\")","v":""},35,null,"","","",{"$f":"IF(S42<>\"\",IF($F42=\"Nej\", IF($C$99=\"Nm3\",($F$115*1000*1000/($T$68*1000*  $B$100) / Data!$B$6),($F$115*1000*1000/(($T$68*1000 / Denscalc($B$100))*  $B$100) / Data!$B$6)),0 ),\"\")","v":""},35,null,"","","",{"$f":"IF(Y42<>\"\",IF($F42=\"Nej\", IF($C$122=\"Nm3\",($F$138*1000*1000/($Z$68*1000*  $B$123) / Data!$B$6),($F$138*1000*1000/(($Z$68*1000 / Denscalc($B$123))*  $B$123) / Data!$B$6)),0  ),\"\")","v":""},35,null,"","","",{"$f":"IF(AE42<>\"\",IF(F42=\"Nej\",($F$160*1000*1000/($AF$69*1000 *   AH42 )) / Data!$B$7, 0   ),\"\")","v":""},35,"","","","","",null,null,"","","","","",35,"","","","","","","","","",""]
[null,36,null,null,null,null,null,null,null,null,0,36,null,"","","",{"$f":"IF(M43<>\"\",IF($F43=\"Nej\",IF($C$76=\"Nm3\",($F$92*1000*1000/($N$68*1000*  $B$77) / Data!$B$6),($F$92*1000*1000/(($N$68*1000 / Denscalc($B$77))*  $B$77) / Data!$B$6)),0  ),\"\")","v":""},36,null,"","","",{"$f":"IF(S43<>\"\",IF($F43=\"Nej\", IF($C$99=\"Nm3\",($F$115*1000*1000/($T$68*1000*  $B$100) / Data!$B$6),($F$115*1000*1000/(($T$68*1000 / Denscalc($B$100))*  $B$100) / Data!$B$6)),0 ),\"\")","v":""},36,null,"","","",{"$f":"IF(Y43<>\"\",IF($F43=\"Nej\", IF($C$122=\"Nm3\",($F$138*1000*1000/($Z$68*1000*  $B$123) / Data!$B$6),($F$138*1000*1000/(($Z$68*1000 / Denscalc($B$123))*  $B$123) / Data!$B$6)),0  ),\"\")","v":""},36,null,"","","",{"$f":"IF(AE43<>\"\",IF(F43=\"Nej\",($F$160*1000*1000/($AF$69*1000 *   AH43 )) / Data!$B$7, 0   ),\"\")","v":""},36,"","","","","",null,null,"","","","","",36,"","","","","","","","","",""]
[null,37,null,null,null,null,null,null,null,null,0,37,null,"","","",{"$f":"IF(M44<>\"\",IF($F44=\"Nej\",IF($C$76=\"Nm3\",($F$92*1000*1000/($N$68*1000*  $B$77) / Data!$B$6),($F$92*1000*1000/(($N$68*1000 / Denscalc($B$77))*  $B$77) / Data!$B$6)),0  ),\"\")","v":""},37,null,"","","",{"$f":"IF(S44<>\"\",IF($F44=\"Nej\", IF($C$99=\"Nm3\",($F$115*1000*1000/($T$68*1000*  $B$100) / Data!$B$6),($F$115*1000*1000/(($T$68*1000 / Denscalc($B$100))*  $B$100) / Data!$B$6)),0 ),\"\")","v":""},37,null,"","","",{"$f":"IF(Y44<>\"\",IF($F44=\"Nej\", IF($C$122=\"Nm3\",($F$138*1000*1000/($Z$68*1000*  $B$123) / Data!$B$6),($F$138*1000*1000/(($Z$68*1000 / Denscalc($B$123))*  $B$123) / Data!$B$6)),0  ),\"\")","v":""},37,null,"","","",{"$f":"IF(AE44<>\"\",IF(F44=\"Nej\",($F$160*1000*1000/($AF$69*1000 *   AH44 )) / Data!$B$7, 0   ),\"\")","v":""},37,"","","","","",null,null,"","","","","",37,"","","","","","","","","",""]
[null,38,null,null,null,null,null,null,null,null,0,38,null,"","","",{"$f":"IF(M45<>\"\",IF($F45=\"Nej\",IF($C$76=\"Nm3\",($F$92*1000*1000/($N$68*1000*  $B$77) / Data!$B$6),($F$92*1000*1000/(($N$68*1000 / Denscalc($B$77))*  $B$77) / Data!$B$6)),0  ),\"\")","v":""},38,null,"","","",{"$f":"IF(S45<>\"\",IF($F45=\"Nej\", IF($C$99=\"Nm3\",($F$115*1000*1000/($T$68*1000*  $B$100) / Data!$B$6),($F$115*1000*1000/(($T$68*1000 / Denscalc($B$100))*  $B$100) / Data!$B$6)),0 ),\"\")","v":""},38,null,"","","",{"$f":"IF(Y45<>\"\",IF($F45=\"Nej\", IF($C$122=\"Nm3\",($F$138*1000*1000/($Z$68*1000*  $B$123) / Data!$B$6),($F$138*1000*1000/(($Z$68*1000 / Denscalc($B$123))*  $B$123) / Data!$B$6)),0  ),\"\")","v":""},38,null,"","","",{"$f":"IF(AE45<>\"\",IF(F45=\"Nej\",($F$160*1000*1000/($AF$69*1000 *   AH45 )) / Data!$B$7, 0   ),\"\")","v":""},38,"","","","","",null,null,"","","","","",38,"","","","","","","","","",""]
[null,39,null,null,null,null,null,null,null,null,0,39,null,"","","",{"$f":"IF(M46<>\"\",IF($F46=\"Nej\",IF($C$76=\"Nm3\",($F$92*1000*1000/($N$68*1000*  $B$77) / Data!$B$6),($F$92*1000*1000/(($N$68*1000 / Denscalc($B$77))*  $B$77) / Data!$B$6)),0  ),\"\")","v":""},39,null,"","","",{"$f":"IF(S46<>\"\",IF($F46=\"Nej\", IF($C$99=\"Nm3\",($F$115*1000*1000/($T$68*1000*  $B$100) / Data!$B$6),($F$115*1000*1000/(($T$68*1000 / Denscalc($B$100))*  $B$100) / Data!$B$6)),0 ),\"\")","v":""},39,null,"","","",{"$f":"IF(Y46<>\"\",IF($F46=\"Nej\", IF($C$122=\"Nm3\",($F$138*1000*1000/($Z$68*1000*  $B$123) / Data!$B$6),($F$138*1000*1000/(($Z$68*1000 / Denscalc($B$123))*  $B$123) / Data!$B$6)),0  ),\"\")","v":""},39,null,"","","",{"$f":"IF(AE46<>\"\",IF(F46=\"Nej\",($F$160*1000*1000/($AF$69*1000 *   AH46 )) / Data!$B$7, 0   ),\"\")","v":""},39,"","","","","",null,null,"","","","","",39,"","","","","","","","","",""]
[null,40,null,null,null,null,null,null,null,null,0,40,null,"","","",{"$f":"IF(M47<>\"\",IF($F47=\"Nej\",IF($C$76=\"Nm3\",($F$92*1000*1000/($N$68*1000*  $B$77) / Data!$B$6),($F$92*1000*1000/(($N$68*1000 / Denscalc($B$77))*  $B$77) / Data!$B$6)),0  ),\"\")","v":""},40,null,"","","",{"$f":"IF(S47<>\"\",IF($F47=\"Nej\", IF($C$99=\"Nm3\",($F$115*1000*1000/($T$68*1000*  $B$100) / Data!$B$6),($F$115*1000*1000/(($T$68*1000 / Denscalc($B$100))*  $B$100) / Data!$B$6)),0 ),\"\")","v":""},40,null,"","","",{"$f":"IF(Y47<>\"\",IF($F47=\"Nej\", IF($C$122=\"Nm3\",($F$138*1000*1000/($Z$68*1000*  $B$123) / Data!$B$6),($F$138*1000*1000/(($Z$68*1000 / Denscalc($B$123))*  $B$123) / Data!$B$6)),0  ),\"\")","v":""},40,null,"","","",{"$f":"IF(AE47<>\"\",IF(F47=\"Nej\",($F$160*1000*1000/($AF$69*1000 *   AH47 )) / Data!$B$7, 0   ),\"\")","v":""},40,"","","","","",null,null,"","","","","",40,"","","","","","","","","",""]
[null,41,null,null,null,null,null,null,null,null,0,41,null,"","","",{"$f":"IF(M48<>\"\",IF($F48=\"Nej\",IF($C$76=\"Nm3\",($F$92*1000*1000/($N$68*1000*  $B$77) / Data!$B$6),($F$92*1000*1000/(($N$68*1000 / Denscalc($B$77))*  $B$77) / Data!$B$6)),0  ),\"\")","v":""},41,null,"","","",{"$f":"IF(S48<>\"\",IF($F48=\"Nej\", IF($C$99=\"Nm3\",($F$115*1000*1000/($T$68*1000*  $B$100) / Data!$B$6),($F$115*1000*1000/(($T$68*1000 / Denscalc($B$100))*  $B$100) / Data!$B$6)),0 ),\"\")","v":""},41,null,"","","",{"$f":"IF(Y48<>\"\",IF($F48=\"Nej\", IF($C$122=\"Nm3\",($F$138*1000*1000/($Z$68*1000*  $B$123) / Data!$B$6),($F$138*1000*1000/(($Z$68*1000 / Denscalc($B$123))*  $B$123) / Data!$B$6)),0  ),\"\")","v":""},41,null,"","","",{"$f":"IF(AE48<>\"\",IF(F48=\"Nej\",($F$160*1000*1000/($AF$69*1000 *   AH48 )) / Data!$B$7, 0   ),\"\")","v":""},41,"","","","","",null,null,"","","","","",41,"","","","","","","","","",""]
[null,42,null,null,null,null,null,null,null,null,0,42,null,"","","",{"$f":"IF(M49<>\"\",IF($F49=\"Nej\",IF($C$76=\"Nm3\",($F$92*1000*1000/($N$68*1000*  $B$77) / Data!$B$6),($F$92*1000*1000/(($N$68*1000 / Denscalc($B$77))*  $B$77) / Data!$B$6)),0  ),\"\")","v":""},42,null,"","","",{"$f":"IF(S49<>\"\",IF($F49=\"Nej\", IF($C$99=\"Nm3\",($F$115*1000*1000/($T$68*1000*  $B$100) / Data!$B$6),($F$115*1000*1000/(($T$68*1000 / Denscalc($B$100))*  $B$100) / Data!$B$6)),0 ),\"\")","v":""},42,null,"","","",{"$f":"IF(Y49<>\"\",IF($F49=\"Nej\", IF($C$122=\"Nm3\",($F$138*1000*1000/($Z$68*1000*  $B$123) / Data!$B$6),($F$138*1000*1000/(($Z$68*1000 / Denscalc($B$123))*  $B$123) / Data!$B$6)),0  ),\"\")","v":""},42,null,"","","",{"$f":"IF(AE49<>\"\",IF(F49=\"Nej\",($F$160*1000*1000/($AF$69*1000 *   AH49 )) / Data!$B$7, 0   ),\"\")","v":""},42,"","","","","",null,null,"","","","","",42,"","","","","","","","","",""]
[null,43,null,null,null,null,null,null,null,null,0,43,null,"","","",{"$f":"IF(M50<>\"\",IF($F50=\"Nej\",IF($C$76=\"Nm3\",($F$92*1000*1000/($N$68*1000*  $B$77) / Data!$B$6),($F$92*1000*1000/(($N$68*1000 / Denscalc($B$77))*  $B$77) / Data!$B$6)),0  ),\"\")","v":""},43,null,"","","",{"$f":"IF(S50<>\"\",IF($F50=\"Nej\", IF($C$99=\"Nm3\",($F$115*1000*1000/($T$68*1000*  $B$100) / Data!$B$6),($F$115*1000*1000/(($T$68*1000 / Denscalc($B$100))*  $B$100) / Data!$B$6)),0 ),\"\")","v":""},43,null,"","","",{"$f":"IF(Y50<>\"\",IF($F50=\"Nej\", IF($C$122=\"Nm3\",($F$138*1000*1000/($Z$68*1000*  $B$123) / Data!$B$6),($F$138*1000*1000/(($Z$68*1000 / Denscalc($B$123))*  $B$123) / Data!$B$6)),0  ),\"\")","v":""},43,null,"","","",{"$f":"IF(AE50<>\"\",IF(F50=\"Nej\",($F$160*1000*1000/($AF$69*1000 *   AH50 )) / Data!$B$7, 0   ),\"\")","v":""},43,"","","","","",null,null,"","","","","",43,"","","","","","","","","",""]
[null,44,null,null,null,null,null,null,null,null,0,44,null,"","","",{"$f":"IF(M51<>\"\",IF($F51=\"Nej\",IF($C$76=\"Nm3\",($F$92*1000*1000/($N$68*1000*  $B$77) / Data!$B$6),($F$92*1000*1000/(($N$68*1000 / Denscalc($B$77))*  $B$77) / Data!$B$6)),0  ),\"\")","v":""},44,null,"","","",{"$f":"IF(S51<>\"\",IF($F51=\"Nej\", IF($C$99=\"Nm3\",($F$115*1000*1000/($T$68*1000*  $B$100) / Data!$B$6),($F$115*1000*1000/(($T$68*1000 / Denscalc($B$100))*  $B$100) / Data!$B$6)),0 ),\"\")","v":""},44,null,"","","",{"$f":"IF(Y51<>\"\",IF($F51=\"Nej\", IF($C$122=\"Nm3\",($F$138*1000*1000/($Z$68*1000*  $B$123) / Data!$B$6),($F$138*1000*1000/(($Z$68*1000 / Denscalc($B$123))*  $B$123) / Data!$B$6)),0  ),\"\")","v":""},44,null,"","","",{"$f":"IF(AE51<>\"\",IF(F51=\"Nej\",($F$160*1000*1000/($AF$69*1000 *   AH51 )) / Data!$B$7, 0   ),\"\")","v":""},44,"","","","","",null,null,"","","","","",44,"","","","","","","","","",""]
[null,45,null,null,null,null,null,null,null,null,0,45,null,"","","",{"$f":"IF(M52<>\"\",IF($F52=\"Nej\",IF($C$76=\"Nm3\",($F$92*1000*1000/($N$68*1000*  $B$77) / Data!$B$6),($F$92*1000*1000/(($N$68*1000 / Denscalc($B$77))*  $B$77) / Data!$B$6)),0  ),\"\")","v":""},45,null,"","","",{"$f":"IF(S52<>\"\",IF($F52=\"Nej\", IF($C$99=\"Nm3\",($F$115*1000*1000/($T$68*1000*  $B$100) / Data!$B$6),($F$115*1000*1000/(($T$68*1000 / Denscalc($B$100))*  $B$100) / Data!$B$6)),0 ),\"\")","v":""},45,null,"","","",{"$f":"IF(Y52<>\"\",IF($F52=\"Nej\", IF($C$122=\"Nm3\",($F$138*1000*1000/($Z$68*1000*  $B$123) / Data!$B$6),($F$138*1000*1000/(($Z$68*1000 / Denscalc($B$123))*  $B$123) / Data!$B$6)),0  ),\"\")","v":""},45,null,"","","",{"$f":"IF(AE52<>\"\",IF(F52=\"Nej\",($F$160*1000*1000/($AF$69*1000 *   AH52 )) / Data!$B$7, 0   ),\"\")","v":""},45,"","","","","",null,null,"","","","","",45,"","","","","","","","","",""]
[null,46,null,null,null,null,null,null,null,null,0,46,null,"","","",{"$f":"IF(M53<>\"\",IF($F53=\"Nej\",IF($C$76=\"Nm3\",($F$92*1000*1000/($N$68*1000*  $B$77) / Data!$B$6),($F$92*1000*1000/(($N$68*1000 / Denscalc($B$77))*  $B$77) / Data!$B$6)),0  ),\"\")","v":""},46,null,"","","",{"$f":"IF(S53<>\"\",IF($F53=\"Nej\", IF($C$99=\"Nm3\",($F$115*1000*1000/($T$68*1000*  $B$100) / Data!$B$6),($F$115*1000*1000/(($T$68*1000 / Denscalc($B$100))*  $B$100) / Data!$B$6)),0 ),\"\")","v":""},46,null,"","","",{"$f":"IF(Y53<>\"\",IF($F53=\"Nej\", IF($C$122=\"Nm3\",($F$138*1000*1000/($Z$68*1000*  $B$123) / Data!$B$6),($F$138*1000*1000/(($Z$68*1000 / Denscalc($B$123))*  $B$123) / Data!$B$6)),0  ),\"\")","v":""},46,null,"","","",{"$f":"IF(AE53<>\"\",IF(F53=\"Nej\",($F$160*1000*1000/($AF$69*1000 *   AH53 )) / Data!$B$7, 0   ),\"\")","v":""},46,"","","","","",null,null,"","","","","",46,"","","","","","","","","",""]
[null,47,null,null,null,null,null,null,null,null,0,47,null,"","","",{"$f":"IF(M54<>\"\",IF($F54=\"Nej\",IF($C$76=\"Nm3\",($F$92*1000*1000/($N$68*1000*  $B$77) / Data!$B$6),($F$92*1000*1000/(($N$68*1000 / Denscalc($B$77))*  $B$77) / Data!$B$6)),0  ),\"\")","v":""},47,null,"","","",{"$f":"IF(S54<>\"\",IF($F54=\"Nej\", IF($C$99=\"Nm3\",($F$115*1000*1000/($T$68*1000*  $B$100) / Data!$B$6),($F$115*1000*1000/(($T$68*1000 / Denscalc($B$100))*  $B$100) / Data!$B$6)),0 ),\"\")","v":""},47,null,"","","",{"$f":"IF(Y54<>\"\",IF($F54=\"Nej\", IF($C$122=\"Nm3\",($F$138*1000*1000/($Z$68*1000*  $B$123) / Data!$B$6),($F$138*1000*1000/(($Z$68*1000 / Denscalc($B$123))*  $B$123) / Data!$B$6)),0  ),\"\")","v":""},47,null,"","","",{"$f":"IF(AE54<>\"\",IF(F54=\"Nej\",($F$160*1000*1000/($AF$69*1000 *   AH54 )) / Data!$B$7, 0   ),\"\")","v":""},47,"","","","","",null,null,"","","","","",47,"","","","","","","","","",""]
[null,48,null,null,null,null,null,null,null,null,0,48,null,"","","",{"$f":"IF(M55<>\"\",IF($F55=\"Nej\",IF($C$76=\"Nm3\",($F$92*1000*1000/($N$68*1000*  $B$77) / Data!$B$6),($F$92*1000*1000/(($N$68*1000 / Denscalc($B$77))*  $B$77) / Data!$B$6)),0  ),\"\")","v":""},48,null,"","","",{"$f":"IF(S55<>\"\",IF($F55=\"Nej\", IF($C$99=\"Nm3\",($F$115*1000*1000/($T$68*1000*  $B$100) / Data!$B$6),($F$115*1000*1000/(($T$68*1000 / Denscalc($B$100))*  $B$100) / Data!$B$6)),0 ),\"\")","v":""},48,null,"","","",{"$f":"IF(Y55<>\"\",IF($F55=\"Nej\", IF($C$122=\"Nm3\",($F$138*1000*1000/($Z$68*1000*  $B$123) / Data!$B$6),($F$138*1000*1000/(($Z$68*1000 / Denscalc($B$123))*  $B$123) / Data!$B$6)),0  ),\"\")","v":""},48,null,"","","",{"$f":"IF(AE55<>\"\",IF(F55=\"Nej\",($F$160*1000*1000/($AF$69*1000 *   AH55 )) / Data!$B$7, 0   ),\"\")","v":""},48,"","","","","",null,null,"","","","","",48,"","","","","","","","","",""]
[null,49,null,null,null,null,null,null,null,null,0,49,null,"","","",{"$f":"IF(M56<>\"\",IF($F56=\"Nej\",IF($C$76=\"Nm3\",($F$92*1000*1000/($N$68*1000*  $B$77) / Data!$B$6),($F$92*1000*1000/(($N$68*1000 / Denscalc($B$77))*  $B$77) / Data!$B$6)),0  ),\"\")","v":""},49,null,"","","",{"$f":"IF(S56<>\"\",IF($F56=\"Nej\", IF($C$99=\"Nm3\",($F$115*1000*1000/($T$68*1000*  $B$100) / Data!$B$6),($F$115*1000*1000/(($T$68*1000 / Denscalc($B$100))*  $B$100) / Data!$B$6)),0 ),\"\")","v":""},49,null,"","","",{"$f":"IF(Y56<>\"\",IF($F56=\"Nej\", IF($C$122=\"Nm3\",($F$138*1000*1000/($Z$68*1000*  $B$123) / Data!$B$6),($F$138*1000*1000/(($Z$68*1000 / Denscalc($B$123))*  $B$123) / Data!$B$6)),0  ),\"\")","v":""},49,null,"","","",{"$f":"IF(AE56<>\"\",IF(F56=\"Nej\",($F$160*1000*1000/($AF$69*1000 *   AH56 )) / Data!$B$7, 0   ),\"\")","v":""},49,"","","","","",null,null,"","","","","",49,"","","","","","","","","",""]
[null,50,null,null,null,null,null,null,null,null,0,50,null,"","","",{"$f":"IF(M57<>\"\",IF($F57=\"Nej\",IF($C$76=\"Nm3\",($F$92*1000*1000/($N$68*1000*  $B$77) / Data!$B$6),($F$92*1000*1000/(($N$68*1000 / Denscalc($B$77))*  $B$77) / Data!$B$6)),0  ),\"\")","v":""},50,null,"","","",{"$f":"IF(S57<>\"\",IF($F57=\"Nej\", IF($C$99=\"Nm3\",($F$115*1000*1000/($T$68*1000*  $B$100) / Data!$B$6),($F$115*1000*1000/(($T$68*1000 / Denscalc($B$100))*  $B$100) / Data!$B$6)),0 ),\"\")","v":""},50,null,"","","",{"$f":"IF(Y57<>\"\",IF($F57=\"Nej\", IF($C$122=\"Nm3\",($F$138*1000*1000/($Z$68*1000*  $B$123) / Data!$B$6),($F$138*1000*1000/(($Z$68*1000 / Denscalc($B$123))*  $B$123) / Data!$B$6)),0  ),\"\")","v":""},50,null,"","","",{"$f":"IF(AE57<>\"\",IF(F57=\"Nej\",($F$160*1000*1000/($AF$69*1000 *   AH57 )) / Data!$B$7, 0   ),\"\")","v":""},50,"","","","","",null,null,"","","","","",50,"","","","","","","","","",""]
[null,51,null,null,null,null,null,null,null,null,0,51,null,"","","",{"$f":"IF(M58<>\"\",IF($F58=\"Nej\",IF($C$76=\"Nm3\",($F$92*1000*1000/($N$68*1000*  $B$77) / Data!$B$6),($F$92*1000*1000/(($N$68*1000 / Denscalc($B$77))*  $B$77) / Data!$B$6)),0  ),\"\")","v":""},51,null,"","","",{"$f":"IF(S58<>\"\",IF($F58=\"Nej\", IF($C$99=\"Nm3\",($F$115*1000*1000/($T$68*1000*  $B$100) / Data!$B$6),($F$115*1000*1000/(($T$68*1000 / Denscalc($B$100))*  $B$100) / Data!$B$6)),0 ),\"\")","v":""},51,null,"","","",{"$f":"IF(Y58<>\"\",IF($F58=\"Nej\", IF($C$122=\"Nm3\",($F$138*1000*1000/($Z$68*1000*  $B$123) / Data!$B$6),($F$138*1000*1000/(($Z$68*1000 / Denscalc($B$123))*  $B$123) / Data!$B$6)),0  ),\"\")","v":""},51,null,"","","",{"$f":"IF(AE58<>\"\",IF(F58=\"Nej\",($F$160*1000*1000/($AF$69*1000 *   AH58 )) / Data!$B$7, 0   ),\"\")","v":""},51,"","","","","",null,null,"","","","","",51,"","","","","","","","","",""]
[null,52,null,null,null,null,null,null,null,null,0,52,null,"","","",{"$f":"IF(M59<>\"\",IF($F59=\"Nej\",IF($C$76=\"Nm3\",($F$92*1000*1000/($N$68*1000*  $B$77) / Data!$B$6),($F$92*1000*1000/(($N$68*1000 / Denscalc($B$77))*  $B$77) / Data!$B$6)),0  ),\"\")","v":""},52,null,"","","",{"$f":"IF(S59<>\"\",IF($F59=\"Nej\", IF($C$99=\"Nm3\",($F$115*1000*1000/($T$68*1000*  $B$100) / Data!$B$6),($F$115*1000*1000/(($T$68*1000 / Denscalc($B$100))*  $B$100) / Data!$B$6)),0 ),\"\")","v":""},52,null,"","","",{"$f":"IF(Y59<>\"\",IF($F59=\"Nej\", IF($C$122=\"Nm3\",($F$138*1000*1000/($Z$68*1000*  $B$123) / Data!$B$6),($F$138*1000*1000/(($Z$68*1000 / Denscalc($B$123))*  $B$123) / Data!$B$6)),0  ),\"\")","v":""},52,null,"","","",{"$f":"IF(AE59<>\"\",IF(F59=\"Nej\",($F$160*1000*1000/($AF$69*1000 *   AH59 )) / Data!$B$7, 0   ),\"\")","v":""},52,"","","","","",null,null,"","","","","",52,"","","","","","","","","",""]
[null,53,null,null,null,null,null,null,null,null,0,53,null,"","","",{"$f":"IF(M60<>\"\",IF($F60=\"Nej\",IF($C$76=\"Nm3\",($F$92*1000*1000/($N$68*1000*  $B$77) / Data!$B$6),($F$92*1000*1000/(($N$68*1000 / Denscalc($B$77))*  $B$77) / Data!$B$6)),0  ),\"\")","v":""},53,null,"","","",{"$f":"IF(S60<>\"\",IF($F60=\"Nej\", IF($C$99=\"Nm3\",($F$115*1000*1000/($T$68*1000*  $B$100) / Data!$B$6),($F$115*1000*1000/(($T$68*1000 / Denscalc($B$100))*  $B$100) / Data!$B$6)),0 ),\"\")","v":""},53,null,"","","",{"$f":"IF(Y60<>\"\",IF($F60=\"Nej\", IF($C$122=\"Nm3\",($F$138*1000*1000/($Z$68*1000*  $B$123) / Data!$B$6),($F$138*1000*1000/(($Z$68*1000 / Denscalc($B$123))*  $B$123) / Data!$B$6)),0  ),\"\")","v":""},53,null,"","","",{"$f":"IF(AE60<>\"\",IF(F60=\"Nej\",($F$160*1000*1000/($AF$69*1000 *   AH60 )) / Data!$B$7, 0   ),\"\")","v":""},53,"","","","","",null,null,"","","","","",53,"","","","","","","","","",""]
[null,54,null,null,null,null,null,null,null,null,0,54,null,"","","",{"$f":"IF(M61<>\"\",IF($F61=\"Nej\",IF($C$76=\"Nm3\",($F$92*1000*1000/($N$68*1000*  $B$77) / Data!$B$6),($F$92*1000*1000/(($N$68*1000 / Denscalc($B$77))*  $B$77) / Data!$B$6)),0  ),\"\")","v":""},54,null,"","","",{"$f":"IF(S61<>\"\",IF($F61=\"Nej\", IF($C$99=\"Nm3\",($F$115*1000*1000/($T$68*1000*  $B$100) / Data!$B$6),($F$115*1000*1000/(($T$68*1000 / Denscalc($B$100))*  $B$100) / Data!$B$6)),0 ),\"\")","v":""},54,null,"","","",{"$f":"IF(Y61<>\"\",IF($F61=\"Nej\", IF($C$122=\"Nm3\",($F$138*1000*1000/($Z$68*1000*  $B$123) / Data!$B$6),($F$138*1000*1000/(($Z$68*1000 / Denscalc($B$123))*  $B$123) / Data!$B$6)),0  ),\"\")","v":""},54,null,"","","",{"$f":"IF(AE61<>\"\",IF(F61=\"Nej\",($F$160*1000*1000/($AF$69*1000 *   AH61 )) / Data!$B$7, 0   ),\"\")","v":""},54,"","","","","",null,null,"","","","","",54,"","","","","","","","","",""]
[null,55,null,null,null,null,null,null,null,null,0,55,null,"","","",{"$f":"IF(M62<>\"\",IF($F62=\"Nej\",IF($C$76=\"Nm3\",($F$92*1000*1000/($N$68*1000*  $B$77) / Data!$B$6),($F$92*1000*1000/(($N$68*1000 / Denscalc($B$77))*  $B$77) / Data!$B$6)),0  ),\"\")","v":""},55,null,"","","",{"$f":"IF(S62<>\"\",IF($F62=\"Nej\", IF($C$99=\"Nm3\",($F$115*1000*1000/($T$68*1000*  $B$100) / Data!$B$6),($F$115*1000*1000/(($T$68*1000 / Denscalc($B$100))*  $B$100) / Data!$B$6)),0 ),\"\")","v":""},55,null,"","","",{"$f":"IF(Y62<>\"\",IF($F62=\"Nej\", IF($C$122=\"Nm3\",($F$138*1000*1000/($Z$68*1000*  $B$123) / Data!$B$6),($F$138*1000*1000/(($Z$68*1000 / Denscalc($B$123))*  $B$123) / Data!$B$6)),0  ),\"\")","v":""},55,null,"","","",{"$f":"IF(AE62<>\"\",IF(F62=\"Nej\",($F$160*1000*1000/($AF$69*1000 *   AH62 )) / Data!$B$7, 0   ),\"\")","v":""},55,"","","","","",null,null,"","","","","",55,"","","","","","","","","",""]
[null,56,null,null,null,null,null,null,null,null,0,56,null,"","","",{"$f":"IF(M63<>\"\",IF($F63=\"Nej\",IF($C$76=\"Nm3\",($F$92*1000*1000/($N$68*1000*  $B$77) / Data!$B$6),($F$92*1000*1000/(($N$68*1000 / Denscalc($B$77))*  $B$77) / Data!$B$6)),0  ),\"\")","v":""},56,null,"","","",{"$f":"IF(S63<>\"\",IF($F63=\"Nej\", IF($C$99=\"Nm3\",($F$115*1000*1000/($T$68*1000*  $B$100) / Data!$B$6),($F$115*1000*1000/(($T$68*1000 / Denscalc($B$100))*  $B$100) / Data!$B$6)),0 ),\"\")","v":""},56,null,"","","",{"$f":"IF(Y63<>\"\",IF($F63=\"Nej\", IF($C$122=\"Nm3\",($F$138*1000*1000/($Z$68*1000*  $B$123) / Data!$B$6),($F$138*1000*1000/(($Z$68*1000 / Denscalc($B$123))*  $B$123) / Data!$B$6)),0  ),\"\")","v":""},56,null,"","","",{"$f":"IF(AE63<>\"\",IF(F63=\"Nej\",($F$160*1000*1000/($AF$69*1000 *   AH63 )) / Data!$B$7, 0   ),\"\")","v":""},56,"","","","","",null,null,"","","","","",56,"","","","","","","","","",""]
[null,57,null,null,null,null,null,null,null,null,0,57,null,"","","",{"$f":"IF(M64<>\"\",IF($F64=\"Nej\",IF($C$76=\"Nm3\",($F$92*1000*1000/($N$68*1000*  $B$77) / Data!$B$6),($F$92*1000*1000/(($N$68*1000 / Denscalc($B$77))*  $B$77) / Data!$B$6)),0  ),\"\")","v":""},57,null,"","","",{"$f":"IF(S64<>\"\",IF($F64=\"Nej\", IF($C$99=\"Nm3\",($F$115*1000*1000/($T$68*1000*  $B$100) / Data!$B$6),($F$115*1000*1000/(($T$68*1000 / Denscalc($B$100))*  $B$100) / Data!$B$6)),0 ),\"\")","v":""},57,null,"","","",{"$f":"IF(Y64<>\"\",IF($F64=\"Nej\", IF($C$122=\"Nm3\",($F$138*1000*1000/($Z$68*1000*  $B$123) / Data!$B$6),($F$138*1000*1000/(($Z$68*1000 / Denscalc($B$123))*  $B$123) / Data!$B$6)),0  ),\"\")","v":""},57,null,"","","",{"$f":"IF(AE64<>\"\",IF(F64=\"Nej\",($F$160*1000*1000/($AF$69*1000 *   AH64 )) / Data!$B$7, 0   ),\"\")","v":""},57,"","","","","",null,null,"","","","","",57,"","","","","","","","","",""]
[null,58,null,null,null,null,null,null,null,null,0,58,null,"","","",{"$f":"IF(M65<>\"\",IF($F65=\"Nej\",IF($C$76=\"Nm3\",($F$92*1000*1000/($N$68*1000*  $B$77) / Data!$B$6),($F$92*1000*1000/(($N$68*1000 / Denscalc($B$77))*  $B$77) / Data!$B$6)),0  ),\"\")","v":""},58,null,"","","",{"$f":"IF(S65<>\"\",IF($F65=\"Nej\", IF($C$99=\"Nm3\",($F$115*1000*1000/($T$68*1000*  $B$100) / Data!$B$6),($F$115*1000*1000/(($T$68*1000 / Denscalc($B$100))*  $B$100) / Data!$B$6)),0 ),\"\")","v":""},58,null,"","","",{"$f":"IF(Y65<>\"\",IF($F65=\"Nej\", IF($C$122=\"Nm3\",($F$138*1000*1000/($Z$68*1000*  $B$123) / Data!$B$6),($F$138*1000*1000/(($Z$68*1000 / Denscalc($B$123))*  $B$123) / Data!$B$6)),0  ),\"\")","v":""},58,null,"","","",{"$f":"IF(AE65<>\"\",IF(F65=\"Nej\",($F$160*1000*1000/($AF$69*1000 *   AH65 )) / Data!$B$7, 0   ),\"\")","v":""},58,"","","","","",null,null,"","","","","",58,"","","","","","","","","",""]
[null,59,null,null,null,null,null,null,null,null,0,59,null,"","","",{"$f":"IF(M66<>\"\",IF($F66=\"Nej\",IF($C$76=\"Nm3\",($F$92*1000*1000/($N$68*1000*  $B$77) / Data!$B$6),($F$92*1000*1000/(($N$68*1000 / Denscalc($B$77))*  $B$77) / Data!$B$6)),0  ),\"\")","v":""},59,null,"","","",{"$f":"IF(S66<>\"\",IF($F66=\"Nej\", IF($C$99=\"Nm3\",($F$115*1000*1000/($T$68*1000*  $B$100) / Data!$B$6),($F$115*1000*1000/(($T$68*1000 / Denscalc($B$100))*  $B$100) / Data!$B$6)),0 ),\"\")","v":""},59,null,"","","",{"$f":"IF(Y66<>\"\",IF($F66=\"Nej\", IF($C$122=\"Nm3\",($F$138*1000*1000/($Z$68*1000*  $B$123) / Data!$B$6),($F$138*1000*1000/(($Z$68*1000 / Denscalc($B$123))*  $B$123) / Data!$B$6)),0  ),\"\")","v":""},59,null,"","","",{"$f":"IF(AE66<>\"\",IF(F66=\"Nej\",($F$160*1000*1000/($AF$69*1000 *   AH66 )) / Data!$B$7, 0   ),\"\")","v":""},59,"","","","","",null,null,"","","","","",59,"","","","","","","","","",""]
[null,60,null,null,null,null,null,null,null,null,0,60,null,"","","",{"$f":"IF(M67<>\"\",IF($F67=\"Nej\",IF($C$76=\"Nm3\",($F$92*1000*1000/($N$68*1000*  $B$77) / Data!$B$6),($F$92*1000*1000/(($N$68*1000 / Denscalc($B$77))*  $B$77) / Data!$B$6)),0  ),\"\")","v":""},60,null,"","","",{"$f":"IF(S67<>\"\",IF($F67=\"Nej\", IF($C$99=\"Nm3\",($F$115*1000*1000/($T$68*1000*  $B$100) / Data!$B$6),($F$115*1000*1000/(($T$68*1000 / Denscalc($B$100))*  $B$100) / Data!$B$6)),0 ),\"\")","v":""},60,null,"","","",{"$f":"IF(Y67<>\"\",IF($F67=\"Nej\", IF($C$122=\"Nm3\",($F$138*1000*1000/($Z$68*1000*  $B$123) / Data!$B$6),($F$138*1000*1000/(($Z$68*1000 / Denscalc($B$123))*  $B$123) / Data!$B$6)),0  ),\"\")","v":""},60,null,"","","",{"$f":"IF(AE67<>\"\",IF(F67=\"Nej\",($F$160*1000*1000/($AF$69*1000 *   AH67 )) / Data!$B$7, 0   ),\"\")","v":""},60,"","","","","",null,null,"","","","","",60,"","","","","","","","","",""]
["Summa gasformig gas",null,null,null,null,null,null,null,null,null,{"$f":"SUM(K7:K67)","v":0},null,{"$f":"SUM(M7:M67)","v":0},{"$f":"SUM(N7:N67)","v":0},null,null,null,null,{"$f":"SUM(S7:S67)","v":0},{"$f":"SUM(T7:T67)","v":0},null,null,null,null,{"$f":"SUM(Y7:Y67)","v":0},{"$f":"SUM(Z7:Z67)","v":0},null,null,null,null,{"$f":"SUM(AE7:AE67)","v":0},null,null,null,null,null,{"$f":"SUM(AK7:AK67)","v":0},{"$f":"SUM(AL7:AL67)","v":0},null,null,null,null,null,null,null,null,null,null,null,"Summa",null,null,null,null,{"$f":"SUM(BC7:BC67)","v":0}]
["Summa flytande gas (LBG)",null,null,null,null,null,null,null,null,null,null,null,null,null,null,null,null,null,null,null,null,null,null,null,null,null,null,null,null,null,null,{"$f":"SUM(AF7:AF67)","v":0},null,null,null,null,"Gasform",null,{"$f":"SUMIFS(AM7:AM67,AN7:AN67,\"Nm3\",AO7:AO67,\"Gas\")","v":0},"Nm3 ",null,{"$f":"SUMIFS(AP7:AP67,AN7:AN67,\"Nm3\",AO7:AO67,\"Gas\")","v":0},{"$f":"SUMIFS(AQ7:AQ67,AN7:AN67,\"Nm3\",AO7:AO67,\"Gas\")","v":0},{"$f":"SUMIFS(AR7:AR67,AN7:AN67,\"Nm3\",AO7:AO67,\"Gas\")","v":0},"Nm3 "]
[null,null,null,null,null,null,null,null,null,null,null,null,null,null,null,null,null,null,null,null,null,null,null,null,null,null,null,null,null,null,null,null,null,null,null,null,"Gasform",null,{"$f":"SUMIFS(AM7:AM67,AN7:AN67,\"kg\",AO7:AO67,\"Gas\")","v":0},"kg",null,{"$f":"SUMIFS(AP7:AP67,AN7:AN67,\"kg\",AO7:AO67,\"Gas\")","v":0},{"$f":"SUMIFS(AQ7:AQ67,AN7:AN67,\"kg\",AO7:AO67,\"Gas\")","v":0},{"$f":"SUMIFS(AR7:AR67,AN7:AN67,\"kg\",AO7:AO67,\"Gas\")","v":0},"kg"]
["Uppgradering, anläggning 1",null,null,null,"Växthusgasberäkning",null,null,"Förbrukning","Not",null,null,null,null,null,null,null,null,null,null,null,null,null,null,null,null,null,null,null,null,null,null,null,null,null,null,null,"LBG",null,{"$f":"SUMIFS(AM7:AM67,AN7:AN67,\"kg\",AO7:AO67,\"Flytande\")","v":0},"kg",null,{"$f":"SUMIFS(AP7:AP67,AN7:AN67,\"kg\",AO7:AO67,\"Flytande\")","v":0},{"$f":"SUMIFS(AQ7:AQ67,AN7:AN67,\"kg\",AO7:AO67,\"Flytande\")","v":0},{"$f":"SUMIFS(AR7:AR67,AN7:AN67,\"kg\",AO7:AO67,\"Flytande\")","v":0},"kg"]
[null,null,"Mängd biogas, Nm3 (tusental)","Mängd","Faktor, gCO2eq/enhet","Mängd CO2eq, ton","Mängd g CO2eq/MJ",{"$f":"IF(C76=\"Nm3\", \"kWh/Nm3 uppgraderad gas\", \"kWh/kg uppgraderad gas\")","v":"kWh/kg uppgraderad gas"},"För egna noteringar länkar etc"]
["Inkommande mängd rågas (enligt summering ovan)",null,{"$f":"$M$68","v":0}]
["Metanhalt inkommande rågas, %",0.65]
["Mängd uppgraderad biogas (uppmätt), tusental"]
["Enhet som uppgraderad gas är mätt i, Nm3 eller kg",null,"kg"]
["Metanhalt uppgraderad gas, %",0.97]
["Elenergi, MWh ",null,null,null,{"$f":"Data!$B$49","v":47000},{"$f":"D78*E78/1000/1000","v":0},{"$f":"IF(AND( F78<>\"\", $C$75>0), IF($C$76=\"Nm3\", ((F78*1000*1000/($C$75*1000*  $B$77)) / Data!$B$6),(F78*1000*1000/(($C$75*1000 / Denscalc($B$77))*  $B$77) / Data!$B$6)),\"\")","v":""},{"$f":"IF(C$75>0,(D78*1000/(C$75*1000)),\"\")","v":""}]
["Värme:",null,null,null,null,null,{"$f":"IF(F79<>\"\",(F79*1000*1000/($C$75*1000*$B$77)/Data!$B$6),\"\")","v":""}]
["Fjärrvärme - 25 % avfall, 27 % förnybart och 11 % stenkol, MWh",null,null,null,{"$f":"IF(A80<>\"\",VLOOKUP(A80,Data!$A$19:$B$47,2,FALSE),\"\")","v":90000},{"$f":"IF(A80<>\"\",D80*E80/1000/1000,\"\")","v":0},{"$f":"IF(AND( F80<>\"\", $C$75>0), IF($C$76=\"Nm3\", ((F80*1000*1000/($C$75*1000*  $B$77)) / Data!$B$6),(F80*1000*1000/(($C$75*1000 / Denscalc($B$77))*  $B$77) / Data!$B$6)),\"\")","v":""},{"$f":"IF(C$75>0,(D80*1000/(C$75*1000)),\"\")","v":""}]
[null,null,null,null,{"$f":"IF(A81<>\"\",VLOOKUP(A81,Data!$A$19:$B$47,2,FALSE),\"\")","v":""},{"$f":"IF(A81<>\"\",D81*E81/1000/1000,\"\")","v":""},{"$f":"IF(AND( F81<>\"\", $C$75>0), IF($C$76=\"Nm3\", ((F81*1000*1000/($C$75*1000*  $B$77)) / Data!$B$6),(F81*1000*1000/(($C$75*1000 / Denscalc($B$77))*  $B$77) / Data!$B$6)),\"\")","v":""},{"$f":"IF(C$75>0,(D81*1000/(C$75*1000)),\"\")","v":""}]
[null,null,null,null,{"$f":"IF(A82<>\"\",VLOOKUP(A82,Data!$A$19:$B$47,2,FALSE),\"\")","v":""},{"$f":"IF(A82<>\"\",D82*E82/1000/1000,\"\")","v":""},{"$f":"IF(AND( F82<>\"\", $C$75>0), IF($C$76=\"Nm3\", ((F82*1000*1000/($C$75*1000*  $B$77)) / Data!$B$6),(F82*1000*1000/(($C$75*1000 / Denscalc($B$77))*  $B$77) / Data!$B$6)),\"\")","v":""},{"$f":"IF(C$75>0,(D82*1000/(C$75*1000)),\"\")","v":""}]
[null,null,null,null,{"$f":"IF(A83<>\"\",VLOOKUP(A83,Data!$A$19:$B$47,2,FALSE),\"\")","v":""},{"$f":"IF(A83<>\"\",D83*E83/1000/1000,\"\")","v":""},{"$f":"IF(AND( F83<>\"\", $C$75>0), IF($C$76=\"Nm3\", ((F83*1000*1000/($C$75*1000*  $B$77)) / Data!$B$6),(F83*1000*1000/(($C$75*1000 / Denscalc($B$77))*  $B$77) / Data!$B$6)),\"\")","v":""},{"$f":"IF(C$75>0,(D83*1000/(C$75*1000)),\"\")","v":""}]
["Insatsvaror:",null,null,null,null,null,{"$f":"IF(F84<>\"\",(F84*1000*1000/($C$75*1000*$B$77)/Data!$B$6),\"\")","v":""}]
["Aktivt kol-fossilt ursprung, kg",null,null,null,{"$f":"IF(A85<>\"\",VLOOKUP(A85,Data!$A$155:$B$169,2,FALSE),\"\")","v":2390},{"$f":"IF(A85<>\"\",D85*E85/1000/1000,\"\")","v":0},{"$f":"IF(AND( F85<>\"\", $C$75>0), IF($C$76=\"Nm3\", ((F85*1000*1000/($C$75*1000*  $B$77)) / Data!$B$6),(F85*1000*1000/(($C$75*1000 / Denscalc($B$77))*  $B$77) / Data!$B$6)),\"\")","v":""}]
[null,null,null,null,{"$f":"IF(A86<>\"\",VLOOKUP(A86,Data!$A$155:$B$169,2,FALSE),\"\")","v":""},{"$f":"IF(A86<>\"\",D86*E86/1000/1000,\"\")","v":""},{"$f":"IF(AND( F86<>\"\", $C$75>0), IF($C$76=\"Nm3\", ((F86*1000*1000/($C$75*1000*  $B$77)) / Data!$B$6),(F86*1000*1000/(($C$75*1000 / Denscalc($B$77))*  $B$77) / Data!$B$6)),\"\")","v":""}]
[null,null,null,null,{"$f":"IF(A87<>\"\",VLOOKUP(A87,Data!$A$155:$B$169,2,FALSE),\"\")","v":""},{"$f":"IF(A87<>\"\",D87*E87/1000/1000,\"\")","v":""},{"$f":"IF(AND( F87<>\"\", $C$75>0), IF($C$76=\"Nm3\", ((F87*1000*1000/($C$75*1000*  $B$77)) / Data!$B$6),(F87*1000*1000/(($C$75*1000 / Denscalc($B$77))*  $B$77) / Data!$B$6)),\"\")","v":""}]
[null,null,null,null,{"$f":"IF(A88<>\"\",VLOOKUP(A88,Data!$A$155:$B$169,2,FALSE),\"\")","v":""},{"$f":"IF(A88<>\"\",D88*E88/1000/1000,\"\")","v":""},{"$f":"IF(AND( F88<>\"\", $C$75>0), IF($C$76=\"Nm3\", ((F88*1000*1000/($C$75*1000*  $B$77)) / Data!$B$6),(F88*1000*1000/(($C$75*1000 / Denscalc($B$77))*  $B$77) / Data!$B$6)),\"\")","v":""}]
["Metanförlust",null,null,null,null,null,{"$f":"IF(F89<>\"\",(F89*1000*1000/($C$75*1000*$B$77)/Data!$B$6),\"\")","v":""}]
["Defaultvärde för vattenskrubber och övriga typer av anläggningar, %",{"$f":"IF(A90<>\"\",VLOOKUP(A90,Data!$A$118:$B$128,2,FALSE),\"\")","v":0.02},null,{"$f":"$C$73*$B$74*$B$90","v":0},{"$f":"Data!$B$3","v":23},{"$f":"D90*Data!$B$5*$E$90","v":0},{"$f":"IF(AND( F90<>\"\", $C$75>0), IF($C$76=\"Nm3\", ((F90*1000*1000/($C$75*1000*  $B$77)) / Data!$B$6),(F90*1000*1000/(($C$75*1000 / Denscalc($B$77))*  $B$77) / Data!$B$6)),\"\")","v":""}]
["Ingen metanreducerande utrustning finns",null,null,null,{"$f":"Data!$B$3","v":23},{"$f":"IF(A91=\"Utrustning för reduktion av metanförluster, drifttid, %\", ($C$73*$B$74*(Data!$B$124-B90)*Data!$B$5*$E$91*(1-B91)),0)","v":0},{"$f":"IF(AND( F91<>\"\", $C$75>0), IF($C$76=\"Nm3\", ((F91*1000*1000/($C$75*1000*  $B$77)) / Data!$B$6),(F91*1000*1000/(($C$75*1000 / Denscalc($B$77))*  $B$77) / Data!$B$6)),\"\")","v":""}]
["Summa uppgraderad biogas anläggning 1",null,{"$f":"C75","v":0},null,null,{"$f":"SUMIF(G73:G91,\">0,1\", F73:F91)","v":0},{"$f":"SUMIF(G78:G91,\">0,1\",G78:G91)","v":0}]
[]
["Uppgradering, anläggning 2",null,null,null,"Växthusgasberäkning",null,null,"Förbrukning","Not"]
[null,null,"Mängd biogas, Nm3 (tusental)","Mängd","Faktor, gCO2eq/enhet","Mängd CO2eq, ton","Mängd g CO2eq/MJ",{"$f":"IF(C99=\"Nm3\", \"kWh/Nm3 uppgraderad gas\", \"kWh/kg uppgraderad gas\")","v":"kWh/kg uppgraderad gas"},"För egna noteringar länkar etc"]
["Inkommande mängd rågas (enligt summering ovan)",null,{"$f":"$S$68","v":0}]
["Metanhalt inkommande rågas, %",0.65]
["Mängd uppgraderad biogas (uppmätt), tusental"]
["Enhet som uppgraderad gas är mätt i, Nm3 eller kg",null,"kg"]
["Metanhalt uppgraderad gas, %",0.97]
["Elenergi, MWh ",null,null,null,{"$f":"Data!$B$49","v":47000},{"$f":"D101*E101/1000/1000","v":0},{"$f":"IF(AND( F101<>\"\", $C$98>0), IF($C$99=\"Nm3\", ((F101*1000*1000/($C$98*1000*  $B$100)) / Data!$B$6),(F101*1000*1000/(($C$98*1000 / Denscalc($B$100))*  $B$100) / Data!$B$6)),\"\")","v":""},{"$f":"IF(C$98>0,(D101*1000/(C$98*1000)),\"\")","v":""}]
["Värme:",null,null,null,null,null,{"$f":"IF(F102<>\"\",(F102*1000*1000/($C$75*1000*$B$77)/Data!$B$6),\"\")","v":""}]
[null,null,null,null,{"$f":"IF(A103<>\"\",VLOOKUP(A103,Data!$A$19:$B$47,2,FALSE),\"\")","v":""},{"$f":"IF(A103<>\"\",D103*E103/1000/1000,\"\")","v":""},{"$f":"IF(AND( F103<>\"\", $C$98>0), IF($C$99=\"Nm3\", ((F103*1000*1000/($C$98*1000*  $B$100)) / Data!$B$6),(F103*1000*1000/(($C$98*1000 / Denscalc($B$100))*  $B$100) / Data!$B$6)),\"\")","v":""},{"$f":"IF(C$98>0,(D103*1000/(C$98*1000)),\"\")","v":""}]
[null,null,null,null,{"$f":"IF(A104<>\"\",VLOOKUP(A104,Data!$A$19:$B$47,2,FALSE),\"\")","v":""},{"$f":"IF(A104<>\"\",D104*E104/1000/1000,\"\")","v":""},{"$f":"IF(AND( F104<>\"\", $C$98>0), IF($C$99=\"Nm3\", ((F104*1000*1000/($C$98*1000*  $B$100)) / Data!$B$6),(F104*1000*1000/(($C$98*1000 / Denscalc($B$100))*  $B$100) / Data!$B$6)),\"\")","v":""},{"$f":"IF(C$98>0,(D104*1000/(C$98*1000)),\"\")","v":""}]
[null,null,null,null,{"$f":"IF(A105<>\"\",VLOOKUP(A105,Data!$A$19:$B$47,2,FALSE),\"\")","v":""},{"$f":"IF(A105<>\"\",D105*E105/1000/1000,\"\")","v":""},{"$f":"IF(AND( F105<>\"\", $C$98>0), IF($C$99=\"Nm3\", ((F105*1000*1000/($C$98*1000*  $B$100)) / Data!$B$6),(F105*1000*1000/(($C$98*1000 / Denscalc($B$100))*  $B$100) / Data!$B$6)),\"\")","v":""},{"$f":"IF(C$98>0,(D105*1000/(C$98*1000)),\"\")","v":""}]
[null,null,null,null,{"$f":"IF(A106<>\"\",VLOOKUP(A106,Data!$A$19:$B$47,2,FALSE),\"\")","v":""},{"$f":"IF(A106<>\"\",D106*E106/1000/1000,\"\")","v":""},{"$f":"IF(AND( F106<>\"\", $C$98>0), IF($C$99=\"Nm3\", ((F106*1000*1000/($C$98*1000*  $B$100)) / Data!$B$6),(F106*1000*1000/(($C$98*1000 / Denscalc($B$100))*  $B$100) / Data!$B$6)),\"\")","v":""},{"$f":"IF(C$98>0,(D106*1000/(C$98*1000)),\"\")","v":""}]
["Insatsvaror:",null,null,null,null,null,{"$f":"IF(F107<>\"\",(F107*1000*1000/($C$75*1000*$B$77)/Data!$B$6),\"\")","v":""}]
[null,null,null,null,{"$f":"IF(A108<>\"\",VLOOKUP(A108,Data!$A$155:$B$169,2,FALSE),\"\")","v":""},{"$f":"IF(A108<>\"\",D108*E108/1000/1000,\"\")","v":""},{"$f":"IF(AND( F108<>\"\", $C$98>0), IF($C$99=\"Nm3\", ((F108*1000*1000/($C$98*1000*  $B$100)) / Data!$B$6),(F108*1000*1000/(($C$98*1000 / Denscalc($B$100))*  $B$100) / Data!$B$6)),\"\")","v":""}]
[null,null,null,null,{"$f":"IF(A109<>\"\",VLOOKUP(A109,Data!$A$155:$B$169,2,FALSE),\"\")","v":""},{"$f":"IF(A109<>\"\",D109*E109/1000/1000,\"\")","v":""},{"$f":"IF(AND( F109<>\"\", $C$98>0), IF($C$99=\"Nm3\", ((F109*1000*1000/($C$98*1000*  $B$100)) / Data!$B$6),(F109*1000*1000/(($C$98*1000 / Denscalc($B$100))*  $B$100) / Data!$B$6)),\"\")","v":""}]
[null,null,null,null,{"$f":"IF(A110<>\"\",VLOOKUP(A110,Data!$A$155:$B$169,2,FALSE),\"\")","v":""},{"$f":"IF(A110<>\"\",D110*E110/1000/1000,\"\")","v":""},{"$f":"IF(AND( F110<>\"\", $C$98>0), IF($C$99=\"Nm3\", ((F110*1000*1000/($C$98*1000*  $B$100)) / Data!$B$6),(F110*1000*1000/(($C$98*1000 / Denscalc($B$100))*  $B$100) / Data!$B$6)),\"\")","v":""}]
[null,null,null,null,{"$f":"IF(A111<>\"\",VLOOKUP(A111,Data!$A$155:$B$169,2,FALSE),\"\")","v":""},{"$f":"IF(A111<>\"\",D111*E111/1000/1000,\"\")","v":""},{"$f":"IF(AND( F111<>\"\", $C$98>0), IF($C$99=\"Nm3\", ((F111*1000*1000/($C$98*1000*  $B$100)) / Data!$B$6),(F111*1000*1000/(($C$98*1000 / Denscalc($B$100))*  $B$100) / Data!$B$6)),\"\")","v":""}]
["Metanförlust",null,null,null,null,null,{"$f":"IF(F112<>\"\",(F112*1000*1000/($C$75*1000*$B$77)/Data!$B$6),\"\")","v":""}]
["Defaultvärde för vattenskrubber och övriga typer av anläggningar, %",{"$f":"IF(A113<>\"\",VLOOKUP(A113,Data!$A$118:$B$128,2,FALSE),\"\")","v":0.02},null,{"$f":"$C$96*$B$97*$B$113","v":0},{"$f":"Data!$B$3","v":23},{"$f":"D113*Data!$B$5*$E$113","v":0},{"$f":"IF(AND( F113<>\"\", $C$75>0), IF($C$76=\"Nm3\", ((F113*1000*1000/($C$75*1000*  $B$77)) / Data!$B$6),(F113*1000*1000/(($C$75*1000 / Denscalc($B$77))*  $B$77) / Data!$B$6)),\"\")","v":""}]
["Ingen metanreducerande utrustning finns",null,null,null,{"$f":"Data!$B$3","v":23},{"$f":"IF(A114=\"Utrustning för reduktion av metanförluster, drifttid, %\", ($C$96*$B$97*(Data!$B$124-B113)*Data!$B$5*$E$114*(1-B114)),0)","v":0},{"$f":"IF(AND( F114<>\"\", $C$75>0), IF($C$76=\"Nm3\", ((F114*1000*1000/($C$75*1000*  $B$77)) / Data!$B$6),(F114*1000*1000/(($C$75*1000 / Denscalc($B$77))*  $B$77) / Data!$B$6)),\"\")","v":""}]
["Summa uppgraderad biogas anläggning 2",null,{"$f":"C98","v":0},null,null,{"$f":"SUMIF(G96:G114,\">0,1\", F96:F114)","v":0},{"$f":"SUMIF(G101:G114,\">0,1\",G101:G114)","v":0}]
[]
["Uppgradering, anläggning 3",null,null,null,"Växthusgasberäkning",null,null,"Förbrukning","Not"]
[null,null,"Mängd biogas, Nm3 (tusental)","Mängd","Faktor, gCO2eq/enhet","Mängd CO2eq, ton","Mängd g CO2eq/MJ",{"$f":"IF(C122=\"Nm3\", \"kWh/Nm3 uppgraderad gas\", \"kWh/kg uppgraderad gas\")","v":"kWh/Nm3 uppgraderad gas"},"För egna noteringar länkar etc"]
["Inkommande mängd rågas (enligt summering ovan)",null,{"$f":"$Y$68","v":0}]
["Metanhalt inkommande rågas, %",0.63]
["Mängd uppgraderad biogas (uppmätt), tusental"]
["Enhet som uppgraderad gas är mätt i, Nm3 eller kg",null,"Nm3"]
["Metanhalt uppgraderad gas, %",0.97]
["Elenergi, MWh ",null,null,null,{"$f":"Data!$B$49","v":47000},{"$f":"D124*E124/1000/1000","v":0},{"$f":"IF(AND( F124<>\"\", $C$121>0), IF($C$122=\"Nm3\", ((F124*1000*1000/($C$121*1000*  $B$123)) / Data!$B$6),(F124*1000*1000/(($C$121*1000 / Denscalc($B$123))*  $B$123) / Data!$B$6)),\"\")","v":""},{"$f":"IF(C$121>0,(D124*1000/(C$121*1000)),\"\")","v":""}]
["Värme:"]
[null,null,null,null,{"$f":"IF(A126<>\"\",VLOOKUP(A126,Data!$A$19:$B$47,2,FALSE),\"\")","v":""},{"$f":"IF(A126<>\"\",D126*E126/1000/1000,\"\")","v":""},{"$f":"IF(AND( F126<>\"\", $C$121>0), IF($C$122=\"Nm3\", ((F126*1000*1000/($C$121*1000*  $B$123)) / Data!$B$6),(F126*1000*1000/(($C$121*1000 / Denscalc($B$123))*  $B$123) / Data!$B$6)),\"\")","v":""},{"$f":"IF(C$121>0,(D126*1000/(C$121*1000)),\"\")","v":""}]
[null,null,null,null,{"$f":"IF(A127<>\"\",VLOOKUP(A127,Data!$A$19:$B$47,2,FALSE),\"\")","v":""},{"$f":"IF(A127<>\"\",D127*E127/1000/1000,\"\")","v":""},{"$f":"IF(AND( F127<>\"\", $C$121>0), IF($C$122=\"Nm3\", ((F127*1000*1000/($C$121*1000*  $B$123)) / Data!$B$6),(F127*1000*1000/(($C$121*1000 / Denscalc($B$123))*  $B$123) / Data!$B$6)),\"\")","v":""},{"$f":"IF(C$121>0,(D127*1000/(C$121*1000)),\"\")","v":""}]
[null,null,null,null,{"$f":"IF(A128<>\"\",VLOOKUP(A128,Data!$A$19:$B$47,2,FALSE),\"\")","v":""},{"$f":"IF(A128<>\"\",D128*E128/1000/1000,\"\")","v":""},{"$f":"IF(AND( F128<>\"\", $C$121>0), IF($C$122=\"Nm3\", ((F128*1000*1000/($C$121*1000*  $B$123)) / Data!$B$6),(F128*1000*1000/(($C$121*1000 / Denscalc($B$123))*  $B$123) / Data!$B$6)),\"\")","v":""},{"$f":"IF(C$121>0,(D128*1000/(C$121*1000)),\"\")","v":""}]
[null,null,null,null,{"$f":"IF(A129<>\"\",VLOOKUP(A129,Data!$A$19:$B$47,2,FALSE),\"\")","v":""},{"$f":"IF(A129<>\"\",D129*E129/1000/1000,\"\")","v":""},{"$f":"IF(AND( F129<>\"\", $C$121>0), IF($C$122=\"Nm3\", ((F129*1000*1000/($C$121*1000*  $B$123)) / Data!$B$6),(F129*1000*1000/(($C$121*1000 / Denscalc($B$123))*  $B$123) / Data!$B$6)),\"\")","v":""},{"$f":"IF(C$121>0,(D129*1000/(C$121*1000)),\"\")","v":""}]
["Insatsvaror:"]
[null,null,null,null,{"$f":"IF(A131<>\"\",VLOOKUP(A131,Data!$A$155:$B$169,2,FALSE),\"\")","v":""},{"$f":"IF(A131<>\"\",D131*E131/1000/1000,\"\")","v":""},{"$f":"IF(AND( F131<>\"\", $C$121>0), IF($C$122=\"Nm3\", ((F131*1000*1000/($C$121*1000*  $B$123)) / Data!$B$6),(F131*1000*1000/(($C$121*1000 / Denscalc($B$123))*  $B$123) / Data!$B$6)),\"\")","v":""}]
[null,null,null,null,{"$f":"IF(A132<>\"\",VLOOKUP(A132,Data!$A$155:$B$169,2,FALSE),\"\")","v":""},{"$f":"IF(A132<>\"\",D132*E132/1000/1000,\"\")","v":""},{"$f":"IF(AND( F132<>\"\", $C$121>0), IF($C$122=\"Nm3\", ((F132*1000*1000/($C$121*1000*  $B$123)) / Data!$B$6),(F132*1000*1000/(($C$121*1000 / Denscalc($B$123))*  $B$123) / Data!$B$6)),\"\")","v":""}]
[null,null,null,null,{"$f":"IF(A133<>\"\",VLOOKUP(A133,Data!$A$155:$B$169,2,FALSE),\"\")","v":""},{"$f":"IF(A133<>\"\",D133*E133/1000/1000,\"\")","v":""},{"$f":"IF(AND( F133<>\"\", $C$121>0), IF($C$122=\"Nm3\", ((F133*1000*1000/($C$121*1000*  $B$123)) / Data!$B$6),(F133*1000*1000/(($C$121*1000 / Denscalc($B$123))*  $B$123) / Data!$B$6)),\"\")","v":""}]
[null,null,null,null,{"$f":"IF(A134<>\"\",VLOOKUP(A134,Data!$A$155:$B$169,2,FALSE),\"\")","v":""},{"$f":"IF(A134<>\"\",D134*E134/1000/1000,\"\")","v":""},{"$f":"IF(AND( F134<>\"\", $C$121>0), IF($C$122=\"Nm3\", ((F134*1000*1000/($C$121*1000*  $B$123)) / Data!$B$6),(F134*1000*1000/(($C$121*1000 / Denscalc($B$123))*  $B$123) / Data!$B$6)),\"\")","v":""}]
["Metanförlust"]
["Defaultvärde för vattenskrubber och övriga typer av anläggningar, %",{"$f":"IF(A136<>\"\",VLOOKUP(A136,Data!$A$118:$B$128,2,FALSE),\"\")","v":0.02},null,{"$f":"$C$119*$B$120*$B$136","v":0},{"$f":"Data!$B$3","v":23},{"$f":"D136*Data!$B$5*$E$136","v":0},{"$f":"IF(AND( F136<>\"\", $C$121>0), IF($C$122=\"Nm3\", ((F136*1000*1000/($C$121*1000*  $B$123)) / Data!$B$6),(F136*1000*1000/(($C$121*1000 / Denscalc($B$123))*  $B$123) / Data!$B$6)),\"\")","v":""}]
["Ingen metanreducerande utrustning finns",null,null,null,{"$f":"Data!$B$3","v":23},{"$f":"IF(A137=\"Utrustning för reduktion av metanförluster, drifttid, %\", ($C$119*$B$120*(Data!$B$124-B136)*Data!$B$5*$E$137*(1-B137)),0)","v":0},{"$f":"IF(AND( F137<>\"\", $C$121>0), IF($C$122=\"Nm3\", ((F137*1000*1000/($C$121*1000*  $B$123)) / Data!$B$6),(F137*1000*1000/(($C$121*1000 / Denscalc($B$123))*  $B$123) / Data!$B$6)),\"\")","v":""}]
["Summa uppgraderad biogas anläggning 3",null,{"$f":"C121","v":0},null,null,{"$f":"SUMIF(G119:G137,\">0,1\", F119:F137)","v":0},{"$f":"SUMIF(G124:G137,\">0,1\",G124:G137)","v":0}]
[]
["Uppgradering, anläggning 4 - Flytande biogas (LBG)",null,null,null,"Växthusgasberäkning",null,null,"Förbrukning","Not"]
[null,null,"Mängd biogas, inkommande i Nm3, utgående gas i kg (tusental)","Mängd","Faktor, gCO2eq/enhet","Mängd CO2eq, ton","Mängd g CO2eq/MJ","kWh/kg uppgraderad gas\"","För egna noteringar länkar etc"]
["Inkommande mängd rågas (enligt summering ovan), Nm3 (tusental)",null,{"$f":"$AE$68","v":0}]
["Metanhalt inkommande rågas, %",0.97]
["Mängd uppgraderad biogas (uppmätt), kg (tusental)"]
["Metanhalt uppgraderad gas, %",1]
["Elenergi, MWh ",null,null,null,{"$f":"Data!$B$49","v":47000},{"$f":"D146*E146/1000/1000","v":0},{"$f":"IF(AND( F146<>\"\", $C$144>0),(F146*1000*1000/($C$144*1000*$B$145)/Data!$B$7),\"\")","v":""},{"$f":"IF(C$144>0,(D146*1000/(C$144*1000)),\"\")","v":""}]
["Värme:"]
[null,null,null,null,{"$f":"IF(A148<>\"\",VLOOKUP(A148,Data!$A$19:$B$47,2,FALSE),\"\")","v":""},{"$f":"IF(A148<>\"\",D148*E148/1000/1000,\"\")","v":""},{"$f":"IF(AND( F148<>\"\", $C$144>0),(F148*1000*1000/($C$144*1000*$B$145)/Data!$B$7),\"\")","v":""},{"$f":"IF(C$144>0,(D148*1000/(C$144*1000)),\"\")","v":""}]
[null,null,null,null,{"$f":"IF(A149<>\"\",VLOOKUP(A149,Data!$A$19:$B$47,2,FALSE),\"\")","v":""},{"$f":"IF(A149<>\"\",D149*E149/1000/1000,\"\")","v":""},{"$f":"IF(AND( F149<>\"\", $C$144>0),(F149*1000*1000/($C$144*1000*$B$145)/Data!$B$7),\"\")","v":""},{"$f":"IF(C$144>0,(D149*1000/(C$144*1000)),\"\")","v":""}]
[null,null,null,null,{"$f":"IF(A150<>\"\",VLOOKUP(A150,Data!$A$19:$B$47,2,FALSE),\"\")","v":""},{"$f":"IF(A150<>\"\",D150*E150/1000/1000,\"\")","v":""},{"$f":"IF(AND( F150<>\"\", $C$144>0),(F150*1000*1000/($C$144*1000*$B$145)/Data!$B$7),\"\")","v":""},{"$f":"IF(C$144>0,(D150*1000/(C$144*1000)),\"\")","v":""}]
[null,null,null,null,{"$f":"IF(A151<>\"\",VLOOKUP(A151,Data!$A$19:$B$47,2,FALSE),\"\")","v":""},{"$f":"IF(A151<>\"\",D151*E151/1000/1000,\"\")","v":""},{"$f":"IF(AND( F151<>\"\", $C$144>0),(F151*1000*1000/($C$144*1000*$B$145)/Data!$B$7),\"\")","v":""},{"$f":"IF(C$144>0,(D151*1000/(C$144*1000)),\"\")","v":""}]
["Insatsvaror:"]
[null,null,null,null,{"$f":"IF(A153<>\"\",VLOOKUP(A153,Data!$A$155:$B$169,2,FALSE),\"\")","v":""},{"$f":"IF(A153<>\"\",D153*E153/1000/1000,\"\")","v":""},{"$f":"IF(AND( F153<>\"\", $C$144>0),(F153*1000*1000/($C$144*1000*$B$145)/Data!$B$7),\"\")","v":""}]
[null,null,null,null,{"$f":"IF(A154<>\"\",VLOOKUP(A154,Data!$A$155:$B$169,2,FALSE),\"\")","v":""},{"$f":"IF(A154<>\"\",D154*E154/1000/1000,\"\")","v":""},{"$f":"IF(AND( F154<>\"\", $C$144>0),(F154*1000*1000/($C$144*1000*$B$145)/Data!$B$7),\"\")","v":""}]
[null,null,null,null,{"$f":"IF(A155<>\"\",VLOOKUP(A155,Data!$A$155:$B$169,2,FALSE),\"\")","v":""},{"$f":"IF(A155<>\"\",D155*E155/1000/1000,\"\")","v":""},{"$f":"IF(AND( F155<>\"\", $C$144>0),(F155*1000*1000/($C$144*1000*$B$145)/Data!$B$7),\"\")","v":""}]
[null,null,null,null,{"$f":"IF(A156<>\"\",VLOOKUP(A156,Data!$A$155:$B$169,2,FALSE),\"\")","v":""},{"$f":"IF(A156<>\"\",D156*E156/1000/1000,\"\")","v":""},{"$f":"IF(AND( F156<>\"\", $C$144>0),(F156*1000*1000/($C$144*1000*$B$145)/Data!$B$7),\"\")","v":""}]
["Metanförlust"]
["Defaultvärde för aminskrubber och anläggningar med RTO, %",{"$f":"IF(A158<>\"\",VLOOKUP(A158,Data!$A$118:$B$128,2,FALSE),\"\")","v":1.9E-3},null,{"$f":"$C$142*$B$143*$B$158","v":0},{"$f":"Data!$B$3","v":23},{"$f":"D158*Data!$B$5*$E$158","v":0},{"$f":"IF(AND( F158<>\"\", $C$144>0),(F158*1000*1000/($C$144*1000*$B$145)/Data!$B$7),\"\")","v":""}]
["Ingen metanreducerande utrustning finns",null,null,null,{"$f":"Data!$B$3","v":23},{"$f":"IF(A159=\"Utrustning för reduktion av metanförluster, drifttid, %\", ($C$119*$B$120*(Data!$B$124-B158)*Data!$B$5*$E$159*(1-B159)),0)","v":0},{"$f":"IF(AND( F159<>\"\", $C$144>0),(F159*1000*1000/($C$144*1000*$B$145)/Data!$B$7),\"\")","v":""}]
["Summa uppgraderad biogas anläggning 4",null,{"$f":"C144","v":0},null,null,{"$f":"SUMIF(G142:G159,\">0,1\", F142:F159)","v":0},{"$f":"SUMIF(G146:G159,\">0,1\",G146:G159)","v":0}]

{"sheet":"Distribution","index":3,"n_rows":276,"n_cols":75,"rows_kept":276,"cut":false,"hidden":false,"merged":[[239,56,239,64],[238,56,238,59],[2,68,3,70],[6,1,7,4],[10,1,10,2],[9,1,9,2],[9,3,9,4],[10,3,10,4],[10,67,13,67],[48,56,48,61],[82,56,82,61],[10,55,13,55],[3,36,3,38],[3,44,3,46],[47,48,47,51],[45,8,45,10],[3,72,12,72],[12,68,12,70],[5,68,10,70],[10,56,13,56],[10,63,11,66],[12,61,12,62],[12,63,12,65],[5,56,8,66],[12,58,12,60],[10,58,11,62],[10,57,13,57],[4,63,4,66],[4,58,4,62],[4,56,4,57],[3,56,3,66],[0,0,0,18],[1,1,1,8],[2,1,2,8],[3,16,3,18],[3,20,3,22],[1,16,2,54],[1,15,2,15],[1,11,2,11],[1,12,2,14],[3,52,3,54],[3,24,3,26],[3,12,3,14],[3,28,3,30],[3,40,3,42],[3,48,3,50],[3,32,3,34],[79,8,79,10],[81,8,81,10],[233,8,233,10],[46,8,46,10],[80,8,80,10],[245,8,245,10],[81,2,81,5],[237,63,237,65],[237,1,237,2],[238,1,238,2],[239,1,239,2],[237,56,237,60],[243,56,243,65],[243,48,243,51],[81,48,81,51],[234,8,234,10],[241,56,241,60],[242,56,242,60],[243,12,243,13],[244,48,244,49],[244,52,244,53],[239,4,239,5],[238,4,238,5],[243,36,243,37],[243,40,243,41],[243,44,243,45],[243,16,243,17],[243,20,243,21],[243,24,243,25],[243,28,243,29],[243,32,243,33]]}
["HBK Biogasredovisning, ver 3.6 - Distribution och försäljning"]
["Företag (länkad från bladet produktion):",{"$f":"Produktion!B2","v":"NNN"},null,null,null,null,null,null,null,null,null,null,"Separat flakfyllning",null,null,null,"Försäljning av gas vid tankstationer"]
["Rapportperiod (länkad från bladet produktion):",{"$f":"Produktion!B3","v":"2020-01-01 -- 2020-12-31"},null,null,null,null,null,null,null,null,null,null,null,null,null,null,null,null,null,null,null,null,null,null,null,null,null,null,null,null,null,null,null,null,null,null,null,null,null,null,null,null,null,null,null,null,null,null,null,null,null,null,null,null,null,null,null,null,null,null,null,null,null,null,null,null,null,null,"Försäljning till ej slutkund"]
[null,null,null,null,null,null,null,null,null,null,null,null,null,null,null,null,"Tankstation 1",null,null,null,"Tankstation 2",null,null,null,"Tankstation 3",null,null,null,"Tankstation 4",null,null,null,"Tankstation 5",null,null,null,"Tankstation 6",null,null,null,"Tankstation 7",null,null,null,"Tankstation 8",null,null,null,"Förångad flytande gas","Tankstation 9",null,null,"Tankstation för flytande gas (LBG)",null,null,null,"Försäljning till slutkund (överförs till rapportunderlag)",null,null,null,null,null,null,null,null,null,null,null,null,null,null,null,"Mass-balans"]
[null,null,null,null,null,null,null,null,null,null,null,null,null,"Mängd","CO2 eq, ton",null,null,"Mängd","CO2 eq, ton",null,null,"Mängd","CO2 eq, ton",null,null,"Mängd","CO2 eq, ton",null,null,"Mängd","CO2 eq, ton",null,null,"Mängd","CO2 eq, ton",null,null,"Mängd","CO2 eq, ton",null,null,"Mängd","CO2 eq, ton",null,null,"Mängd","CO2 eq, ton",null,null,"Mängd","CO2 eq, ton",null,null,"Mängd","CO2 eq, ton",null,null,null,"Gasform",null,null,null,null,"Flytande form (LBG)"]
[null,null,null,null,null,null,null,null,null,null,null,null,"El, MWh",null,{"$f":"N6*Data!$B$49/1000/1000","v":0},null,"El, MWh",null,{"$f":"R6*Data!$B$49/1000/1000","v":0},null,"El, MWh",null,{"$f":"V6*Data!$B$49/1000/1000","v":0},null,"El, MWh",null,{"$f":"Z6*Data!$B$49/1000/1000","v":0},null,"El, MWh",null,{"$f":"AD6*Data!$B$49/1000/1000","v":0},null,"El, MWh",null,{"$f":"AH6*Data!$B$49/1000/1000","v":0},null,"El, MWh",null,{"$f":"AL6*Data!$B$49/1000/1000","v":0},null,"El, MWh",null,{"$f":"AP6*Data!$B$49/1000/1000","v":0},null,"El, MWh",null,{"$f":"AT6*Data!$B$49/1000/1000","v":0},null,"El, MWh",null,{"$f":"AX6*Data!$B$49/1000/1000","v":0},null,"El, MWh",null,{"$f":"BB6*Data!$B$49/1000/1000","v":0},null,"Uppgifterna nedan länkas automatiskt till bladet \"Rapportunderlag\" i vilket underlag skapas för rapportering till Energimyndigheten.",null,null,null,null,null,null,null,null,null,null,null,"Försäljningen till kunder som själva ska rapportera till Energimyndigheten länkas till bladet \"Rapport Ej slutkund\""]
[null,"Beräkna biogasens densitet",null,null,null,null,null,null,null,null,null,null,null,null,null,null,"Trp",null,null,null,"Trp",null,null,null,"Trp",null,null,null,"Trp",null,null,null,"Trp",null,null,null,"Trp",null,null,null,"Trp",null,null,null,"Trp",null,null,null,"Trp",null,null,null,"Trp"]
[null,null,null,null,null,null,null,null,null,null,null,null,null,null,null,null,"Bränsle",null,null,null,"Bränsle",null,null,null,"Bränsle",null,null,null,"Bränsle",null,null,null,"Bränsle",null,null,null,"Bränsle",null,null,null,"Bränsle",null,null,null,"Bränsle",null,null,null,"Bränsle",null,null,null,"Bränsle"]
[null,null,null,null,null,null,null,null,null,null,null,null,null,null,null,null,"Avstånd, km",null,null,null,"Avstånd, km",null,null,null,"Avstånd, km",null,null,null,"Avstånd, km",null,null,null,"Avstånd, km",null,null,null,"Avstånd, km",null,null,null,"Avstånd, km",null,null,null,"Avstånd, km",null,null,null,"Avstånd, km",null,null,null,"Avstånd, km"]
[null,"Metanhalt, %",null,"Densitet, kg/Nm3",null,null,null,null,null,null,null,null,null,null,null,null,"Antal ",null,{"$f":"IF(R7<>\"\",IF(R7=\"Rörledning\",\"\",VLOOKUP(R7,Data!$A$171:$B$185,2,FALSE)*VLOOKUP(R8,Data!$A$51:$C$72,3,FALSE)*R9*R10/1000/1000*2),\"\")","v":""},null,"Antal ",null,{"$f":"IF(V7<>\"\",IF(V7=\"Rörledning\",\"\",VLOOKUP(V7,Data!$A$171:$B$185,2,FALSE)*VLOOKUP(V8,Data!$A$51:$C$72,3,FALSE)*V9*V10/1000/1000*2),\"\")","v":""},null,"Antal ",null,{"$f":"IF(Z7<>\"\",IF(Z7=\"Rörledning\",\"\",VLOOKUP(Z7,Data!$A$171:$B$185,2,FALSE)*VLOOKUP(Z8,Data!$A$51:$C$72,3,FALSE)*Z9*Z10/1000/1000*2),\"\")","v":""},null,"Antal ",null,{"$f":"IF(AD7<>\"\",IF(AD7=\"Rörledning\",\"\",VLOOKUP(AD7,Data!$A$171:$B$185,2,FALSE)*VLOOKUP(AD8,Data!$A$51:$C$72,3,FALSE)*AD9*AD10/1000/1000*2),\"\")","v":""},null,"Antal ",null,{"$f":"IF(AH7<>\"\",IF(AH7=\"Rörledning\",\"\",VLOOKUP(AH7,Data!$A$171:$B$185,2,FALSE)*VLOOKUP(AH8,Data!$A$51:$C$72,3,FALSE)*AH9*AH10/1000/1000*2),\"\")","v":""},null,"Antal ",null,{"$f":"IF(AL7<>\"\",IF(AL7=\"Rörledning\",\"\",VLOOKUP(AL7,Data!$A$171:$B$185,2,FALSE)*VLOOKUP(AL8,Data!$A$51:$C$72,3,FALSE)*AL9*AL10/1000/1000*2),\"\")","v":""},null,"Antal ",null,{"$f":"IF(AP7<>\"\",IF(AP7=\"Rörledning\",\"\",VLOOKUP(AP7,Data!$A$171:$B$185,2,FALSE)*VLOOKUP(AP8,Data!$A$51:$C$72,3,FALSE)*AP9*AP10/1000/1000*2),\"\")","v":""},null,"Antal ",null,{"$f":"IF(AT7<>\"\",IF(AT7=\"Rörledning\",\"\",VLOOKUP(AT7,Data!$A$171:$B$185,2,FALSE)*VLOOKUP(AT8,Data!$A$51:$C$72,3,FALSE)*AT9*AT10/1000/1000*2),\"\")","v":""},null,"Antal ",null,{"$f":"IF(AX7<>\"\",IF(AX7=\"Rörledning\",\"\",VLOOKUP(AX7,Data!$A$171:$B$185,2,FALSE)*VLOOKUP(AX8,Data!$A$51:$C$72,3,FALSE)*AX9*AX10/1000/1000*2),\"\")","v":""},null,"Antal ",null,{"$f":"IF(BB7<>\"\",IF(BB7=\"Rörledning\",\"\",VLOOKUP(BB7,Data!$A$171:$B$185,2,FALSE)*VLOOKUP(BB8,Data!$A$51:$C$72,3,FALSE)*BB9*BB10/1000/1000*2),\"\")","v":""}]
[null,0.97,null,{"$f":"Denscalc(B11)","v":0.74610209465026855},null,null,null,null,null,null,null,null,null,null,null,null,"Tillkom. Trp",null,null,null,"Tillkom. Trp",null,null,null,"Tillkom. Trp",null,null,null,"Tillkom. Trp",null,null,null,"Tillkom. Trp",null,null,null,"Tillkom. Trp",null,null,null,"Tillkom. Trp",null,null,null,"Tillkom. Trp",null,null,null,"Tillkom. Trp",null,null,null,"Tillkom. Trp",null,null,"Parti nr","Normalvärde,\nNej=Faktisk beräkning","Växthusgasutsläpp, från metanförlust vid distribution, g CO2eq/MJ","Biogas i gasform",null,null,null,null,"Biogas i flytande form (LBG)",null,null,null,"Parti nr"]
[null,null,null,null,null,null,null,null,null,null,null,null,"Summa",null,{"$f":"SUM(O6:O11)","v":0},null,"Summa",null,{"$f":"SUM(S6:S11)","v":0},null,"Summa",null,{"$f":"SUM(W6:W11)","v":0},null,"Summa",null,{"$f":"SUM(AA6:AA11)","v":0},null,"Summa",null,{"$f":"SUM(AE6:AE11)","v":0},null,"Summa",null,{"$f":"SUM(AI6:AI11)","v":0},null,"Summa",null,{"$f":"SUM(AM6:AM11)","v":0},null,"Summa",null,{"$f":"SUM(AQ6:AQ11)","v":0},null,"Summa",null,{"$f":"SUM(AU6:AU11)","v":0},null,"Summa",null,{"$f":"SUM(AY10:AY11)","v":0},null,"Summa",null,{"$f":"SUM(BC10:BC11)","v":0}]
["Inkommande gas ",null,null,null,null,null,null,null,null,null,null,null,"Enhet:","kg",null,null,"Enhet:","kg",null,null,"Enhet:","kg",null,null,"Enhet:","kg",null,null,"Enhet:","kg",null,null,"Enhet:","kg",null,null,"Enhet:","kg",null,null,"Enhet:","kg",null,null,"Enhet:","kg",null,null,"Enhet:","kg",null,null,"Enhet","kg",null,null,null,null,"Växthusgasutsläpp",null,null,"Mängd, Nm3 / kg",null,"Växthusgasutsläpp",null,null,"Mängd",null,"Mängd"]
[null,"Parti nr","Kompletterande information","Ursprung","Substrat, typ","Normalvärde,\nNej=Faktisk beräkning","Mängd, Nm3 / kg (tusental)","Form, \nGas / \nFlytande","Enhet, \nNm3 / kg","Metanhalt, %","g CO2eq/MJ",null,{"$f":"IF(N13=\"Nm3\", \"Till egna tankstationer eller sålt till slutkund, Nm3  (tusental)\", \"Till egna tankstationer eller sålt till slutkund, kg  (tusental)\")","v":"Till egna tankstationer eller sålt till slutkund, kg  (tusental)"},{"$f":"IF(N13=\"Nm3\", \"Sålt till ej slutkund, Nm3  (tusental)\", \"Sålt till  ej slutkund, kg  (tusental)\")","v":"Sålt till  ej slutkund, kg  (tusental)"},"g CO2eq/MJ","Parti nr",{"$f":"IF(R13=\"Nm3\", \"Sålt till slutkund, Nm3  (tusental)\", \"Sålt till slutkund, kg  (tusental)\")","v":"Sålt till slutkund, kg  (tusental)"},{"$f":"IF(R13=\"Nm3\", \"Sålt till  ej slutkund, Nm3  (tusental)\", \"Sålt till  ej slutkund, kg  (tusental)\")","v":"Sålt till  ej slutkund, kg  (tusental)"},"g CO2eq/MJ","Parti nr",{"$f":"IF(V13=\"Nm3\", \"Sålt till slutkund, Nm3  (tusental)\", \"Sålt till slutkund, kg  (tusental)\")","v":"Sålt till slutkund, kg  (tusental)"},{"$f":"IF(V13=\"Nm3\", \"Sålt till  ej slutkund, Nm3  (tusental)\", \"Sålt till  ej slutkund, kg  (tusental)\")","v":"Sålt till  ej slutkund, kg  (tusental)"},"g CO2eq/MJ","Parti nr",{"$f":"IF(Z13=\"Nm3\", \"Sålt till slutkund, Nm3  (tusental)\", \"Sålt till slutkund, kg  (tusental)\")","v":"Sålt till slutkund, kg  (tusental)"},{"$f":"IF(Z13=\"Nm3\", \"Sålt till  ej slutkund, Nm3  (tusental)\", \"Sålt till  ej slutkund, kg  (tusental)\")","v":"Sålt till  ej slutkund, kg  (tusental)"},"g CO2eq/MJ","Parti nr",{"$f":"IF(AD13=\"Nm3\", \"Sålt till slutkund, Nm3  (tusental)\", \"Sålt till slutkund, kg  (tusental)\")","v":"Sålt till slutkund, kg  (tusental)"},{"$f":"IF(AD13=\"Nm3\", \"Sålt till  ej slutkund, Nm3  (tusental)\", \"Sålt till  ej slutkund, kg  (tusental)\")","v":"Sålt till  ej slutkund, kg  (tusental)"},"g CO2eq/MJ","Parti nr",{"$f":"IF(AH13=\"Nm3\", \"Sålt till slutkund, Nm3  (tusental)\", \"Sålt till slutkund, kg  (tusental)\")","v":"Sålt till slutkund, kg  (tusental)"},{"$f":"IF(AH13=\"Nm3\", \"Sålt till  ej slutkund, Nm3  (tusental)\", \"Sålt till  ej slutkund, kg  (tusental)\")","v":"Sålt till  ej slutkund, kg  (tusental)"},"g CO2eq/MJ","Parti nr",{"$f":"IF(AL13=\"Nm3\", \"Sålt till slutkund, Nm3  (tusental)\", \"Sålt till slutkund, kg  (tusental)\")","v":"Sålt till slutkund, kg  (tusental)"},{"$f":"IF(AL13=\"Nm3\", \"Sålt till  ej slutkund, Nm3  (tusental)\", \"Sålt till  ej slutkund, kg  (tusental)\")","v":"Sålt till  ej slutkund, kg  (tusental)"},"g CO2eq/MJ","Parti nr",{"$f":"IF(AP13=\"Nm3\", \"Sålt till slutkund, Nm3  (tusental)\", \"Sålt till slutkund, kg  (tusental)\")","v":"Sålt till slutkund, kg  (tusental)"},{"$f":"IF(AP13=\"Nm3\", \"Sålt till  ej slutkund, Nm3  (tusental)\", \"Sålt till  ej slutkund, kg  (tusental)\")","v":"Sålt till  ej slutkund, kg  (tusental)"},"g CO2eq/MJ","Parti nr",{"$f":"IF(AT13=\"Nm3\", \"Sålt till slutkund, Nm3  (tusental)\", \"Sålt till slutkund, kg  (tusental)\")","v":"Sålt till slutkund, kg  (tusental)"},{"$f":"IF(AT13=\"Nm3\", \"Sålt till  ej slutkund, Nm3  (tusental)\", \"Sålt till  ej slutkund, kg  (tusental)\")","v":"Sålt till  ej slutkund, kg  (tusental)"},"g CO2eq/MJ","Parti nr",{"$f":"IF(AX13=\"Nm3\", \"Sålt till slutkund, Nm3  (tusental)\", \"Sålt till slutkund, kg  (tusental)\")","v":"Sålt till slutkund, kg  (tusental)"},{"$f":"IF(AX13=\"Nm3\", \"Sålt till  ej slutkund, Nm3  (tusental)\", \"Sålt till  ej slutkund, kg  (tusental)\")","v":"Sålt till  ej slutkund, kg  (tusental)"},"g CO2eq/MJ","Parti nr",{"$f":"IF(BB13=\"Nm3\", \"Sålt till slutkund, Nm3  (tusental)\", \"Sålt till slutkund, kg  (tusental)\")","v":"Sålt till slutkund, kg  (tusental)"},{"$f":"IF(BB13=\"Nm3\", \"Sålt till  ej slutkund, Nm3  (tusental)\", \"Sålt till  ej slutkund, kg  (tusental)\")","v":"Sålt till  ej slutkund, kg  (tusental)"},"g CO2eq/MJ",null,null,null,"Utsläpp, distribution, g CO2eq/MJ","Utsläpp, summa g CO2eq/MJ","Reduktion,%","Nm3  (tusental)","kg \n(tusental)","Utsläpp, distribution, g CO2eq/MJ","Utsläpp, summa g CO2eq/MJ","Reduktion,%","Biogas i flytande form (LBG), kg (tusental)",null,"Gasform, \nNm3 \n(tusental)","Gasform, \nkg \n(tusental)","Flytande form (LBG), kg (tusental)",null,"Avvikelse In - ut, Nm3 / kg (tusental)"]
["Egen produktion av biogas (från bladet Uppgradering)",null,null,null,null,null,null,null,null,null,null,null,null,null,null,null,null,null,null,null,null,null,null,null,null,null,null,null,null,null,null,null,null,null,null,null,null,null,null,null,null,null,null,null,null,null,null,null,null,null,null,null,null,null,null,null,"Egen produktion av biogas (från bladet Uppgradering)"]
[{"$f":"Uppgradering!A7","v":""},1,{"$f":"Uppgradering!C7","v":""},{"$f":"Uppgradering!D7","v":""},{"$f":"Uppgradering!E7","v":""},{"$f":"Uppgradering!AT7","v":""},{"$f":"Uppgradering!AR7","v":""},{"$f":"Uppgradering!AO7","v":""},{"$f":"Uppgradering!AN7","v":""},{"$f":"Uppgradering!AS7","v":""},{"$f":"Uppgradering!AV7","v":""},null,null,null,{"$f":"IF(AND($A16<>\"\",(M16+N16)>0), IF($F16=\"Nej\",    IF(N$13=\"Nm3\",(O$12*1000*1000/((M$242+N$242+M$243+N$243)*1000*  $J16 * Data!$B$6)),  (O$12*1000*1000/(((M$242+N$242+M$243+N$243)/Denscalc($J16))*1000*  $J16 * Data!$B$6)) ), 0     ),  0)","v":0},1,null,null,{"$f":"IF(AND($A16<>\"\",(Q16+R16)>0), IF($F16=\"Nej\",    IF(R$13=\"Nm3\",(S$12*1000*1000/((Q$242+R$242+Q$243+R$243)*1000*  $J16 * Data!$B$6)),  (S$12*1000*1000/(((Q$242+R$242+Q$243+R$243)/Denscalc($J16))*1000*  $J16 * Data!$B$6)) ), 0     ),  0)","v":0},1,null,null,{"$f":"IF(AND($A16<>\"\",(U16+V16)>0), IF($F16=\"Nej\",    IF(V$13=\"Nm3\",(W$12*1000*1000/((U$242+V$242+U$243+V$243)*1000*  $J16 * Data!$B$6)),  (W$12*1000*1000/(((U$242+V$242+U$243+V$243)/Denscalc($J16))*1000*  $J16 * Data!$B$6)) ), 0     ),  0)","v":0},1,null,null,{"$f":"IF(AND($A16<>\"\",(Y16+Z16)>0), IF($F16=\"Nej\",    IF(Z$13=\"Nm3\",(AA$12*1000*1000/((Y$242+Z$242+Y$243+Z$243)*1000*  $J16 * Data!$B$6)),  (AA$12*1000*1000/(((Y$242+Z$242+Y$243+Z$243)/Denscalc($J16))*1000*  $J16 * Data!$B$6)) ), 0     ),  0)","v":0},1,null,null,{"$f":"IF(AND($A16<>\"\",(AC16+AD16)>0), IF($F16=\"Nej\",    IF(AD$13=\"Nm3\",(AE$12*1000*1000/((AC$242+AD$242+AC$243+AD$243)*1000*  $J16 * Data!$B$6)),  (AE$12*1000*1000/(((AC$242+AD$242+AC$243+AD$243)/Denscalc($J16))*1000*  $J16 * Data!$B$6)) ), 0     ),  0)","v":0},1,null,null,{"$f":"IF(AND($A16<>\"\",(AG16+AH16)>0), IF($F16=\"Nej\",    IF(AH$13=\"Nm3\",(AI$12*1000*1000/((AG$242+AH$242+AG$243+AH$243)*1000*  $J16 * Data!$B$6)),  (AI$12*1000*1000/(((AG$242+AH$242+AG$243+AH$243)/Denscalc($J16))*1000*  $J16 * Data!$B$6)) ), 0     ),  0)","v":0},1,null,null,{"$f":"IF(AND($A16<>\"\",(AK16+AL16)>0), IF($F16=\"Nej\",    IF(AL$13=\"Nm3\",(AM$12*1000*1000/((AK$242+AL$242+AK$243+AL$243)*1000*  $J16 * Data!$B$6)),  (AM$12*1000*1000/(((AK$242+AL$242+AK$243+AL$243)/Denscalc($J16))*1000*  $J16 * Data!$B$6)) ), 0     ),  0)","v":0},1,null,null,{"$f":"IF(AND($A16<>\"\",(AO16+AP16)>0), IF($F16=\"Nej\",    IF(AP$13=\"Nm3\",(AQ$12*1000*1000/((AO$242+AP$242+AO$243+AP$243)*1000*  $J16 * Data!$B$6)),  (AQ$12*1000*1000/(((AO$242+AP$242+AO$243+AP$243)/Denscalc($J16))*1000*  $J16 * Data!$B$6)) ), 0     ),  0)","v":0},1,null,null,{"$f":"IF(AND($A16<>\"\",(AS16+AT16)>0), IF($F16=\"Nej\",    IF(AT$13=\"Nm3\",(AU$12*1000*1000/((AS$242+AT$242+AS$243+AT$243)*1000*  $J16 * Data!$B$6)),  (AU$12*1000*1000/(((AS$242+AT$242+AS$243+AT$243)/Denscalc($J16))*1000*  $J16 * Data!$B$6)) ), 0     ),  0)","v":0},1,null,null,{"$f":"IF(AND($A16<>\"\",(AW16+AX16)>0), IF($F16=\"Nej\",\nIF(AX$13=\"Nm3\",(AY$12*1000*1000/((AW$242+AX$242+AW$243+AX$243-AW$240-AX$240)*1000*  $J16 * Data!$B$6))+(AY$6*1000*1000/((AW$242+AX$242+AW$243+AX$243)*1000*  $J16 * Data!$B$6)),\n (AY$12*1000*1000/(((AW$242+AX$242+AW$243+AX$243-AW$240-AX$240)/Denscalc($J16))*1000*  $J16 * Data!$B$6))  +  (AY$6*1000*1000/(((AW$242+AX$242+AW$243+AX$243)/Denscalc($J16))*1000*  $J16 * Data!$B$6)) ), 0     ),  0)","v":0},1,null,null,{"$f":"IF(AND($A16<>\"\",(BA16+BB16)>0), IF($F16=\"Nej\",\n (BC$12*1000*1000/((BA$244+BB$244-BA$240-BB$240)*1000* Data!$B$7))+ (BC$6*1000*1000/((BA$244+BB$244)*1000* Data!$B$7)),0 ),  0)","v":0},1,{"$f":"IF(F16<>0,F16,\"\")","v":""},{"$f":"IF(A16<>\"\",IF(F16=\"Nej\", (Data!$B$129*Data!$B$5*1000*Data!$B$3)/Data!$B$6,  0 ),\"\")","v":""},{"$f":"IF(A16<>\"\",   IF(H16=\"Gas\",\n( ((O16*(M16+N16) + S16*(Q16+R16) + W16*(U16+V16) + AA16*(Y16+Z16) + AE16*(AC16+AD16) + AI16*(AG16+AH16) + AM16*(AK16+AL16) + AQ16*(AO16+AP16) + AU16*(AS16+AT16)  )) /\n( M16+N16+Q16+R16+U16+V16+Y16+Z16+AC16+AD16+AG16+AH16+AK16+AL16+AO16+AP16+AS16+AT16)+BF16),\nAY16+BF16 ),  \"\")","v":""},{"$f":"IF(A16<>\"\", IF(BE16=\"Nej\",  (K16+BG16), BE16),\"\")","v":""},{"$f":"IF(A16<>\"\",IF(BH16>0,  IF(BE16=\"Nej\",    (Data!$B$8-BH16)/Data!$B$8,  ROUND( (Data!$B$8-BH16)/Data!$B$8,2)),      \"\"),\"\")","v":""},{"$f":"IF(A16<>\"\", SUM( IF(R$13=\"Nm3\",Q16,0),  IF(V$13=\"Nm3\",U16,0),  IF(Z$13=\"Nm3\",Y16,0),  IF(AD$13=\"Nm3\",AC16,0), IF(AH$13=\"Nm3\",AG16,0),  IF(AL$13=\"Nm3\",AK16,0),  IF(AP$13=\"Nm3\",AO16,0),  IF(AT$13=\"Nm3\",AS16,0), IF(AX$13=\"Nm3\",AW16,0),  ),\"\")","v":""},{"$f":"IF(A16<>\"\", SUM(  IF(R$13=\"kg\",Q16,0),  IF(V$13=\"kg\",U16,0),  IF(Z$13=\"kg\",Y16,0),  IF(AD$13=\"kg\",AC16,0), IF(AH$13=\"kg\",AG16,0),  IF(AL$13=\"kg\",AK16,0),  IF(AP$13=\"kg\",AO16,0),  IF(AT$13=\"kg\",AS16,0), IF(AX$13=\"kg\",AW16,0),  ),\"\")","v":""},{"$f":"IF(A16<>\"\",   IF(H16=\"Flytande\", BC16+BF16, \"\"    ), \"\")","v":""},{"$f":"IF(A16<>\"\", IF(H16=\"Flytande\", IF(BE16=\"Nej\",    (K16+BL16),  BE16),\"\"), \"\")","v":""},{"$f":"IF(A16<>\"\", IF(H16=\"Flytande\",   IF(BM16>0,  IF(BE16=\"Nej\",  (Data!$B$8-BM16)/Data!$B$8,  ROUND( (Data!$B$8-BM16)/Data!$B$8,2)   ), \"\"), \"\"),\"\")","v":""},{"$f":"IF(A16<>\"\",BA16,\"\")","v":""},1,{"$f":"IF(A16<>\"\", SUM(IF(N$13=\"Nm3\",N16,0),  IF(R$13=\"Nm3\",R16,0),  IF(V$13=\"Nm3\",V16,0),  IF(Z$13=\"Nm3\",Z16,0),  IF(AD$13=\"Nm3\",AD16,0), IF(AH$13=\"Nm3\",AH16,0),  IF(AL$13=\"Nm3\",AL16,0),  IF(AP$13=\"Nm3\",AP16,0),  IF(AT$13=\"Nm3\",AT16,0), IF(AX$13=\"Nm3\",AX16,0),  ),\"\")","v":""},{"$f":"IF(A16<>\"\", SUM(IF(N$13=\"kg\",N16,0),  IF(R$13=\"kg\",R16,0),  IF(V$13=\"kg\",V16,0),  IF(Z$13=\"kg\",Z16,0),  IF(AD$13=\"kg\",AD16,0), IF(AH$13=\"kg\",AH16,0),  IF(AL$13=\"kg\",AL16,0),  IF(AP$13=\"kg\",AP16,0),  IF(AT$13=\"kg\",AT16,0), IF(AX$13=\"kg\",AX16,0),  ),\"\")","v":""},{"$f":"IF(A16<>\"\",BB16,\"\")","v":""},null,{"$f":"IF(A16<>\"\",    IF(H16=\"Gas\", IF(I16=\"kg\", ((BJ16*Denscalc(J16) +BK16+BQ16*Denscalc(J16)+BR16)-G16), ( (BJ16+BK16/Denscalc(J16) + BQ16+BR16/Denscalc(J16))-G16)), ( (   BJ16*Denscalc(J16)+BK16+BO16+BQ16*Denscalc(J16)+BR16+BS16)-G16)  ), \"\")","v":""}]
[{"$f":"Uppgradering!A8","v":""},2,{"$f":"Uppgradering!C8","v":""},{"$f":"Uppgradering!D8","v":""},{"$f":"Uppgradering!E8","v":""},{"$f":"Uppgradering!AT8","v":""},{"$f":"Uppgradering!AR8","v":""},{"$f":"Uppgradering!AO8","v":""},{"$f":"Uppgradering!AN8","v":""},{"$f":"Uppgradering!AS8","v":""},{"$f":"Uppgradering!AV8","v":""},null,null,null,{"$f":"IF(AND($A17<>\"\",(M17+N17)>0), IF($F17=\"Nej\",    IF(N$13=\"Nm3\",(O$12*1000*1000/((M$242+N$242+M$243+N$243)*1000*  $J17 * Data!$B$6)),  (O$12*1000*1000/(((M$242+N$242+M$243+N$243)/Denscalc($J17))*1000*  $J17 * Data!$B$6)) ), 0     ),  0)","v":0},2,null,null,{"$f":"IF(AND($A17<>\"\",(Q17+R17)>0), IF($F17=\"Nej\",    IF(R$13=\"Nm3\",(S$12*1000*1000/((Q$242+R$242+Q$243+R$243)*1000*  $J17 * Data!$B$6)),  (S$12*1000*1000/(((Q$242+R$242+Q$243+R$243)/Denscalc($J17))*1000*  $J17 * Data!$B$6)) ), 0     ),  0)","v":0},2,null,null,{"$f":"IF(AND($A17<>\"\",(U17+V17)>0), IF($F17=\"Nej\",    IF(V$13=\"Nm3\",(W$12*1000*1000/((U$242+V$242+U$243+V$243)*1000*  $J17 * Data!$B$6)),  (W$12*1000*1000/(((U$242+V$242+U$243+V$243)/Denscalc($J17))*1000*  $J17 * Data!$B$6)) ), 0     ),  0)","v":0},2,null,null,{"$f":"IF(AND($A17<>\"\",(Y17+Z17)>0), IF($F17=\"Nej\",    IF(Z$13=\"Nm3\",(AA$12*1000*1000/((Y$242+Z$242+Y$243+Z$243)*1000*  $J17 * Data!$B$6)),  (AA$12*1000*1000/(((Y$242+Z$242+Y$243+Z$243)/Denscalc($J17))*1000*  $J17 * Data!$B$6)) ), 0     ),  0)","v":0},2,null,null,{"$f":"IF(AND($A17<>\"\",(AC17+AD17)>0), IF($F17=\"Nej\",    IF(AD$13=\"Nm3\",(AE$12*1000*1000/((AC$242+AD$242+AC$243+AD$243)*1000*  $J17 * Data!$B$6)),  (AE$12*1000*1000/(((AC$242+AD$242+AC$243+AD$243)/Denscalc($J17))*1000*  $J17 * Data!$B$6)) ), 0     ),  0)","v":0},2,null,null,{"$f":"IF(AND($A17<>\"\",(AG17+AH17)>0), IF($F17=\"Nej\",    IF(AH$13=\"Nm3\",(AI$12*1000*1000/((AG$242+AH$242+AG$243+AH$243)*1000*  $J17 * Data!$B$6)),  (AI$12*1000*1000/(((AG$242+AH$242+AG$243+AH$243)/Denscalc($J17))*1000*  $J17 * Data!$B$6)) ), 0     ),  0)","v":0},2,null,null,{"$f":"IF(AND($A17<>\"\",(AK17+AL17)>0), IF($F17=\"Nej\",    IF(AL$13=\"Nm3\",(AM$12*1000*1000/((AK$242+AL$242+AK$243+AL$243)*1000*  $J17 * Data!$B$6)),  (AM$12*1000*1000/(((AK$242+AL$242+AK$243+AL$243)/Denscalc($J17))*1000*  $J17 * Data!$B$6)) ), 0     ),  0)","v":0},2,null,null,{"$f":"IF(AND($A17<>\"\",(AO17+AP17)>0), IF($F17=\"Nej\",    IF(AP$13=\"Nm3\",(AQ$12*1000*1000/((AO$242+AP$242+AO$243+AP$243)*1000*  $J17 * Data!$B$6)),  (AQ$12*1000*1000/(((AO$242+AP$242+AO$243+AP$243)/Denscalc($J17))*1000*  $J17 * Data!$B$6)) ), 0     ),  0)","v":0},2,null,null,{"$f":"IF(AND($A17<>\"\",(AS17+AT17)>0), IF($F17=\"Nej\",    IF(AT$13=\"Nm3\",(AU$12*1000*1000/((AS$242+AT$242+AS$243+AT$243)*1000*  $J17 * Data!$B$6)),  (AU$12*1000*1000/(((AS$242+AT$242+AS$243+AT$243)/Denscalc($J17))*1000*  $J17 * Data!$B$6)) ), 0     ),  0)","v":0},2,null,null,{"$f":"IF(AND($A17<>\"\",(AW17+AX17)>0), IF($F17=\"Nej\",\nIF(AX$13=\"Nm3\",(AY$12*1000*1000/((AW$242+AX$242+AW$243+AX$243-AW$240-AX$240)*1000*  $J17 * Data!$B$6))+(AY$6*1000*1000/((AW$242+AX$242+AW$243+AX$243)*1000*  $J17 * Data!$B$6)),\n (AY$12*1000*1000/(((AW$242+AX$242+AW$243+AX$243-AW$240-AX$240)/Denscalc($J17))*1000*  $J17 * Data!$B$6))  +  (AY$6*1000*1000/(((AW$242+AX$242+AW$243+AX$243)/Denscalc($J17))*1000*  $J17 * Data!$B$6)) ), 0     ),  0)","v":0},2,null,null,{"$f":"IF(AND($A17<>\"\",(BA17+BB17)>0), IF($F17=\"Nej\",\n (BC$12*1000*1000/((BA$244+BB$244-BA$240-BB$240)*1000* Data!$B$7))+ (BC$6*1000*1000/((BA$244+BB$244)*1000* Data!$B$7)),0 ),  0)","v":0},2,"",{"$f":"IF(A17<>\"\",IF(F17=\"Nej\", (Data!$B$129*Data!$B$5*1000*Data!$B$3)/Data!$B$6,  0 ),\"\")","v":""},"",{"$f":"IF(A17<>\"\", IF(BE17=\"Nej\",  (K17+BG17), BE17),\"\")","v":""},{"$f":"IF(A17<>\"\",IF(BH17>0,  IF(BE17=\"Nej\",    (Data!$B$8-BH17)/Data!$B$8,  ROUND( (Data!$B$8-BH17)/Data!$B$8,2)),      \"\"),\"\")","v":""},"",{"$f":"IF(A17<>\"\", SUM(  IF(R$13=\"kg\",Q17,0),  IF(V$13=\"kg\",U17,0),  IF(Z$13=\"kg\",Y17,0),  IF(AD$13=\"kg\",AC17,0), IF(AH$13=\"kg\",AG17,0),  IF(AL$13=\"kg\",AK17,0),  IF(AP$13=\"kg\",AO17,0),  IF(AT$13=\"kg\",AS17,0), IF(AX$13=\"kg\",AW17,0),  ),\"\")","v":""},"","",{"$f":"IF(A17<>\"\", IF(H17=\"Flytande\",   IF(BM17>0,  IF(BE17=\"Nej\",  (Data!$B$8-BM17)/Data!$B$8,  ROUND( (Data!$B$8-BM17)/Data!$B$8,2)   ), \"\"), \"\"),\"\")","v":""},"",2,{"$f":"IF(A17<>\"\", SUM(IF(N$13=\"Nm3\",N17,0),  IF(R$13=\"Nm3\",R17,0),  IF(V$13=\"Nm3\",V17,0),  IF(Z$13=\"Nm3\",Z17,0),  IF(AD$13=\"Nm3\",AD17,0), IF(AH$13=\"Nm3\",AH17,0),  IF(AL$13=\"Nm3\",AL17,0),  IF(AP$13=\"Nm3\",AP17,0),  IF(AT$13=\"Nm3\",AT17,0), IF(AX$13=\"Nm3\",AX17,0),  ),\"\")","v":""},{"$f":"IF(A17<>\"\", SUM(IF(N$13=\"kg\",N17,0),  IF(R$13=\"kg\",R17,0),  IF(V$13=\"kg\",V17,0),  IF(Z$13=\"kg\",Z17,0),  IF(AD$13=\"kg\",AD17,0), IF(AH$13=\"kg\",AH17,0),  IF(AL$13=\"kg\",AL17,0),  IF(AP$13=\"kg\",AP17,0),  IF(AT$13=\"kg\",AT17,0), IF(AX$13=\"kg\",AX17,0),  ),\"\")","v":""},"",null,""]
[{"$f":"Uppgradering!A9","v":""},3,{"$f":"Uppgradering!C9","v":""},{"$f":"Uppgradering!D9","v":""},{"$f":"Uppgradering!E9","v":""},{"$f":"Uppgradering!AT9","v":""},{"$f":"Uppgradering!AR9","v":""},{"$f":"Uppgradering!AO9","v":""},{"$f":"Uppgradering!AN9","v":""},{"$f":"Uppgradering!AS9","v":""},{"$f":"Uppgradering!AV9","v":""},null,null,null,{"$f":"IF(AND($A18<>\"\",(M18+N18)>0), IF($F18=\"Nej\",    IF(N$13=\"Nm3\",(O$12*1000*1000/((M$242+N$242+M$243+N$243)*1000*  $J18 * Data!$B$6)),  (O$12*1000*1000/(((M$242+N$242+M$243+N$243)/Denscalc($J18))*1000*  $J18 * Data!$B$6)) ), 0     ),  0)","v":0},3,null,null,{"$f":"IF(AND($A18<>\"\",(Q18+R18)>0), IF($F18=\"Nej\",    IF(R$13=\"Nm3\",(S$12*1000*1000/((Q$242+R$242+Q$243+R$243)*1000*  $J18 * Data!$B$6)),  (S$12*1000*1000/(((Q$242+R$242+Q$243+R$243)/Denscalc($J18))*1000*  $J18 * Data!$B$6)) ), 0     ),  0)","v":0},3,null,null,{"$f":"IF(AND($A18<>\"\",(U18+V18)>0), IF($F18=\"Nej\",    IF(V$13=\"Nm3\",(W$12*1000*1000/((U$242+V$242+U$243+V$243)*1000*  $J18 * Data!$B$6)),  (W$12*1000*1000/(((U$242+V$242+U$243+V$243)/Denscalc($J18))*1000*  $J18 * Data!$B$6)) ), 0     ),  0)","v":0},3,null,null,{"$f":"IF(AND($A18<>\"\",(Y18+Z18)>0), IF($F18=\"Nej\",    IF(Z$13=\"Nm3\",(AA$12*1000*1000/((Y$242+Z$242+Y$243+Z$243)*1000*  $J18 * Data!$B$6)),  (AA$12*1000*1000/(((Y$242+Z$242+Y$243+Z$243)/Denscalc($J18))*1000*  $J18 * Data!$B$6)) ), 0     ),  0)","v":0},3,null,null,{"$f":"IF(AND($A18<>\"\",(AC18+AD18)>0), IF($F18=\"Nej\",    IF(AD$13=\"Nm3\",(AE$12*1000*1000/((AC$242+AD$242+AC$243+AD$243)*1000*  $J18 * Data!$B$6)),  (AE$12*1000*1000/(((AC$242+AD$242+AC$243+AD$243)/Denscalc($J18))*1000*  $J18 * Data!$B$6)) ), 0     ),  0)","v":0},3,null,null,{"$f":"IF(AND($A18<>\"\",(AG18+AH18)>0), IF($F18=\"Nej\",    IF(AH$13=\"Nm3\",(AI$12*1000*1000/((AG$242+AH$242+AG$243+AH$243)*1000*  $J18 * Data!$B$6)),  (AI$12*1000*1000/(((AG$242+AH$242+AG$243+AH$243)/Denscalc($J18))*1000*  $J18 * Data!$B$6)) ), 0     ),  0)","v":0},3,null,null,{"$f":"IF(AND($A18<>\"\",(AK18+AL18)>0), IF($F18=\"Nej\",    IF(AL$13=\"Nm3\",(AM$12*1000*1000/((AK$242+AL$242+AK$243+AL$243)*1000*  $J18 * Data!$B$6)),  (AM$12*1000*1000/(((AK$242+AL$242+AK$243+AL$243)/Denscalc($J18))*1000*  $J18 * Data!$B$6)) ), 0     ),  0)","v":0},3,null,null,{"$f":"IF(AND($A18<>\"\",(AO18+AP18)>0), IF($F18=\"Nej\",    IF(AP$13=\"Nm3\",(AQ$12*1000*1000/((AO$242+AP$242+AO$243+AP$243)*1000*  $J18 * Data!$B$6)),  (AQ$12*1000*1000/(((AO$242+AP$242+AO$243+AP$243)/Denscalc($J18))*1000*  $J18 * Data!$B$6)) ), 0     ),  0)","v":0},3,null,null,{"$f":"IF(AND($A18<>\"\",(AS18+AT18)>0), IF($F18=\"Nej\",    IF(AT$13=\"Nm3\",(AU$12*1000*1000/((AS$242+AT$242+AS$243+AT$243)*1000*  $J18 * Data!$B$6)),  (AU$12*1000*1000/(((AS$242+AT$242+AS$243+AT$243)/Denscalc($J18))*1000*  $J18 * Data!$B$6)) ), 0     ),  0)","v":0},3,null,null,{"$f":"IF(AND($A18<>\"\",(AW18+AX18)>0), IF($F18=\"Nej\",\nIF(AX$13=\"Nm3\",(AY$12*1000*1000/((AW$242+AX$242+AW$243+AX$243-AW$240-AX$240)*1000*  $J18 * Data!$B$6))+(AY$6*1000*1000/((AW$242+AX$242+AW$243+AX$243)*1000*  $J18 * Data!$B$6)),\n (AY$12*1000*1000/(((AW$242+AX$242+AW$243+AX$243-AW$240-AX$240)/Denscalc($J18))*1000*  $J18 * Data!$B$6))  +  (AY$6*1000*1000/(((AW$242+AX$242+AW$243+AX$243)/Denscalc($J18))*1000*  $J18 * Data!$B$6)) ), 0     ),  0)","v":0},3,null,null,{"$f":"IF(AND($A18<>\"\",(BA18+BB18)>0), IF($F18=\"Nej\",\n (BC$12*1000*1000/((BA$244+BB$244-BA$240-BB$240)*1000* Data!$B$7))+ (BC$6*1000*1000/((BA$244+BB$244)*1000* Data!$B$7)),0 ),  0)","v":0},3,"",{"$f":"IF(A18<>\"\",IF(F18=\"Nej\", (Data!$B$129*Data!$B$5*1000*Data!$B$3)/Data!$B$6,  0 ),\"\")","v":""},"","",{"$f":"IF(A18<>\"\",IF(BH18>0,  IF(BE18=\"Nej\",    (Data!$B$8-BH18)/Data!$B$8,  ROUND( (Data!$B$8-BH18)/Data!$B$8,2)),      \"\"),\"\")","v":""},"","","","",{"$f":"IF(A18<>\"\", IF(H18=\"Flytande\",   IF(BM18>0,  IF(BE18=\"Nej\",  (Data!$B$8-BM18)/Data!$B$8,  ROUND( (Data!$B$8-BM18)/Data!$B$8,2)   ), \"\"), \"\"),\"\")","v":""},"",3,"","","",null,""]
[{"$f":"Uppgradering!A10","v":""},4,{"$f":"Uppgradering!C10","v":""},{"$f":"Uppgradering!D10","v":""},{"$f":"Uppgradering!E10","v":""},{"$f":"Uppgradering!AT10","v":""},{"$f":"Uppgradering!AR10","v":""},{"$f":"Uppgradering!AO10","v":""},{"$f":"Uppgradering!AN10","v":""},{"$f":"Uppgradering!AS10","v":""},{"$f":"Uppgradering!AV10","v":""},null,null,null,{"$f":"IF(AND($A19<>\"\",(M19+N19)>0), IF($F19=\"Nej\",    IF(N$13=\"Nm3\",(O$12*1000*1000/((M$242+N$242+M$243+N$243)*1000*  $J19 * Data!$B$6)),  (O$12*1000*1000/(((M$242+N$242+M$243+N$243)/Denscalc($J19))*1000*  $J19 * Data!$B$6)) ), 0     ),  0)","v":0},4,null,null,{"$f":"IF(AND($A19<>\"\",(Q19+R19)>0), IF($F19=\"Nej\",    IF(R$13=\"Nm3\",(S$12*1000*1000/((Q$242+R$242+Q$243+R$243)*1000*  $J19 * Data!$B$6)),  (S$12*1000*1000/(((Q$242+R$242+Q$243+R$243)/Denscalc($J19))*1000*  $J19 * Data!$B$6)) ), 0     ),  0)","v":0},4,null,null,{"$f":"IF(AND($A19<>\"\",(U19+V19)>0), IF($F19=\"Nej\",    IF(V$13=\"Nm3\",(W$12*1000*1000/((U$242+V$242+U$243+V$243)*1000*  $J19 * Data!$B$6)),  (W$12*1000*1000/(((U$242+V$242+U$243+V$243)/Denscalc($J19))*1000*  $J19 * Data!$B$6)) ), 0     ),  0)","v":0},4,null,null,{"$f":"IF(AND($A19<>\"\",(Y19+Z19)>0), IF($F19=\"Nej\",    IF(Z$13=\"Nm3\",(AA$12*1000*1000/((Y$242+Z$242+Y$243+Z$243)*1000*  $J19 * Data!$B$6)),  (AA$12*1000*1000/(((Y$242+Z$242+Y$243+Z$243)/Denscalc($J19))*1000*  $J19 * Data!$B$6)) ), 0     ),  0)","v":0},4,null,null,{"$f":"IF(AND($A19<>\"\",(AC19+AD19)>0), IF($F19=\"Nej\",    IF(AD$13=\"Nm3\",(AE$12*1000*1000/((AC$242+AD$242+AC$243+AD$243)*1000*  $J19 * Data!$B$6)),  (AE$12*1000*1000/(((AC$242+AD$242+AC$243+AD$243)/Denscalc($J19))*1000*  $J19 * Data!$B$6)) ), 0     ),  0)","v":0},4,null,null,{"$f":"IF(AND($A19<>\"\",(AG19+AH19)>0), IF($F19=\"Nej\",    IF(AH$13=\"Nm3\",(AI$12*1000*1000/((AG$242+AH$242+AG$243+AH$243)*1000*  $J19 * Data!$B$6)),  (AI$12*1000*1000/(((AG$242+AH$242+AG$243+AH$243)/Denscalc($J19))*1000*  $J19 * Data!$B$6)) ), 0     ),  0)","v":0},4,null,null,{"$f":"IF(AND($A19<>\"\",(AK19+AL19)>0), IF($F19=\"Nej\",    IF(AL$13=\"Nm3\",(AM$12*1000*1000/((AK$242+AL$242+AK$243+AL$243)*1000*  $J19 * Data!$B$6)),  (AM$12*1000*1000/(((AK$242+AL$242+AK$243+AL$243)/Denscalc($J19))*1000*  $J19 * Data!$B$6)) ), 0     ),  0)","v":0},4,null,null,{"$f":"IF(AND($A19<>\"\",(AO19+AP19)>0), IF($F19=\"Nej\",    IF(AP$13=\"Nm3\",(AQ$12*1000*1000/((AO$242+AP$242+AO$243+AP$243)*1000*  $J19 * Data!$B$6)),  (AQ$12*1000*1000/(((AO$242+AP$242+AO$243+AP$243)/Denscalc($J19))*1000*  $J19 * Data!$B$6)) ), 0     ),  0)","v":0},4,null,null,{"$f":"IF(AND($A19<>\"\",(AS19+AT19)>0), IF($F19=\"Nej\",    IF(AT$13=\"Nm3\",(AU$12*1000*1000/((AS$242+AT$242+AS$243+AT$243)*1000*  $J19 * Data!$B$6)),  (AU$12*1000*1000/(((AS$242+AT$242+AS$243+AT$243)/Denscalc($J19))*1000*  $J19 * Data!$B$6)) ), 0     ),  0)","v":0},4,null,null,{"$f":"IF(AND($A19<>\"\",(AW19+AX19)>0), IF($F19=\"Nej\",\nIF(AX$13=\"Nm3\",(AY$12*1000*1000/((AW$242+AX$242+AW$243+AX$243-AW$240-AX$240)*1000*  $J19 * Data!$B$6))+(AY$6*1000*1000/((AW$242+AX$242+AW$243+AX$243)*1000*  $J19 * Data!$B$6)),\n (AY$12*1000*1000/(((AW$242+AX$242+AW$243+AX$243-AW$240-AX$240)/Denscalc($J19))*1000*  $J19 * Data!$B$6))  +  (AY$6*1000*1000/(((AW$242+AX$242+AW$243+AX$243)/Denscalc($J19))*1000*  $J19 * Data!$B$6)) ), 0     ),  0)","v":0},4,null,null,{"$f":"IF(AND($A19<>\"\",(BA19+BB19)>0), IF($F19=\"Nej\",\n (BC$12*1000*1000/((BA$244+BB$244-BA$240-BB$240)*1000* Data!$B$7))+ (BC$6*1000*1000/((BA$244+BB$244)*1000* Data!$B$7)),0 ),  0)","v":0},4,"",{"$f":"IF(A19<>\"\",IF(F19=\"Nej\", (Data!$B$129*Data!$B$5*1000*Data!$B$3)/Data!$B$6,  0 ),\"\")","v":""},"","",{"$f":"IF(A19<>\"\",IF(BH19>0,  IF(BE19=\"Nej\",    (Data!$B$8-BH19)/Data!$B$8,  ROUND( (Data!$B$8-BH19)/Data!$B$8,2)),      \"\"),\"\")","v":""},"","","","",{"$f":"IF(A19<>\"\", IF(H19=\"Flytande\",   IF(BM19>0,  IF(BE19=\"Nej\",  (Data!$B$8-BM19)/Data!$B$8,  ROUND( (Data!$B$8-BM19)/Data!$B$8,2)   ), \"\"), \"\"),\"\")","v":""},"",4,"","","",null,""]
[{"$f":"Uppgradering!A11","v":""},5,{"$f":"Uppgradering!C11","v":""},{"$f":"Uppgradering!D11","v":""},{"$f":"Uppgradering!E11","v":""},{"$f":"Uppgradering!AT11","v":""},{"$f":"Uppgradering!AR11","v":""},{"$f":"Uppgradering!AO11","v":""},{"$f":"Uppgradering!AN11","v":""},{"$f":"Uppgradering!AS11","v":""},{"$f":"Uppgradering!AV11","v":""},null,null,null,{"$f":"IF(AND($A20<>\"\",(M20+N20)>0), IF($F20=\"Nej\",    IF(N$13=\"Nm3\",(O$12*1000*1000/((M$242+N$242+M$243+N$243)*1000*  $J20 * Data!$B$6)),  (O$12*1000*1000/(((M$242+N$242+M$243+N$243)/Denscalc($J20))*1000*  $J20 * Data!$B$6)) ), 0     ),  0)","v":0},5,null,null,{"$f":"IF(AND($A20<>\"\",(Q20+R20)>0), IF($F20=\"Nej\",    IF(R$13=\"Nm3\",(S$12*1000*1000/((Q$242+R$242+Q$243+R$243)*1000*  $J20 * Data!$B$6)),  (S$12*1000*1000/(((Q$242+R$242+Q$243+R$243)/Denscalc($J20))*1000*  $J20 * Data!$B$6)) ), 0     ),  0)","v":0},5,null,null,{"$f":"IF(AND($A20<>\"\",(U20+V20)>0), IF($F20=\"Nej\",    IF(V$13=\"Nm3\",(W$12*1000*1000/((U$242+V$242+U$243+V$243)*1000*  $J20 * Data!$B$6)),  (W$12*1000*1000/(((U$242+V$242+U$243+V$243)/Denscalc($J20))*1000*  $J20 * Data!$B$6)) ), 0     ),  0)","v":0},5,null,null,{"$f":"IF(AND($A20<>\"\",(Y20+Z20)>0), IF($F20=\"Nej\",    IF(Z$13=\"Nm3\",(AA$12*1000*1000/((Y$242+Z$242+Y$243+Z$243)*1000*  $J20 * Data!$B$6)),  (AA$12*1000*1000/(((Y$242+Z$242+Y$243+Z$243)/Denscalc($J20))*1000*  $J20 * Data!$B$6)) ), 0     ),  0)","v":0},5,null,null,{"$f":"IF(AND($A20<>\"\",(AC20+AD20)>0), IF($F20=\"Nej\",    IF(AD$13=\"Nm3\",(AE$12*1000*1000/((AC$242+AD$242+AC$243+AD$243)*1000*  $J20 * Data!$B$6)),  (AE$12*1000*1000/(((AC$242+AD$242+AC$243+AD$243)/Denscalc($J20))*1000*  $J20 * Data!$B$6)) ), 0     ),  0)","v":0},5,null,null,{"$f":"IF(AND($A20<>\"\",(AG20+AH20)>0), IF($F20=\"Nej\",    IF(AH$13=\"Nm3\",(AI$12*1000*1000/((AG$242+AH$242+AG$243+AH$243)*1000*  $J20 * Data!$B$6)),  (AI$12*1000*1000/(((AG$242+AH$242+AG$243+AH$243)/Denscalc($J20))*1000*  $J20 * Data!$B$6)) ), 0     ),  0)","v":0},5,null,null,{"$f":"IF(AND($A20<>\"\",(AK20+AL20)>0), IF($F20=\"Nej\",    IF(AL$13=\"Nm3\",(AM$12*1000*1000/((AK$242+AL$242+AK$243+AL$243)*1000*  $J20 * Data!$B$6)),  (AM$12*1000*1000/(((AK$242+AL$242+AK$243+AL$243)/Denscalc($J20))*1000*  $J20 * Data!$B$6)) ), 0     ),  0)","v":0},5,null,null,{"$f":"IF(AND($A20<>\"\",(AO20+AP20)>0), IF($F20=\"Nej\",    IF(AP$13=\"Nm3\",(AQ$12*1000*1000/((AO$242+AP$242+AO$243+AP$243)*1000*  $J20 * Data!$B$6)),  (AQ$12*1000*1000/(((AO$242+AP$242+AO$243+AP$243)/Denscalc($J20))*1000*  $J20 * Data!$B$6)) ), 0     ),  0)","v":0},5,null,null,{"$f":"IF(AND($A20<>\"\",(AS20+AT20)>0), IF($F20=\"Nej\",    IF(AT$13=\"Nm3\",(AU$12*1000*1000/((AS$242+AT$242+AS$243+AT$243)*1000*  $J20 * Data!$B$6)),  (AU$12*1000*1000/(((AS$242+AT$242+AS$243+AT$243)/Denscalc($J20))*1000*  $J20 * Data!$B$6)) ), 0     ),  0)","v":0},5,null,null,{"$f":"IF(AND($A20<>\"\",(AW20+AX20)>0), IF($F20=\"Nej\",\nIF(AX$13=\"Nm3\",(AY$12*1000*1000/((AW$242+AX$242+AW$243+AX$243-AW$240-AX$240)*1000*  $J20 * Data!$B$6))+(AY$6*1000*1000/((AW$242+AX$242+AW$243+AX$243)*1000*  $J20 * Data!$B$6)),\n (AY$12*1000*1000/(((AW$242+AX$242+AW$243+AX$243-AW$240-AX$240)/Denscalc($J20))*1000*  $J20 * Data!$B$6))  +  (AY$6*1000*1000/(((AW$242+AX$242+AW$243+AX$243)/Denscalc($J20))*1000*  $J20 * Data!$B$6)) ), 0     ),  0)","v":0},5,null,null,{"$f":"IF(AND($A20<>\"\",(BA20+BB20)>0), IF($F20=\"Nej\",\n (BC$12*1000*1000/((BA$244+BB$244-BA$240-BB$240)*1000* Data!$B$7))+ (BC$6*1000*1000/((BA$244+BB$244)*1000* Data!$B$7)),0 ),  0)","v":0},5,"",{"$f":"IF(A20<>\"\",IF(F20=\"Nej\", (Data!$B$129*Data!$B$5*1000*Data!$B$3)/Data!$B$6,  0 ),\"\")","v":""},"","",{"$f":"IF(A20<>\"\",IF(BH20>0,  IF(BE20=\"Nej\",    (Data!$B$8-BH20)/Data!$B$8,  ROUND( (Data!$B$8-BH20)/Data!$B$8,2)),      \"\"),\"\")","v":""},"","","","",{"$f":"IF(A20<>\"\", IF(H20=\"Flytande\",   IF(BM20>0,  IF(BE20=\"Nej\",  (Data!$B$8-BM20)/Data!$B$8,  ROUND( (Data!$B$8-BM20)/Data!$B$8,2)   ), \"\"), \"\"),\"\")","v":""},"",5,"","","",null,""]
[{"$f":"Uppgradering!A12","v":""},6,{"$f":"Uppgradering!C12","v":""},{"$f":"Uppgradering!D12","v":""},{"$f":"Uppgradering!E12","v":""},{"$f":"Uppgradering!AT12","v":""},{"$f":"Uppgradering!AR12","v":""},{"$f":"Uppgradering!AO12","v":""},{"$f":"Uppgradering!AN12","v":""},{"$f":"Uppgradering!AS12","v":""},{"$f":"Uppgradering!AV12","v":""},null,null,null,{"$f":"IF(AND($A21<>\"\",(M21+N21)>0), IF($F21=\"Nej\",    IF(N$13=\"Nm3\",(O$12*1000*1000/((M$242+N$242+M$243+N$243)*1000*  $J21 * Data!$B$6)),  (O$12*1000*1000/(((M$242+N$242+M$243+N$243)/Denscalc($J21))*1000*  $J21 * Data!$B$6)) ), 0     ),  0)","v":0},6,null,null,{"$f":"IF(AND($A21<>\"\",(Q21+R21)>0), IF($F21=\"Nej\",    IF(R$13=\"Nm3\",(S$12*1000*1000/((Q$242+R$242+Q$243+R$243)*1000*  $J21 * Data!$B$6)),  (S$12*1000*1000/(((Q$242+R$242+Q$243+R$243)/Denscalc($J21))*1000*  $J21 * Data!$B$6)) ), 0     ),  0)","v":0},6,null,null,{"$f":"IF(AND($A21<>\"\",(U21+V21)>0), IF($F21=\"Nej\",    IF(V$13=\"Nm3\",(W$12*1000*1000/((U$242+V$242+U$243+V$243)*1000*  $J21 * Data!$B$6)),  (W$12*1000*1000/(((U$242+V$242+U$243+V$243)/Denscalc($J21))*1000*  $J21 * Data!$B$6)) ), 0     ),  0)","v":0},6,null,null,{"$f":"IF(AND($A21<>\"\",(Y21+Z21)>0), IF($F21=\"Nej\",    IF(Z$13=\"Nm3\",(AA$12*1000*1000/((Y$242+Z$242+Y$243+Z$243)*1000*  $J21 * Data!$B$6)),  (AA$12*1000*1000/(((Y$242+Z$242+Y$243+Z$243)/Denscalc($J21))*1000*  $J21 * Data!$B$6)) ), 0     ),  0)","v":0},6,null,null,{"$f":"IF(AND($A21<>\"\",(AC21+AD21)>0), IF($F21=\"Nej\",    IF(AD$13=\"Nm3\",(AE$12*1000*1000/((AC$242+AD$242+AC$243+AD$243)*1000*  $J21 * Data!$B$6)),  (AE$12*1000*1000/(((AC$242+AD$242+AC$243+AD$243)/Denscalc($J21))*1000*  $J21 * Data!$B$6)) ), 0     ),  0)","v":0},6,null,null,{"$f":"IF(AND($A21<>\"\",(AG21+AH21)>0), IF($F21=\"Nej\",    IF(AH$13=\"Nm3\",(AI$12*1000*1000/((AG$242+AH$242+AG$243+AH$243)*1000*  $J21 * Data!$B$6)),  (AI$12*1000*1000/(((AG$242+AH$242+AG$243+AH$243)/Denscalc($J21))*1000*  $J21 * Data!$B$6)) ), 0     ),  0)","v":0},6,null,null,{"$f":"IF(AND($A21<>\"\",(AK21+AL21)>0), IF($F21=\"Nej\",    IF(AL$13=\"Nm3\",(AM$12*1000*1000/((AK$242+AL$242+AK$243+AL$243)*1000*  $J21 * Data!$B$6)),  (AM$12*1000*1000/(((AK$242+AL$242+AK$243+AL$243)/Denscalc($J21))*1000*  $J21 * Data!$B$6)) ), 0     ),  0)","v":0},6,null,null,{"$f":"IF(AND($A21<>\"\",(AO21+AP21)>0), IF($F21=\"Nej\",    IF(AP$13=\"Nm3\",(AQ$12*1000*1000/((AO$242+AP$242+AO$243+AP$243)*1000*  $J21 * Data!$B$6)),  (AQ$12*1000*1000/(((AO$242+AP$242+AO$243+AP$243)/Denscalc($J21))*1000*  $J21 * Data!$B$6)) ), 0     ),  0)","v":0},6,null,null,{"$f":"IF(AND($A21<>\"\",(AS21+AT21)>0), IF($F21=\"Nej\",    IF(AT$13=\"Nm3\",(AU$12*1000*1000/((AS$242+AT$242+AS$243+AT$243)*1000*  $J21 * Data!$B$6)),  (AU$12*1000*1000/(((AS$242+AT$242+AS$243+AT$243)/Denscalc($J21))*1000*  $J21 * Data!$B$6)) ), 0     ),  0)","v":0},6,null,null,{"$f":"IF(AND($A21<>\"\",(AW21+AX21)>0), IF($F21=\"Nej\",\nIF(AX$13=\"Nm3\",(AY$12*1000*1000/((AW$242+AX$242+AW$243+AX$243-AW$240-AX$240)*1000*  $J21 * Data!$B$6))+(AY$6*1000*1000/((AW$242+AX$242+AW$243+AX$243)*1000*  $J21 * Data!$B$6)),\n (AY$12*1000*1000/(((AW$242+AX$242+AW$243+AX$243-AW$240-AX$240)/Denscalc($J21))*1000*  $J21 * Data!$B$6))  +  (AY$6*1000*1000/(((AW$242+AX$242+AW$243+AX$243)/Denscalc($J21))*1000*  $J21 * Data!$B$6)) ), 0     ),  0)","v":0},6,null,null,{"$f":"IF(AND($A21<>\"\",(BA21+BB21)>0), IF($F21=\"Nej\",\n (BC$12*1000*1000/((BA$244+BB$244-BA$240-BB$240)*1000* Data!$B$7))+ (BC$6*1000*1000/((BA$244+BB$244)*1000* Data!$B$7)),0 ),  0)","v":0},6,"",{"$f":"IF(A21<>\"\",IF(F21=\"Nej\", (Data!$B$129*Data!$B$5*1000*Data!$B$3)/Data!$B$6,  0 ),\"\")","v":""},"","",{"$f":"IF(A21<>\"\",IF(BH21>0,  IF(BE21=\"Nej\",    (Data!$B$8-BH21)/Data!$B$8,  ROUND( (Data!$B$8-BH21)/Data!$B$8,2)),      \"\"),\"\")","v":""},"","","","",{"$f":"IF(A21<>\"\", IF(H21=\"Flytande\",   IF(BM21>0,  IF(BE21=\"Nej\",  (Data!$B$8-BM21)/Data!$B$8,  ROUND( (Data!$B$8-BM21)/Data!$B$8,2)   ), \"\"), \"\"),\"\")","v":""},"",6,"","","",null,""]
[{"$f":"Uppgradering!A13","v":""},7,{"$f":"Uppgradering!C13","v":""},{"$f":"Uppgradering!D13","v":""},{"$f":"Uppgradering!E13","v":""},{"$f":"Uppgradering!AT13","v":""},{"$f":"Uppgradering!AR13","v":""},{"$f":"Uppgradering!AO13","v":""},{"$f":"Uppgradering!AN13","v":""},{"$f":"Uppgradering!AS13","v":""},{"$f":"Uppgradering!AV13","v":""},null,null,null,{"$f":"IF(AND($A22<>\"\",(M22+N22)>0), IF($F22=\"Nej\",    IF(N$13=\"Nm3\",(O$12*1000*1000/((M$242+N$242+M$243+N$243)*1000*  $J22 * Data!$B$6)),  (O$12*1000*1000/(((M$242+N$242+M$243+N$243)/Denscalc($J22))*1000*  $J22 * Data!$B$6)) ), 0     ),  0)","v":0},7,null,null,{"$f":"IF(AND($A22<>\"\",(Q22+R22)>0), IF($F22=\"Nej\",    IF(R$13=\"Nm3\",(S$12*1000*1000/((Q$242+R$242+Q$243+R$243)*1000*  $J22 * Data!$B$6)),  (S$12*1000*1000/(((Q$242+R$242+Q$243+R$243)/Denscalc($J22))*1000*  $J22 * Data!$B$6)) ), 0     ),  0)","v":0},7,null,null,{"$f":"IF(AND($A22<>\"\",(U22+V22)>0), IF($F22=\"Nej\",    IF(V$13=\"Nm3\",(W$12*1000*1000/((U$242+V$242+U$243+V$243)*1000*  $J22 * Data!$B$6)),  (W$12*1000*1000/(((U$242+V$242+U$243+V$243)/Denscalc($J22))*1000*  $J22 * Data!$B$6)) ), 0     ),  0)","v":0},7,null,null,{"$f":"IF(AND($A22<>\"\",(Y22+Z22)>0), IF($F22=\"Nej\",    IF(Z$13=\"Nm3\",(AA$12*1000*1000/((Y$242+Z$242+Y$243+Z$243)*1000*  $J22 * Data!$B$6)),  (AA$12*1000*1000/(((Y$242+Z$242+Y$243+Z$243)/Denscalc($J22))*1000*  $J22 * Data!$B$6)) ), 0     ),  0)","v":0},7,null,null,{"$f":"IF(AND($A22<>\"\",(AC22+AD22)>0), IF($F22=\"Nej\",    IF(AD$13=\"Nm3\",(AE$12*1000*1000/((AC$242+AD$242+AC$243+AD$243)*1000*  $J22 * Data!$B$6)),  (AE$12*1000*1000/(((AC$242+AD$242+AC$243+AD$243)/Denscalc($J22))*1000*  $J22 * Data!$B$6)) ), 0     ),  0)","v":0},7,null,null,{"$f":"IF(AND($A22<>\"\",(AG22+AH22)>0), IF($F22=\"Nej\",    IF(AH$13=\"Nm3\",(AI$12*1000*1000/((AG$242+AH$242+AG$243+AH$243)*1000*  $J22 * Data!$B$6)),  (AI$12*1000*1000/(((AG$242+AH$242+AG$243+AH$243)/Denscalc($J22))*1000*  $J22 * Data!$B$6)) ), 0     ),  0)","v":0},7,null,null,{"$f":"IF(AND($A22<>\"\",(AK22+AL22)>0), IF($F22=\"Nej\",    IF(AL$13=\"Nm3\",(AM$12*1000*1000/((AK$242+AL$242+AK$243+AL$243)*1000*  $J22 * Data!$B$6)),  (AM$12*1000*1000/(((AK$242+AL$242+AK$243+AL$243)/Denscalc($J22))*1000*  $J22 * Data!$B$6)) ), 0     ),  0)","v":0},7,null,null,{"$f":"IF(AND($A22<>\"\",(AO22+AP22)>0), IF($F22=\"Nej\",    IF(AP$13=\"Nm3\",(AQ$12*1000*1000/((AO$242+AP$242+AO$243+AP$243)*1000*  $J22 * Data!$B$6)),  (AQ$12*1000*1000/(((AO$242+AP$242+AO$243+AP$243)/Denscalc($J22))*1000*  $J22 * Data!$B$6)) ), 0     ),  0)","v":0},7,null,null,{"$f":"IF(AND($A22<>\"\",(AS22+AT22)>0), IF($F22=\"Nej\",    IF(AT$13=\"Nm3\",(AU$12*1000*1000/((AS$242+AT$242+AS$243+AT$243)*1000*  $J22 * Data!$B$6)),  (AU$12*1000*1000/(((AS$242+AT$242+AS$243+AT$243)/Denscalc($J22))*1000*  $J22 * Data!$B$6)) ), 0     ),  0)","v":0},7,null,null,{"$f":"IF(AND($A22<>\"\",(AW22+AX22)>0), IF($F22=\"Nej\",\nIF(AX$13=\"Nm3\",(AY$12*1000*1000/((AW$242+AX$242+AW$243+AX$243-AW$240-AX$240)*1000*  $J22 * Data!$B$6))+(AY$6*1000*1000/((AW$242+AX$242+AW$243+AX$243)*1000*  $J22 * Data!$B$6)),\n (AY$12*1000*1000/(((AW$242+AX$242+AW$243+AX$243-AW$240-AX$240)/Denscalc($J22))*1000*  $J22 * Data!$B$6))  +  (AY$6*1000*1000/(((AW$242+AX$242+AW$243+AX$243)/Denscalc($J22))*1000*  $J22 * Data!$B$6)) ), 0     ),  0)","v":0},7,null,null,{"$f":"IF(AND($A22<>\"\",(BA22+BB22)>0), IF($F22=\"Nej\",\n (BC$12*1000*1000/((BA$244+BB$244-BA$240-BB$240)*1000* Data!$B$7))+ (BC$6*1000*1000/((BA$244+BB$244)*1000* Data!$B$7)),0 ),  0)","v":0},7,"",{"$f":"IF(A22<>\"\",IF(F22=\"Nej\", (Data!$B$129*Data!$B$5*1000*Data!$B$3)/Data!$B$6,  0 ),\"\")","v":""},"","",{"$f":"IF(A22<>\"\",IF(BH22>0,  IF(BE22=\"Nej\",    (Data!$B$8-BH22)/Data!$B$8,  ROUND( (Data!$B$8-BH22)/Data!$B$8,2)),      \"\"),\"\")","v":""},"","","","",{"$f":"IF(A22<>\"\", IF(H22=\"Flytande\",   IF(BM22>0,  IF(BE22=\"Nej\",  (Data!$B$8-BM22)/Data!$B$8,  ROUND( (Data!$B$8-BM22)/Data!$B$8,2)   ), \"\"), \"\"),\"\")","v":""},"",7,"","","",null,""]
[{"$f":"Uppgradering!A14","v":""},8,{"$f":"Uppgradering!C14","v":""},{"$f":"Uppgradering!D14","v":""},{"$f":"Uppgradering!E14","v":""},{"$f":"Uppgradering!AT14","v":""},{"$f":"Uppgradering!AR14","v":""},{"$f":"Uppgradering!AO14","v":""},{"$f":"Uppgradering!AN14","v":""},{"$f":"Uppgradering!AS14","v":""},{"$f":"Uppgradering!AV14","v":""},null,null,null,{"$f":"IF(AND($A23<>\"\",(M23+N23)>0), IF($F23=\"Nej\",    IF(N$13=\"Nm3\",(O$12*1000*1000/((M$242+N$242+M$243+N$243)*1000*  $J23 * Data!$B$6)),  (O$12*1000*1000/(((M$242+N$242+M$243+N$243)/Denscalc($J23))*1000*  $J23 * Data!$B$6)) ), 0     ),  0)","v":0},8,null,null,{"$f":"IF(AND($A23<>\"\",(Q23+R23)>0), IF($F23=\"Nej\",    IF(R$13=\"Nm3\",(S$12*1000*1000/((Q$242+R$242+Q$243+R$243)*1000*  $J23 * Data!$B$6)),  (S$12*1000*1000/(((Q$242+R$242+Q$243+R$243)/Denscalc($J23))*1000*  $J23 * Data!$B$6)) ), 0     ),  0)","v":0},8,null,null,{"$f":"IF(AND($A23<>\"\",(U23+V23)>0), IF($F23=\"Nej\",    IF(V$13=\"Nm3\",(W$12*1000*1000/((U$242+V$242+U$243+V$243)*1000*  $J23 * Data!$B$6)),  (W$12*1000*1000/(((U$242+V$242+U$243+V$243)/Denscalc($J23))*1000*  $J23 * Data!$B$6)) ), 0     ),  0)","v":0},8,null,null,{"$f":"IF(AND($A23<>\"\",(Y23+Z23)>0), IF($F23=\"Nej\",    IF(Z$13=\"Nm3\",(AA$12*1000*1000/((Y$242+Z$242+Y$243+Z$243)*1000*  $J23 * Data!$B$6)),  (AA$12*1000*1000/(((Y$242+Z$242+Y$243+Z$243)/Denscalc($J23))*1000*  $J23 * Data!$B$6)) ), 0     ),  0)","v":0},8,null,null,{"$f":"IF(AND($A23<>\"\",(AC23+AD23)>0), IF($F23=\"Nej\",    IF(AD$13=\"Nm3\",(AE$12*1000*1000/((AC$242+AD$242+AC$243+AD$243)*1000*  $J23 * Data!$B$6)),  (AE$12*1000*1000/(((AC$242+AD$242+AC$243+AD$243)/Denscalc($J23))*1000*  $J23 * Data!$B$6)) ), 0     ),  0)","v":0},8,null,null,{"$f":"IF(AND($A23<>\"\",(AG23+AH23)>0), IF($F23=\"Nej\",    IF(AH$13=\"Nm3\",(AI$12*1000*1000/((AG$242+AH$242+AG$243+AH$243)*1000*  $J23 * Data!$B$6)),  (AI$12*1000*1000/(((AG$242+AH$242+AG$243+AH$243)/Denscalc($J23))*1000*  $J23 * Data!$B$6)) ), 0     ),  0)","v":0},8,null,null,{"$f":"IF(AND($A23<>\"\",(AK23+AL23)>0), IF($F23=\"Nej\",    IF(AL$13=\"Nm3\",(AM$12*1000*1000/((AK$242+AL$242+AK$243+AL$243)*1000*  $J23 * Data!$B$6)),  (AM$12*1000*1000/(((AK$242+AL$242+AK$243+AL$243)/Denscalc($J23))*1000*  $J23 * Data!$B$6)) ), 0     ),  0)","v":0},8,null,null,{"$f":"IF(AND($A23<>\"\",(AO23+AP23)>0), IF($F23=\"Nej\",    IF(AP$13=\"Nm3\",(AQ$12*1000*1000/((AO$242+AP$242+AO$243+AP$243)*1000*  $J23 * Data!$B$6)),  (AQ$12*1000*1000/(((AO$242+AP$242+AO$243+AP$243)/Denscalc($J23))*1000*  $J23 * Data!$B$6)) ), 0     ),  0)","v":0},8,null,null,{"$f":"IF(AND($A23<>\"\",(AS23+AT23)>0), IF($F23=\"Nej\",    IF(AT$13=\"Nm3\",(AU$12*1000*1000/((AS$242+AT$242+AS$243+AT$243)*1000*  $J23 * Data!$B$6)),  (AU$12*1000*1000/(((AS$242+AT$242+AS$243+AT$243)/Denscalc($J23))*1000*  $J23 * Data!$B$6)) ), 0     ),  0)","v":0},8,null,null,{"$f":"IF(AND($A23<>\"\",(AW23+AX23)>0), IF($F23=\"Nej\",\nIF(AX$13=\"Nm3\",(AY$12*1000*1000/((AW$242+AX$242+AW$243+AX$243-AW$240-AX$240)*1000*  $J23 * Data!$B$6))+(AY$6*1000*1000/((AW$242+AX$242+AW$243+AX$243)*1000*  $J23 * Data!$B$6)),\n (AY$12*1000*1000/(((AW$242+AX$242+AW$243+AX$243-AW$240-AX$240)/Denscalc($J23))*1000*  $J23 * Data!$B$6))  +  (AY$6*1000*1000/(((AW$242+AX$242+AW$243+AX$243)/Denscalc($J23))*1000*  $J23 * Data!$B$6)) ), 0     ),  0)","v":0},8,null,null,{"$f":"IF(AND($A23<>\"\",(BA23+BB23)>0), IF($F23=\"Nej\",\n (BC$12*1000*1000/((BA$244+BB$244-BA$240-BB$240)*1000* Data!$B$7))+ (BC$6*1000*1000/((BA$244+BB$244)*1000* Data!$B$7)),0 ),  0)","v":0},8,"",{"$f":"IF(A23<>\"\",IF(F23=\"Nej\", (Data!$B$129*Data!$B$5*1000*Data!$B$3)/Data!$B$6,  0 ),\"\")","v":""},"","",{"$f":"IF(A23<>\"\",IF(BH23>0,  IF(BE23=\"Nej\",    (Data!$B$8-BH23)/Data!$B$8,  ROUND( (Data!$B$8-BH23)/Data!$B$8,2)),      \"\"),\"\")","v":""},"","","","",{"$f":"IF(A23<>\"\", IF(H23=\"Flytande\",   IF(BM23>0,  IF(BE23=\"Nej\",  (Data!$B$8-BM23)/Data!$B$8,  ROUND( (Data!$B$8-BM23)/Data!$B$8,2)   ), \"\"), \"\"),\"\")","v":""},"",8,"","","",null,""]
[{"$f":"Uppgradering!A15","v":""},9,{"$f":"Uppgradering!C15","v":""},{"$f":"Uppgradering!D15","v":""},{"$f":"Uppgradering!E15","v":""},{"$f":"Uppgradering!AT15","v":""},{"$f":"Uppgradering!AR15","v":""},{"$f":"Uppgradering!AO15","v":""},{"$f":"Uppgradering!AN15","v":""},{"$f":"Uppgradering!AS15","v":""},{"$f":"Uppgradering!AV15","v":""},null,null,null,{"$f":"IF(AND($A24<>\"\",(M24+N24)>0), IF($F24=\"Nej\",    IF(N$13=\"Nm3\",(O$12*1000*1000/((M$242+N$242+M$243+N$243)*1000*  $J24 * Data!$B$6)),  (O$12*1000*1000/(((M$242+N$242+M$243+N$243)/Denscalc($J24))*1000*  $J24 * Data!$B$6)) ), 0     ),  0)","v":0},9,null,null,{"$f":"IF(AND($A24<>\"\",(Q24+R24)>0), IF($F24=\"Nej\",    IF(R$13=\"Nm3\",(S$12*1000*1000/((Q$242+R$242+Q$243+R$243)*1000*  $J24 * Data!$B$6)),  (S$12*1000*1000/(((Q$242+R$242+Q$243+R$243)/Denscalc($J24))*1000*  $J24 * Data!$B$6)) ), 0     ),  0)","v":0},9,null,null,{"$f":"IF(AND($A24<>\"\",(U24+V24)>0), IF($F24=\"Nej\",    IF(V$13=\"Nm3\",(W$12*1000*1000/((U$242+V$242+U$243+V$243)*1000*  $J24 * Data!$B$6)),  (W$12*1000*1000/(((U$242+V$242+U$243+V$243)/Denscalc($J24))*1000*  $J24 * Data!$B$6)) ), 0     ),  0)","v":0},9,null,null,{"$f":"IF(AND($A24<>\"\",(Y24+Z24)>0), IF($F24=\"Nej\",    IF(Z$13=\"Nm3\",(AA$12*1000*1000/((Y$242+Z$242+Y$243+Z$243)*1000*  $J24 * Data!$B$6)),  (AA$12*1000*1000/(((Y$242+Z$242+Y$243+Z$243)/Denscalc($J24))*1000*  $J24 * Data!$B$6)) ), 0     ),  0)","v":0},9,null,null,{"$f":"IF(AND($A24<>\"\",(AC24+AD24)>0), IF($F24=\"Nej\",    IF(AD$13=\"Nm3\",(AE$12*1000*1000/((AC$242+AD$242+AC$243+AD$243)*1000*  $J24 * Data!$B$6)),  (AE$12*1000*1000/(((AC$242+AD$242+AC$243+AD$243)/Denscalc($J24))*1000*  $J24 * Data!$B$6)) ), 0     ),  0)","v":0},9,null,null,{"$f":"IF(AND($A24<>\"\",(AG24+AH24)>0), IF($F24=\"Nej\",    IF(AH$13=\"Nm3\",(AI$12*1000*1000/((AG$242+AH$242+AG$243+AH$243)*1000*  $J24 * Data!$B$6)),  (AI$12*1000*1000/(((AG$242+AH$242+AG$243+AH$243)/Denscalc($J24))*1000*  $J24 * Data!$B$6)) ), 0     ),  0)","v":0},9,null,null,{"$f":"IF(AND($A24<>\"\",(AK24+AL24)>0), IF($F24=\"Nej\",    IF(AL$13=\"Nm3\",(AM$12*1000*1000/((AK$242+AL$242+AK$243+AL$243)*1000*  $J24 * Data!$B$6)),  (AM$12*1000*1000/(((AK$242+AL$242+AK$243+AL$243)/Denscalc($J24))*1000*  $J24 * Data!$B$6)) ), 0     ),  0)","v":0},9,null,null,{"$f":"IF(AND($A24<>\"\",(AO24+AP24)>0), IF($F24=\"Nej\",    IF(AP$13=\"Nm3\",(AQ$12*1000*1000/((AO$242+AP$242+AO$243+AP$243)*1000*  $J24 * Data!$B$6)),  (AQ$12*1000*1000/(((AO$242+AP$242+AO$243+AP$243)/Denscalc($J24))*1000*  $J24 * Data!$B$6)) ), 0     ),  0)","v":0},9,null,null,{"$f":"IF(AND($A24<>\"\",(AS24+AT24)>0), IF($F24=\"Nej\",    IF(AT$13=\"Nm3\",(AU$12*1000*1000/((AS$242+AT$242+AS$243+AT$243)*1000*  $J24 * Data!$B$6)),  (AU$12*1000*1000/(((AS$242+AT$242+AS$243+AT$243)/Denscalc($J24))*1000*  $J24 * Data!$B$6)) ), 0     ),  0)","v":0},9,null,null,{"$f":"IF(AND($A24<>\"\",(AW24+AX24)>0), IF($F24=\"Nej\",\nIF(AX$13=\"Nm3\",(AY$12*1000*1000/((AW$242+AX$242+AW$243+AX$243-AW$240-AX$240)*1000*  $J24 * Data!$B$6))+(AY$6*1000*1000/((AW$242+AX$242+AW$243+AX$243)*1000*  $J24 * Data!$B$6)),\n (AY$12*1000*1000/(((AW$242+AX$242+AW$243+AX$243-AW$240-AX$240)/Denscalc($J24))*1000*  $J24 * Data!$B$6))  +  (AY$6*1000*1000/(((AW$242+AX$242+AW$243+AX$243)/Denscalc($J24))*1000*  $J24 * Data!$B$6)) ), 0     ),  0)","v":0},9,null,null,{"$f":"IF(AND($A24<>\"\",(BA24+BB24)>0), IF($F24=\"Nej\",\n (BC$12*1000*1000/((BA$244+BB$244-BA$240-BB$240)*1000* Data!$B$7))+ (BC$6*1000*1000/((BA$244+BB$244)*1000* Data!$B$7)),0 ),  0)","v":0},9,"",{"$f":"IF(A24<>\"\",IF(F24=\"Nej\", (Data!$B$129*Data!$B$5*1000*Data!$B$3)/Data!$B$6,  0 ),\"\")","v":""},"","",{"$f":"IF(A24<>\"\",IF(BH24>0,  IF(BE24=\"Nej\",    (Data!$B$8-BH24)/Data!$B$8,  ROUND( (Data!$B$8-BH24)/Data!$B$8,2)),      \"\"),\"\")","v":""},"","","","",{"$f":"IF(A24<>\"\", IF(H24=\"Flytande\",   IF(BM24>0,  IF(BE24=\"Nej\",  (Data!$B$8-BM24)/Data!$B$8,  ROUND( (Data!$B$8-BM24)/Data!$B$8,2)   ), \"\"), \"\"),\"\")","v":""},"",9,"","","",null,""]
[{"$f":"Uppgradering!A16","v":""},10,{"$f":"Uppgradering!C16","v":""},{"$f":"Uppgradering!D16","v":""},{"$f":"Uppgradering!E16","v":""},{"$f":"Uppgradering!AT16","v":""},{"$f":"Uppgradering!AR16","v":""},{"$f":"Uppgradering!AO16","v":""},{"$f":"Uppgradering!AN16","v":""},{"$f":"Uppgradering!AS16","v":""},{"$f":"Uppgradering!AV16","v":""},null,null,null,{"$f":"IF(AND($A25<>\"\",(M25+N25)>0), IF($F25=\"Nej\",    IF(N$13=\"Nm3\",(O$12*1000*1000/((M$242+N$242+M$243+N$243)*1000*  $J25 * Data!$B$6)),  (O$12*1000*1000/(((M$242+N$242+M$243+N$243)/Denscalc($J25))*1000*  $J25 * Data!$B$6)) ), 0     ),  0)","v":0},10,null,null,{"$f":"IF(AND($A25<>\"\",(Q25+R25)>0), IF($F25=\"Nej\",    IF(R$13=\"Nm3\",(S$12*1000*1000/((Q$242+R$242+Q$243+R$243)*1000*  $J25 * Data!$B$6)),  (S$12*1000*1000/(((Q$242+R$242+Q$243+R$243)/Denscalc($J25))*1000*  $J25 * Data!$B$6)) ), 0     ),  0)","v":0},10,null,null,{"$f":"IF(AND($A25<>\"\",(U25+V25)>0), IF($F25=\"Nej\",    IF(V$13=\"Nm3\",(W$12*1000*1000/((U$242+V$242+U$243+V$243)*1000*  $J25 * Data!$B$6)),  (W$12*1000*1000/(((U$242+V$242+U$243+V$243)/Denscalc($J25))*1000*  $J25 * Data!$B$6)) ), 0     ),  0)","v":0},10,null,null,{"$f":"IF(AND($A25<>\"\",(Y25+Z25)>0), IF($F25=\"Nej\",    IF(Z$13=\"Nm3\",(AA$12*1000*1000/((Y$242+Z$242+Y$243+Z$243)*1000*  $J25 * Data!$B$6)),  (AA$12*1000*1000/(((Y$242+Z$242+Y$243+Z$243)/Denscalc($J25))*1000*  $J25 * Data!$B$6)) ), 0     ),  0)","v":0},10,null,null,{"$f":"IF(AND($A25<>\"\",(AC25+AD25)>0), IF($F25=\"Nej\",    IF(AD$13=\"Nm3\",(AE$12*1000*1000/((AC$242+AD$242+AC$243+AD$243)*1000*  $J25 * Data!$B$6)),  (AE$12*1000*1000/(((AC$242+AD$242+AC$243+AD$243)/Denscalc($J25))*1000*  $J25 * Data!$B$6)) ), 0     ),  0)","v":0},10,null,null,{"$f":"IF(AND($A25<>\"\",(AG25+AH25)>0), IF($F25=\"Nej\",    IF(AH$13=\"Nm3\",(AI$12*1000*1000/((AG$242+AH$242+AG$243+AH$243)*1000*  $J25 * Data!$B$6)),  (AI$12*1000*1000/(((AG$242+AH$242+AG$243+AH$243)/Denscalc($J25))*1000*  $J25 * Data!$B$6)) ), 0     ),  0)","v":0},10,null,null,{"$f":"IF(AND($A25<>\"\",(AK25+AL25)>0), IF($F25=\"Nej\",    IF(AL$13=\"Nm3\",(AM$12*1000*1000/((AK$242+AL$242+AK$243+AL$243)*1000*  $J25 * Data!$B$6)),  (AM$12*1000*1000/(((AK$242+AL$242+AK$243+AL$243)/Denscalc($J25))*1000*  $J25 * Data!$B$6)) ), 0     ),  0)","v":0},10,null,null,{"$f":"IF(AND($A25<>\"\",(AO25+AP25)>0), IF($F25=\"Nej\",    IF(AP$13=\"Nm3\",(AQ$12*1000*1000/((AO$242+AP$242+AO$243+AP$243)*1000*  $J25 * Data!$B$6)),  (AQ$12*1000*1000/(((AO$242+AP$242+AO$243+AP$243)/Denscalc($J25))*1000*  $J25 * Data!$B$6)) ), 0     ),  0)","v":0},10,null,null,{"$f":"IF(AND($A25<>\"\",(AS25+AT25)>0), IF($F25=\"Nej\",    IF(AT$13=\"Nm3\",(AU$12*1000*1000/((AS$242+AT$242+AS$243+AT$243)*1000*  $J25 * Data!$B$6)),  (AU$12*1000*1000/(((AS$242+AT$242+AS$243+AT$243)/Denscalc($J25))*1000*  $J25 * Data!$B$6)) ), 0     ),  0)","v":0},10,null,null,{"$f":"IF(AND($A25<>\"\",(AW25+AX25)>0), IF($F25=\"Nej\",\nIF(AX$13=\"Nm3\",(AY$12*1000*1000/((AW$242+AX$242+AW$243+AX$243-AW$240-AX$240)*1000*  $J25 * Data!$B$6))+(AY$6*1000*1000/((AW$242+AX$242+AW$243+AX$243)*1000*  $J25 * Data!$B$6)),\n (AY$12*1000*1000/(((AW$242+AX$242+AW$243+AX$243-AW$240-AX$240)/Denscalc($J25))*1000*  $J25 * Data!$B$6))  +  (AY$6*1000*1000/(((AW$242+AX$242+AW$243+AX$243)/Denscalc($J25))*1000*  $J25 * Data!$B$6)) ), 0     ),  0)","v":0},10,null,null,{"$f":"IF(AND($A25<>\"\",(BA25+BB25)>0), IF($F25=\"Nej\",\n (BC$12*1000*1000/((BA$244+BB$244-BA$240-BB$240)*1000* Data!$B$7))+ (BC$6*1000*1000/((BA$244+BB$244)*1000* Data!$B$7)),0 ),  0)","v":0},10,"",{"$f":"IF(A25<>\"\",IF(F25=\"Nej\", (Data!$B$129*Data!$B$5*1000*Data!$B$3)/Data!$B$6,  0 ),\"\")","v":""},"","",{"$f":"IF(A25<>\"\",IF(BH25>0,  IF(BE25=\"Nej\",    (Data!$B$8-BH25)/Data!$B$8,  ROUND( (Data!$B$8-BH25)/Data!$B$8,2)),      \"\"),\"\")","v":""},"","","","",{"$f":"IF(A25<>\"\", IF(H25=\"Flytande\",   IF(BM25>0,  IF(BE25=\"Nej\",  (Data!$B$8-BM25)/Data!$B$8,  ROUND( (Data!$B$8-BM25)/Data!$B$8,2)   ), \"\"), \"\"),\"\")","v":""},"",10,"","","",null,""]
[{"$f":"Uppgradering!A17","v":""},11,{"$f":"Uppgradering!C17","v":""},{"$f":"Uppgradering!D17","v":""},{"$f":"Uppgradering!E17","v":""},{"$f":"Uppgradering!AT17","v":""},{"$f":"Uppgradering!AR17","v":""},{"$f":"Uppgradering!AO17","v":""},{"$f":"Uppgradering!AN17","v":""},{"$f":"Uppgradering!AS17","v":""},{"$f":"Uppgradering!AV17","v":""},null,null,null,{"$f":"IF(AND($A26<>\"\",(M26+N26)>0), IF($F26=\"Nej\",    IF(N$13=\"Nm3\",(O$12*1000*1000/((M$242+N$242+M$243+N$243)*1000*  $J26 * Data!$B$6)),  (O$12*1000*1000/(((M$242+N$242+M$243+N$243)/Denscalc($J26))*1000*  $J26 * Data!$B$6)) ), 0     ),  0)","v":0},11,null,null,{"$f":"IF(AND($A26<>\"\",(Q26+R26)>0), IF($F26=\"Nej\",    IF(R$13=\"Nm3\",(S$12*1000*1000/((Q$242+R$242+Q$243+R$243)*1000*  $J26 * Data!$B$6)),  (S$12*1000*1000/(((Q$242+R$242+Q$243+R$243)/Denscalc($J26))*1000*  $J26 * Data!$B$6)) ), 0     ),  0)","v":0},11,null,null,{"$f":"IF(AND($A26<>\"\",(U26+V26)>0), IF($F26=\"Nej\",    IF(V$13=\"Nm3\",(W$12*1000*1000/((U$242+V$242+U$243+V$243)*1000*  $J26 * Data!$B$6)),  (W$12*1000*1000/(((U$242+V$242+U$243+V$243)/Denscalc($J26))*1000*  $J26 * Data!$B$6)) ), 0     ),  0)","v":0},11,null,null,{"$f":"IF(AND($A26<>\"\",(Y26+Z26)>0), IF($F26=\"Nej\",    IF(Z$13=\"Nm3\",(AA$12*1000*1000/((Y$242+Z$242+Y$243+Z$243)*1000*  $J26 * Data!$B$6)),  (AA$12*1000*1000/(((Y$242+Z$242+Y$243+Z$243)/Denscalc($J26))*1000*  $J26 * Data!$B$6)) ), 0     ),  0)","v":0},11,null,null,{"$f":"IF(AND($A26<>\"\",(AC26+AD26)>0), IF($F26=\"Nej\",    IF(AD$13=\"Nm3\",(AE$12*1000*1000/((AC$242+AD$242+AC$243+AD$243)*1000*  $J26 * Data!$B$6)),  (AE$12*1000*1000/(((AC$242+AD$242+AC$243+AD$243)/Denscalc($J26))*1000*  $J26 * Data!$B$6)) ), 0     ),  0)","v":0},11,null,null,{"$f":"IF(AND($A26<>\"\",(AG26+AH26)>0), IF($F26=\"Nej\",    IF(AH$13=\"Nm3\",(AI$12*1000*1000/((AG$242+AH$242+AG$243+AH$243)*1000*  $J26 * Data!$B$6)),  (AI$12*1000*1000/(((AG$242+AH$242+AG$243+AH$243)/Denscalc($J26))*1000*  $J26 * Data!$B$6)) ), 0     ),  0)","v":0},11,null,null,{"$f":"IF(AND($A26<>\"\",(AK26+AL26)>0), IF($F26=\"Nej\",    IF(AL$13=\"Nm3\",(AM$12*1000*1000/((AK$242+AL$242+AK$243+AL$243)*1000*  $J26 * Data!$B$6)),  (AM$12*1000*1000/(((AK$242+AL$242+AK$243+AL$243)/Denscalc($J26))*1000*  $J26 * Data!$B$6)) ), 0     ),  0)","v":0},11,null,null,{"$f":"IF(AND($A26<>\"\",(AO26+AP26)>0), IF($F26=\"Nej\",    IF(AP$13=\"Nm3\",(AQ$12*1000*1000/((AO$242+AP$242+AO$243+AP$243)*1000*  $J26 * Data!$B$6)),  (AQ$12*1000*1000/(((AO$242+AP$242+AO$243+AP$243)/Denscalc($J26))*1000*  $J26 * Data!$B$6)) ), 0     ),  0)","v":0},11,null,null,{"$f":"IF(AND($A26<>\"\",(AS26+AT26)>0), IF($F26=\"Nej\",    IF(AT$13=\"Nm3\",(AU$12*1000*1000/((AS$242+AT$242+AS$243+AT$243)*1000*  $J26 * Data!$B$6)),  (AU$12*1000*1000/(((AS$242+AT$242+AS$243+AT$243)/Denscalc($J26))*1000*  $J26 * Data!$B$6)) ), 0     ),  0)","v":0},11,null,null,{"$f":"IF(AND($A26<>\"\",(AW26+AX26)>0), IF($F26=\"Nej\",\nIF(AX$13=\"Nm3\",(AY$12*1000*1000/((AW$242+AX$242+AW$243+AX$243-AW$240-AX$240)*1000*  $J26 * Data!$B$6))+(AY$6*1000*1000/((AW$242+AX$242+AW$243+AX$243)*1000*  $J26 * Data!$B$6)),\n (AY$12*1000*1000/(((AW$242+AX$242+AW$243+AX$243-AW$240-AX$240)/Denscalc($J26))*1000*  $J26 * Data!$B$6))  +  (AY$6*1000*1000/(((AW$242+AX$242+AW$243+AX$243)/Denscalc($J26))*1000*  $J26 * Data!$B$6)) ), 0     ),  0)","v":0},11,null,null,{"$f":"IF(AND($A26<>\"\",(BA26+BB26)>0), IF($F26=\"Nej\",\n (BC$12*1000*1000/((BA$244+BB$244-BA$240-BB$240)*1000* Data!$B$7))+ (BC$6*1000*1000/((BA$244+BB$244)*1000* Data!$B$7)),0 ),  0)","v":0},11,"",{"$f":"IF(A26<>\"\",IF(F26=\"Nej\", (Data!$B$129*Data!$B$5*1000*Data!$B$3)/Data!$B$6,  0 ),\"\")","v":""},"","",{"$f":"IF(A26<>\"\",IF(BH26>0,  IF(BE26=\"Nej\",    (Data!$B$8-BH26)/Data!$B$8,  ROUND( (Data!$B$8-BH26)/Data!$B$8,2)),      \"\"),\"\")","v":""},"","","","",{"$f":"IF(A26<>\"\", IF(H26=\"Flytande\",   IF(BM26>0,  IF(BE26=\"Nej\",  (Data!$B$8-BM26)/Data!$B$8,  ROUND( (Data!$B$8-BM26)/Data!$B$8,2)   ), \"\"), \"\"),\"\")","v":""},"",11,"","","",null,""]
[{"$f":"Uppgradering!A18","v":""},12,{"$f":"Uppgradering!C18","v":""},{"$f":"Uppgradering!D18","v":""},{"$f":"Uppgradering!E18","v":""},{"$f":"Uppgradering!AT18","v":""},{"$f":"Uppgradering!AR18","v":""},{"$f":"Uppgradering!AO18","v":""},{"$f":"Uppgradering!AN18","v":""},{"$f":"Uppgradering!AS18","v":""},{"$f":"Uppgradering!AV18","v":""},null,null,null,{"$f":"IF(AND($A27<>\"\",(M27+N27)>0), IF($F27=\"Nej\",    IF(N$13=\"Nm3\",(O$12*1000*1000/((M$242+N$242+M$243+N$243)*1000*  $J27 * Data!$B$6)),  (O$12*1000*1000/(((M$242+N$242+M$243+N$243)/Denscalc($J27))*1000*  $J27 * Data!$B$6)) ), 0     ),  0)","v":0},12,null,null,{"$f":"IF(AND($A27<>\"\",(Q27+R27)>0), IF($F27=\"Nej\",    IF(R$13=\"Nm3\",(S$12*1000*1000/((Q$242+R$242+Q$243+R$243)*1000*  $J27 * Data!$B$6)),  (S$12*1000*1000/(((Q$242+R$242+Q$243+R$243)/Denscalc($J27))*1000*  $J27 * Data!$B$6)) ), 0     ),  0)","v":0},12,null,null,{"$f":"IF(AND($A27<>\"\",(U27+V27)>0), IF($F27=\"Nej\",    IF(V$13=\"Nm3\",(W$12*1000*1000/((U$242+V$242+U$243+V$243)*1000*  $J27 * Data!$B$6)),  (W$12*1000*1000/(((U$242+V$242+U$243+V$243)/Denscalc($J27))*1000*  $J27 * Data!$B$6)) ), 0     ),  0)","v":0},12,null,null,{"$f":"IF(AND($A27<>\"\",(Y27+Z27)>0), IF($F27=\"Nej\",    IF(Z$13=\"Nm3\",(AA$12*1000*1000/((Y$242+Z$242+Y$243+Z$243)*1000*  $J27 * Data!$B$6)),  (AA$12*1000*1000/(((Y$242+Z$242+Y$243+Z$243)/Denscalc($J27))*1000*  $J27 * Data!$B$6)) ), 0     ),  0)","v":0},12,null,null,{"$f":"IF(AND($A27<>\"\",(AC27+AD27)>0), IF($F27=\"Nej\",    IF(AD$13=\"Nm3\",(AE$12*1000*1000/((AC$242+AD$242+AC$243+AD$243)*1000*  $J27 * Data!$B$6)),  (AE$12*1000*1000/(((AC$242+AD$242+AC$243+AD$243)/Denscalc($J27))*1000*  $J27 * Data!$B$6)) ), 0     ),  0)","v":0},12,null,null,{"$f":"IF(AND($A27<>\"\",(AG27+AH27)>0), IF($F27=\"Nej\",    IF(AH$13=\"Nm3\",(AI$12*1000*1000/((AG$242+AH$242+AG$243+AH$243)*1000*  $J27 * Data!$B$6)),  (AI$12*1000*1000/(((AG$242+AH$242+AG$243+AH$243)/Denscalc($J27))*1000*  $J27 * Data!$B$6)) ), 0     ),  0)","v":0},12,null,null,{"$f":"IF(AND($A27<>\"\",(AK27+AL27)>0), IF($F27=\"Nej\",    IF(AL$13=\"Nm3\",(AM$12*1000*1000/((AK$242+AL$242+AK$243+AL$243)*1000*  $J27 * Data!$B$6)),  (AM$12*1000*1000/(((AK$242+AL$242+AK$243+AL$243)/Denscalc($J27))*1000*  $J27 * Data!$B$6)) ), 0     ),  0)","v":0},12,null,null,{"$f":"IF(AND($A27<>\"\",(AO27+AP27)>0), IF($F27=\"Nej\",    IF(AP$13=\"Nm3\",(AQ$12*1000*1000/((AO$242+AP$242+AO$243+AP$243)*1000*  $J27 * Data!$B$6)),  (AQ$12*1000*1000/(((AO$242+AP$242+AO$243+AP$243)/Denscalc($J27))*1000*  $J27 * Data!$B$6)) ), 0     ),  0)","v":0},12,null,null,{"$f":"IF(AND($A27<>\"\",(AS27+AT27)>0), IF($F27=\"Nej\",    IF(AT$13=\"Nm3\",(AU$12*1000*1000/((AS$242+AT$242+AS$243+AT$243)*1000*  $J27 * Data!$B$6)),  (AU$12*1000*1000/(((AS$242+AT$242+AS$243+AT$243)/Denscalc($J27))*1000*  $J27 * Data!$B$6)) ), 0     ),  0)","v":0},12,null,null,{"$f":"IF(AND($A27<>\"\",(AW27+AX27)>0), IF($F27=\"Nej\",\nIF(AX$13=\"Nm3\",(AY$12*1000*1000/((AW$242+AX$242+AW$243+AX$243-AW$240-AX$240)*1000*  $J27 * Data!$B$6))+(AY$6*1000*1000/((AW$242+AX$242+AW$243+AX$243)*1000*  $J27 * Data!$B$6)),\n (AY$12*1000*1000/(((AW$242+AX$242+AW$243+AX$243-AW$240-AX$240)/Denscalc($J27))*1000*  $J27 * Data!$B$6))  +  (AY$6*1000*1000/(((AW$242+AX$242+AW$243+AX$243)/Denscalc($J27))*1000*  $J27 * Data!$B$6)) ), 0     ),  0)","v":0},12,null,null,{"$f":"IF(AND($A27<>\"\",(BA27+BB27)>0), IF($F27=\"Nej\",\n (BC$12*1000*1000/((BA$244+BB$244-BA$240-BB$240)*1000* Data!$B$7))+ (BC$6*1000*1000/((BA$244+BB$244)*1000* Data!$B$7)),0 ),  0)","v":0},12,"",{"$f":"IF(A27<>\"\",IF(F27=\"Nej\", (Data!$B$129*Data!$B$5*1000*Data!$B$3)/Data!$B$6,  0 ),\"\")","v":""},"","",{"$f":"IF(A27<>\"\",IF(BH27>0,  IF(BE27=\"Nej\",    (Data!$B$8-BH27)/Data!$B$8,  ROUND( (Data!$B$8-BH27)/Data!$B$8,2)),      \"\"),\"\")","v":""},"","","","",{"$f":"IF(A27<>\"\", IF(H27=\"Flytande\",   IF(BM27>0,  IF(BE27=\"Nej\",  (Data!$B$8-BM27)/Data!$B$8,  ROUND( (Data!$B$8-BM27)/Data!$B$8,2)   ), \"\"), \"\"),\"\")","v":""},"",12,"","","",null,""]
[{"$f":"Uppgradering!A19","v":""},13,{"$f":"Uppgradering!C19","v":""},{"$f":"Uppgradering!D19","v":""},{"$f":"Uppgradering!E19","v":""},{"$f":"Uppgradering!AT19","v":""},{"$f":"Uppgradering!AR19","v":""},{"$f":"Uppgradering!AO19","v":""},{"$f":"Uppgradering!AN19","v":""},{"$f":"Uppgradering!AS19","v":""},{"$f":"Uppgradering!AV19","v":""},null,null,null,{"$f":"IF(AND($A28<>\"\",(M28+N28)>0), IF($F28=\"Nej\",    IF(N$13=\"Nm3\",(O$12*1000*1000/((M$242+N$242+M$243+N$243)*1000*  $J28 * Data!$B$6)),  (O$12*1000*1000/(((M$242+N$242+M$243+N$243)/Denscalc($J28))*1000*  $J28 * Data!$B$6)) ), 0     ),  0)","v":0},13,null,null,{"$f":"IF(AND($A28<>\"\",(Q28+R28)>0), IF($F28=\"Nej\",    IF(R$13=\"Nm3\",(S$12*1000*1000/((Q$242+R$242+Q$243+R$243)*1000*  $J28 * Data!$B$6)),  (S$12*1000*1000/(((Q$242+R$242+Q$243+R$243)/Denscalc($J28))*1000*  $J28 * Data!$B$6)) ), 0     ),  0)","v":0},13,null,null,{"$f":"IF(AND($A28<>\"\",(U28+V28)>0), IF($F28=\"Nej\",    IF(V$13=\"Nm3\",(W$12*1000*1000/((U$242+V$242+U$243+V$243)*1000*  $J28 * Data!$B$6)),  (W$12*1000*1000/(((U$242+V$242+U$243+V$243)/Denscalc($J28))*1000*  $J28 * Data!$B$6)) ), 0     ),  0)","v":0},13,null,null,{"$f":"IF(AND($A28<>\"\",(Y28+Z28)>0), IF($F28=\"Nej\",    IF(Z$13=\"Nm3\",(AA$12*1000*1000/((Y$242+Z$242+Y$243+Z$243)*1000*  $J28 * Data!$B$6)),  (AA$12*1000*1000/(((Y$242+Z$242+Y$243+Z$243)/Denscalc($J28))*1000*  $J28 * Data!$B$6)) ), 0     ),  0)","v":0},13,null,null,{"$f":"IF(AND($A28<>\"\",(AC28+AD28)>0), IF($F28=\"Nej\",    IF(AD$13=\"Nm3\",(AE$12*1000*1000/((AC$242+AD$242+AC$243+AD$243)*1000*  $J28 * Data!$B$6)),  (AE$12*1000*1000/(((AC$242+AD$242+AC$243+AD$243)/Denscalc($J28))*1000*  $J28 * Data!$B$6)) ), 0     ),  0)","v":0},13,null,null,{"$f":"IF(AND($A28<>\"\",(AG28+AH28)>0), IF($F28=\"Nej\",    IF(AH$13=\"Nm3\",(AI$12*1000*1000/((AG$242+AH$242+AG$243+AH$243)*1000*  $J28 * Data!$B$6)),  (AI$12*1000*1000/(((AG$242+AH$242+AG$243+AH$243)/Denscalc($J28))*1000*  $J28 * Data!$B$6)) ), 0     ),  0)","v":0},13,null,null,{"$f":"IF(AND($A28<>\"\",(AK28+AL28)>0), IF($F28=\"Nej\",    IF(AL$13=\"Nm3\",(AM$12*1000*1000/((AK$242+AL$242+AK$243+AL$243)*1000*  $J28 * Data!$B$6)),  (AM$12*1000*1000/(((AK$242+AL$242+AK$243+AL$243)/Denscalc($J28))*1000*  $J28 * Data!$B$6)) ), 0     ),  0)","v":0},13,null,null,{"$f":"IF(AND($A28<>\"\",(AO28+AP28)>0), IF($F28=\"Nej\",    IF(AP$13=\"Nm3\",(AQ$12*1000*1000/((AO$242+AP$242+AO$243+AP$243)*1000*  $J28 * Data!$B$6)),  (AQ$12*1000*1000/(((AO$242+AP$242+AO$243+AP$243)/Denscalc($J28))*1000*  $J28 * Data!$B$6)) ), 0     ),  0)","v":0},13,null,null,{"$f":"IF(AND($A28<>\"\",(AS28+AT28)>0), IF($F28=\"Nej\",    IF(AT$13=\"Nm3\",(AU$12*1000*1000/((AS$242+AT$242+AS$243+AT$243)*1000*  $J28 * Data!$B$6)),  (AU$12*1000*1000/(((AS$242+AT$242+AS$243+AT$243)/Denscalc($J28))*1000*  $J28 * Data!$B$6)) ), 0     ),  0)","v":0},13,null,null,{"$f":"IF(AND($A28<>\"\",(AW28+AX28)>0), IF($F28=\"Nej\",\nIF(AX$13=\"Nm3\",(AY$12*1000*1000/((AW$242+AX$242+AW$243+AX$243-AW$240-AX$240)*1000*  $J28 * Data!$B$6))+(AY$6*1000*1000/((AW$242+AX$242+AW$243+AX$243)*1000*  $J28 * Data!$B$6)),\n (AY$12*1000*1000/(((AW$242+AX$242+AW$243+AX$243-AW$240-AX$240)/Denscalc($J28))*1000*  $J28 * Data!$B$6))  +  (AY$6*1000*1000/(((AW$242+AX$242+AW$243+AX$243)/Denscalc($J28))*1000*  $J28 * Data!$B$6)) ), 0     ),  0)","v":0},13,null,null,{"$f":"IF(AND($A28<>\"\",(BA28+BB28)>0), IF($F28=\"Nej\",\n (BC$12*1000*1000/((BA$244+BB$244-BA$240-BB$240)*1000* Data!$B$7))+ (BC$6*1000*1000/((BA$244+BB$244)*1000* Data!$B$7)),0 ),  0)","v":0},13,"",{"$f":"IF(A28<>\"\",IF(F28=\"Nej\", (Data!$B$129*Data!$B$5*1000*Data!$B$3)/Data!$B$6,  0 ),\"\")","v":""},"","",{"$f":"IF(A28<>\"\",IF(BH28>0,  IF(BE28=\"Nej\",    (Data!$B$8-BH28)/Data!$B$8,  ROUND( (Data!$B$8-BH28)/Data!$B$8,2)),      \"\"),\"\")","v":""},"","","","",{"$f":"IF(A28<>\"\", IF(H28=\"Flytande\",   IF(BM28>0,  IF(BE28=\"Nej\",  (Data!$B$8-BM28)/Data!$B$8,  ROUND( (Data!$B$8-BM28)/Data!$B$8,2)   ), \"\"), \"\"),\"\")","v":""},"",13,"","","",null,""]
[{"$f":"Uppgradering!A20","v":""},14,{"$f":"Uppgradering!C20","v":""},{"$f":"Uppgradering!D20","v":""},{"$f":"Uppgradering!E20","v":""},{"$f":"Uppgradering!AT20","v":""},{"$f":"Uppgradering!AR20","v":""},{"$f":"Uppgradering!AO20","v":""},{"$f":"Uppgradering!AN20","v":""},{"$f":"Uppgradering!AS20","v":""},{"$f":"Uppgradering!AV20","v":""},null,null,null,{"$f":"IF(AND($A29<>\"\",(M29+N29)>0), IF($F29=\"Nej\",    IF(N$13=\"Nm3\",(O$12*1000*1000/((M$242+N$242+M$243+N$243)*1000*  $J29 * Data!$B$6)),  (O$12*1000*1000/(((M$242+N$242+M$243+N$243)/Denscalc($J29))*1000*  $J29 * Data!$B$6)) ), 0     ),  0)","v":0},14,null,null,{"$f":"IF(AND($A29<>\"\",(Q29+R29)>0), IF($F29=\"Nej\",    IF(R$13=\"Nm3\",(S$12*1000*1000/((Q$242+R$242+Q$243+R$243)*1000*  $J29 * Data!$B$6)),  (S$12*1000*1000/(((Q$242+R$242+Q$243+R$243)/Denscalc($J29))*1000*  $J29 * Data!$B$6)) ), 0     ),  0)","v":0},14,null,null,{"$f":"IF(AND($A29<>\"\",(U29+V29)>0), IF($F29=\"Nej\",    IF(V$13=\"Nm3\",(W$12*1000*1000/((U$242+V$242+U$243+V$243)*1000*  $J29 * Data!$B$6)),  (W$12*1000*1000/(((U$242+V$242+U$243+V$243)/Denscalc($J29))*1000*  $J29 * Data!$B$6)) ), 0     ),  0)","v":0},14,null,null,{"$f":"IF(AND($A29<>\"\",(Y29+Z29)>0), IF($F29=\"Nej\",    IF(Z$13=\"Nm3\",(AA$12*1000*1000/((Y$242+Z$242+Y$243+Z$243)*1000*  $J29 * Data!$B$6)),  (AA$12*1000*1000/(((Y$242+Z$242+Y$243+Z$243)/Denscalc($J29))*1000*  $J29 * Data!$B$6)) ), 0     ),  0)","v":0},14,null,null,{"$f":"IF(AND($A29<>\"\",(AC29+AD29)>0), IF($F29=\"Nej\",    IF(AD$13=\"Nm3\",(AE$12*1000*1000/((AC$242+AD$242+AC$243+AD$243)*1000*  $J29 * Data!$B$6)),  (AE$12*1000*1000/(((AC$242+AD$242+AC$243+AD$243)/Denscalc($J29))*1000*  $J29 * Data!$B$6)) ), 0     ),  0)","v":0},14,null,null,{"$f":"IF(AND($A29<>\"\",(AG29+AH29)>0), IF($F29=\"Nej\",    IF(AH$13=\"Nm3\",(AI$12*1000*1000/((AG$242+AH$242+AG$243+AH$243)*1000*  $J29 * Data!$B$6)),  (AI$12*1000*1000/(((AG$242+AH$242+AG$243+AH$243)/Denscalc($J29))*1000*  $J29 * Data!$B$6)) ), 0     ),  0)","v":0},14,null,null,{"$f":"IF(AND($A29<>\"\",(AK29+AL29)>0), IF($F29=\"Nej\",    IF(AL$13=\"Nm3\",(AM$12*1000*1000/((AK$242+AL$242+AK$243+AL$243)*1000*  $J29 * Data!$B$6)),  (AM$12*1000*1000/(((AK$242+AL$242+AK$243+AL$243)/Denscalc($J29))*1000*  $J29 * Data!$B$6)) ), 0     ),  0)","v":0},14,null,null,{"$f":"IF(AND($A29<>\"\",(AO29+AP29)>0), IF($F29=\"Nej\",    IF(AP$13=\"Nm3\",(AQ$12*1000*1000/((AO$242+AP$242+AO$243+AP$243)*1000*  $J29 * Data!$B$6)),  (AQ$12*1000*1000/(((AO$242+AP$242+AO$243+AP$243)/Denscalc($J29))*1000*  $J29 * Data!$B$6)) ), 0     ),  0)","v":0},14,null,null,{"$f":"IF(AND($A29<>\"\",(AS29+AT29)>0), IF($F29=\"Nej\",    IF(AT$13=\"Nm3\",(AU$12*1000*1000/((AS$242+AT$242+AS$243+AT$243)*1000*  $J29 * Data!$B$6)),  (AU$12*1000*1000/(((AS$242+AT$242+AS$243+AT$243)/Denscalc($J29))*1000*  $J29 * Data!$B$6)) ), 0     ),  0)","v":0},14,null,null,{"$f":"IF(AND($A29<>\"\",(AW29+AX29)>0), IF($F29=\"Nej\",\nIF(AX$13=\"Nm3\",(AY$12*1000*1000/((AW$242+AX$242+AW$243+AX$243-AW$240-AX$240)*1000*  $J29 * Data!$B$6))+(AY$6*1000*1000/((AW$242+AX$242+AW$243+AX$243)*1000*  $J29 * Data!$B$6)),\n (AY$12*1000*1000/(((AW$242+AX$242+AW$243+AX$243-AW$240-AX$240)/Denscalc($J29))*1000*  $J29 * Data!$B$6))  +  (AY$6*1000*1000/(((AW$242+AX$242+AW$243+AX$243)/Denscalc($J29))*1000*  $J29 * Data!$B$6)) ), 0     ),  0)","v":0},14,null,null,{"$f":"IF(AND($A29<>\"\",(BA29+BB29)>0), IF($F29=\"Nej\",\n (BC$12*1000*1000/((BA$244+BB$244-BA$240-BB$240)*1000* Data!$B$7))+ (BC$6*1000*1000/((BA$244+BB$244)*1000* Data!$B$7)),0 ),  0)","v":0},14,"",{"$f":"IF(A29<>\"\",IF(F29=\"Nej\", (Data!$B$129*Data!$B$5*1000*Data!$B$3)/Data!$B$6,  0 ),\"\")","v":""},"","",{"$f":"IF(A29<>\"\",IF(BH29>0,  IF(BE29=\"Nej\",    (Data!$B$8-BH29)/Data!$B$8,  ROUND( (Data!$B$8-BH29)/Data!$B$8,2)),      \"\"),\"\")","v":""},"","","","",{"$f":"IF(A29<>\"\", IF(H29=\"Flytande\",   IF(BM29>0,  IF(BE29=\"Nej\",  (Data!$B$8-BM29)/Data!$B$8,  ROUND( (Data!$B$8-BM29)/Data!$B$8,2)   ), \"\"), \"\"),\"\")","v":""},"",14,"","","",null,""]
[{"$f":"Uppgradering!A21","v":""},15,{"$f":"Uppgradering!C21","v":""},{"$f":"Uppgradering!D21","v":""},{"$f":"Uppgradering!E21","v":""},{"$f":"Uppgradering!AT21","v":""},{"$f":"Uppgradering!AR21","v":""},{"$f":"Uppgradering!AO21","v":""},{"$f":"Uppgradering!AN21","v":""},{"$f":"Uppgradering!AS21","v":""},{"$f":"Uppgradering!AV21","v":""},null,null,null,{"$f":"IF(AND($A30<>\"\",(M30+N30)>0), IF($F30=\"Nej\",    IF(N$13=\"Nm3\",(O$12*1000*1000/((M$242+N$242+M$243+N$243)*1000*  $J30 * Data!$B$6)),  (O$12*1000*1000/(((M$242+N$242+M$243+N$243)/Denscalc($J30))*1000*  $J30 * Data!$B$6)) ), 0     ),  0)","v":0},15,null,null,{"$f":"IF(AND($A30<>\"\",(Q30+R30)>0), IF($F30=\"Nej\",    IF(R$13=\"Nm3\",(S$12*1000*1000/((Q$242+R$242+Q$243+R$243)*1000*  $J30 * Data!$B$6)),  (S$12*1000*1000/(((Q$242+R$242+Q$243+R$243)/Denscalc($J30))*1000*  $J30 * Data!$B$6)) ), 0     ),  0)","v":0},15,null,null,{"$f":"IF(AND($A30<>\"\",(U30+V30)>0), IF($F30=\"Nej\",    IF(V$13=\"Nm3\",(W$12*1000*1000/((U$242+V$242+U$243+V$243)*1000*  $J30 * Data!$B$6)),  (W$12*1000*1000/(((U$242+V$242+U$243+V$243)/Denscalc($J30))*1000*  $J30 * Data!$B$6)) ), 0     ),  0)","v":0},15,null,null,{"$f":"IF(AND($A30<>\"\",(Y30+Z30)>0), IF($F30=\"Nej\",    IF(Z$13=\"Nm3\",(AA$12*1000*1000/((Y$242+Z$242+Y$243+Z$243)*1000*  $J30 * Data!$B$6)),  (AA$12*1000*1000/(((Y$242+Z$242+Y$243+Z$243)/Denscalc($J30))*1000*  $J30 * Data!$B$6)) ), 0     ),  0)","v":0},15,null,null,{"$f":"IF(AND($A30<>\"\",(AC30+AD30)>0), IF($F30=\"Nej\",    IF(AD$13=\"Nm3\",(AE$12*1000*1000/((AC$242+AD$242+AC$243+AD$243)*1000*  $J30 * Data!$B$6)),  (AE$12*1000*1000/(((AC$242+AD$242+AC$243+AD$243)/Denscalc($J30))*1000*  $J30 * Data!$B$6)) ), 0     ),  0)","v":0},15,null,null,{"$f":"IF(AND($A30<>\"\",(AG30+AH30)>0), IF($F30=\"Nej\",    IF(AH$13=\"Nm3\",(AI$12*1000*1000/((AG$242+AH$242+AG$243+AH$243)*1000*  $J30 * Data!$B$6)),  (AI$12*1000*1000/(((AG$242+AH$242+AG$243+AH$243)/Denscalc($J30))*1000*  $J30 * Data!$B$6)) ), 0     ),  0)","v":0},15,null,null,{"$f":"IF(AND($A30<>\"\",(AK30+AL30)>0), IF($F30=\"Nej\",    IF(AL$13=\"Nm3\",(AM$12*1000*1000/((AK$242+AL$242+AK$243+AL$243)*1000*  $J30 * Data!$B$6)),  (AM$12*1000*1000/(((AK$242+AL$242+AK$243+AL$243)/Denscalc($J30))*1000*  $J30 * Data!$B$6)) ), 0     ),  0)","v":0},15,null,null,{"$f":"IF(AND($A30<>\"\",(AO30+AP30)>0), IF($F30=\"Nej\",    IF(AP$13=\"Nm3\",(AQ$12*1000*1000/((AO$242+AP$242+AO$243+AP$243)*1000*  $J30 * Data!$B$6)),  (AQ$12*1000*1000/(((AO$242+AP$242+AO$243+AP$243)/Denscalc($J30))*1000*  $J30 * Data!$B$6)) ), 0     ),  0)","v":0},15,null,null,{"$f":"IF(AND($A30<>\"\",(AS30+AT30)>0), IF($F30=\"Nej\",    IF(AT$13=\"Nm3\",(AU$12*1000*1000/((AS$242+AT$242+AS$243+AT$243)*1000*  $J30 * Data!$B$6)),  (AU$12*1000*1000/(((AS$242+AT$242+AS$243+AT$243)/Denscalc($J30))*1000*  $J30 * Data!$B$6)) ), 0     ),  0)","v":0},15,null,null,{"$f":"IF(AND($A30<>\"\",(AW30+AX30)>0), IF($F30=\"Nej\",\nIF(AX$13=\"Nm3\",(AY$12*1000*1000/((AW$242+AX$242+AW$243+AX$243-AW$240-AX$240)*1000*  $J30 * Data!$B$6))+(AY$6*1000*1000/((AW$242+AX$242+AW$243+AX$243)*1000*  $J30 * Data!$B$6)),\n (AY$12*1000*1000/(((AW$242+AX$242+AW$243+AX$243-AW$240-AX$240)/Denscalc($J30))*1000*  $J30 * Data!$B$6))  +  (AY$6*1000*1000/(((AW$242+AX$242+AW$243+AX$243)/Denscalc($J30))*1000*  $J30 * Data!$B$6)) ), 0     ),  0)","v":0},15,null,null,{"$f":"IF(AND($A30<>\"\",(BA30+BB30)>0), IF($F30=\"Nej\",\n (BC$12*1000*1000/((BA$244+BB$244-BA$240-BB$240)*1000* Data!$B$7))+ (BC$6*1000*1000/((BA$244+BB$244)*1000* Data!$B$7)),0 ),  0)","v":0},15,"",{"$f":"IF(A30<>\"\",IF(F30=\"Nej\", (Data!$B$129*Data!$B$5*1000*Data!$B$3)/Data!$B$6,  0 ),\"\")","v":""},"","",{"$f":"IF(A30<>\"\",IF(BH30>0,  IF(BE30=\"Nej\",    (Data!$B$8-BH30)/Data!$B$8,  ROUND( (Data!$B$8-BH30)/Data!$B$8,2)),      \"\"),\"\")","v":""},"","","","",{"$f":"IF(A30<>\"\", IF(H30=\"Flytande\",   IF(BM30>0,  IF(BE30=\"Nej\",  (Data!$B$8-BM30)/Data!$B$8,  ROUND( (Data!$B$8-BM30)/Data!$B$8,2)   ), \"\"), \"\"),\"\")","v":""},"",15,"","","",null,""]
[{"$f":"Uppgradering!A22","v":""},16,{"$f":"Uppgradering!C22","v":""},{"$f":"Uppgradering!D22","v":""},{"$f":"Uppgradering!E22","v":""},{"$f":"Uppgradering!AT22","v":""},{"$f":"Uppgradering!AR22","v":""},{"$f":"Uppgradering!AO22","v":""},{"$f":"Uppgradering!AN22","v":""},{"$f":"Uppgradering!AS22","v":""},{"$f":"Uppgradering!AV22","v":""},null,null,null,{"$f":"IF(AND($A31<>\"\",(M31+N31)>0), IF($F31=\"Nej\",    IF(N$13=\"Nm3\",(O$12*1000*1000/((M$242+N$242+M$243+N$243)*1000*  $J31 * Data!$B$6)),  (O$12*1000*1000/(((M$242+N$242+M$243+N$243)/Denscalc($J31))*1000*  $J31 * Data!$B$6)) ), 0     ),  0)","v":0},16,null,null,{"$f":"IF(AND($A31<>\"\",(Q31+R31)>0), IF($F31=\"Nej\",    IF(R$13=\"Nm3\",(S$12*1000*1000/((Q$242+R$242+Q$243+R$243)*1000*  $J31 * Data!$B$6)),  (S$12*1000*1000/(((Q$242+R$242+Q$243+R$243)/Denscalc($J31))*1000*  $J31 * Data!$B$6)) ), 0     ),  0)","v":0},16,null,null,{"$f":"IF(AND($A31<>\"\",(U31+V31)>0), IF($F31=\"Nej\",    IF(V$13=\"Nm3\",(W$12*1000*1000/((U$242+V$242+U$243+V$243)*1000*  $J31 * Data!$B$6)),  (W$12*1000*1000/(((U$242+V$242+U$243+V$243)/Denscalc($J31))*1000*  $J31 * Data!$B$6)) ), 0     ),  0)","v":0},16,null,null,{"$f":"IF(AND($A31<>\"\",(Y31+Z31)>0), IF($F31=\"Nej\",    IF(Z$13=\"Nm3\",(AA$12*1000*1000/((Y$242+Z$242+Y$243+Z$243)*1000*  $J31 * Data!$B$6)),  (AA$12*1000*1000/(((Y$242+Z$242+Y$243+Z$243)/Denscalc($J31))*1000*  $J31 * Data!$B$6)) ), 0     ),  0)","v":0},16,null,null,{"$f":"IF(AND($A31<>\"\",(AC31+AD31)>0), IF($F31=\"Nej\",    IF(AD$13=\"Nm3\",(AE$12*1000*1000/((AC$242+AD$242+AC$243+AD$243)*1000*  $J31 * Data!$B$6)),  (AE$12*1000*1000/(((AC$242+AD$242+AC$243+AD$243)/Denscalc($J31))*1000*  $J31 * Data!$B$6)) ), 0     ),  0)","v":0},16,null,null,{"$f":"IF(AND($A31<>\"\",(AG31+AH31)>0), IF($F31=\"Nej\",    IF(AH$13=\"Nm3\",(AI$12*1000*1000/((AG$242+AH$242+AG$243+AH$243)*1000*  $J31 * Data!$B$6)),  (AI$12*1000*1000/(((AG$242+AH$242+AG$243+AH$243)/Denscalc($J31))*1000*  $J31 * Data!$B$6)) ), 0     ),  0)","v":0},16,null,null,{"$f":"IF(AND($A31<>\"\",(AK31+AL31)>0), IF($F31=\"Nej\",    IF(AL$13=\"Nm3\",(AM$12*1000*1000/((AK$242+AL$242+AK$243+AL$243)*1000*  $J31 * Data!$B$6)),  (AM$12*1000*1000/(((AK$242+AL$242+AK$243+AL$243)/Denscalc($J31))*1000*  $J31 * Data!$B$6)) ), 0     ),  0)","v":0},16,null,null,{"$f":"IF(AND($A31<>\"\",(AO31+AP31)>0), IF($F31=\"Nej\",    IF(AP$13=\"Nm3\",(AQ$12*1000*1000/((AO$242+AP$242+AO$243+AP$243)*1000*  $J31 * Data!$B$6)),  (AQ$12*1000*1000/(((AO$242+AP$242+AO$243+AP$243)/Denscalc($J31))*1000*  $J31 * Data!$B$6)) ), 0     ),  0)","v":0},16,null,null,{"$f":"IF(AND($A31<>\"\",(AS31+AT31)>0), IF($F31=\"Nej\",    IF(AT$13=\"Nm3\",(AU$12*1000*1000/((AS$242+AT$242+AS$243+AT$243)*1000*  $J31 * Data!$B$6)),  (AU$12*1000*1000/(((AS$242+AT$242+AS$243+AT$243)/Denscalc($J31))*1000*  $J31 * Data!$B$6)) ), 0     ),  0)","v":0},16,null,null,{"$f":"IF(AND($A31<>\"\",(AW31+AX31)>0), IF($F31=\"Nej\",\nIF(AX$13=\"Nm3\",(AY$12*1000*1000/((AW$242+AX$242+AW$243+AX$243-AW$240-AX$240)*1000*  $J31 * Data!$B$6))+(AY$6*1000*1000/((AW$242+AX$242+AW$243+AX$243)*1000*  $J31 * Data!$B$6)),\n (AY$12*1000*1000/(((AW$242+AX$242+AW$243+AX$243-AW$240-AX$240)/Denscalc($J31))*1000*  $J31 * Data!$B$6))  +  (AY$6*1000*1000/(((AW$242+AX$242+AW$243+AX$243)/Denscalc($J31))*1000*  $J31 * Data!$B$6)) ), 0     ),  0)","v":0},16,null,null,{"$f":"IF(AND($A31<>\"\",(BA31+BB31)>0), IF($F31=\"Nej\",\n (BC$12*1000*1000/((BA$244+BB$244-BA$240-BB$240)*1000* Data!$B$7))+ (BC$6*1000*1000/((BA$244+BB$244)*1000* Data!$B$7)),0 ),  0)","v":0},16,"",{"$f":"IF(A31<>\"\",IF(F31=\"Nej\", (Data!$B$129*Data!$B$5*1000*Data!$B$3)/Data!$B$6,  0 ),\"\")","v":""},"","",{"$f":"IF(A31<>\"\",IF(BH31>0,  IF(BE31=\"Nej\",    (Data!$B$8-BH31)/Data!$B$8,  ROUND( (Data!$B$8-BH31)/Data!$B$8,2)),      \"\"),\"\")","v":""},"","","","",{"$f":"IF(A31<>\"\", IF(H31=\"Flytande\",   IF(BM31>0,  IF(BE31=\"Nej\",  (Data!$B$8-BM31)/Data!$B$8,  ROUND( (Data!$B$8-BM31)/Data!$B$8,2)   ), \"\"), \"\"),\"\")","v":""},"",16,"","","",null,""]
[{"$f":"Uppgradering!A23","v":""},17,{"$f":"Uppgradering!C23","v":""},{"$f":"Uppgradering!D23","v":""},{"$f":"Uppgradering!E23","v":""},{"$f":"Uppgradering!AT23","v":""},{"$f":"Uppgradering!AR23","v":""},{"$f":"Uppgradering!AO23","v":""},{"$f":"Uppgradering!AN23","v":""},{"$f":"Uppgradering!AS23","v":""},{"$f":"Uppgradering!AV23","v":""},null,null,null,{"$f":"IF(AND($A32<>\"\",(M32+N32)>0), IF($F32=\"Nej\",    IF(N$13=\"Nm3\",(O$12*1000*1000/((M$242+N$242+M$243+N$243)*1000*  $J32 * Data!$B$6)),  (O$12*1000*1000/(((M$242+N$242+M$243+N$243)/Denscalc($J32))*1000*  $J32 * Data!$B$6)) ), 0     ),  0)","v":0},17,null,null,{"$f":"IF(AND($A32<>\"\",(Q32+R32)>0), IF($F32=\"Nej\",    IF(R$13=\"Nm3\",(S$12*1000*1000/((Q$242+R$242+Q$243+R$243)*1000*  $J32 * Data!$B$6)),  (S$12*1000*1000/(((Q$242+R$242+Q$243+R$243)/Denscalc($J32))*1000*  $J32 * Data!$B$6)) ), 0     ),  0)","v":0},17,null,null,{"$f":"IF(AND($A32<>\"\",(U32+V32)>0), IF($F32=\"Nej\",    IF(V$13=\"Nm3\",(W$12*1000*1000/((U$242+V$242+U$243+V$243)*1000*  $J32 * Data!$B$6)),  (W$12*1000*1000/(((U$242+V$242+U$243+V$243)/Denscalc($J32))*1000*  $J32 * Data!$B$6)) ), 0     ),  0)","v":0},17,null,null,{"$f":"IF(AND($A32<>\"\",(Y32+Z32)>0), IF($F32=\"Nej\",    IF(Z$13=\"Nm3\",(AA$12*1000*1000/((Y$242+Z$242+Y$243+Z$243)*1000*  $J32 * Data!$B$6)),  (AA$12*1000*1000/(((Y$242+Z$242+Y$243+Z$243)/Denscalc($J32))*1000*  $J32 * Data!$B$6)) ), 0     ),  0)","v":0},17,null,null,{"$f":"IF(AND($A32<>\"\",(AC32+AD32)>0), IF($F32=\"Nej\",    IF(AD$13=\"Nm3\",(AE$12*1000*1000/((AC$242+AD$242+AC$243+AD$243)*1000*  $J32 * Data!$B$6)),  (AE$12*1000*1000/(((AC$242+AD$242+AC$243+AD$243)/Denscalc($J32))*1000*  $J32 * Data!$B$6)) ), 0     ),  0)","v":0},17,null,null,{"$f":"IF(AND($A32<>\"\",(AG32+AH32)>0), IF($F32=\"Nej\",    IF(AH$13=\"Nm3\",(AI$12*1000*1000/((AG$242+AH$242+AG$243+AH$243)*1000*  $J32 * Data!$B$6)),  (AI$12*1000*1000/(((AG$242+AH$242+AG$243+AH$243)/Denscalc($J32))*1000*  $J32 * Data!$B$6)) ), 0     ),  0)","v":0},17,null,null,{"$f":"IF(AND($A32<>\"\",(AK32+AL32)>0), IF($F32=\"Nej\",    IF(AL$13=\"Nm3\",(AM$12*1000*1000/((AK$242+AL$242+AK$243+AL$243)*1000*  $J32 * Data!$B$6)),  (AM$12*1000*1000/(((AK$242+AL$242+AK$243+AL$243)/Denscalc($J32))*1000*  $J32 * Data!$B$6)) ), 0     ),  0)","v":0},17,null,null,{"$f":"IF(AND($A32<>\"\",(AO32+AP32)>0), IF($F32=\"Nej\",    IF(AP$13=\"Nm3\",(AQ$12*1000*1000/((AO$242+AP$242+AO$243+AP$243)*1000*  $J32 * Data!$B$6)),  (AQ$12*1000*1000/(((AO$242+AP$242+AO$243+AP$243)/Denscalc($J32))*1000*  $J32 * Data!$B$6)) ), 0     ),  0)","v":0},17,null,null,{"$f":"IF(AND($A32<>\"\",(AS32+AT32)>0), IF($F32=\"Nej\",    IF(AT$13=\"Nm3\",(AU$12*1000*1000/((AS$242+AT$242+AS$243+AT$243)*1000*  $J32 * Data!$B$6)),  (AU$12*1000*1000/(((AS$242+AT$242+AS$243+AT$243)/Denscalc($J32))*1000*  $J32 * Data!$B$6)) ), 0     ),  0)","v":0},17,null,null,{"$f":"IF(AND($A32<>\"\",(AW32+AX32)>0), IF($F32=\"Nej\",\nIF(AX$13=\"Nm3\",(AY$12*1000*1000/((AW$242+AX$242+AW$243+AX$243-AW$240-AX$240)*1000*  $J32 * Data!$B$6))+(AY$6*1000*1000/((AW$242+AX$242+AW$243+AX$243)*1000*  $J32 * Data!$B$6)),\n (AY$12*1000*1000/(((AW$242+AX$242+AW$243+AX$243-AW$240-AX$240)/Denscalc($J32))*1000*  $J32 * Data!$B$6))  +  (AY$6*1000*1000/(((AW$242+AX$242+AW$243+AX$243)/Denscalc($J32))*1000*  $J32 * Data!$B$6)) ), 0     ),  0)","v":0},17,null,null,{"$f":"IF(AND($A32<>\"\",(BA32+BB32)>0), IF($F32=\"Nej\",\n (BC$12*1000*1000/((BA$244+BB$244-BA$240-BB$240)*1000* Data!$B$7))+ (BC$6*1000*1000/((BA$244+BB$244)*1000* Data!$B$7)),0 ),  0)","v":0},17,"",{"$f":"IF(A32<>\"\",IF(F32=\"Nej\", (Data!$B$129*Data!$B$5*1000*Data!$B$3)/Data!$B$6,  0 ),\"\")","v":""},"","",{"$f":"IF(A32<>\"\",IF(BH32>0,  IF(BE32=\"Nej\",    (Data!$B$8-BH32)/Data!$B$8,  ROUND( (Data!$B$8-BH32)/Data!$B$8,2)),      \"\"),\"\")","v":""},"","","","",{"$f":"IF(A32<>\"\", IF(H32=\"Flytande\",   IF(BM32>0,  IF(BE32=\"Nej\",  (Data!$B$8-BM32)/Data!$B$8,  ROUND( (Data!$B$8-BM32)/Data!$B$8,2)   ), \"\"), \"\"),\"\")","v":""},"",17,"","","",null,""]
[{"$f":"Uppgradering!A24","v":""},18,{"$f":"Uppgradering!C24","v":""},{"$f":"Uppgradering!D24","v":""},{"$f":"Uppgradering!E24","v":""},{"$f":"Uppgradering!AT24","v":""},{"$f":"Uppgradering!AR24","v":""},{"$f":"Uppgradering!AO24","v":""},{"$f":"Uppgradering!AN24","v":""},{"$f":"Uppgradering!AS24","v":""},{"$f":"Uppgradering!AV24","v":""},null,null,null,{"$f":"IF(AND($A33<>\"\",(M33+N33)>0), IF($F33=\"Nej\",    IF(N$13=\"Nm3\",(O$12*1000*1000/((M$242+N$242+M$243+N$243)*1000*  $J33 * Data!$B$6)),  (O$12*1000*1000/(((M$242+N$242+M$243+N$243)/Denscalc($J33))*1000*  $J33 * Data!$B$6)) ), 0     ),  0)","v":0},18,null,null,{"$f":"IF(AND($A33<>\"\",(Q33+R33)>0), IF($F33=\"Nej\",    IF(R$13=\"Nm3\",(S$12*1000*1000/((Q$242+R$242+Q$243+R$243)*1000*  $J33 * Data!$B$6)),  (S$12*1000*1000/(((Q$242+R$242+Q$243+R$243)/Denscalc($J33))*1000*  $J33 * Data!$B$6)) ), 0     ),  0)","v":0},18,null,null,{"$f":"IF(AND($A33<>\"\",(U33+V33)>0), IF($F33=\"Nej\",    IF(V$13=\"Nm3\",(W$12*1000*1000/((U$242+V$242+U$243+V$243)*1000*  $J33 * Data!$B$6)),  (W$12*1000*1000/(((U$242+V$242+U$243+V$243)/Denscalc($J33))*1000*  $J33 * Data!$B$6)) ), 0     ),  0)","v":0},18,null,null,{"$f":"IF(AND($A33<>\"\",(Y33+Z33)>0), IF($F33=\"Nej\",    IF(Z$13=\"Nm3\",(AA$12*1000*1000/((Y$242+Z$242+Y$243+Z$243)*1000*  $J33 * Data!$B$6)),  (AA$12*1000*1000/(((Y$242+Z$242+Y$243+Z$243)/Denscalc($J33))*1000*  $J33 * Data!$B$6)) ), 0     ),  0)","v":0},18,null,null,{"$f":"IF(AND($A33<>\"\",(AC33+AD33)>0), IF($F33=\"Nej\",    IF(AD$13=\"Nm3\",(AE$12*1000*1000/((AC$242+AD$242+AC$243+AD$243)*1000*  $J33 * Data!$B$6)),  (AE$12*1000*1000/(((AC$242+AD$242+AC$243+AD$243)/Denscalc($J33))*1000*  $J33 * Data!$B$6)) ), 0     ),  0)","v":0},18,null,null,{"$f":"IF(AND($A33<>\"\",(AG33+AH33)>0), IF($F33=\"Nej\",    IF(AH$13=\"Nm3\",(AI$12*1000*1000/((AG$242+AH$242+AG$243+AH$243)*1000*  $J33 * Data!$B$6)),  (AI$12*1000*1000/(((AG$242+AH$242+AG$243+AH$243)/Denscalc($J33))*1000*  $J33 * Data!$B$6)) ), 0     ),  0)","v":0},18,null,null,{"$f":"IF(AND($A33<>\"\",(AK33+AL33)>0), IF($F33=\"Nej\",    IF(AL$13=\"Nm3\",(AM$12*1000*1000/((AK$242+AL$242+AK$243+AL$243)*1000*  $J33 * Data!$B$6)),  (AM$12*1000*1000/(((AK$242+AL$242+AK$243+AL$243)/Denscalc($J33))*1000*  $J33 * Data!$B$6)) ), 0     ),  0)","v":0},18,null,null,{"$f":"IF(AND($A33<>\"\",(AO33+AP33)>0), IF($F33=\"Nej\",    IF(AP$13=\"Nm3\",(AQ$12*1000*1000/((AO$242+AP$242+AO$243+AP$243)*1000*  $J33 * Data!$B$6)),  (AQ$12*1000*1000/(((AO$242+AP$242+AO$243+AP$243)/Denscalc($J33))*1000*  $J33 * Data!$B$6)) ), 0     ),  0)","v":0},18,null,null,{"$f":"IF(AND($A33<>\"\",(AS33+AT33)>0), IF($F33=\"Nej\",    IF(AT$13=\"Nm3\",(AU$12*1000*1000/((AS$242+AT$242+AS$243+AT$243)*1000*  $J33 * Data!$B$6)),  (AU$12*1000*1000/(((AS$242+AT$242+AS$243+AT$243)/Denscalc($J33))*1000*  $J33 * Data!$B$6)) ), 0     ),  0)","v":0},18,null,null,{"$f":"IF(AND($A33<>\"\",(AW33+AX33)>0), IF($F33=\"Nej\",\nIF(AX$13=\"Nm3\",(AY$12*1000*1000/((AW$242+AX$242+AW$243+AX$243-AW$240-AX$240)*1000*  $J33 * Data!$B$6))+(AY$6*1000*1000/((AW$242+AX$242+AW$243+AX$243)*1000*  $J33 * Data!$B$6)),\n (AY$12*1000*1000/(((AW$242+AX$242+AW$243+AX$243-AW$240-AX$240)/Denscalc($J33))*1000*  $J33 * Data!$B$6))  +  (AY$6*1000*1000/(((AW$242+AX$242+AW$243+AX$243)/Denscalc($J33))*1000*  $J33 * Data!$B$6)) ), 0     ),  0)","v":0},18,null,null,{"$f":"IF(AND($A33<>\"\",(BA33+BB33)>0), IF($F33=\"Nej\",\n (BC$12*1000*1000/((BA$244+BB$244-BA$240-BB$240)*1000* Data!$B$7))+ (BC$6*1000*1000/((BA$244+BB$244)*1000* Data!$B$7)),0 ),  0)","v":0},18,"",{"$f":"IF(A33<>\"\",IF(F33=\"Nej\", (Data!$B$129*Data!$B$5*1000*Data!$B$3)/Data!$B$6,  0 ),\"\")","v":""},"","",{"$f":"IF(A33<>\"\",IF(BH33>0,  IF(BE33=\"Nej\",    (Data!$B$8-BH33)/Data!$B$8,  ROUND( (Data!$B$8-BH33)/Data!$B$8,2)),      \"\"),\"\")","v":""},"","","","",{"$f":"IF(A33<>\"\", IF(H33=\"Flytande\",   IF(BM33>0,  IF(BE33=\"Nej\",  (Data!$B$8-BM33)/Data!$B$8,  ROUND( (Data!$B$8-BM33)/Data!$B$8,2)   ), \"\"), \"\"),\"\")","v":""},"",18,"","","",null,""]
[{"$f":"Uppgradering!A25","v":""},19,{"$f":"Uppgradering!C25","v":""},{"$f":"Uppgradering!D25","v":""},{"$f":"Uppgradering!E25","v":""},{"$f":"Uppgradering!AT25","v":""},{"$f":"Uppgradering!AR25","v":""},{"$f":"Uppgradering!AO25","v":""},{"$f":"Uppgradering!AN25","v":""},{"$f":"Uppgradering!AS25","v":""},{"$f":"Uppgradering!AV25","v":""},null,null,null,{"$f":"IF(AND($A34<>\"\",(M34+N34)>0), IF($F34=\"Nej\",    IF(N$13=\"Nm3\",(O$12*1000*1000/((M$242+N$242+M$243+N$243)*1000*  $J34 * Data!$B$6)),  (O$12*1000*1000/(((M$242+N$242+M$243+N$243)/Denscalc($J34))*1000*  $J34 * Data!$B$6)) ), 0     ),  0)","v":0},19,null,null,{"$f":"IF(AND($A34<>\"\",(Q34+R34)>0), IF($F34=\"Nej\",    IF(R$13=\"Nm3\",(S$12*1000*1000/((Q$242+R$242+Q$243+R$243)*1000*  $J34 * Data!$B$6)),  (S$12*1000*1000/(((Q$242+R$242+Q$243+R$243)/Denscalc($J34))*1000*  $J34 * Data!$B$6)) ), 0     ),  0)","v":0},19,null,null,{"$f":"IF(AND($A34<>\"\",(U34+V34)>0), IF($F34=\"Nej\",    IF(V$13=\"Nm3\",(W$12*1000*1000/((U$242+V$242+U$243+V$243)*1000*  $J34 * Data!$B$6)),  (W$12*1000*1000/(((U$242+V$242+U$243+V$243)/Denscalc($J34))*1000*  $J34 * Data!$B$6)) ), 0     ),  0)","v":0},19,null,null,{"$f":"IF(AND($A34<>\"\",(Y34+Z34)>0), IF($F34=\"Nej\",    IF(Z$13=\"Nm3\",(AA$12*1000*1000/((Y$242+Z$242+Y$243+Z$243)*1000*  $J34 * Data!$B$6)),  (AA$12*1000*1000/(((Y$242+Z$242+Y$243+Z$243)/Denscalc($J34))*1000*  $J34 * Data!$B$6)) ), 0     ),  0)","v":0},19,null,null,{"$f":"IF(AND($A34<>\"\",(AC34+AD34)>0), IF($F34=\"Nej\",    IF(AD$13=\"Nm3\",(AE$12*1000*1000/((AC$242+AD$242+AC$243+AD$243)*1000*  $J34 * Data!$B$6)),  (AE$12*1000*1000/(((AC$242+AD$242+AC$243+AD$243)/Denscalc($J34))*1000*  $J34 * Data!$B$6)) ), 0     ),  0)","v":0},19,null,null,{"$f":"IF(AND($A34<>\"\",(AG34+AH34)>0), IF($F34=\"Nej\",    IF(AH$13=\"Nm3\",(AI$12*1000*1000/((AG$242+AH$242+AG$243+AH$243)*1000*  $J34 * Data!$B$6)),  (AI$12*1000*1000/(((AG$242+AH$242+AG$243+AH$243)/Denscalc($J34))*1000*  $J34 * Data!$B$6)) ), 0     ),  0)","v":0},19,null,null,{"$f":"IF(AND($A34<>\"\",(AK34+AL34)>0), IF($F34=\"Nej\",    IF(AL$13=\"Nm3\",(AM$12*1000*1000/((AK$242+AL$242+AK$243+AL$243)*1000*  $J34 * Data!$B$6)),  (AM$12*1000*1000/(((AK$242+AL$242+AK$243+AL$243)/Denscalc($J34))*1000*  $J34 * Data!$B$6)) ), 0     ),  0)","v":0},19,null,null,{"$f":"IF(AND($A34<>\"\",(AO34+AP34)>0), IF($F34=\"Nej\",    IF(AP$13=\"Nm3\",(AQ$12*1000*1000/((AO$242+AP$242+AO$243+AP$243)*1000*  $J34 * Data!$B$6)),  (AQ$12*1000*1000/(((AO$242+AP$242+AO$243+AP$243)/Denscalc($J34))*1000*  $J34 * Data!$B$6)) ), 0     ),  0)","v":0},19,null,null,{"$f":"IF(AND($A34<>\"\",(AS34+AT34)>0), IF($F34=\"Nej\",    IF(AT$13=\"Nm3\",(AU$12*1000*1000/((AS$242+AT$242+AS$243+AT$243)*1000*  $J34 * Data!$B$6)),  (AU$12*1000*1000/(((AS$242+AT$242+AS$243+AT$243)/Denscalc($J34))*1000*  $J34 * Data!$B$6)) ), 0     ),  0)","v":0},19,null,null,{"$f":"IF(AND($A34<>\"\",(AW34+AX34)>0), IF($F34=\"Nej\",\nIF(AX$13=\"Nm3\",(AY$12*1000*1000/((AW$242+AX$242+AW$243+AX$243-AW$240-AX$240)*1000*  $J34 * Data!$B$6))+(AY$6*1000*1000/((AW$242+AX$242+AW$243+AX$243)*1000*  $J34 * Data!$B$6)),\n (AY$12*1000*1000/(((AW$242+AX$242+AW$243+AX$243-AW$240-AX$240)/Denscalc($J34))*1000*  $J34 * Data!$B$6))  +  (AY$6*1000*1000/(((AW$242+AX$242+AW$243+AX$243)/Denscalc($J34))*1000*  $J34 * Data!$B$6)) ), 0     ),  0)","v":0},19,null,null,{"$f":"IF(AND($A34<>\"\",(BA34+BB34)>0), IF($F34=\"Nej\",\n (BC$12*1000*1000/((BA$244+BB$244-BA$240-BB$240)*1000* Data!$B$7))+ (BC$6*1000*1000/((BA$244+BB$244)*1000* Data!$B$7)),0 ),  0)","v":0},19,"",{"$f":"IF(A34<>\"\",IF(F34=\"Nej\", (Data!$B$129*Data!$B$5*1000*Data!$B$3)/Data!$B$6,  0 ),\"\")","v":""},"","",{"$f":"IF(A34<>\"\",IF(BH34>0,  IF(BE34=\"Nej\",    (Data!$B$8-BH34)/Data!$B$8,  ROUND( (Data!$B$8-BH34)/Data!$B$8,2)),      \"\"),\"\")","v":""},"","","","",{"$f":"IF(A34<>\"\", IF(H34=\"Flytande\",   IF(BM34>0,  IF(BE34=\"Nej\",  (Data!$B$8-BM34)/Data!$B$8,  ROUND( (Data!$B$8-BM34)/Data!$B$8,2)   ), \"\"), \"\"),\"\")","v":""},"",19,"","","",null,""]
[{"$f":"Uppgradering!A26","v":""},20,{"$f":"Uppgradering!C26","v":""},{"$f":"Uppgradering!D26","v":""},{"$f":"Uppgradering!E26","v":""},{"$f":"Uppgradering!AT26","v":""},{"$f":"Uppgradering!AR26","v":""},{"$f":"Uppgradering!AO26","v":""},{"$f":"Uppgradering!AN26","v":""},{"$f":"Uppgradering!AS26","v":""},{"$f":"Uppgradering!AV26","v":""},null,null,null,{"$f":"IF(AND($A35<>\"\",(M35+N35)>0), IF($F35=\"Nej\",    IF(N$13=\"Nm3\",(O$12*1000*1000/((M$242+N$242+M$243+N$243)*1000*  $J35 * Data!$B$6)),  (O$12*1000*1000/(((M$242+N$242+M$243+N$243)/Denscalc($J35))*1000*  $J35 * Data!$B$6)) ), 0     ),  0)","v":0},20,null,null,{"$f":"IF(AND($A35<>\"\",(Q35+R35)>0), IF($F35=\"Nej\",    IF(R$13=\"Nm3\",(S$12*1000*1000/((Q$242+R$242+Q$243+R$243)*1000*  $J35 * Data!$B$6)),  (S$12*1000*1000/(((Q$242+R$242+Q$243+R$243)/Denscalc($J35))*1000*  $J35 * Data!$B$6)) ), 0     ),  0)","v":0},20,null,null,{"$f":"IF(AND($A35<>\"\",(U35+V35)>0), IF($F35=\"Nej\",    IF(V$13=\"Nm3\",(W$12*1000*1000/((U$242+V$242+U$243+V$243)*1000*  $J35 * Data!$B$6)),  (W$12*1000*1000/(((U$242+V$242+U$243+V$243)/Denscalc($J35))*1000*  $J35 * Data!$B$6)) ), 0     ),  0)","v":0},20,null,null,{"$f":"IF(AND($A35<>\"\",(Y35+Z35)>0), IF($F35=\"Nej\",    IF(Z$13=\"Nm3\",(AA$12*1000*1000/((Y$242+Z$242+Y$243+Z$243)*1000*  $J35 * Data!$B$6)),  (AA$12*1000*1000/(((Y$242+Z$242+Y$243+Z$243)/Denscalc($J35))*1000*  $J35 * Data!$B$6)) ), 0     ),  0)","v":0},20,null,null,{"$f":"IF(AND($A35<>\"\",(AC35+AD35)>0), IF($F35=\"Nej\",    IF(AD$13=\"Nm3\",(AE$12*1000*1000/((AC$242+AD$242+AC$243+AD$243)*1000*  $J35 * Data!$B$6)),  (AE$12*1000*1000/(((AC$242+AD$242+AC$243+AD$243)/Denscalc($J35))*1000*  $J35 * Data!$B$6)) ), 0     ),  0)","v":0},20,null,null,{"$f":"IF(AND($A35<>\"\",(AG35+AH35)>0), IF($F35=\"Nej\",    IF(AH$13=\"Nm3\",(AI$12*1000*1000/((AG$242+AH$242+AG$243+AH$243)*1000*  $J35 * Data!$B$6)),  (AI$12*1000*1000/(((AG$242+AH$242+AG$243+AH$243)/Denscalc($J35))*1000*  $J35 * Data!$B$6)) ), 0     ),  0)","v":0},20,null,null,{"$f":"IF(AND($A35<>\"\",(AK35+AL35)>0), IF($F35=\"Nej\",    IF(AL$13=\"Nm3\",(AM$12*1000*1000/((AK$242+AL$242+AK$243+AL$243)*1000*  $J35 * Data!$B$6)),  (AM$12*1000*1000/(((AK$242+AL$242+AK$243+AL$243)/Denscalc($J35))*1000*  $J35 * Data!$B$6)) ), 0     ),  0)","v":0},20,null,null,{"$f":"IF(AND($A35<>\"\",(AO35+AP35)>0), IF($F35=\"Nej\",    IF(AP$13=\"Nm3\",(AQ$12*1000*1000/((AO$242+AP$242+AO$243+AP$243)*1000*  $J35 * Data!$B$6)),  (AQ$12*1000*1000/(((AO$242+AP$242+AO$243+AP$243)/Denscalc($J35))*1000*  $J35 * Data!$B$6)) ), 0     ),  0)","v":0},20,null,null,{"$f":"IF(AND($A35<>\"\",(AS35+AT35)>0), IF($F35=\"Nej\",    IF(AT$13=\"Nm3\",(AU$12*1000*1000/((AS$242+AT$242+AS$243+AT$243)*1000*  $J35 * Data!$B$6)),  (AU$12*1000*1000/(((AS$242+AT$242+AS$243+AT$243)/Denscalc($J35))*1000*  $J35 * Data!$B$6)) ), 0     ),  0)","v":0},20,null,null,{"$f":"IF(AND($A35<>\"\",(AW35+AX35)>0), IF($F35=\"Nej\",\nIF(AX$13=\"Nm3\",(AY$12*1000*1000/((AW$242+AX$242+AW$243+AX$243-AW$240-AX$240)*1000*  $J35 * Data!$B$6))+(AY$6*1000*1000/((AW$242+AX$242+AW$243+AX$243)*1000*  $J35 * Data!$B$6)),\n (AY$12*1000*1000/(((AW$242+AX$242+AW$243+AX$243-AW$240-AX$240)/Denscalc($J35))*1000*  $J35 * Data!$B$6))  +  (AY$6*1000*1000/(((AW$242+AX$242+AW$243+AX$243)/Denscalc($J35))*1000*  $J35 * Data!$B$6)) ), 0     ),  0)","v":0},20,null,null,{"$f":"IF(AND($A35<>\"\",(BA35+BB35)>0), IF($F35=\"Nej\",\n (BC$12*1000*1000/((BA$244+BB$244-BA$240-BB$240)*1000* Data!$B$7))+ (BC$6*1000*1000/((BA$244+BB$244)*1000* Data!$B$7)),0 ),  0)","v":0},20,"",{"$f":"IF(A35<>\"\",IF(F35=\"Nej\", (Data!$B$129*Data!$B$5*1000*Data!$B$3)/Data!$B$6,  0 ),\"\")","v":""},"","",{"$f":"IF(A35<>\"\",IF(BH35>0,  IF(BE35=\"Nej\",    (Data!$B$8-BH35)/Data!$B$8,  ROUND( (Data!$B$8-BH35)/Data!$B$8,2)),      \"\"),\"\")","v":""},"","","","",{"$f":"IF(A35<>\"\", IF(H35=\"Flytande\",   IF(BM35>0,  IF(BE35=\"Nej\",  (Data!$B$8-BM35)/Data!$B$8,  ROUND( (Data!$B$8-BM35)/Data!$B$8,2)   ), \"\"), \"\"),\"\")","v":""},"",20,"","","",null,""]
[{"$f":"Uppgradering!A27","v":""},21,{"$f":"Uppgradering!C27","v":""},{"$f":"Uppgradering!D27","v":""},{"$f":"Uppgradering!E27","v":""},{"$f":"Uppgradering!AT27","v":""},{"$f":"Uppgradering!AR27","v":""},{"$f":"Uppgradering!AO27","v":""},{"$f":"Uppgradering!AN27","v":""},{"$f":"Uppgradering!AS27","v":""},{"$f":"Uppgradering!AV27","v":""},null,null,null,{"$f":"IF(AND($A36<>\"\",(M36+N36)>0), IF($F36=\"Nej\",    IF(N$13=\"Nm3\",(O$12*1000*1000/((M$242+N$242+M$243+N$243)*1000*  $J36 * Data!$B$6)),  (O$12*1000*1000/(((M$242+N$242+M$243+N$243)/Denscalc($J36))*1000*  $J36 * Data!$B$6)) ), 0     ),  0)","v":0},21,null,null,{"$f":"IF(AND($A36<>\"\",(Q36+R36)>0), IF($F36=\"Nej\",    IF(R$13=\"Nm3\",(S$12*1000*1000/((Q$242+R$242+Q$243+R$243)*1000*  $J36 * Data!$B$6)),  (S$12*1000*1000/(((Q$242+R$242+Q$243+R$243)/Denscalc($J36))*1000*  $J36 * Data!$B$6)) ), 0     ),  0)","v":0},21,null,null,{"$f":"IF(AND($A36<>\"\",(U36+V36)>0), IF($F36=\"Nej\",    IF(V$13=\"Nm3\",(W$12*1000*1000/((U$242+V$242+U$243+V$243)*1000*  $J36 * Data!$B$6)),  (W$12*1000*1000/(((U$242+V$242+U$243+V$243)/Denscalc($J36))*1000*  $J36 * Data!$B$6)) ), 0     ),  0)","v":0},21,null,null,{"$f":"IF(AND($A36<>\"\",(Y36+Z36)>0), IF($F36=\"Nej\",    IF(Z$13=\"Nm3\",(AA$12*1000*1000/((Y$242+Z$242+Y$243+Z$243)*1000*  $J36 * Data!$B$6)),  (AA$12*1000*1000/(((Y$242+Z$242+Y$243+Z$243)/Denscalc($J36))*1000*  $J36 * Data!$B$6)) ), 0     ),  0)","v":0},21,null,null,{"$f":"IF(AND($A36<>\"\",(AC36+AD36)>0), IF($F36=\"Nej\",    IF(AD$13=\"Nm3\",(AE$12*1000*1000/((AC$242+AD$242+AC$243+AD$243)*1000*  $J36 * Data!$B$6)),  (AE$12*1000*1000/(((AC$242+AD$242+AC$243+AD$243)/Denscalc($J36))*1000*  $J36 * Data!$B$6)) ), 0     ),  0)","v":0},21,null,null,{"$f":"IF(AND($A36<>\"\",(AG36+AH36)>0), IF($F36=\"Nej\",    IF(AH$13=\"Nm3\",(AI$12*1000*1000/((AG$242+AH$242+AG$243+AH$243)*1000*  $J36 * Data!$B$6)),  (AI$12*1000*1000/(((AG$242+AH$242+AG$243+AH$243)/Denscalc($J36))*1000*  $J36 * Data!$B$6)) ), 0     ),  0)","v":0},21,null,null,{"$f":"IF(AND($A36<>\"\",(AK36+AL36)>0), IF($F36=\"Nej\",    IF(AL$13=\"Nm3\",(AM$12*1000*1000/((AK$242+AL$242+AK$243+AL$243)*1000*  $J36 * Data!$B$6)),  (AM$12*1000*1000/(((AK$242+AL$242+AK$243+AL$243)/Denscalc($J36))*1000*  $J36 * Data!$B$6)) ), 0     ),  0)","v":0},21,null,null,{"$f":"IF(AND($A36<>\"\",(AO36+AP36)>0), IF($F36=\"Nej\",    IF(AP$13=\"Nm3\",(AQ$12*1000*1000/((AO$242+AP$242+AO$243+AP$243)*1000*  $J36 * Data!$B$6)),  (AQ$12*1000*1000/(((AO$242+AP$242+AO$243+AP$243)/Denscalc($J36))*1000*  $J36 * Data!$B$6)) ), 0     ),  0)","v":0},21,null,null,{"$f":"IF(AND($A36<>\"\",(AS36+AT36)>0), IF($F36=\"Nej\",    IF(AT$13=\"Nm3\",(AU$12*1000*1000/((AS$242+AT$242+AS$243+AT$243)*1000*  $J36 * Data!$B$6)),  (AU$12*1000*1000/(((AS$242+AT$242+AS$243+AT$243)/Denscalc($J36))*1000*  $J36 * Data!$B$6)) ), 0     ),  0)","v":0},21,null,null,{"$f":"IF(AND($A36<>\"\",(AW36+AX36)>0), IF($F36=\"Nej\",\nIF(AX$13=\"Nm3\",(AY$12*1000*1000/((AW$242+AX$242+AW$243+AX$243-AW$240-AX$240)*1000*  $J36 * Data!$B$6))+(AY$6*1000*1000/((AW$242+AX$242+AW$243+AX$243)*1000*  $J36 * Data!$B$6)),\n (AY$12*1000*1000/(((AW$242+AX$242+AW$243+AX$243-AW$240-AX$240)/Denscalc($J36))*1000*  $J36 * Data!$B$6))  +  (AY$6*1000*1000/(((AW$242+AX$242+AW$243+AX$243)/Denscalc($J36))*1000*  $J36 * Data!$B$6)) ), 0     ),  0)","v":0},21,null,null,{"$f":"IF(AND($A36<>\"\",(BA36+BB36)>0), IF($F36=\"Nej\",\n (BC$12*1000*1000/((BA$244+BB$244-BA$240-BB$240)*1000* Data!$B$7))+ (BC$6*1000*1000/((BA$244+BB$244)*1000* Data!$B$7)),0 ),  0)","v":0},21,"",{"$f":"IF(A36<>\"\",IF(F36=\"Nej\", (Data!$B$129*Data!$B$5*1000*Data!$B$3)/Data!$B$6,  0 ),\"\")","v":""},"","",{"$f":"IF(A36<>\"\",IF(BH36>0,  IF(BE36=\"Nej\",    (Data!$B$8-BH36)/Data!$B$8,  ROUND( (Data!$B$8-BH36)/Data!$B$8,2)),      \"\"),\"\")","v":""},"","","","",{"$f":"IF(A36<>\"\", IF(H36=\"Flytande\",   IF(BM36>0,  IF(BE36=\"Nej\",  (Data!$B$8-BM36)/Data!$B$8,  ROUND( (Data!$B$8-BM36)/Data!$B$8,2)   ), \"\"), \"\"),\"\")","v":""},"",21,"","","",null,""]
[{"$f":"Uppgradering!A28","v":""},22,{"$f":"Uppgradering!C28","v":""},{"$f":"Uppgradering!D28","v":""},{"$f":"Uppgradering!E28","v":""},{"$f":"Uppgradering!AT28","v":""},{"$f":"Uppgradering!AR28","v":""},{"$f":"Uppgradering!AO28","v":""},{"$f":"Uppgradering!AN28","v":""},{"$f":"Uppgradering!AS28","v":""},{"$f":"Uppgradering!AV28","v":""},null,null,null,{"$f":"IF(AND($A37<>\"\",(M37+N37)>0), IF($F37=\"Nej\",    IF(N$13=\"Nm3\",(O$12*1000*1000/((M$242+N$242+M$243+N$243)*1000*  $J37 * Data!$B$6)),  (O$12*1000*1000/(((M$242+N$242+M$243+N$243)/Denscalc($J37))*1000*  $J37 * Data!$B$6)) ), 0     ),  0)","v":0},22,null,null,{"$f":"IF(AND($A37<>\"\",(Q37+R37)>0), IF($F37=\"Nej\",    IF(R$13=\"Nm3\",(S$12*1000*1000/((Q$242+R$242+Q$243+R$243)*1000*  $J37 * Data!$B$6)),  (S$12*1000*1000/(((Q$242+R$242+Q$243+R$243)/Denscalc($J37))*1000*  $J37 * Data!$B$6)) ), 0     ),  0)","v":0},22,null,null,{"$f":"IF(AND($A37<>\"\",(U37+V37)>0), IF($F37=\"Nej\",    IF(V$13=\"Nm3\",(W$12*1000*1000/((U$242+V$242+U$243+V$243)*1000*  $J37 * Data!$B$6)),  (W$12*1000*1000/(((U$242+V$242+U$243+V$243)/Denscalc($J37))*1000*  $J37 * Data!$B$6)) ), 0     ),  0)","v":0},22,null,null,{"$f":"IF(AND($A37<>\"\",(Y37+Z37)>0), IF($F37=\"Nej\",    IF(Z$13=\"Nm3\",(AA$12*1000*1000/((Y$242+Z$242+Y$243+Z$243)*1000*  $J37 * Data!$B$6)),  (AA$12*1000*1000/(((Y$242+Z$242+Y$243+Z$243)/Denscalc($J37))*1000*  $J37 * Data!$B$6)) ), 0     ),  0)","v":0},22,null,null,{"$f":"IF(AND($A37<>\"\",(AC37+AD37)>0), IF($F37=\"Nej\",    IF(AD$13=\"Nm3\",(AE$12*1000*1000/((AC$242+AD$242+AC$243+AD$243)*1000*  $J37 * Data!$B$6)),  (AE$12*1000*1000/(((AC$242+AD$242+AC$243+AD$243)/Denscalc($J37))*1000*  $J37 * Data!$B$6)) ), 0     ),  0)","v":0},22,null,null,{"$f":"IF(AND($A37<>\"\",(AG37+AH37)>0), IF($F37=\"Nej\",    IF(AH$13=\"Nm3\",(AI$12*1000*1000/((AG$242+AH$242+AG$243+AH$243)*1000*  $J37 * Data!$B$6)),  (AI$12*1000*1000/(((AG$242+AH$242+AG$243+AH$243)/Denscalc($J37))*1000*  $J37 * Data!$B$6)) ), 0     ),  0)","v":0},22,null,null,{"$f":"IF(AND($A37<>\"\",(AK37+AL37)>0), IF($F37=\"Nej\",    IF(AL$13=\"Nm3\",(AM$12*1000*1000/((AK$242+AL$242+AK$243+AL$243)*1000*  $J37 * Data!$B$6)),  (AM$12*1000*1000/(((AK$242+AL$242+AK$243+AL$243)/Denscalc($J37))*1000*  $J37 * Data!$B$6)) ), 0     ),  0)","v":0},22,null,null,{"$f":"IF(AND($A37<>\"\",(AO37+AP37)>0), IF($F37=\"Nej\",    IF(AP$13=\"Nm3\",(AQ$12*1000*1000/((AO$242+AP$242+AO$243+AP$243)*1000*  $J37 * Data!$B$6)),  (AQ$12*1000*1000/(((AO$242+AP$242+AO$243+AP$243)/Denscalc($J37))*1000*  $J37 * Data!$B$6)) ), 0     ),  0)","v":0},22,null,null,{"$f":"IF(AND($A37<>\"\",(AS37+AT37)>0), IF($F37=\"Nej\",    IF(AT$13=\"Nm3\",(AU$12*1000*1000/((AS$242+AT$242+AS$243+AT$243)*1000*  $J37 * Data!$B$6)),  (AU$12*1000*1000/(((AS$242+AT$242+AS$243+AT$243)/Denscalc($J37))*1000*  $J37 * Data!$B$6)) ), 0     ),  0)","v":0},22,null,null,{"$f":"IF(AND($A37<>\"\",(AW37+AX37)>0), IF($F37=\"Nej\",\nIF(AX$13=\"Nm3\",(AY$12*1000*1000/((AW$242+AX$242+AW$243+AX$243-AW$240-AX$240)*1000*  $J37 * Data!$B$6))+(AY$6*1000*1000/((AW$242+AX$242+AW$243+AX$243)*1000*  $J37 * Data!$B$6)),\n (AY$12*1000*1000/(((AW$242+AX$242+AW$243+AX$243-AW$240-AX$240)/Denscalc($J37))*1000*  $J37 * Data!$B$6))  +  (AY$6*1000*1000/(((AW$242+AX$242+AW$243+AX$243)/Denscalc($J37))*1000*  $J37 * Data!$B$6)) ), 0     ),  0)","v":0},22,null,null,{"$f":"IF(AND($A37<>\"\",(BA37+BB37)>0), IF($F37=\"Nej\",\n (BC$12*1000*1000/((BA$244+BB$244-BA$240-BB$240)*1000* Data!$B$7))+ (BC$6*1000*1000/((BA$244+BB$244)*1000* Data!$B$7)),0 ),  0)","v":0},22,"",{"$f":"IF(A37<>\"\",IF(F37=\"Nej\", (Data!$B$129*Data!$B$5*1000*Data!$B$3)/Data!$B$6,  0 ),\"\")","v":""},"","",{"$f":"IF(A37<>\"\",IF(BH37>0,  IF(BE37=\"Nej\",    (Data!$B$8-BH37)/Data!$B$8,  ROUND( (Data!$B$8-BH37)/Data!$B$8,2)),      \"\"),\"\")","v":""},"","","","",{"$f":"IF(A37<>\"\", IF(H37=\"Flytande\",   IF(BM37>0,  IF(BE37=\"Nej\",  (Data!$B$8-BM37)/Data!$B$8,  ROUND( (Data!$B$8-BM37)/Data!$B$8,2)   ), \"\"), \"\"),\"\")","v":""},"",22,"","","",null,""]
[{"$f":"Uppgradering!A29","v":""},23,{"$f":"Uppgradering!C29","v":""},{"$f":"Uppgradering!D29","v":""},{"$f":"Uppgradering!E29","v":""},{"$f":"Uppgradering!AT29","v":""},{"$f":"Uppgradering!AR29","v":""},{"$f":"Uppgradering!AO29","v":""},{"$f":"Uppgradering!AN29","v":""},{"$f":"Uppgradering!AS29","v":""},{"$f":"Uppgradering!AV29","v":""},null,null,null,{"$f":"IF(AND($A38<>\"\",(M38+N38)>0), IF($F38=\"Nej\",    IF(N$13=\"Nm3\",(O$12*1000*1000/((M$242+N$242+M$243+N$243)*1000*  $J38 * Data!$B$6)),  (O$12*1000*1000/(((M$242+N$242+M$243+N$243)/Denscalc($J38))*1000*  $J38 * Data!$B$6)) ), 0     ),  0)","v":0},23,null,null,{"$f":"IF(AND($A38<>\"\",(Q38+R38)>0), IF($F38=\"Nej\",    IF(R$13=\"Nm3\",(S$12*1000*1000/((Q$242+R$242+Q$243+R$243)*1000*  $J38 * Data!$B$6)),  (S$12*1000*1000/(((Q$242+R$242+Q$243+R$243)/Denscalc($J38))*1000*  $J38 * Data!$B$6)) ), 0     ),  0)","v":0},23,null,null,{"$f":"IF(AND($A38<>\"\",(U38+V38)>0), IF($F38=\"Nej\",    IF(V$13=\"Nm3\",(W$12*1000*1000/((U$242+V$242+U$243+V$243)*1000*  $J38 * Data!$B$6)),  (W$12*1000*1000/(((U$242+V$242+U$243+V$243)/Denscalc($J38))*1000*  $J38 * Data!$B$6)) ), 0     ),  0)","v":0},23,null,null,{"$f":"IF(AND($A38<>\"\",(Y38+Z38)>0), IF($F38=\"Nej\",    IF(Z$13=\"Nm3\",(AA$12*1000*1000/((Y$242+Z$242+Y$243+Z$243)*1000*  $J38 * Data!$B$6)),  (AA$12*1000*1000/(((Y$242+Z$242+Y$243+Z$243)/Denscalc($J38))*1000*  $J38 * Data!$B$6)) ), 0     ),  0)","v":0},23,null,null,{"$f":"IF(AND($A38<>\"\",(AC38+AD38)>0), IF($F38=\"Nej\",    IF(AD$13=\"Nm3\",(AE$12*1000*1000/((AC$242+AD$242+AC$243+AD$243)*1000*  $J38 * Data!$B$6)),  (AE$12*1000*1000/(((AC$242+AD$242+AC$243+AD$243)/Denscalc($J38))*1000*  $J38 * Data!$B$6)) ), 0     ),  0)","v":0},23,null,null,{"$f":"IF(AND($A38<>\"\",(AG38+AH38)>0), IF($F38=\"Nej\",    IF(AH$13=\"Nm3\",(AI$12*1000*1000/((AG$242+AH$242+AG$243+AH$243)*1000*  $J38 * Data!$B$6)),  (AI$12*1000*1000/(((AG$242+AH$242+AG$243+AH$243)/Denscalc($J38))*1000*  $J38 * Data!$B$6)) ), 0     ),  0)","v":0},23,null,null,{"$f":"IF(AND($A38<>\"\",(AK38+AL38)>0), IF($F38=\"Nej\",    IF(AL$13=\"Nm3\",(AM$12*1000*1000/((AK$242+AL$242+AK$243+AL$243)*1000*  $J38 * Data!$B$6)),  (AM$12*1000*1000/(((AK$242+AL$242+AK$243+AL$243)/Denscalc($J38))*1000*  $J38 * Data!$B$6)) ), 0     ),  0)","v":0},23,null,null,{"$f":"IF(AND($A38<>\"\",(AO38+AP38)>0), IF($F38=\"Nej\",    IF(AP$13=\"Nm3\",(AQ$12*1000*1000/((AO$242+AP$242+AO$243+AP$243)*1000*  $J38 * Data!$B$6)),  (AQ$12*1000*1000/(((AO$242+AP$242+AO$243+AP$243)/Denscalc($J38))*1000*  $J38 * Data!$B$6)) ), 0     ),  0)","v":0},23,null,null,{"$f":"IF(AND($A38<>\"\",(AS38+AT38)>0), IF($F38=\"Nej\",    IF(AT$13=\"Nm3\",(AU$12*1000*1000/((AS$242+AT$242+AS$243+AT$243)*1000*  $J38 * Data!$B$6)),  (AU$12*1000*1000/(((AS$242+AT$242+AS$243+AT$243)/Denscalc($J38))*1000*  $J38 * Data!$B$6)) ), 0     ),  0)","v":0},23,null,null,{"$f":"IF(AND($A38<>\"\",(AW38+AX38)>0), IF($F38=\"Nej\",\nIF(AX$13=\"Nm3\",(AY$12*1000*1000/((AW$242+AX$242+AW$243+AX$243-AW$240-AX$240)*1000*  $J38 * Data!$B$6))+(AY$6*1000*1000/((AW$242+AX$242+AW$243+AX$243)*1000*  $J38 * Data!$B$6)),\n (AY$12*1000*1000/(((AW$242+AX$242+AW$243+AX$243-AW$240-AX$240)/Denscalc($J38))*1000*  $J38 * Data!$B$6))  +  (AY$6*1000*1000/(((AW$242+AX$242+AW$243+AX$243)/Denscalc($J38))*1000*  $J38 * Data!$B$6)) ), 0     ),  0)","v":0},23,null,null,{"$f":"IF(AND($A38<>\"\",(BA38+BB38)>0), IF($F38=\"Nej\",\n (BC$12*1000*1000/((BA$244+BB$244-BA$240-BB$240)*1000* Data!$B$7))+ (BC$6*1000*1000/((BA$244+BB$244)*1000* Data!$B$7)),0 ),  0)","v":0},23,"",{"$f":"IF(A38<>\"\",IF(F38=\"Nej\", (Data!$B$129*Data!$B$5*1000*Data!$B$3)/Data!$B$6,  0 ),\"\")","v":""},"","",{"$f":"IF(A38<>\"\",IF(BH38>0,  IF(BE38=\"Nej\",    (Data!$B$8-BH38)/Data!$B$8,  ROUND( (Data!$B$8-BH38)/Data!$B$8,2)),      \"\"),\"\")","v":""},"","","","",{"$f":"IF(A38<>\"\", IF(H38=\"Flytande\",   IF(BM38>0,  IF(BE38=\"Nej\",  (Data!$B$8-BM38)/Data!$B$8,  ROUND( (Data!$B$8-BM38)/Data!$B$8,2)   ), \"\"), \"\"),\"\")","v":""},"",23,"","","",null,""]
[{"$f":"Uppgradering!A30","v":""},24,{"$f":"Uppgradering!C30","v":""},{"$f":"Uppgradering!D30","v":""},{"$f":"Uppgradering!E30","v":""},{"$f":"Uppgradering!AT30","v":""},{"$f":"Uppgradering!AR30","v":""},{"$f":"Uppgradering!AO30","v":""},{"$f":"Uppgradering!AN30","v":""},{"$f":"Uppgradering!AS30","v":""},{"$f":"Uppgradering!AV30","v":""},null,null,null,{"$f":"IF(AND($A39<>\"\",(M39+N39)>0), IF($F39=\"Nej\",    IF(N$13=\"Nm3\",(O$12*1000*1000/((M$242+N$242+M$243+N$243)*1000*  $J39 * Data!$B$6)),  (O$12*1000*1000/(((M$242+N$242+M$243+N$243)/Denscalc($J39))*1000*  $J39 * Data!$B$6)) ), 0     ),  0)","v":0},24,null,null,{"$f":"IF(AND($A39<>\"\",(Q39+R39)>0), IF($F39=\"Nej\",    IF(R$13=\"Nm3\",(S$12*1000*1000/((Q$242+R$242+Q$243+R$243)*1000*  $J39 * Data!$B$6)),  (S$12*1000*1000/(((Q$242+R$242+Q$243+R$243)/Denscalc($J39))*1000*  $J39 * Data!$B$6)) ), 0     ),  0)","v":0},24,null,null,{"$f":"IF(AND($A39<>\"\",(U39+V39)>0), IF($F39=\"Nej\",    IF(V$13=\"Nm3\",(W$12*1000*1000/((U$242+V$242+U$243+V$243)*1000*  $J39 * Data!$B$6)),  (W$12*1000*1000/(((U$242+V$242+U$243+V$243)/Denscalc($J39))*1000*  $J39 * Data!$B$6)) ), 0     ),  0)","v":0},24,null,null,{"$f":"IF(AND($A39<>\"\",(Y39+Z39)>0), IF($F39=\"Nej\",    IF(Z$13=\"Nm3\",(AA$12*1000*1000/((Y$242+Z$242+Y$243+Z$243)*1000*  $J39 * Data!$B$6)),  (AA$12*1000*1000/(((Y$242+Z$242+Y$243+Z$243)/Denscalc($J39))*1000*  $J39 * Data!$B$6)) ), 0     ),  0)","v":0},24,null,null,{"$f":"IF(AND($A39<>\"\",(AC39+AD39)>0), IF($F39=\"Nej\",    IF(AD$13=\"Nm3\",(AE$12*1000*1000/((AC$242+AD$242+AC$243+AD$243)*1000*  $J39 * Data!$B$6)),  (AE$12*1000*1000/(((AC$242+AD$242+AC$243+AD$243)/Denscalc($J39))*1000*  $J39 * Data!$B$6)) ), 0     ),  0)","v":0},24,null,null,{"$f":"IF(AND($A39<>\"\",(AG39+AH39)>0), IF($F39=\"Nej\",    IF(AH$13=\"Nm3\",(AI$12*1000*1000/((AG$242+AH$242+AG$243+AH$243)*1000*  $J39 * Data!$B$6)),  (AI$12*1000*1000/(((AG$242+AH$242+AG$243+AH$243)/Denscalc($J39))*1000*  $J39 * Data!$B$6)) ), 0     ),  0)","v":0},24,null,null,{"$f":"IF(AND($A39<>\"\",(AK39+AL39)>0), IF($F39=\"Nej\",    IF(AL$13=\"Nm3\",(AM$12*1000*1000/((AK$242+AL$242+AK$243+AL$243)*1000*  $J39 * Data!$B$6)),  (AM$12*1000*1000/(((AK$242+AL$242+AK$243+AL$243)/Denscalc($J39))*1000*  $J39 * Data!$B$6)) ), 0     ),  0)","v":0},24,null,null,{"$f":"IF(AND($A39<>\"\",(AO39+AP39)>0), IF($F39=\"Nej\",    IF(AP$13=\"Nm3\",(AQ$12*1000*1000/((AO$242+AP$242+AO$243+AP$243)*1000*  $J39 * Data!$B$6)),  (AQ$12*1000*1000/(((AO$242+AP$242+AO$243+AP$243)/Denscalc($J39))*1000*  $J39 * Data!$B$6)) ), 0     ),  0)","v":0},24,null,null,{"$f":"IF(AND($A39<>\"\",(AS39+AT39)>0), IF($F39=\"Nej\",    IF(AT$13=\"Nm3\",(AU$12*1000*1000/((AS$242+AT$242+AS$243+AT$243)*1000*  $J39 * Data!$B$6)),  (AU$12*1000*1000/(((AS$242+AT$242+AS$243+AT$243)/Denscalc($J39))*1000*  $J39 * Data!$B$6)) ), 0     ),  0)","v":0},24,null,null,{"$f":"IF(AND($A39<>\"\",(AW39+AX39)>0), IF($F39=\"Nej\",\nIF(AX$13=\"Nm3\",(AY$12*1000*1000/((AW$242+AX$242+AW$243+AX$243-AW$240-AX$240)*1000*  $J39 * Data!$B$6))+(AY$6*1000*1000/((AW$242+AX$242+AW$243+AX$243)*1000*  $J39 * Data!$B$6)),\n (AY$12*1000*1000/(((AW$242+AX$242+AW$243+AX$243-AW$240-AX$240)/Denscalc($J39))*1000*  $J39 * Data!$B$6))  +  (AY$6*1000*1000/(((AW$242+AX$242+AW$243+AX$243)/Denscalc($J39))*1000*  $J39 * Data!$B$6)) ), 0     ),  0)","v":0},24,null,null,{"$f":"IF(AND($A39<>\"\",(BA39+BB39)>0), IF($F39=\"Nej\",\n (BC$12*1000*1000/((BA$244+BB$244-BA$240-BB$240)*1000* Data!$B$7))+ (BC$6*1000*1000/((BA$244+BB$244)*1000* Data!$B$7)),0 ),  0)","v":0},24,"",{"$f":"IF(A39<>\"\",IF(F39=\"Nej\", (Data!$B$129*Data!$B$5*1000*Data!$B$3)/Data!$B$6,  0 ),\"\")","v":""},"","",{"$f":"IF(A39<>\"\",IF(BH39>0,  IF(BE39=\"Nej\",    (Data!$B$8-BH39)/Data!$B$8,  ROUND( (Data!$B$8-BH39)/Data!$B$8,2)),      \"\"),\"\")","v":""},"","","","",{"$f":"IF(A39<>\"\", IF(H39=\"Flytande\",   IF(BM39>0,  IF(BE39=\"Nej\",  (Data!$B$8-BM39)/Data!$B$8,  ROUND( (Data!$B$8-BM39)/Data!$B$8,2)   ), \"\"), \"\"),\"\")","v":""},"",24,"","","",null,""]
[{"$f":"Uppgradering!A31","v":""},25,{"$f":"Uppgradering!C31","v":""},{"$f":"Uppgradering!D31","v":""},{"$f":"Uppgradering!E31","v":""},{"$f":"Uppgradering!AT31","v":""},{"$f":"Uppgradering!AR31","v":""},{"$f":"Uppgradering!AO31","v":""},{"$f":"Uppgradering!AN31","v":""},{"$f":"Uppgradering!AS31","v":""},{"$f":"Uppgradering!AV31","v":""},null,null,null,{"$f":"IF(AND($A40<>\"\",(M40+N40)>0), IF($F40=\"Nej\",    IF(N$13=\"Nm3\",(O$12*1000*1000/((M$242+N$242+M$243+N$243)*1000*  $J40 * Data!$B$6)),  (O$12*1000*1000/(((M$242+N$242+M$243+N$243)/Denscalc($J40))*1000*  $J40 * Data!$B$6)) ), 0     ),  0)","v":0},25,null,null,{"$f":"IF(AND($A40<>\"\",(Q40+R40)>0), IF($F40=\"Nej\",    IF(R$13=\"Nm3\",(S$12*1000*1000/((Q$242+R$242+Q$243+R$243)*1000*  $J40 * Data!$B$6)),  (S$12*1000*1000/(((Q$242+R$242+Q$243+R$243)/Denscalc($J40))*1000*  $J40 * Data!$B$6)) ), 0     ),  0)","v":0},25,null,null,{"$f":"IF(AND($A40<>\"\",(U40+V40)>0), IF($F40=\"Nej\",    IF(V$13=\"Nm3\",(W$12*1000*1000/((U$242+V$242+U$243+V$243)*1000*  $J40 * Data!$B$6)),  (W$12*1000*1000/(((U$242+V$242+U$243+V$243)/Denscalc($J40))*1000*  $J40 * Data!$B$6)) ), 0     ),  0)","v":0},25,null,null,{"$f":"IF(AND($A40<>\"\",(Y40+Z40)>0), IF($F40=\"Nej\",    IF(Z$13=\"Nm3\",(AA$12*1000*1000/((Y$242+Z$242+Y$243+Z$243)*1000*  $J40 * Data!$B$6)),  (AA$12*1000*1000/(((Y$242+Z$242+Y$243+Z$243)/Denscalc($J40))*1000*  $J40 * Data!$B$6)) ), 0     ),  0)","v":0},25,null,null,{"$f":"IF(AND($A40<>\"\",(AC40+AD40)>0), IF($F40=\"Nej\",    IF(AD$13=\"Nm3\",(AE$12*1000*1000/((AC$242+AD$242+AC$243+AD$243)*1000*  $J40 * Data!$B$6)),  (AE$12*1000*1000/(((AC$242+AD$242+AC$243+AD$243)/Denscalc($J40))*1000*  $J40 * Data!$B$6)) ), 0     ),  0)","v":0},25,null,null,{"$f":"IF(AND($A40<>\"\",(AG40+AH40)>0), IF($F40=\"Nej\",    IF(AH$13=\"Nm3\",(AI$12*1000*1000/((AG$242+AH$242+AG$243+AH$243)*1000*  $J40 * Data!$B$6)),  (AI$12*1000*1000/(((AG$242+AH$242+AG$243+AH$243)/Denscalc($J40))*1000*  $J40 * Data!$B$6)) ), 0     ),  0)","v":0},25,null,null,{"$f":"IF(AND($A40<>\"\",(AK40+AL40)>0), IF($F40=\"Nej\",    IF(AL$13=\"Nm3\",(AM$12*1000*1000/((AK$242+AL$242+AK$243+AL$243)*1000*  $J40 * Data!$B$6)),  (AM$12*1000*1000/(((AK$242+AL$242+AK$243+AL$243)/Denscalc($J40))*1000*  $J40 * Data!$B$6)) ), 0     ),  0)","v":0},25,null,null,{"$f":"IF(AND($A40<>\"\",(AO40+AP40)>0), IF($F40=\"Nej\",    IF(AP$13=\"Nm3\",(AQ$12*1000*1000/((AO$242+AP$242+AO$243+AP$243)*1000*  $J40 * Data!$B$6)),  (AQ$12*1000*1000/(((AO$242+AP$242+AO$243+AP$243)/Denscalc($J40))*1000*  $J40 * Data!$B$6)) ), 0     ),  0)","v":0},25,null,null,{"$f":"IF(AND($A40<>\"\",(AS40+AT40)>0), IF($F40=\"Nej\",    IF(AT$13=\"Nm3\",(AU$12*1000*1000/((AS$242+AT$242+AS$243+AT$243)*1000*  $J40 * Data!$B$6)),  (AU$12*1000*1000/(((AS$242+AT$242+AS$243+AT$243)/Denscalc($J40))*1000*  $J40 * Data!$B$6)) ), 0     ),  0)","v":0},25,null,null,{"$f":"IF(AND($A40<>\"\",(AW40+AX40)>0), IF($F40=\"Nej\",\nIF(AX$13=\"Nm3\",(AY$12*1000*1000/((AW$242+AX$242+AW$243+AX$243-AW$240-AX$240)*1000*  $J40 * Data!$B$6))+(AY$6*1000*1000/((AW$242+AX$242+AW$243+AX$243)*1000*  $J40 * Data!$B$6)),\n (AY$12*1000*1000/(((AW$242+AX$242+AW$243+AX$243-AW$240-AX$240)/Denscalc($J40))*1000*  $J40 * Data!$B$6))  +  (AY$6*1000*1000/(((AW$242+AX$242+AW$243+AX$243)/Denscalc($J40))*1000*  $J40 * Data!$B$6)) ), 0     ),  0)","v":0},25,null,null,{"$f":"IF(AND($A40<>\"\",(BA40+BB40)>0), IF($F40=\"Nej\",\n (BC$12*1000*1000/((BA$244+BB$244-BA$240-BB$240)*1000* Data!$B$7))+ (BC$6*1000*1000/((BA$244+BB$244)*1000* Data!$B$7)),0 ),  0)","v":0},25,"",{"$f":"IF(A40<>\"\",IF(F40=\"Nej\", (Data!$B$129*Data!$B$5*1000*Data!$B$3)/Data!$B$6,  0 ),\"\")","v":""},"","",{"$f":"IF(A40<>\"\",IF(BH40>0,  IF(BE40=\"Nej\",    (Data!$B$8-BH40)/Data!$B$8,  ROUND( (Data!$B$8-BH40)/Data!$B$8,2)),      \"\"),\"\")","v":""},"","","","",{"$f":"IF(A40<>\"\", IF(H40=\"Flytande\",   IF(BM40>0,  IF(BE40=\"Nej\",  (Data!$B$8-BM40)/Data!$B$8,  ROUND( (Data!$B$8-BM40)/Data!$B$8,2)   ), \"\"), \"\"),\"\")","v":""},"",25,"","","",null,""]
[{"$f":"Uppgradering!A32","v":""},26,{"$f":"Uppgradering!C32","v":""},{"$f":"Uppgradering!D32","v":""},{"$f":"Uppgradering!E32","v":""},{"$f":"Uppgradering!AT32","v":""},{"$f":"Uppgradering!AR32","v":""},{"$f":"Uppgradering!AO32","v":""},{"$f":"Uppgradering!AN32","v":""},{"$f":"Uppgradering!AS32","v":""},{"$f":"Uppgradering!AV32","v":""},null,null,null,{"$f":"IF(AND($A41<>\"\",(M41+N41)>0), IF($F41=\"Nej\",    IF(N$13=\"Nm3\",(O$12*1000*1000/((M$242+N$242+M$243+N$243)*1000*  $J41 * Data!$B$6)),  (O$12*1000*1000/(((M$242+N$242+M$243+N$243)/Denscalc($J41))*1000*  $J41 * Data!$B$6)) ), 0     ),  0)","v":0},26,null,null,{"$f":"IF(AND($A41<>\"\",(Q41+R41)>0), IF($F41=\"Nej\",    IF(R$13=\"Nm3\",(S$12*1000*1000/((Q$242+R$242+Q$243+R$243)*1000*  $J41 * Data!$B$6)),  (S$12*1000*1000/(((Q$242+R$242+Q$243+R$243)/Denscalc($J41))*1000*  $J41 * Data!$B$6)) ), 0     ),  0)","v":0},26,null,null,{"$f":"IF(AND($A41<>\"\",(U41+V41)>0), IF($F41=\"Nej\",    IF(V$13=\"Nm3\",(W$12*1000*1000/((U$242+V$242+U$243+V$243)*1000*  $J41 * Data!$B$6)),  (W$12*1000*1000/(((U$242+V$242+U$243+V$243)/Denscalc($J41))*1000*  $J41 * Data!$B$6)) ), 0     ),  0)","v":0},26,null,null,{"$f":"IF(AND($A41<>\"\",(Y41+Z41)>0), IF($F41=\"Nej\",    IF(Z$13=\"Nm3\",(AA$12*1000*1000/((Y$242+Z$242+Y$243+Z$243)*1000*  $J41 * Data!$B$6)),  (AA$12*1000*1000/(((Y$242+Z$242+Y$243+Z$243)/Denscalc($J41))*1000*  $J41 * Data!$B$6)) ), 0     ),  0)","v":0},26,null,null,{"$f":"IF(AND($A41<>\"\",(AC41+AD41)>0), IF($F41=\"Nej\",    IF(AD$13=\"Nm3\",(AE$12*1000*1000/((AC$242+AD$242+AC$243+AD$243)*1000*  $J41 * Data!$B$6)),  (AE$12*1000*1000/(((AC$242+AD$242+AC$243+AD$243)/Denscalc($J41))*1000*  $J41 * Data!$B$6)) ), 0     ),  0)","v":0},26,null,null,{"$f":"IF(AND($A41<>\"\",(AG41+AH41)>0), IF($F41=\"Nej\",    IF(AH$13=\"Nm3\",(AI$12*1000*1000/((AG$242+AH$242+AG$243+AH$243)*1000*  $J41 * Data!$B$6)),  (AI$12*1000*1000/(((AG$242+AH$242+AG$243+AH$243)/Denscalc($J41))*1000*  $J41 * Data!$B$6)) ), 0     ),  0)","v":0},26,null,null,{"$f":"IF(AND($A41<>\"\",(AK41+AL41)>0), IF($F41=\"Nej\",    IF(AL$13=\"Nm3\",(AM$12*1000*1000/((AK$242+AL$242+AK$243+AL$243)*1000*  $J41 * Data!$B$6)),  (AM$12*1000*1000/(((AK$242+AL$242+AK$243+AL$243)/Denscalc($J41))*1000*  $J41 * Data!$B$6)) ), 0     ),  0)","v":0},26,null,null,{"$f":"IF(AND($A41<>\"\",(AO41+AP41)>0), IF($F41=\"Nej\",    IF(AP$13=\"Nm3\",(AQ$12*1000*1000/((AO$242+AP$242+AO$243+AP$243)*1000*  $J41 * Data!$B$6)),  (AQ$12*1000*1000/(((AO$242+AP$242+AO$243+AP$243)/Denscalc($J41))*1000*  $J41 * Data!$B$6)) ), 0     ),  0)","v":0},26,null,null,{"$f":"IF(AND($A41<>\"\",(AS41+AT41)>0), IF($F41=\"Nej\",    IF(AT$13=\"Nm3\",(AU$12*1000*1000/((AS$242+AT$242+AS$243+AT$243)*1000*  $J41 * Data!$B$6)),  (AU$12*1000*1000/(((AS$242+AT$242+AS$243+AT$243)/Denscalc($J41))*1000*  $J41 * Data!$B$6)) ), 0     ),  0)","v":0},26,null,null,{"$f":"IF(AND($A41<>\"\",(AW41+AX41)>0), IF($F41=\"Nej\",\nIF(AX$13=\"Nm3\",(AY$12*1000*1000/((AW$242+AX$242+AW$243+AX$243-AW$240-AX$240)*1000*  $J41 * Data!$B$6))+(AY$6*1000*1000/((AW$242+AX$242+AW$243+AX$243)*1000*  $J41 * Data!$B$6)),\n (AY$12*1000*1000/(((AW$242+AX$242+AW$243+AX$243-AW$240-AX$240)/Denscalc($J41))*1000*  $J41 * Data!$B$6))  +  (AY$6*1000*1000/(((AW$242+AX$242+AW$243+AX$243)/Denscalc($J41))*1000*  $J41 * Data!$B$6)) ), 0     ),  0)","v":0},26,null,null,{"$f":"IF(AND($A41<>\"\",(BA41+BB41)>0), IF($F41=\"Nej\",\n (BC$12*1000*1000/((BA$244+BB$244-BA$240-BB$240)*1000* Data!$B$7))+ (BC$6*1000*1000/((BA$244+BB$244)*1000* Data!$B$7)),0 ),  0)","v":0},26,"",{"$f":"IF(A41<>\"\",IF(F41=\"Nej\", (Data!$B$129*Data!$B$5*1000*Data!$B$3)/Data!$B$6,  0 ),\"\")","v":""},"","",{"$f":"IF(A41<>\"\",IF(BH41>0,  IF(BE41=\"Nej\",    (Data!$B$8-BH41)/Data!$B$8,  ROUND( (Data!$B$8-BH41)/Data!$B$8,2)),      \"\"),\"\")","v":""},"","","","",{"$f":"IF(A41<>\"\", IF(H41=\"Flytande\",   IF(BM41>0,  IF(BE41=\"Nej\",  (Data!$B$8-BM41)/Data!$B$8,  ROUND( (Data!$B$8-BM41)/Data!$B$8,2)   ), \"\"), \"\"),\"\")","v":""},"",26,"","","",null,""]
[{"$f":"Uppgradering!A33","v":""},27,{"$f":"Uppgradering!C33","v":""},{"$f":"Uppgradering!D33","v":""},{"$f":"Uppgradering!E33","v":""},{"$f":"Uppgradering!AT33","v":""},{"$f":"Uppgradering!AR33","v":""},{"$f":"Uppgradering!AO33","v":""},{"$f":"Uppgradering!AN33","v":""},{"$f":"Uppgradering!AS33","v":""},{"$f":"Uppgradering!AV33","v":""},null,null,null,{"$f":"IF(AND($A42<>\"\",(M42+N42)>0), IF($F42=\"Nej\",    IF(N$13=\"Nm3\",(O$12*1000*1000/((M$242+N$242+M$243+N$243)*1000*  $J42 * Data!$B$6)),  (O$12*1000*1000/(((M$242+N$242+M$243+N$243)/Denscalc($J42))*1000*  $J42 * Data!$B$6)) ), 0     ),  0)","v":0},27,null,null,{"$f":"IF(AND($A42<>\"\",(Q42+R42)>0), IF($F42=\"Nej\",    IF(R$13=\"Nm3\",(S$12*1000*1000/((Q$242+R$242+Q$243+R$243)*1000*  $J42 * Data!$B$6)),  (S$12*1000*1000/(((Q$242+R$242+Q$243+R$243)/Denscalc($J42))*1000*  $J42 * Data!$B$6)) ), 0     ),  0)","v":0},27,null,null,{"$f":"IF(AND($A42<>\"\",(U42+V42)>0), IF($F42=\"Nej\",    IF(V$13=\"Nm3\",(W$12*1000*1000/((U$242+V$242+U$243+V$243)*1000*  $J42 * Data!$B$6)),  (W$12*1000*1000/(((U$242+V$242+U$243+V$243)/Denscalc($J42))*1000*  $J42 * Data!$B$6)) ), 0     ),  0)","v":0},27,null,null,{"$f":"IF(AND($A42<>\"\",(Y42+Z42)>0), IF($F42=\"Nej\",    IF(Z$13=\"Nm3\",(AA$12*1000*1000/((Y$242+Z$242+Y$243+Z$243)*1000*  $J42 * Data!$B$6)),  (AA$12*1000*1000/(((Y$242+Z$242+Y$243+Z$243)/Denscalc($J42))*1000*  $J42 * Data!$B$6)) ), 0     ),  0)","v":0},27,null,null,{"$f":"IF(AND($A42<>\"\",(AC42+AD42)>0), IF($F42=\"Nej\",    IF(AD$13=\"Nm3\",(AE$12*1000*1000/((AC$242+AD$242+AC$243+AD$243)*1000*  $J42 * Data!$B$6)),  (AE$12*1000*1000/(((AC$242+AD$242+AC$243+AD$243)/Denscalc($J42))*1000*  $J42 * Data!$B$6)) ), 0     ),  0)","v":0},27,null,null,{"$f":"IF(AND($A42<>\"\",(AG42+AH42)>0), IF($F42=\"Nej\",    IF(AH$13=\"Nm3\",(AI$12*1000*1000/((AG$242+AH$242+AG$243+AH$243)*1000*  $J42 * Data!$B$6)),  (AI$12*1000*1000/(((AG$242+AH$242+AG$243+AH$243)/Denscalc($J42))*1000*  $J42 * Data!$B$6)) ), 0     ),  0)","v":0},27,null,null,{"$f":"IF(AND($A42<>\"\",(AK42+AL42)>0), IF($F42=\"Nej\",    IF(AL$13=\"Nm3\",(AM$12*1000*1000/((AK$242+AL$242+AK$243+AL$243)*1000*  $J42 * Data!$B$6)),  (AM$12*1000*1000/(((AK$242+AL$242+AK$243+AL$243)/Denscalc($J42))*1000*  $J42 * Data!$B$6)) ), 0     ),  0)","v":0},27,null,null,{"$f":"IF(AND($A42<>\"\",(AO42+AP42)>0), IF($F42=\"Nej\",    IF(AP$13=\"Nm3\",(AQ$12*1000*1000/((AO$242+AP$242+AO$243+AP$243)*1000*  $J42 * Data!$B$6)),  (AQ$12*1000*1000/(((AO$242+AP$242+AO$243+AP$243)/Denscalc($J42))*1000*  $J42 * Data!$B$6)) ), 0     ),  0)","v":0},27,null,null,{"$f":"IF(AND($A42<>\"\",(AS42+AT42)>0), IF($F42=\"Nej\",    IF(AT$13=\"Nm3\",(AU$12*1000*1000/((AS$242+AT$242+AS$243+AT$243)*1000*  $J42 * Data!$B$6)),  (AU$12*1000*1000/(((AS$242+AT$242+AS$243+AT$243)/Denscalc($J42))*1000*  $J42 * Data!$B$6)) ), 0     ),  0)","v":0},27,null,null,{"$f":"IF(AND($A42<>\"\",(AW42+AX42)>0), IF($F42=\"Nej\",\nIF(AX$13=\"Nm3\",(AY$12*1000*1000/((AW$242+AX$242+AW$243+AX$243-AW$240-AX$240)*1000*  $J42 * Data!$B$6))+(AY$6*1000*1000/((AW$242+AX$242+AW$243+AX$243)*1000*  $J42 * Data!$B$6)),\n (AY$12*1000*1000/(((AW$242+AX$242+AW$243+AX$243-AW$240-AX$240)/Denscalc($J42))*1000*  $J42 * Data!$B$6))  +  (AY$6*1000*1000/(((AW$242+AX$242+AW$243+AX$243)/Denscalc($J42))*1000*  $J42 * Data!$B$6)) ), 0     ),  0)","v":0},27,null,null,{"$f":"IF(AND($A42<>\"\",(BA42+BB42)>0), IF($F42=\"Nej\",\n (BC$12*1000*1000/((BA$244+BB$244-BA$240-BB$240)*1000* Data!$B$7))+ (BC$6*1000*1000/((BA$244+BB$244)*1000* Data!$B$7)),0 ),  0)","v":0},27,"",{"$f":"IF(A42<>\"\",IF(F42=\"Nej\", (Data!$B$129*Data!$B$5*1000*Data!$B$3)/Data!$B$6,  0 ),\"\")","v":""},"","",{"$f":"IF(A42<>\"\",IF(BH42>0,  IF(BE42=\"Nej\",    (Data!$B$8-BH42)/Data!$B$8,  ROUND( (Data!$B$8-BH42)/Data!$B$8,2)),      \"\"),\"\")","v":""},"","","","",{"$f":"IF(A42<>\"\", IF(H42=\"Flytande\",   IF(BM42>0,  IF(BE42=\"Nej\",  (Data!$B$8-BM42)/Data!$B$8,  ROUND( (Data!$B$8-BM42)/Data!$B$8,2)   ), \"\"), \"\"),\"\")","v":""},"",27,"","","",null,""]
[{"$f":"Uppgradering!A34","v":""},28,{"$f":"Uppgradering!C34","v":""},{"$f":"Uppgradering!D34","v":""},{"$f":"Uppgradering!E34","v":""},{"$f":"Uppgradering!AT34","v":""},{"$f":"Uppgradering!AR34","v":""},{"$f":"Uppgradering!AO34","v":""},{"$f":"Uppgradering!AN34","v":""},{"$f":"Uppgradering!AS34","v":""},{"$f":"Uppgradering!AV34","v":""},null,null,null,{"$f":"IF(AND($A43<>\"\",(M43+N43)>0), IF($F43=\"Nej\",    IF(N$13=\"Nm3\",(O$12*1000*1000/((M$242+N$242+M$243+N$243)*1000*  $J43 * Data!$B$6)),  (O$12*1000*1000/(((M$242+N$242+M$243+N$243)/Denscalc($J43))*1000*  $J43 * Data!$B$6)) ), 0     ),  0)","v":0},28,null,null,{"$f":"IF(AND($A43<>\"\",(Q43+R43)>0), IF($F43=\"Nej\",    IF(R$13=\"Nm3\",(S$12*1000*1000/((Q$242+R$242+Q$243+R$243)*1000*  $J43 * Data!$B$6)),  (S$12*1000*1000/(((Q$242+R$242+Q$243+R$243)/Denscalc($J43))*1000*  $J43 * Data!$B$6)) ), 0     ),  0)","v":0},28,null,null,{"$f":"IF(AND($A43<>\"\",(U43+V43)>0), IF($F43=\"Nej\",    IF(V$13=\"Nm3\",(W$12*1000*1000/((U$242+V$242+U$243+V$243)*1000*  $J43 * Data!$B$6)),  (W$12*1000*1000/(((U$242+V$242+U$243+V$243)/Denscalc($J43))*1000*  $J43 * Data!$B$6)) ), 0     ),  0)","v":0},28,null,null,{"$f":"IF(AND($A43<>\"\",(Y43+Z43)>0), IF($F43=\"Nej\",    IF(Z$13=\"Nm3\",(AA$12*1000*1000/((Y$242+Z$242+Y$243+Z$243)*1000*  $J43 * Data!$B$6)),  (AA$12*1000*1000/(((Y$242+Z$242+Y$243+Z$243)/Denscalc($J43))*1000*  $J43 * Data!$B$6)) ), 0     ),  0)","v":0},28,null,null,{"$f":"IF(AND($A43<>\"\",(AC43+AD43)>0), IF($F43=\"Nej\",    IF(AD$13=\"Nm3\",(AE$12*1000*1000/((AC$242+AD$242+AC$243+AD$243)*1000*  $J43 * Data!$B$6)),  (AE$12*1000*1000/(((AC$242+AD$242+AC$243+AD$243)/Denscalc($J43))*1000*  $J43 * Data!$B$6)) ), 0     ),  0)","v":0},28,null,null,{"$f":"IF(AND($A43<>\"\",(AG43+AH43)>0), IF($F43=\"Nej\",    IF(AH$13=\"Nm3\",(AI$12*1000*1000/((AG$242+AH$242+AG$243+AH$243)*1000*  $J43 * Data!$B$6)),  (AI$12*1000*1000/(((AG$242+AH$242+AG$243+AH$243)/Denscalc($J43))*1000*  $J43 * Data!$B$6)) ), 0     ),  0)","v":0},28,null,null,{"$f":"IF(AND($A43<>\"\",(AK43+AL43)>0), IF($F43=\"Nej\",    IF(AL$13=\"Nm3\",(AM$12*1000*1000/((AK$242+AL$242+AK$243+AL$243)*1000*  $J43 * Data!$B$6)),  (AM$12*1000*1000/(((AK$242+AL$242+AK$243+AL$243)/Denscalc($J43))*1000*  $J43 * Data!$B$6)) ), 0     ),  0)","v":0},28,null,null,{"$f":"IF(AND($A43<>\"\",(AO43+AP43)>0), IF($F43=\"Nej\",    IF(AP$13=\"Nm3\",(AQ$12*1000*1000/((AO$242+AP$242+AO$243+AP$243)*1000*  $J43 * Data!$B$6)),  (AQ$12*1000*1000/(((AO$242+AP$242+AO$243+AP$243)/Denscalc($J43))*1000*  $J43 * Data!$B$6)) ), 0     ),  0)","v":0},28,null,null,{"$f":"IF(AND($A43<>\"\",(AS43+AT43)>0), IF($F43=\"Nej\",    IF(AT$13=\"Nm3\",(AU$12*1000*1000/((AS$242+AT$242+AS$243+AT$243)*1000*  $J43 * Data!$B$6)),  (AU$12*1000*1000/(((AS$242+AT$242+AS$243+AT$243)/Denscalc($J43))*1000*  $J43 * Data!$B$6)) ), 0     ),  0)","v":0},28,null,null,{"$f":"IF(AND($A43<>\"\",(AW43+AX43)>0), IF($F43=\"Nej\",\nIF(AX$13=\"Nm3\",(AY$12*1000*1000/((AW$242+AX$242+AW$243+AX$243-AW$240-AX$240)*1000*  $J43 * Data!$B$6))+(AY$6*1000*1000/((AW$242+AX$242+AW$243+AX$243)*1000*  $J43 * Data!$B$6)),\n (AY$12*1000*1000/(((AW$242+AX$242+AW$243+AX$243-AW$240-AX$240)/Denscalc($J43))*1000*  $J43 * Data!$B$6))  +  (AY$6*1000*1000/(((AW$242+AX$242+AW$243+AX$243)/Denscalc($J43))*1000*  $J43 * Data!$B$6)) ), 0     ),  0)","v":0},28,null,null,{"$f":"IF(AND($A43<>\"\",(BA43+BB43)>0), IF($F43=\"Nej\",\n (BC$12*1000*1000/((BA$244+BB$244-BA$240-BB$240)*1000* Data!$B$7))+ (BC$6*1000*1000/((BA$244+BB$244)*1000* Data!$B$7)),0 ),  0)","v":0},28,"",{"$f":"IF(A43<>\"\",IF(F43=\"Nej\", (Data!$B$129*Data!$B$5*1000*Data!$B$3)/Data!$B$6,  0 ),\"\")","v":""},"","",{"$f":"IF(A43<>\"\",IF(BH43>0,  IF(BE43=\"Nej\",    (Data!$B$8-BH43)/Data!$B$8,  ROUND( (Data!$B$8-BH43)/Data!$B$8,2)),      \"\"),\"\")","v":""},"","","","",{"$f":"IF(A43<>\"\", IF(H43=\"Flytande\",   IF(BM43>0,  IF(BE43=\"Nej\",  (Data!$B$8-BM43)/Data!$B$8,  ROUND( (Data!$B$8-BM43)/Data!$B$8,2)   ), \"\"), \"\"),\"\")","v":""},"",28,"","","",null,""]
[{"$f":"Uppgradering!A35","v":""},29,{"$f":"Uppgradering!C35","v":""},{"$f":"Uppgradering!D35","v":""},{"$f":"Uppgradering!E35","v":""},{"$f":"Uppgradering!AT35","v":""},{"$f":"Uppgradering!AR35","v":""},{"$f":"Uppgradering!AO35","v":""},{"$f":"Uppgradering!AN35","v":""},{"$f":"Uppgradering!AS35","v":""},{"$f":"Uppgradering!AV35","v":""},null,null,null,{"$f":"IF(AND($A44<>\"\",(M44+N44)>0), IF($F44=\"Nej\",    IF(N$13=\"Nm3\",(O$12*1000*1000/((M$242+N$242+M$243+N$243)*1000*  $J44 * Data!$B$6)),  (O$12*1000*1000/(((M$242+N$242+M$243+N$243)/Denscalc($J44))*1000*  $J44 * Data!$B$6)) ), 0     ),  0)","v":0},29,null,null,{"$f":"IF(AND($A44<>\"\",(Q44+R44)>0), IF($F44=\"Nej\",    IF(R$13=\"Nm3\",(S$12*1000*1000/((Q$242+R$242+Q$243+R$243)*1000*  $J44 * Data!$B$6)),  (S$12*1000*1000/(((Q$242+R$242+Q$243+R$243)/Denscalc($J44))*1000*  $J44 * Data!$B$6)) ), 0     ),  0)","v":0},29,null,null,{"$f":"IF(AND($A44<>\"\",(U44+V44)>0), IF($F44=\"Nej\",    IF(V$13=\"Nm3\",(W$12*1000*1000/((U$242+V$242+U$243+V$243)*1000*  $J44 * Data!$B$6)),  (W$12*1000*1000/(((U$242+V$242+U$243+V$243)/Denscalc($J44))*1000*  $J44 * Data!$B$6)) ), 0     ),  0)","v":0},29,null,null,{"$f":"IF(AND($A44<>\"\",(Y44+Z44)>0), IF($F44=\"Nej\",    IF(Z$13=\"Nm3\",(AA$12*1000*1000/((Y$242+Z$242+Y$243+Z$243)*1000*  $J44 * Data!$B$6)),  (AA$12*1000*1000/(((Y$242+Z$242+Y$243+Z$243)/Denscalc($J44))*1000*  $J44 * Data!$B$6)) ), 0     ),  0)","v":0},29,null,null,{"$f":"IF(AND($A44<>\"\",(AC44+AD44)>0), IF($F44=\"Nej\",    IF(AD$13=\"Nm3\",(AE$12*1000*1000/((AC$242+AD$242+AC$243+AD$243)*1000*  $J44 * Data!$B$6)),  (AE$12*1000*1000/(((AC$242+AD$242+AC$243+AD$243)/Denscalc($J44))*1000*  $J44 * Data!$B$6)) ), 0     ),  0)","v":0},29,null,null,{"$f":"IF(AND($A44<>\"\",(AG44+AH44)>0), IF($F44=\"Nej\",    IF(AH$13=\"Nm3\",(AI$12*1000*1000/((AG$242+AH$242+AG$243+AH$243)*1000*  $J44 * Data!$B$6)),  (AI$12*1000*1000/(((AG$242+AH$242+AG$243+AH$243)/Denscalc($J44))*1000*  $J44 * Data!$B$6)) ), 0     ),  0)","v":0},29,null,null,{"$f":"IF(AND($A44<>\"\",(AK44+AL44)>0), IF($F44=\"Nej\",    IF(AL$13=\"Nm3\",(AM$12*1000*1000/((AK$242+AL$242+AK$243+AL$243)*1000*  $J44 * Data!$B$6)),  (AM$12*1000*1000/(((AK$242+AL$242+AK$243+AL$243)/Denscalc($J44))*1000*  $J44 * Data!$B$6)) ), 0     ),  0)","v":0},29,null,null,{"$f":"IF(AND($A44<>\"\",(AO44+AP44)>0), IF($F44=\"Nej\",    IF(AP$13=\"Nm3\",(AQ$12*1000*1000/((AO$242+AP$242+AO$243+AP$243)*1000*  $J44 * Data!$B$6)),  (AQ$12*1000*1000/(((AO$242+AP$242+AO$243+AP$243)/Denscalc($J44))*1000*  $J44 * Data!$B$6)) ), 0     ),  0)","v":0},29,null,null,{"$f":"IF(AND($A44<>\"\",(AS44+AT44)>0), IF($F44=\"Nej\",    IF(AT$13=\"Nm3\",(AU$12*1000*1000/((AS$242+AT$242+AS$243+AT$243)*1000*  $J44 * Data!$B$6)),  (AU$12*1000*1000/(((AS$242+AT$242+AS$243+AT$243)/Denscalc($J44))*1000*  $J44 * Data!$B$6)) ), 0     ),  0)","v":0},29,null,null,{"$f":"IF(AND($A44<>\"\",(AW44+AX44)>0), IF($F44=\"Nej\",\nIF(AX$13=\"Nm3\",(AY$12*1000*1000/((AW$242+AX$242+AW$243+AX$243-AW$240-AX$240)*1000*  $J44 * Data!$B$6))+(AY$6*1000*1000/((AW$242+AX$242+AW$243+AX$243)*1000*  $J44 * Data!$B$6)),\n (AY$12*1000*1000/(((AW$242+AX$242+AW$243+AX$243-AW$240-AX$240)/Denscalc($J44))*1000*  $J44 * Data!$B$6))  +  (AY$6*1000*1000/(((AW$242+AX$242+AW$243+AX$243)/Denscalc($J44))*1000*  $J44 * Data!$B$6)) ), 0     ),  0)","v":0},29,null,null,{"$f":"IF(AND($A44<>\"\",(BA44+BB44)>0), IF($F44=\"Nej\",\n (BC$12*1000*1000/((BA$244+BB$244-BA$240-BB$240)*1000* Data!$B$7))+ (BC$6*1000*1000/((BA$244+BB$244)*1000* Data!$B$7)),0 ),  0)","v":0},29,"",{"$f":"IF(A44<>\"\",IF(F44=\"Nej\", (Data!$B$129*Data!$B$5*1000*Data!$B$3)/Data!$B$6,  0 ),\"\")","v":""},"","",{"$f":"IF(A44<>\"\",IF(BH44>0,  IF(BE44=\"Nej\",    (Data!$B$8-BH44)/Data!$B$8,  ROUND( (Data!$B$8-BH44)/Data!$B$8,2)),      \"\"),\"\")","v":""},"","","","",{"$f":"IF(A44<>\"\", IF(H44=\"Flytande\",   IF(BM44>0,  IF(BE44=\"Nej\",  (Data!$B$8-BM44)/Data!$B$8,  ROUND( (Data!$B$8-BM44)/Data!$B$8,2)   ), \"\"), \"\"),\"\")","v":""},"",29,"","","",null,""]
[{"$f":"Uppgradering!A36","v":""},30,{"$f":"Uppgradering!C36","v":""},{"$f":"Uppgradering!D36","v":""},{"$f":"Uppgradering!E36","v":""},{"$f":"Uppgradering!AT36","v":""},{"$f":"Uppgradering!AR36","v":""},{"$f":"Uppgradering!AO36","v":""},{"$f":"Uppgradering!AN36","v":""},{"$f":"Uppgradering!AS36","v":""},{"$f":"Uppgradering!AV36","v":""},null,null,null,{"$f":"IF(AND($A45<>\"\",(M45+N45)>0), IF($F45=\"Nej\",    IF(N$13=\"Nm3\",(O$12*1000*1000/((M$242+N$242+M$243+N$243)*1000*  $J45 * Data!$B$6)),  (O$12*1000*1000/(((M$242+N$242+M$243+N$243)/Denscalc($J45))*1000*  $J45 * Data!$B$6)) ), 0     ),  0)","v":0},30,null,null,{"$f":"IF(AND($A45<>\"\",(Q45+R45)>0), IF($F45=\"Nej\",    IF(R$13=\"Nm3\",(S$12*1000*1000/((Q$242+R$242+Q$243+R$243)*1000*  $J45 * Data!$B$6)),  (S$12*1000*1000/(((Q$242+R$242+Q$243+R$243)/Denscalc($J45))*1000*  $J45 * Data!$B$6)) ), 0     ),  0)","v":0},30,null,null,{"$f":"IF(AND($A45<>\"\",(U45+V45)>0), IF($F45=\"Nej\",    IF(V$13=\"Nm3\",(W$12*1000*1000/((U$242+V$242+U$243+V$243)*1000*  $J45 * Data!$B$6)),  (W$12*1000*1000/(((U$242+V$242+U$243+V$243)/Denscalc($J45))*1000*  $J45 * Data!$B$6)) ), 0     ),  0)","v":0},30,null,null,{"$f":"IF(AND($A45<>\"\",(Y45+Z45)>0), IF($F45=\"Nej\",    IF(Z$13=\"Nm3\",(AA$12*1000*1000/((Y$242+Z$242+Y$243+Z$243)*1000*  $J45 * Data!$B$6)),  (AA$12*1000*1000/(((Y$242+Z$242+Y$243+Z$243)/Denscalc($J45))*1000*  $J45 * Data!$B$6)) ), 0     ),  0)","v":0},30,null,null,{"$f":"IF(AND($A45<>\"\",(AC45+AD45)>0), IF($F45=\"Nej\",    IF(AD$13=\"Nm3\",(AE$12*1000*1000/((AC$242+AD$242+AC$243+AD$243)*1000*  $J45 * Data!$B$6)),  (AE$12*1000*1000/(((AC$242+AD$242+AC$243+AD$243)/Denscalc($J45))*1000*  $J45 * Data!$B$6)) ), 0     ),  0)","v":0},30,null,null,{"$f":"IF(AND($A45<>\"\",(AG45+AH45)>0), IF($F45=\"Nej\",    IF(AH$13=\"Nm3\",(AI$12*1000*1000/((AG$242+AH$242+AG$243+AH$243)*1000*  $J45 * Data!$B$6)),  (AI$12*1000*1000/(((AG$242+AH$242+AG$243+AH$243)/Denscalc($J45))*1000*  $J45 * Data!$B$6)) ), 0     ),  0)","v":0},30,null,null,{"$f":"IF(AND($A45<>\"\",(AK45+AL45)>0), IF($F45=\"Nej\",    IF(AL$13=\"Nm3\",(AM$12*1000*1000/((AK$242+AL$242+AK$243+AL$243)*1000*  $J45 * Data!$B$6)),  (AM$12*1000*1000/(((AK$242+AL$242+AK$243+AL$243)/Denscalc($J45))*1000*  $J45 * Data!$B$6)) ), 0     ),  0)","v":0},30,null,null,{"$f":"IF(AND($A45<>\"\",(AO45+AP45)>0), IF($F45=\"Nej\",    IF(AP$13=\"Nm3\",(AQ$12*1000*1000/((AO$242+AP$242+AO$243+AP$243)*1000*  $J45 * Data!$B$6)),  (AQ$12*1000*1000/(((AO$242+AP$242+AO$243+AP$243)/Denscalc($J45))*1000*  $J45 * Data!$B$6)) ), 0     ),  0)","v":0},30,null,null,{"$f":"IF(AND($A45<>\"\",(AS45+AT45)>0), IF($F45=\"Nej\",    IF(AT$13=\"Nm3\",(AU$12*1000*1000/((AS$242+AT$242+AS$243+AT$243)*1000*  $J45 * Data!$B$6)),  (AU$12*1000*1000/(((AS$242+AT$242+AS$243+AT$243)/Denscalc($J45))*1000*  $J45 * Data!$B$6)) ), 0     ),  0)","v":0},30,null,null,{"$f":"IF(AND($A45<>\"\",(AW45+AX45)>0), IF($F45=\"Nej\",\nIF(AX$13=\"Nm3\",(AY$12*1000*1000/((AW$242+AX$242+AW$243+AX$243-AW$240-AX$240)*1000*  $J45 * Data!$B$6))+(AY$6*1000*1000/((AW$242+AX$242+AW$243+AX$243)*1000*  $J45 * Data!$B$6)),\n (AY$12*1000*1000/(((AW$242+AX$242+AW$243+AX$243-AW$240-AX$240)/Denscalc($J45))*1000*  $J45 * Data!$B$6))  +  (AY$6*1000*1000/(((AW$242+AX$242+AW$243+AX$243)/Denscalc($J45))*1000*  $J45 * Data!$B$6)) ), 0     ),  0)","v":0},30,null,null,{"$f":"IF(AND($A45<>\"\",(BA45+BB45)>0), IF($F45=\"Nej\",\n (BC$12*1000*1000/((BA$244+BB$244-BA$240-BB$240)*1000* Data!$B$7))+ (BC$6*1000*1000/((BA$244+BB$244)*1000* Data!$B$7)),0 ),  0)","v":0},30,"",{"$f":"IF(A45<>\"\",IF(F45=\"Nej\", (Data!$B$129*Data!$B$5*1000*Data!$B$3)/Data!$B$6,  0 ),\"\")","v":""},"","",{"$f":"IF(A45<>\"\",IF(BH45>0,  IF(BE45=\"Nej\",    (Data!$B$8-BH45)/Data!$B$8,  ROUND( (Data!$B$8-BH45)/Data!$B$8,2)),      \"\"),\"\")","v":""},"","","","",{"$f":"IF(A45<>\"\", IF(H45=\"Flytande\",   IF(BM45>0,  IF(BE45=\"Nej\",  (Data!$B$8-BM45)/Data!$B$8,  ROUND( (Data!$B$8-BM45)/Data!$B$8,2)   ), \"\"), \"\"),\"\")","v":""},"",30,"","","",null,""]
["Summa egen producerad biogas (gasform, Nm3 )",null,null,null,null,null,{"$f":"SUMIFS(G16:G45,H16:H45,\"=Gas\",I16:I45,\"=Nm3\")","v":0},"Nm3","Såld gas (gasform)",null,null,null,{"$f":"IF(N13=\"Nm3\", SUM(M16:M45),\"\")","v":""},{"$f":"IF(N13=\"Nm3\", SUM(N16:N45),\"\")","v":""},"Nm3",null,{"$f":"IF(R13=\"Nm3\", SUM(Q16:Q45),\"\")","v":""},{"$f":"IF(R13=\"Nm3\", SUM(R16:R45),\"\")","v":""},"Nm3",null,{"$f":"IF(V13=\"Nm3\", SUM(U16:U45),\"\")","v":""},{"$f":"IF(V13=\"Nm3\", SUM(V16:V45),\"\")","v":""},"Nm3",null,{"$f":"IF(Z13=\"Nm3\", SUM(Y16:Y45),\"\")","v":""},{"$f":"IF(Z13=\"Nm3\", SUM(Z16:Z45),\"\")","v":""},"Nm3",null,{"$f":"IF(AD13=\"Nm3\", SUM(AC16:AC45),\"\")","v":""},{"$f":"IF(AD13=\"Nm3\", SUM(AD16:AD45),\"\")","v":""},"Nm3",null,{"$f":"IF(AH13=\"Nm3\", SUM(AG16:AG45),\"\")","v":""},{"$f":"IF(AH13=\"Nm3\", SUM(AH16:AH45),\"\")","v":""},"Nm3",null,{"$f":"IF(AL13=\"Nm3\", SUM(AK16:AK45),\"\")","v":""},{"$f":"IF(AL13=\"Nm3\", SUM(AL16:AL45),\"\")","v":""},"Nm3",null,{"$f":"IF(AP13=\"Nm3\", SUM(AO16:AO45),\"\")","v":""},{"$f":"IF(AP13=\"Nm3\", SUM(AP16:AP45),\"\")","v":""},"Nm3",null,{"$f":"IF(AT13=\"Nm3\", SUM(AS16:AS45),\"\")","v":""},{"$f":"IF(AT13=\"Nm3\", SUM(AT16:AT45),\"\")","v":""},"Nm3",null,{"$f":"IF(AX13=\"Nm3\", SUM(AW16:AW45),\"\")","v":""},{"$f":"IF(AX13=\"Nm3\", SUM(AX16:AX45),\"\")","v":""},"Nm3",null,null,null,null,null,null,null,null,null,"Summa",{"$f":"SUM(BJ16:BJ45)","v":0},null,"Nm3",null,null,null,null,{"$f":"SUM(BQ16:BQ45)","v":0}]
["Summa egen producerad biogas (gasform, kg)",null,null,null,null,null,{"$f":"SUMIFS(G16:G45,H16:H45,\"=Gas\",I16:I45,\"=kg\")","v":0},"kg","Såld gas (gasform)",null,null,null,{"$f":"IF(N13=\"kg\", SUM(M16:M45),\"\")","v":0},{"$f":"IF(N13=\"kg\", SUM(N16:N45),\"\")","v":0},"kg",null,{"$f":"IF(R13=\"kg\", SUM(Q16:Q45),\"\")","v":0},{"$f":"IF(R13=\"kg\", SUM(R16:R45),\"\")","v":0},"kg",null,{"$f":"IF(V13=\"kg\", SUM(U16:U45),\"\")","v":0},{"$f":"IF(V13=\"kg\", SUM(V16:V45),\"\")","v":0},"kg",null,{"$f":"IF(Z13=\"kg\", SUM(Y16:Y45),\"\")","v":0},{"$f":"IF(Z13=\"kg\", SUM(Z16:Z45),\"\")","v":0},"kg",null,{"$f":"IF(AD13=\"kg\", SUM(AC16:AC45),\"\")","v":0},{"$f":"IF(AD13=\"kg\", SUM(AD16:AD45),\"\")","v":0},"kg",null,{"$f":"IF(AH13=\"kg\", SUM(AG16:AG45),\"\")","v":0},{"$f":"IF(AH13=\"kg\", SUM(AH16:AH45),\"\")","v":0},"kg",null,{"$f":"IF(AL13=\"kg\", SUM(AK16:AK45),\"\")","v":0},{"$f":"IF(AL13=\"kg\", SUM(AL16:AL45),\"\")","v":0},"kg",null,{"$f":"IF(AP13=\"kg\", SUM(AO16:AO45),\"\")","v":0},{"$f":"IF(AP13=\"kg\", SUM(AP16:AP45),\"\")","v":0},"kg",null,{"$f":"IF(AT13=\"kg\", SUM(AS16:AS45),\"\")","v":0},{"$f":"IF(AT13=\"kg\", SUM(AT16:AT45),\"\")","v":0},"kg",null,{"$f":"IF(AX13=\"kg\", SUM(AW16:AW45),\"\")","v":0},{"$f":"IF(AX13=\"kg\", SUM(AX16:AX45),\"\")","v":0},"kg",null,null,null,null,null,null,null,null,null,"Summa",null,{"$f":"SUM(BK16:BK45)","v":0},"kg",null,null,null,null,null,{"$f":"SUM(BR16:BR45)","v":0}]
["Summa egen producerad biogas (flytande form, kg)",null,null,null,null,null,{"$f":"SUMIF(H16:H45,\"=Flytande\",G16:G45)","v":0},"kg",null,null,null,null,null,null,null,null,null,null,null,null,null,null,null,null,null,null,null,null,null,null,null,null,null,null,null,null,null,null,null,null,null,null,null,null,null,null,null,null,"Såld gas (flytande form)  ",null,null,null,{"$f":"SUM(BA16:BA45)","v":0},{"$f":"SUM(BB16:BB45)","v":0},null,null,null,null,null,null,null,null,null,null,null,"Summa",{"$f":"SUM(BO16:BO45)","v":0},null,null,null,{"$f":"SUM(BS16:BS45)","v":0}]
["Inköpt rågas som uppgraderats i egen anläggning (från Uppgradering)",null,null,null,null,null,null,null,null,null,null,null,null,null,null,null,null,null,null,null,null,null,null,null,null,null,null,null,null,null,null,null,null,null,null,null,null,null,null,null,null,null,null,null,null,null,null,null,null,null,null,null,null,null,null,null,"Inköpt rågas som uppgraderats i egen anläggning (från Uppgradering)"]
[{"$f":"IF(Uppgradering!A38<>\"\",Uppgradering!A38,\"\")","v":""},31,{"$f":"Uppgradering!C38","v":0},{"$f":"Uppgradering!D38","v":0},{"$f":"Uppgradering!E38","v":0},{"$f":"Uppgradering!AT38","v":""},{"$f":"Uppgradering!AR38","v":""},{"$f":"Uppgradering!AO38","v":""},{"$f":"Uppgradering!AN38","v":""},{"$f":"Uppgradering!AS38","v":""},{"$f":"Uppgradering!AV38","v":""},null,null,null,{"$f":"IF(AND($A50<>\"\",(M50+N50)>0), IF($F50=\"Nej\",    IF(N$13=\"Nm3\",(O$12*1000*1000/((M$242+N$242+M$243+N$243)*1000*  $J50 * Data!$B$6)),  (O$12*1000*1000/(((M$242+N$242+M$243+N$243)/Denscalc($J50))*1000*  $J50 * Data!$B$6)) ), 0     ),  0)","v":0},31,null,null,{"$f":"IF(AND($A50<>\"\",(Q50+R50)>0), IF($F50=\"Nej\",    IF(R$13=\"Nm3\",(S$12*1000*1000/((Q$242+R$242+Q$243+R$243)*1000*  $J50 * Data!$B$6)),  (S$12*1000*1000/(((Q$242+R$242+Q$243+R$243)/Denscalc($J50))*1000*  $J50 * Data!$B$6)) ), 0     ),  0)","v":0},31,null,null,{"$f":"IF(AND($A50<>\"\",(U50+V50)>0), IF($F50=\"Nej\",    IF(V$13=\"Nm3\",(W$12*1000*1000/((U$242+V$242+U$243+V$243)*1000*  $J50 * Data!$B$6)),  (W$12*1000*1000/(((U$242+V$242+U$243+V$243)/Denscalc($J50))*1000*  $J50 * Data!$B$6)) ), 0     ),  0)","v":0},31,null,null,{"$f":"IF(AND($A50<>\"\",(Y50+Z50)>0), IF($F50=\"Nej\",    IF(Z$13=\"Nm3\",(AA$12*1000*1000/((Y$242+Z$242+Y$243+Z$243)*1000*  $J50 * Data!$B$6)),  (AA$12*1000*1000/(((Y$242+Z$242+Y$243+Z$243)/Denscalc($J50))*1000*  $J50 * Data!$B$6)) ), 0     ),  0)","v":0},31,null,null,{"$f":"IF(AND($A50<>\"\",(AC50+AD50)>0), IF($F50=\"Nej\",    IF(AD$13=\"Nm3\",(AE$12*1000*1000/((AC$242+AD$242+AC$243+AD$243)*1000*  $J50 * Data!$B$6)),  (AE$12*1000*1000/(((AC$242+AD$242+AC$243+AD$243)/Denscalc($J50))*1000*  $J50 * Data!$B$6)) ), 0     ),  0)","v":0},31,null,null,{"$f":"IF(AND($A50<>\"\",(AG50+AH50)>0), IF($F50=\"Nej\",    IF(AH$13=\"Nm3\",(AI$12*1000*1000/((AG$242+AH$242+AG$243+AH$243)*1000*  $J50 * Data!$B$6)),  (AI$12*1000*1000/(((AG$242+AH$242+AG$243+AH$243)/Denscalc($J50))*1000*  $J50 * Data!$B$6)) ), 0     ),  0)","v":0},31,null,null,{"$f":"IF(AND($A50<>\"\",(AK50+AL50)>0), IF($F50=\"Nej\",    IF(AL$13=\"Nm3\",(AM$12*1000*1000/((AK$242+AL$242+AK$243+AL$243)*1000*  $J50 * Data!$B$6)),  (AM$12*1000*1000/(((AK$242+AL$242+AK$243+AL$243)/Denscalc($J50))*1000*  $J50 * Data!$B$6)) ), 0     ),  0)","v":0},31,null,null,{"$f":"IF(AND($A50<>\"\",(AO50+AP50)>0), IF($F50=\"Nej\",    IF(AP$13=\"Nm3\",(AQ$12*1000*1000/((AO$242+AP$242+AO$243+AP$243)*1000*  $J50 * Data!$B$6)),  (AQ$12*1000*1000/(((AO$242+AP$242+AO$243+AP$243)/Denscalc($J50))*1000*  $J50 * Data!$B$6)) ), 0     ),  0)","v":0},31,null,null,{"$f":"IF(AND($A50<>\"\",(AS50+AT50)>0), IF($F50=\"Nej\",    IF(AT$13=\"Nm3\",(AU$12*1000*1000/((AS$242+AT$242+AS$243+AT$243)*1000*  $J50 * Data!$B$6)),  (AU$12*1000*1000/(((AS$242+AT$242+AS$243+AT$243)/Denscalc($J50))*1000*  $J50 * Data!$B$6)) ), 0     ),  0)","v":0},31,null,null,{"$f":"IF(AND($A50<>\"\",(AW50+AX50)>0), IF($F50=\"Nej\",\nIF(AX$13=\"Nm3\",(AY$12*1000*1000/((AW$242+AX$242+AW$243+AX$243-AW$240-AX$240)*1000*  $J50 * Data!$B$6))+(AY$6*1000*1000/((AW$242+AX$242+AW$243+AX$243)*1000*  $J50 * Data!$B$6)),\n (AY$12*1000*1000/(((AW$242+AX$242+AW$243+AX$243-AW$240-AX$240)/Denscalc($J50))*1000*  $J50 * Data!$B$6))  +  (AY$6*1000*1000/(((AW$242+AX$242+AW$243+AX$243)/Denscalc($J50))*1000*  $J50 * Data!$B$6)) ), 0     ),  0)","v":0},31,null,null,{"$f":"IF(AND($A50<>\"\",(BA50+BB50)>0), IF($F50=\"Nej\",\n (BC$12*1000*1000/((BA$244+BB$244-BA$240-BB$240)*1000* Data!$B$7))+ (BC$6*1000*1000/((BA$244+BB$244)*1000* Data!$B$7)),0 ),  0)","v":0},31,{"$f":"IF(F50<>0,F50,\"\")","v":""},{"$f":"IF(A50<>\"\",IF(F50=\"Nej\", (Data!$B$129*Data!$B$5*1000*Data!$B$3)/Data!$B$6,  0 ),\"\")","v":""},{"$f":"IF(A50<>\"\",   IF(H50=\"Gas\",\n( ((O50*(M50+N50) + S50*(Q50+R50) + W50*(U50+V50) + AA50*(Y50+Z50) + AE50*(AC50+AD50) + AI50*(AG50+AH50) + AM50*(AK50+AL50) + AQ50*(AO50+AP50) + AU50*(AS50+AT50)  )) /\n( M50+N50+Q50+R50+U50+V50+Y50+Z50+AC50+AD50+AG50+AH50+AK50+AL50+AO50+AP50+AS50+AT50)+BF50),\nAY50+BF50 ),  \"\")","v":""},{"$f":"IF(A50<>\"\", IF(BE50=\"Nej\",  (K50+BG50), BE50),\"\")","v":""},{"$f":"IF(A50<>\"\",IF(BH50>0,  IF(BE50=\"Nej\",    (Data!$B$8-BH50)/Data!$B$8,  ROUND( (Data!$B$8-BH50)/Data!$B$8,2)),      \"\"),\"\")","v":""},{"$f":"IF(A50<>\"\", SUM( IF(R$13=\"Nm3\",Q50,0),  IF(V$13=\"Nm3\",U50,0),  IF(Z$13=\"Nm3\",Y50,0),  IF(AD$13=\"Nm3\",AC50,0), IF(AH$13=\"Nm3\",AG50,0),  IF(AL$13=\"Nm3\",AK50,0),  IF(AP$13=\"Nm3\",AO50,0),  IF(AT$13=\"Nm3\",AS50,0), IF(AX$13=\"Nm3\",AW50,0),  ),\"\")","v":""},{"$f":"IF(A50<>\"\", SUM(  IF(R$13=\"kg\",Q50,0),  IF(V$13=\"kg\",U50,0),  IF(Z$13=\"kg\",Y50,0),  IF(AD$13=\"kg\",AC50,0), IF(AH$13=\"kg\",AG50,0),  IF(AL$13=\"kg\",AK50,0),  IF(AP$13=\"kg\",AO50,0),  IF(AT$13=\"kg\",AS50,0), IF(AX$13=\"kg\",AW50,0),  ),\"\")","v":""},{"$f":"IF(A50<>\"\",   IF(H50=\"Flytande\", BC50+BF50, \"\"    ), \"\")","v":""},{"$f":"IF(A50<>\"\", IF(H50=\"Flytande\", IF(BE50=\"Nej\",    (K50+BL50),  BE50),\"\"), \"\")","v":""},{"$f":"IF(A50<>\"\", IF(H50=\"Flytande\",   IF(BM50>0,  IF(BE50=\"Nej\",  (Data!$B$8-BM50)/Data!$B$8,  ROUND( (Data!$B$8-BM50)/Data!$B$8,2)   ), \"\"), \"\"),\"\")","v":""},{"$f":"IF(A50<>\"\",BA50,\"\")","v":""},31,{"$f":"IF(A50<>\"\", SUM(IF(N$13=\"Nm3\",N50,0),  IF(R$13=\"Nm3\",R50,0),  IF(V$13=\"Nm3\",V50,0),  IF(Z$13=\"Nm3\",Z50,0),  IF(AD$13=\"Nm3\",AD50,0), IF(AH$13=\"Nm3\",AH50,0),  IF(AL$13=\"Nm3\",AL50,0),  IF(AP$13=\"Nm3\",AP50,0),  IF(AT$13=\"Nm3\",AT50,0), IF(AX$13=\"Nm3\",AX50,0),  ),\"\")","v":""},{"$f":"IF(A50<>\"\", SUM(IF(N$13=\"kg\",N50,0),  IF(R$13=\"kg\",R50,0),  IF(V$13=\"kg\",V50,0),  IF(Z$13=\"kg\",Z50,0),  IF(AD$13=\"kg\",AD50,0), IF(AH$13=\"kg\",AH50,0),  IF(AL$13=\"kg\",AL50,0),  IF(AP$13=\"kg\",AP50,0),  IF(AT$13=\"kg\",AT50,0), IF(AX$13=\"kg\",AX50,0),  ),\"\")","v":""},{"$f":"IF(A50<>\"\",BB50,\"\")","v":""},null,{"$f":"IF(A50<>\"\",    IF(H50=\"Gas\", IF(I50=\"kg\", ((BJ50*Denscalc(J50) +BK50+BQ50*Denscalc(J50)+BR50)-G50), ( (BJ50+BK50/Denscalc(J50) + BQ50+BR50/Denscalc(J50))-G50)), ( (   BJ50*Denscalc(J50)+BK50+BO50+BQ50*Denscalc(J50)+BR50+BS50)-G50)  ), \"\")","v":""}]
[{"$f":"IF(Uppgradering!A39<>\"\",Uppgradering!A39,\"\")","v":""},32,{"$f":"Uppgradering!C39","v":0},{"$f":"Uppgradering!D39","v":0},{"$f":"Uppgradering!E39","v":0},{"$f":"Uppgradering!AT39","v":""},{"$f":"Uppgradering!AR39","v":""},{"$f":"Uppgradering!AO39","v":""},{"$f":"Uppgradering!AN39","v":""},{"$f":"Uppgradering!AS39","v":""},{"$f":"Uppgradering!AV39","v":""},null,null,null,{"$f":"IF(AND($A51<>\"\",(M51+N51)>0), IF($F51=\"Nej\",    IF(N$13=\"Nm3\",(O$12*1000*1000/((M$242+N$242+M$243+N$243)*1000*  $J51 * Data!$B$6)),  (O$12*1000*1000/(((M$242+N$242+M$243+N$243)/Denscalc($J51))*1000*  $J51 * Data!$B$6)) ), 0     ),  0)","v":0},32,null,null,{"$f":"IF(AND($A51<>\"\",(Q51+R51)>0), IF($F51=\"Nej\",    IF(R$13=\"Nm3\",(S$12*1000*1000/((Q$242+R$242+Q$243+R$243)*1000*  $J51 * Data!$B$6)),  (S$12*1000*1000/(((Q$242+R$242+Q$243+R$243)/Denscalc($J51))*1000*  $J51 * Data!$B$6)) ), 0     ),  0)","v":0},32,null,null,{"$f":"IF(AND($A51<>\"\",(U51+V51)>0), IF($F51=\"Nej\",    IF(V$13=\"Nm3\",(W$12*1000*1000/((U$242+V$242+U$243+V$243)*1000*  $J51 * Data!$B$6)),  (W$12*1000*1000/(((U$242+V$242+U$243+V$243)/Denscalc($J51))*1000*  $J51 * Data!$B$6)) ), 0     ),  0)","v":0},32,null,null,{"$f":"IF(AND($A51<>\"\",(Y51+Z51)>0), IF($F51=\"Nej\",    IF(Z$13=\"Nm3\",(AA$12*1000*1000/((Y$242+Z$242+Y$243+Z$243)*1000*  $J51 * Data!$B$6)),  (AA$12*1000*1000/(((Y$242+Z$242+Y$243+Z$243)/Denscalc($J51))*1000*  $J51 * Data!$B$6)) ), 0     ),  0)","v":0},32,null,null,{"$f":"IF(AND($A51<>\"\",(AC51+AD51)>0), IF($F51=\"Nej\",    IF(AD$13=\"Nm3\",(AE$12*1000*1000/((AC$242+AD$242+AC$243+AD$243)*1000*  $J51 * Data!$B$6)),  (AE$12*1000*1000/(((AC$242+AD$242+AC$243+AD$243)/Denscalc($J51))*1000*  $J51 * Data!$B$6)) ), 0     ),  0)","v":0},32,null,null,{"$f":"IF(AND($A51<>\"\",(AG51+AH51)>0), IF($F51=\"Nej\",    IF(AH$13=\"Nm3\",(AI$12*1000*1000/((AG$242+AH$242+AG$243+AH$243)*1000*  $J51 * Data!$B$6)),  (AI$12*1000*1000/(((AG$242+AH$242+AG$243+AH$243)/Denscalc($J51))*1000*  $J51 * Data!$B$6)) ), 0     ),  0)","v":0},32,null,null,{"$f":"IF(AND($A51<>\"\",(AK51+AL51)>0), IF($F51=\"Nej\",    IF(AL$13=\"Nm3\",(AM$12*1000*1000/((AK$242+AL$242+AK$243+AL$243)*1000*  $J51 * Data!$B$6)),  (AM$12*1000*1000/(((AK$242+AL$242+AK$243+AL$243)/Denscalc($J51))*1000*  $J51 * Data!$B$6)) ), 0     ),  0)","v":0},32,null,null,{"$f":"IF(AND($A51<>\"\",(AO51+AP51)>0), IF($F51=\"Nej\",    IF(AP$13=\"Nm3\",(AQ$12*1000*1000/((AO$242+AP$242+AO$243+AP$243)*1000*  $J51 * Data!$B$6)),  (AQ$12*1000*1000/(((AO$242+AP$242+AO$243+AP$243)/Denscalc($J51))*1000*  $J51 * Data!$B$6)) ), 0     ),  0)","v":0},32,null,null,{"$f":"IF(AND($A51<>\"\",(AS51+AT51)>0), IF($F51=\"Nej\",    IF(AT$13=\"Nm3\",(AU$12*1000*1000/((AS$242+AT$242+AS$243+AT$243)*1000*  $J51 * Data!$B$6)),  (AU$12*1000*1000/(((AS$242+AT$242+AS$243+AT$243)/Denscalc($J51))*1000*  $J51 * Data!$B$6)) ), 0     ),  0)","v":0},32,null,null,{"$f":"IF(AND($A51<>\"\",(AW51+AX51)>0), IF($F51=\"Nej\",\nIF(AX$13=\"Nm3\",(AY$12*1000*1000/((AW$242+AX$242+AW$243+AX$243-AW$240-AX$240)*1000*  $J51 * Data!$B$6))+(AY$6*1000*1000/((AW$242+AX$242+AW$243+AX$243)*1000*  $J51 * Data!$B$6)),\n (AY$12*1000*1000/(((AW$242+AX$242+AW$243+AX$243-AW$240-AX$240)/Denscalc($J51))*1000*  $J51 * Data!$B$6))  +  (AY$6*1000*1000/(((AW$242+AX$242+AW$243+AX$243)/Denscalc($J51))*1000*  $J51 * Data!$B$6)) ), 0     ),  0)","v":0},32,null,null,{"$f":"IF(AND($A51<>\"\",(BA51+BB51)>0), IF($F51=\"Nej\",\n (BC$12*1000*1000/((BA$244+BB$244-BA$240-BB$240)*1000* Data!$B$7))+ (BC$6*1000*1000/((BA$244+BB$244)*1000* Data!$B$7)),0 ),  0)","v":0},32,"",{"$f":"IF(A51<>\"\",IF(F51=\"Nej\", (Data!$B$129*Data!$B$5*1000*Data!$B$3)/Data!$B$6,  0 ),\"\")","v":""},"","",{"$f":"IF(A51<>\"\",IF(BH51>0,  IF(BE51=\"Nej\",    (Data!$B$8-BH51)/Data!$B$8,  ROUND( (Data!$B$8-BH51)/Data!$B$8,2)),      \"\"),\"\")","v":""},"","","","",{"$f":"IF(A51<>\"\", IF(H51=\"Flytande\",   IF(BM51>0,  IF(BE51=\"Nej\",  (Data!$B$8-BM51)/Data!$B$8,  ROUND( (Data!$B$8-BM51)/Data!$B$8,2)   ), \"\"), \"\"),\"\")","v":""},"",32,"","","",null,""]
[{"$f":"IF(Uppgradering!A40<>\"\",Uppgradering!A40,\"\")","v":""},33,{"$f":"Uppgradering!C40","v":0},{"$f":"Uppgradering!D40","v":0},{"$f":"Uppgradering!E40","v":0},{"$f":"Uppgradering!AT40","v":""},{"$f":"Uppgradering!AR40","v":""},{"$f":"Uppgradering!AO40","v":""},{"$f":"Uppgradering!AN40","v":""},{"$f":"Uppgradering!AS40","v":""},{"$f":"Uppgradering!AV40","v":""},null,null,null,{"$f":"IF(AND($A52<>\"\",(M52+N52)>0), IF($F52=\"Nej\",    IF(N$13=\"Nm3\",(O$12*1000*1000/((M$242+N$242+M$243+N$243)*1000*  $J52 * Data!$B$6)),  (O$12*1000*1000/(((M$242+N$242+M$243+N$243)/Denscalc($J52))*1000*  $J52 * Data!$B$6)) ), 0     ),  0)","v":0},33,null,null,{"$f":"IF(AND($A52<>\"\",(Q52+R52)>0), IF($F52=\"Nej\",    IF(R$13=\"Nm3\",(S$12*1000*1000/((Q$242+R$242+Q$243+R$243)*1000*  $J52 * Data!$B$6)),  (S$12*1000*1000/(((Q$242+R$242+Q$243+R$243)/Denscalc($J52))*1000*  $J52 * Data!$B$6)) ), 0     ),  0)","v":0},33,null,null,{"$f":"IF(AND($A52<>\"\",(U52+V52)>0), IF($F52=\"Nej\",    IF(V$13=\"Nm3\",(W$12*1000*1000/((U$242+V$242+U$243+V$243)*1000*  $J52 * Data!$B$6)),  (W$12*1000*1000/(((U$242+V$242+U$243+V$243)/Denscalc($J52))*1000*  $J52 * Data!$B$6)) ), 0     ),  0)","v":0},33,null,null,{"$f":"IF(AND($A52<>\"\",(Y52+Z52)>0), IF($F52=\"Nej\",    IF(Z$13=\"Nm3\",(AA$12*1000*1000/((Y$242+Z$242+Y$243+Z$243)*1000*  $J52 * Data!$B$6)),  (AA$12*1000*1000/(((Y$242+Z$242+Y$243+Z$243)/Denscalc($J52))*1000*  $J52 * Data!$B$6)) ), 0     ),  0)","v":0},33,null,null,{"$f":"IF(AND($A52<>\"\",(AC52+AD52)>0), IF($F52=\"Nej\",    IF(AD$13=\"Nm3\",(AE$12*1000*1000/((AC$242+AD$242+AC$243+AD$243)*1000*  $J52 * Data!$B$6)),  (AE$12*1000*1000/(((AC$242+AD$242+AC$243+AD$243)/Denscalc($J52))*1000*  $J52 * Data!$B$6)) ), 0     ),  0)","v":0},33,null,null,{"$f":"IF(AND($A52<>\"\",(AG52+AH52)>0), IF($F52=\"Nej\",    IF(AH$13=\"Nm3\",(AI$12*1000*1000/((AG$242+AH$242+AG$243+AH$243)*1000*  $J52 * Data!$B$6)),  (AI$12*1000*1000/(((AG$242+AH$242+AG$243+AH$243)/Denscalc($J52))*1000*  $J52 * Data!$B$6)) ), 0     ),  0)","v":0},33,null,null,{"$f":"IF(AND($A52<>\"\",(AK52+AL52)>0), IF($F52=\"Nej\",    IF(AL$13=\"Nm3\",(AM$12*1000*1000/((AK$242+AL$242+AK$243+AL$243)*1000*  $J52 * Data!$B$6)),  (AM$12*1000*1000/(((AK$242+AL$242+AK$243+AL$243)/Denscalc($J52))*1000*  $J52 * Data!$B$6)) ), 0     ),  0)","v":0},33,null,null,{"$f":"IF(AND($A52<>\"\",(AO52+AP52)>0), IF($F52=\"Nej\",    IF(AP$13=\"Nm3\",(AQ$12*1000*1000/((AO$242+AP$242+AO$243+AP$243)*1000*  $J52 * Data!$B$6)),  (AQ$12*1000*1000/(((AO$242+AP$242+AO$243+AP$243)/Denscalc($J52))*1000*  $J52 * Data!$B$6)) ), 0     ),  0)","v":0},33,null,null,{"$f":"IF(AND($A52<>\"\",(AS52+AT52)>0), IF($F52=\"Nej\",    IF(AT$13=\"Nm3\",(AU$12*1000*1000/((AS$242+AT$242+AS$243+AT$243)*1000*  $J52 * Data!$B$6)),  (AU$12*1000*1000/(((AS$242+AT$242+AS$243+AT$243)/Denscalc($J52))*1000*  $J52 * Data!$B$6)) ), 0     ),  0)","v":0},33,null,null,{"$f":"IF(AND($A52<>\"\",(AW52+AX52)>0), IF($F52=\"Nej\",\nIF(AX$13=\"Nm3\",(AY$12*1000*1000/((AW$242+AX$242+AW$243+AX$243-AW$240-AX$240)*1000*  $J52 * Data!$B$6))+(AY$6*1000*1000/((AW$242+AX$242+AW$243+AX$243)*1000*  $J52 * Data!$B$6)),\n (AY$12*1000*1000/(((AW$242+AX$242+AW$243+AX$243-AW$240-AX$240)/Denscalc($J52))*1000*  $J52 * Data!$B$6))  +  (AY$6*1000*1000/(((AW$242+AX$242+AW$243+AX$243)/Denscalc($J52))*1000*  $J52 * Data!$B$6)) ), 0     ),  0)","v":0},33,null,null,{"$f":"IF(AND($A52<>\"\",(BA52+BB52)>0), IF($F52=\"Nej\",\n (BC$12*1000*1000/((BA$244+BB$244-BA$240-BB$240)*1000* Data!$B$7))+ (BC$6*1000*1000/((BA$244+BB$244)*1000* Data!$B$7)),0 ),  0)","v":0},33,"",{"$f":"IF(A52<>\"\",IF(F52=\"Nej\", (Data!$B$129*Data!$B$5*1000*Data!$B$3)/Data!$B$6,  0 ),\"\")","v":""},"","",{"$f":"IF(A52<>\"\",IF(BH52>0,  IF(BE52=\"Nej\",    (Data!$B$8-BH52)/Data!$B$8,  ROUND( (Data!$B$8-BH52)/Data!$B$8,2)),      \"\"),\"\")","v":""},"","","","",{"$f":"IF(A52<>\"\", IF(H52=\"Flytande\",   IF(BM52>0,  IF(BE52=\"Nej\",  (Data!$B$8-BM52)/Data!$B$8,  ROUND( (Data!$B$8-BM52)/Data!$B$8,2)   ), \"\"), \"\"),\"\")","v":""},"",33,"","","",null,""]
[{"$f":"IF(Uppgradering!A41<>\"\",Uppgradering!A41,\"\")","v":""},34,{"$f":"Uppgradering!C41","v":0},{"$f":"Uppgradering!D41","v":0},{"$f":"Uppgradering!E41","v":0},{"$f":"Uppgradering!AT41","v":""},{"$f":"Uppgradering!AR41","v":""},{"$f":"Uppgradering!AO41","v":""},{"$f":"Uppgradering!AN41","v":""},{"$f":"Uppgradering!AS41","v":""},{"$f":"Uppgradering!AV41","v":""},null,null,null,{"$f":"IF(AND($A53<>\"\",(M53+N53)>0), IF($F53=\"Nej\",    IF(N$13=\"Nm3\",(O$12*1000*1000/((M$242+N$242+M$243+N$243)*1000*  $J53 * Data!$B$6)),  (O$12*1000*1000/(((M$242+N$242+M$243+N$243)/Denscalc($J53))*1000*  $J53 * Data!$B$6)) ), 0     ),  0)","v":0},34,null,null,{"$f":"IF(AND($A53<>\"\",(Q53+R53)>0), IF($F53=\"Nej\",    IF(R$13=\"Nm3\",(S$12*1000*1000/((Q$242+R$242+Q$243+R$243)*1000*  $J53 * Data!$B$6)),  (S$12*1000*1000/(((Q$242+R$242+Q$243+R$243)/Denscalc($J53))*1000*  $J53 * Data!$B$6)) ), 0     ),  0)","v":0},34,null,null,{"$f":"IF(AND($A53<>\"\",(U53+V53)>0), IF($F53=\"Nej\",    IF(V$13=\"Nm3\",(W$12*1000*1000/((U$242+V$242+U$243+V$243)*1000*  $J53 * Data!$B$6)),  (W$12*1000*1000/(((U$242+V$242+U$243+V$243)/Denscalc($J53))*1000*  $J53 * Data!$B$6)) ), 0     ),  0)","v":0},34,null,null,{"$f":"IF(AND($A53<>\"\",(Y53+Z53)>0), IF($F53=\"Nej\",    IF(Z$13=\"Nm3\",(AA$12*1000*1000/((Y$242+Z$242+Y$243+Z$243)*1000*  $J53 * Data!$B$6)),  (AA$12*1000*1000/(((Y$242+Z$242+Y$243+Z$243)/Denscalc($J53))*1000*  $J53 * Data!$B$6)) ), 0     ),  0)","v":0},34,null,null,{"$f":"IF(AND($A53<>\"\",(AC53+AD53)>0), IF($F53=\"Nej\",    IF(AD$13=\"Nm3\",(AE$12*1000*1000/((AC$242+AD$242+AC$243+AD$243)*1000*  $J53 * Data!$B$6)),  (AE$12*1000*1000/(((AC$242+AD$242+AC$243+AD$243)/Denscalc($J53))*1000*  $J53 * Data!$B$6)) ), 0     ),  0)","v":0},34,null,null,{"$f":"IF(AND($A53<>\"\",(AG53+AH53)>0), IF($F53=\"Nej\",    IF(AH$13=\"Nm3\",(AI$12*1000*1000/((AG$242+AH$242+AG$243+AH$243)*1000*  $J53 * Data!$B$6)),  (AI$12*1000*1000/(((AG$242+AH$242+AG$243+AH$243)/Denscalc($J53))*1000*  $J53 * Data!$B$6)) ), 0     ),  0)","v":0},34,null,null,{"$f":"IF(AND($A53<>\"\",(AK53+AL53)>0), IF($F53=\"Nej\",    IF(AL$13=\"Nm3\",(AM$12*1000*1000/((AK$242+AL$242+AK$243+AL$243)*1000*  $J53 * Data!$B$6)),  (AM$12*1000*1000/(((AK$242+AL$242+AK$243+AL$243)/Denscalc($J53))*1000*  $J53 * Data!$B$6)) ), 0     ),  0)","v":0},34,null,null,{"$f":"IF(AND($A53<>\"\",(AO53+AP53)>0), IF($F53=\"Nej\",    IF(AP$13=\"Nm3\",(AQ$12*1000*1000/((AO$242+AP$242+AO$243+AP$243)*1000*  $J53 * Data!$B$6)),  (AQ$12*1000*1000/(((AO$242+AP$242+AO$243+AP$243)/Denscalc($J53))*1000*  $J53 * Data!$B$6)) ), 0     ),  0)","v":0},34,null,null,{"$f":"IF(AND($A53<>\"\",(AS53+AT53)>0), IF($F53=\"Nej\",    IF(AT$13=\"Nm3\",(AU$12*1000*1000/((AS$242+AT$242+AS$243+AT$243)*1000*  $J53 * Data!$B$6)),  (AU$12*1000*1000/(((AS$242+AT$242+AS$243+AT$243)/Denscalc($J53))*1000*  $J53 * Data!$B$6)) ), 0     ),  0)","v":0},34,null,null,{"$f":"IF(AND($A53<>\"\",(AW53+AX53)>0), IF($F53=\"Nej\",\nIF(AX$13=\"Nm3\",(AY$12*1000*1000/((AW$242+AX$242+AW$243+AX$243-AW$240-AX$240)*1000*  $J53 * Data!$B$6))+(AY$6*1000*1000/((AW$242+AX$242+AW$243+AX$243)*1000*  $J53 * Data!$B$6)),\n (AY$12*1000*1000/(((AW$242+AX$242+AW$243+AX$243-AW$240-AX$240)/Denscalc($J53))*1000*  $J53 * Data!$B$6))  +  (AY$6*1000*1000/(((AW$242+AX$242+AW$243+AX$243)/Denscalc($J53))*1000*  $J53 * Data!$B$6)) ), 0     ),  0)","v":0},34,null,null,{"$f":"IF(AND($A53<>\"\",(BA53+BB53)>0), IF($F53=\"Nej\",\n (BC$12*1000*1000/((BA$244+BB$244-BA$240-BB$240)*1000* Data!$B$7))+ (BC$6*1000*1000/((BA$244+BB$244)*1000* Data!$B$7)),0 ),  0)","v":0},34,"",{"$f":"IF(A53<>\"\",IF(F53=\"Nej\", (Data!$B$129*Data!$B$5*1000*Data!$B$3)/Data!$B$6,  0 ),\"\")","v":""},"","",{"$f":"IF(A53<>\"\",IF(BH53>0,  IF(BE53=\"Nej\",    (Data!$B$8-BH53)/Data!$B$8,  ROUND( (Data!$B$8-BH53)/Data!$B$8,2)),      \"\"),\"\")","v":""},"","","","",{"$f":"IF(A53<>\"\", IF(H53=\"Flytande\",   IF(BM53>0,  IF(BE53=\"Nej\",  (Data!$B$8-BM53)/Data!$B$8,  ROUND( (Data!$B$8-BM53)/Data!$B$8,2)   ), \"\"), \"\"),\"\")","v":""},"",34,"","","",null,""]
[{"$f":"IF(Uppgradering!A42<>\"\",Uppgradering!A42,\"\")","v":""},35,{"$f":"Uppgradering!C42","v":0},{"$f":"Uppgradering!D42","v":0},{"$f":"Uppgradering!E42","v":0},{"$f":"Uppgradering!AT42","v":""},{"$f":"Uppgradering!AR42","v":""},{"$f":"Uppgradering!AO42","v":""},{"$f":"Uppgradering!AN42","v":""},{"$f":"Uppgradering!AS42","v":""},{"$f":"Uppgradering!AV42","v":""},null,null,null,{"$f":"IF(AND($A54<>\"\",(M54+N54)>0), IF($F54=\"Nej\",    IF(N$13=\"Nm3\",(O$12*1000*1000/((M$242+N$242+M$243+N$243)*1000*  $J54 * Data!$B$6)),  (O$12*1000*1000/(((M$242+N$242+M$243+N$243)/Denscalc($J54))*1000*  $J54 * Data!$B$6)) ), 0     ),  0)","v":0},35,null,null,{"$f":"IF(AND($A54<>\"\",(Q54+R54)>0), IF($F54=\"Nej\",    IF(R$13=\"Nm3\",(S$12*1000*1000/((Q$242+R$242+Q$243+R$243)*1000*  $J54 * Data!$B$6)),  (S$12*1000*1000/(((Q$242+R$242+Q$243+R$243)/Denscalc($J54))*1000*  $J54 * Data!$B$6)) ), 0     ),  0)","v":0},35,null,null,{"$f":"IF(AND($A54<>\"\",(U54+V54)>0), IF($F54=\"Nej\",    IF(V$13=\"Nm3\",(W$12*1000*1000/((U$242+V$242+U$243+V$243)*1000*  $J54 * Data!$B$6)),  (W$12*1000*1000/(((U$242+V$242+U$243+V$243)/Denscalc($J54))*1000*  $J54 * Data!$B$6)) ), 0     ),  0)","v":0},35,null,null,{"$f":"IF(AND($A54<>\"\",(Y54+Z54)>0), IF($F54=\"Nej\",    IF(Z$13=\"Nm3\",(AA$12*1000*1000/((Y$242+Z$242+Y$243+Z$243)*1000*  $J54 * Data!$B$6)),  (AA$12*1000*1000/(((Y$242+Z$242+Y$243+Z$243)/Denscalc($J54))*1000*  $J54 * Data!$B$6)) ), 0     ),  0)","v":0},35,null,null,{"$f":"IF(AND($A54<>\"\",(AC54+AD54)>0), IF($F54=\"Nej\",    IF(AD$13=\"Nm3\",(AE$12*1000*1000/((AC$242+AD$242+AC$243+AD$243)*1000*  $J54 * Data!$B$6)),  (AE$12*1000*1000/(((AC$242+AD$242+AC$243+AD$243)/Denscalc($J54))*1000*  $J54 * Data!$B$6)) ), 0     ),  0)","v":0},35,null,null,{"$f":"IF(AND($A54<>\"\",(AG54+AH54)>0), IF($F54=\"Nej\",    IF(AH$13=\"Nm3\",(AI$12*1000*1000/((AG$242+AH$242+AG$243+AH$243)*1000*  $J54 * Data!$B$6)),  (AI$12*1000*1000/(((AG$242+AH$242+AG$243+AH$243)/Denscalc($J54))*1000*  $J54 * Data!$B$6)) ), 0     ),  0)","v":0},35,null,null,{"$f":"IF(AND($A54<>\"\",(AK54+AL54)>0), IF($F54=\"Nej\",    IF(AL$13=\"Nm3\",(AM$12*1000*1000/((AK$242+AL$242+AK$243+AL$243)*1000*  $J54 * Data!$B$6)),  (AM$12*1000*1000/(((AK$242+AL$242+AK$243+AL$243)/Denscalc($J54))*1000*  $J54 * Data!$B$6)) ), 0     ),  0)","v":0},35,null,null,{"$f":"IF(AND($A54<>\"\",(AO54+AP54)>0), IF($F54=\"Nej\",    IF(AP$13=\"Nm3\",(AQ$12*1000*1000/((AO$242+AP$242+AO$243+AP$243)*1000*  $J54 * Data!$B$6)),  (AQ$12*1000*1000/(((AO$242+AP$242+AO$243+AP$243)/Denscalc($J54))*1000*  $J54 * Data!$B$6)) ), 0     ),  0)","v":0},35,null,null,{"$f":"IF(AND($A54<>\"\",(AS54+AT54)>0), IF($F54=\"Nej\",    IF(AT$13=\"Nm3\",(AU$12*1000*1000/((AS$242+AT$242+AS$243+AT$243)*1000*  $J54 * Data!$B$6)),  (AU$12*1000*1000/(((AS$242+AT$242+AS$243+AT$243)/Denscalc($J54))*1000*  $J54 * Data!$B$6)) ), 0     ),  0)","v":0},35,null,null,{"$f":"IF(AND($A54<>\"\",(AW54+AX54)>0), IF($F54=\"Nej\",\nIF(AX$13=\"Nm3\",(AY$12*1000*1000/((AW$242+AX$242+AW$243+AX$243-AW$240-AX$240)*1000*  $J54 * Data!$B$6))+(AY$6*1000*1000/((AW$242+AX$242+AW$243+AX$243)*1000*  $J54 * Data!$B$6)),\n (AY$12*1000*1000/(((AW$242+AX$242+AW$243+AX$243-AW$240-AX$240)/Denscalc($J54))*1000*  $J54 * Data!$B$6))  +  (AY$6*1000*1000/(((AW$242+AX$242+AW$243+AX$243)/Denscalc($J54))*1000*  $J54 * Data!$B$6)) ), 0     ),  0)","v":0},35,null,null,{"$f":"IF(AND($A54<>\"\",(BA54+BB54)>0), IF($F54=\"Nej\",\n (BC$12*1000*1000/((BA$244+BB$244-BA$240-BB$240)*1000* Data!$B$7))+ (BC$6*1000*1000/((BA$244+BB$244)*1000* Data!$B$7)),0 ),  0)","v":0},35,"",{"$f":"IF(A54<>\"\",IF(F54=\"Nej\", (Data!$B$129*Data!$B$5*1000*Data!$B$3)/Data!$B$6,  0 ),\"\")","v":""},"","",{"$f":"IF(A54<>\"\",IF(BH54>0,  IF(BE54=\"Nej\",    (Data!$B$8-BH54)/Data!$B$8,  ROUND( (Data!$B$8-BH54)/Data!$B$8,2)),      \"\"),\"\")","v":""},"","","","",{"$f":"IF(A54<>\"\", IF(H54=\"Flytande\",   IF(BM54>0,  IF(BE54=\"Nej\",  (Data!$B$8-BM54)/Data!$B$8,  ROUND( (Data!$B$8-BM54)/Data!$B$8,2)   ), \"\"), \"\"),\"\")","v":""},"",35,"","","",null,""]
[{"$f":"IF(Uppgradering!A43<>\"\",Uppgradering!A43,\"\")","v":""},36,{"$f":"Uppgradering!C43","v":0},{"$f":"Uppgradering!D43","v":0},{"$f":"Uppgradering!E43","v":0},{"$f":"Uppgradering!AT43","v":""},{"$f":"Uppgradering!AR43","v":""},{"$f":"Uppgradering!AO43","v":""},{"$f":"Uppgradering!AN43","v":""},{"$f":"Uppgradering!AS43","v":""},{"$f":"Uppgradering!AV43","v":""},null,null,null,{"$f":"IF(AND($A55<>\"\",(M55+N55)>0), IF($F55=\"Nej\",    IF(N$13=\"Nm3\",(O$12*1000*1000/((M$242+N$242+M$243+N$243)*1000*  $J55 * Data!$B$6)),  (O$12*1000*1000/(((M$242+N$242+M$243+N$243)/Denscalc($J55))*1000*  $J55 * Data!$B$6)) ), 0     ),  0)","v":0},36,null,null,{"$f":"IF(AND($A55<>\"\",(Q55+R55)>0), IF($F55=\"Nej\",    IF(R$13=\"Nm3\",(S$12*1000*1000/((Q$242+R$242+Q$243+R$243)*1000*  $J55 * Data!$B$6)),  (S$12*1000*1000/(((Q$242+R$242+Q$243+R$243)/Denscalc($J55))*1000*  $J55 * Data!$B$6)) ), 0     ),  0)","v":0},36,null,null,{"$f":"IF(AND($A55<>\"\",(U55+V55)>0), IF($F55=\"Nej\",    IF(V$13=\"Nm3\",(W$12*1000*1000/((U$242+V$242+U$243+V$243)*1000*  $J55 * Data!$B$6)),  (W$12*1000*1000/(((U$242+V$242+U$243+V$243)/Denscalc($J55))*1000*  $J55 * Data!$B$6)) ), 0     ),  0)","v":0},36,null,null,{"$f":"IF(AND($A55<>\"\",(Y55+Z55)>0), IF($F55=\"Nej\",    IF(Z$13=\"Nm3\",(AA$12*1000*1000/((Y$242+Z$242+Y$243+Z$243)*1000*  $J55 * Data!$B$6)),  (AA$12*1000*1000/(((Y$242+Z$242+Y$243+Z$243)/Denscalc($J55))*1000*  $J55 * Data!$B$6)) ), 0     ),  0)","v":0},36,null,null,{"$f":"IF(AND($A55<>\"\",(AC55+AD55)>0), IF($F55=\"Nej\",    IF(AD$13=\"Nm3\",(AE$12*1000*1000/((AC$242+AD$242+AC$243+AD$243)*1000*  $J55 * Data!$B$6)),  (AE$12*1000*1000/(((AC$242+AD$242+AC$243+AD$243)/Denscalc($J55))*1000*  $J55 * Data!$B$6)) ), 0     ),  0)","v":0},36,null,null,{"$f":"IF(AND($A55<>\"\",(AG55+AH55)>0), IF($F55=\"Nej\",    IF(AH$13=\"Nm3\",(AI$12*1000*1000/((AG$242+AH$242+AG$243+AH$243)*1000*  $J55 * Data!$B$6)),  (AI$12*1000*1000/(((AG$242+AH$242+AG$243+AH$243)/Denscalc($J55))*1000*  $J55 * Data!$B$6)) ), 0     ),  0)","v":0},36,null,null,{"$f":"IF(AND($A55<>\"\",(AK55+AL55)>0), IF($F55=\"Nej\",    IF(AL$13=\"Nm3\",(AM$12*1000*1000/((AK$242+AL$242+AK$243+AL$243)*1000*  $J55 * Data!$B$6)),  (AM$12*1000*1000/(((AK$242+AL$242+AK$243+AL$243)/Denscalc($J55))*1000*  $J55 * Data!$B$6)) ), 0     ),  0)","v":0},36,null,null,{"$f":"IF(AND($A55<>\"\",(AO55+AP55)>0), IF($F55=\"Nej\",    IF(AP$13=\"Nm3\",(AQ$12*1000*1000/((AO$242+AP$242+AO$243+AP$243)*1000*  $J55 * Data!$B$6)),  (AQ$12*1000*1000/(((AO$242+AP$242+AO$243+AP$243)/Denscalc($J55))*1000*  $J55 * Data!$B$6)) ), 0     ),  0)","v":0},36,null,null,{"$f":"IF(AND($A55<>\"\",(AS55+AT55)>0), IF($F55=\"Nej\",    IF(AT$13=\"Nm3\",(AU$12*1000*1000/((AS$242+AT$242+AS$243+AT$243)*1000*  $J55 * Data!$B$6)),  (AU$12*1000*1000/(((AS$242+AT$242+AS$243+AT$243)/Denscalc($J55))*1000*  $J55 * Data!$B$6)) ), 0     ),  0)","v":0},36,null,null,{"$f":"IF(AND($A55<>\"\",(AW55+AX55)>0), IF($F55=\"Nej\",\nIF(AX$13=\"Nm3\",(AY$12*1000*1000/((AW$242+AX$242+AW$243+AX$243-AW$240-AX$240)*1000*  $J55 * Data!$B$6))+(AY$6*1000*1000/((AW$242+AX$242+AW$243+AX$243)*1000*  $J55 * Data!$B$6)),\n (AY$12*1000*1000/(((AW$242+AX$242+AW$243+AX$243-AW$240-AX$240)/Denscalc($J55))*1000*  $J55 * Data!$B$6))  +  (AY$6*1000*1000/(((AW$242+AX$242+AW$243+AX$243)/Denscalc($J55))*1000*  $J55 * Data!$B$6)) ), 0     ),  0)","v":0},36,null,null,{"$f":"IF(AND($A55<>\"\",(BA55+BB55)>0), IF($F55=\"Nej\",\n (BC$12*1000*1000/((BA$244+BB$244-BA$240-BB$240)*1000* Data!$B$7))+ (BC$6*1000*1000/((BA$244+BB$244)*1000* Data!$B$7)),0 ),  0)","v":0},36,"",{"$f":"IF(A55<>\"\",IF(F55=\"Nej\", (Data!$B$129*Data!$B$5*1000*Data!$B$3)/Data!$B$6,  0 ),\"\")","v":""},"","",{"$f":"IF(A55<>\"\",IF(BH55>0,  IF(BE55=\"Nej\",    (Data!$B$8-BH55)/Data!$B$8,  ROUND( (Data!$B$8-BH55)/Data!$B$8,2)),      \"\"),\"\")","v":""},"","","","",{"$f":"IF(A55<>\"\", IF(H55=\"Flytande\",   IF(BM55>0,  IF(BE55=\"Nej\",  (Data!$B$8-BM55)/Data!$B$8,  ROUND( (Data!$B$8-BM55)/Data!$B$8,2)   ), \"\"), \"\"),\"\")","v":""},"",36,"","","",null,""]
[{"$f":"IF(Uppgradering!A44<>\"\",Uppgradering!A44,\"\")","v":""},37,{"$f":"Uppgradering!C44","v":0},{"$f":"Uppgradering!D44","v":0},{"$f":"Uppgradering!E44","v":0},{"$f":"Uppgradering!AT44","v":""},{"$f":"Uppgradering!AR44","v":""},{"$f":"Uppgradering!AO44","v":""},{"$f":"Uppgradering!AN44","v":""},{"$f":"Uppgradering!AS44","v":""},{"$f":"Uppgradering!AV44","v":""},null,null,null,{"$f":"IF(AND($A56<>\"\",(M56+N56)>0), IF($F56=\"Nej\",    IF(N$13=\"Nm3\",(O$12*1000*1000/((M$242+N$242+M$243+N$243)*1000*  $J56 * Data!$B$6)),  (O$12*1000*1000/(((M$242+N$242+M$243+N$243)/Denscalc($J56))*1000*  $J56 * Data!$B$6)) ), 0     ),  0)","v":0},37,null,null,{"$f":"IF(AND($A56<>\"\",(Q56+R56)>0), IF($F56=\"Nej\",    IF(R$13=\"Nm3\",(S$12*1000*1000/((Q$242+R$242+Q$243+R$243)*1000*  $J56 * Data!$B$6)),  (S$12*1000*1000/(((Q$242+R$242+Q$243+R$243)/Denscalc($J56))*1000*  $J56 * Data!$B$6)) ), 0     ),  0)","v":0},37,null,null,{"$f":"IF(AND($A56<>\"\",(U56+V56)>0), IF($F56=\"Nej\",    IF(V$13=\"Nm3\",(W$12*1000*1000/((U$242+V$242+U$243+V$243)*1000*  $J56 * Data!$B$6)),  (W$12*1000*1000/(((U$242+V$242+U$243+V$243)/Denscalc($J56))*1000*  $J56 * Data!$B$6)) ), 0     ),  0)","v":0},37,null,null,{"$f":"IF(AND($A56<>\"\",(Y56+Z56)>0), IF($F56=\"Nej\",    IF(Z$13=\"Nm3\",(AA$12*1000*1000/((Y$242+Z$242+Y$243+Z$243)*1000*  $J56 * Data!$B$6)),  (AA$12*1000*1000/(((Y$242+Z$242+Y$243+Z$243)/Denscalc($J56))*1000*  $J56 * Data!$B$6)) ), 0     ),  0)","v":0},37,null,null,{"$f":"IF(AND($A56<>\"\",(AC56+AD56)>0), IF($F56=\"Nej\",    IF(AD$13=\"Nm3\",(AE$12*1000*1000/((AC$242+AD$242+AC$243+AD$243)*1000*  $J56 * Data!$B$6)),  (AE$12*1000*1000/(((AC$242+AD$242+AC$243+AD$243)/Denscalc($J56))*1000*  $J56 * Data!$B$6)) ), 0     ),  0)","v":0},37,null,null,{"$f":"IF(AND($A56<>\"\",(AG56+AH56)>0), IF($F56=\"Nej\",    IF(AH$13=\"Nm3\",(AI$12*1000*1000/((AG$242+AH$242+AG$243+AH$243)*1000*  $J56 * Data!$B$6)),  (AI$12*1000*1000/(((AG$242+AH$242+AG$243+AH$243)/Denscalc($J56))*1000*  $J56 * Data!$B$6)) ), 0     ),  0)","v":0},37,null,null,{"$f":"IF(AND($A56<>\"\",(AK56+AL56)>0), IF($F56=\"Nej\",    IF(AL$13=\"Nm3\",(AM$12*1000*1000/((AK$242+AL$242+AK$243+AL$243)*1000*  $J56 * Data!$B$6)),  (AM$12*1000*1000/(((AK$242+AL$242+AK$243+AL$243)/Denscalc($J56))*1000*  $J56 * Data!$B$6)) ), 0     ),  0)","v":0},37,null,null,{"$f":"IF(AND($A56<>\"\",(AO56+AP56)>0), IF($F56=\"Nej\",    IF(AP$13=\"Nm3\",(AQ$12*1000*1000/((AO$242+AP$242+AO$243+AP$243)*1000*  $J56 * Data!$B$6)),  (AQ$12*1000*1000/(((AO$242+AP$242+AO$243+AP$243)/Denscalc($J56))*1000*  $J56 * Data!$B$6)) ), 0     ),  0)","v":0},37,null,null,{"$f":"IF(AND($A56<>\"\",(AS56+AT56)>0), IF($F56=\"Nej\",    IF(AT$13=\"Nm3\",(AU$12*1000*1000/((AS$242+AT$242+AS$243+AT$243)*1000*  $J56 * Data!$B$6)),  (AU$12*1000*1000/(((AS$242+AT$242+AS$243+AT$243)/Denscalc($J56))*1000*  $J56 * Data!$B$6)) ), 0     ),  0)","v":0},37,null,null,{"$f":"IF(AND($A56<>\"\",(AW56+AX56)>0), IF($F56=\"Nej\",\nIF(AX$13=\"Nm3\",(AY$12*1000*1000/((AW$242+AX$242+AW$243+AX$243-AW$240-AX$240)*1000*  $J56 * Data!$B$6))+(AY$6*1000*1000/((AW$242+AX$242+AW$243+AX$243)*1000*  $J56 * Data!$B$6)),\n (AY$12*1000*1000/(((AW$242+AX$242+AW$243+AX$243-AW$240-AX$240)/Denscalc($J56))*1000*  $J56 * Data!$B$6))  +  (AY$6*1000*1000/(((AW$242+AX$242+AW$243+AX$243)/Denscalc($J56))*1000*  $J56 * Data!$B$6)) ), 0     ),  0)","v":0},37,null,null,{"$f":"IF(AND($A56<>\"\",(BA56+BB56)>0), IF($F56=\"Nej\",\n (BC$12*1000*1000/((BA$244+BB$244-BA$240-BB$240)*1000* Data!$B$7))+ (BC$6*1000*1000/((BA$244+BB$244)*1000* Data!$B$7)),0 ),  0)","v":0},37,"",{"$f":"IF(A56<>\"\",IF(F56=\"Nej\", (Data!$B$129*Data!$B$5*1000*Data!$B$3)/Data!$B$6,  0 ),\"\")","v":""},"","",{"$f":"IF(A56<>\"\",IF(BH56>0,  IF(BE56=\"Nej\",    (Data!$B$8-BH56)/Data!$B$8,  ROUND( (Data!$B$8-BH56)/Data!$B$8,2)),      \"\"),\"\")","v":""},"","","","",{"$f":"IF(A56<>\"\", IF(H56=\"Flytande\",   IF(BM56>0,  IF(BE56=\"Nej\",  (Data!$B$8-BM56)/Data!$B$8,  ROUND( (Data!$B$8-BM56)/Data!$B$8,2)   ), \"\"), \"\"),\"\")","v":""},"",37,"","","",null,""]
[{"$f":"IF(Uppgradering!A45<>\"\",Uppgradering!A45,\"\")","v":""},38,{"$f":"Uppgradering!C45","v":0},{"$f":"Uppgradering!D45","v":0},{"$f":"Uppgradering!E45","v":0},{"$f":"Uppgradering!AT45","v":""},{"$f":"Uppgradering!AR45","v":""},{"$f":"Uppgradering!AO45","v":""},{"$f":"Uppgradering!AN45","v":""},{"$f":"Uppgradering!AS45","v":""},{"$f":"Uppgradering!AV45","v":""},null,null,null,{"$f":"IF(AND($A57<>\"\",(M57+N57)>0), IF($F57=\"Nej\",    IF(N$13=\"Nm3\",(O$12*1000*1000/((M$242+N$242+M$243+N$243)*1000*  $J57 * Data!$B$6)),  (O$12*1000*1000/(((M$242+N$242+M$243+N$243)/Denscalc($J57))*1000*  $J57 * Data!$B$6)) ), 0     ),  0)","v":0},38,null,null,{"$f":"IF(AND($A57<>\"\",(Q57+R57)>0), IF($F57=\"Nej\",    IF(R$13=\"Nm3\",(S$12*1000*1000/((Q$242+R$242+Q$243+R$243)*1000*  $J57 * Data!$B$6)),  (S$12*1000*1000/(((Q$242+R$242+Q$243+R$243)/Denscalc($J57))*1000*  $J57 * Data!$B$6)) ), 0     ),  0)","v":0},38,null,null,{"$f":"IF(AND($A57<>\"\",(U57+V57)>0), IF($F57=\"Nej\",    IF(V$13=\"Nm3\",(W$12*1000*1000/((U$242+V$242+U$243+V$243)*1000*  $J57 * Data!$B$6)),  (W$12*1000*1000/(((U$242+V$242+U$243+V$243)/Denscalc($J57))*1000*  $J57 * Data!$B$6)) ), 0     ),  0)","v":0},38,null,null,{"$f":"IF(AND($A57<>\"\",(Y57+Z57)>0), IF($F57=\"Nej\",    IF(Z$13=\"Nm3\",(AA$12*1000*1000/((Y$242+Z$242+Y$243+Z$243)*1000*  $J57 * Data!$B$6)),  (AA$12*1000*1000/(((Y$242+Z$242+Y$243+Z$243)/Denscalc($J57))*1000*  $J57 * Data!$B$6)) ), 0     ),  0)","v":0},38,null,null,{"$f":"IF(AND($A57<>\"\",(AC57+AD57)>0), IF($F57=\"Nej\",    IF(AD$13=\"Nm3\",(AE$12*1000*1000/((AC$242+AD$242+AC$243+AD$243)*1000*  $J57 * Data!$B$6)),  (AE$12*1000*1000/(((AC$242+AD$242+AC$243+AD$243)/Denscalc($J57))*1000*  $J57 * Data!$B$6)) ), 0     ),  0)","v":0},38,null,null,{"$f":"IF(AND($A57<>\"\",(AG57+AH57)>0), IF($F57=\"Nej\",    IF(AH$13=\"Nm3\",(AI$12*1000*1000/((AG$242+AH$242+AG$243+AH$243)*1000*  $J57 * Data!$B$6)),  (AI$12*1000*1000/(((AG$242+AH$242+AG$243+AH$243)/Denscalc($J57))*1000*  $J57 * Data!$B$6)) ), 0     ),  0)","v":0},38,null,null,{"$f":"IF(AND($A57<>\"\",(AK57+AL57)>0), IF($F57=\"Nej\",    IF(AL$13=\"Nm3\",(AM$12*1000*1000/((AK$242+AL$242+AK$243+AL$243)*1000*  $J57 * Data!$B$6)),  (AM$12*1000*1000/(((AK$242+AL$242+AK$243+AL$243)/Denscalc($J57))*1000*  $J57 * Data!$B$6)) ), 0     ),  0)","v":0},38,null,null,{"$f":"IF(AND($A57<>\"\",(AO57+AP57)>0), IF($F57=\"Nej\",    IF(AP$13=\"Nm3\",(AQ$12*1000*1000/((AO$242+AP$242+AO$243+AP$243)*1000*  $J57 * Data!$B$6)),  (AQ$12*1000*1000/(((AO$242+AP$242+AO$243+AP$243)/Denscalc($J57))*1000*  $J57 * Data!$B$6)) ), 0     ),  0)","v":0},38,null,null,{"$f":"IF(AND($A57<>\"\",(AS57+AT57)>0), IF($F57=\"Nej\",    IF(AT$13=\"Nm3\",(AU$12*1000*1000/((AS$242+AT$242+AS$243+AT$243)*1000*  $J57 * Data!$B$6)),  (AU$12*1000*1000/(((AS$242+AT$242+AS$243+AT$243)/Denscalc($J57))*1000*  $J57 * Data!$B$6)) ), 0     ),  0)","v":0},38,null,null,{"$f":"IF(AND($A57<>\"\",(AW57+AX57)>0), IF($F57=\"Nej\",\nIF(AX$13=\"Nm3\",(AY$12*1000*1000/((AW$242+AX$242+AW$243+AX$243-AW$240-AX$240)*1000*  $J57 * Data!$B$6))+(AY$6*1000*1000/((AW$242+AX$242+AW$243+AX$243)*1000*  $J57 * Data!$B$6)),\n (AY$12*1000*1000/(((AW$242+AX$242+AW$243+AX$243-AW$240-AX$240)/Denscalc($J57))*1000*  $J57 * Data!$B$6))  +  (AY$6*1000*1000/(((AW$242+AX$242+AW$243+AX$243)/Denscalc($J57))*1000*  $J57 * Data!$B$6)) ), 0     ),  0)","v":0},38,null,null,{"$f":"IF(AND($A57<>\"\",(BA57+BB57)>0), IF($F57=\"Nej\",\n (BC$12*1000*1000/((BA$244+BB$244-BA$240-BB$240)*1000* Data!$B$7))+ (BC$6*1000*1000/((BA$244+BB$244)*1000* Data!$B$7)),0 ),  0)","v":0},38,"",{"$f":"IF(A57<>\"\",IF(F57=\"Nej\", (Data!$B$129*Data!$B$5*1000*Data!$B$3)/Data!$B$6,  0 ),\"\")","v":""},"","",{"$f":"IF(A57<>\"\",IF(BH57>0,  IF(BE57=\"Nej\",    (Data!$B$8-BH57)/Data!$B$8,  ROUND( (Data!$B$8-BH57)/Data!$B$8,2)),      \"\"),\"\")","v":""},"","","","",{"$f":"IF(A57<>\"\", IF(H57=\"Flytande\",   IF(BM57>0,  IF(BE57=\"Nej\",  (Data!$B$8-BM57)/Data!$B$8,  ROUND( (Data!$B$8-BM57)/Data!$B$8,2)   ), \"\"), \"\"),\"\")","v":""},"",38,"","","",null,""]
[{"$f":"IF(Uppgradering!A46<>\"\",Uppgradering!A46,\"\")","v":""},39,{"$f":"Uppgradering!C46","v":0},{"$f":"Uppgradering!D46","v":0},{"$f":"Uppgradering!E46","v":0},{"$f":"Uppgradering!AT46","v":""},{"$f":"Uppgradering!AR46","v":""},{"$f":"Uppgradering!AO46","v":""},{"$f":"Uppgradering!AN46","v":""},{"$f":"Uppgradering!AS46","v":""},{"$f":"Uppgradering!AV46","v":""},null,null,null,{"$f":"IF(AND($A58<>\"\",(M58+N58)>0), IF($F58=\"Nej\",    IF(N$13=\"Nm3\",(O$12*1000*1000/((M$242+N$242+M$243+N$243)*1000*  $J58 * Data!$B$6)),  (O$12*1000*1000/(((M$242+N$242+M$243+N$243)/Denscalc($J58))*1000*  $J58 * Data!$B$6)) ), 0     ),  0)","v":0},39,null,null,{"$f":"IF(AND($A58<>\"\",(Q58+R58)>0), IF($F58=\"Nej\",    IF(R$13=\"Nm3\",(S$12*1000*1000/((Q$242+R$242+Q$243+R$243)*1000*  $J58 * Data!$B$6)),  (S$12*1000*1000/(((Q$242+R$242+Q$243+R$243)/Denscalc($J58))*1000*  $J58 * Data!$B$6)) ), 0     ),  0)","v":0},39,null,null,{"$f":"IF(AND($A58<>\"\",(U58+V58)>0), IF($F58=\"Nej\",    IF(V$13=\"Nm3\",(W$12*1000*1000/((U$242+V$242+U$243+V$243)*1000*  $J58 * Data!$B$6)),  (W$12*1000*1000/(((U$242+V$242+U$243+V$243)/Denscalc($J58))*1000*  $J58 * Data!$B$6)) ), 0     ),  0)","v":0},39,null,null,{"$f":"IF(AND($A58<>\"\",(Y58+Z58)>0), IF($F58=\"Nej\",    IF(Z$13=\"Nm3\",(AA$12*1000*1000/((Y$242+Z$242+Y$243+Z$243)*1000*  $J58 * Data!$B$6)),  (AA$12*1000*1000/(((Y$242+Z$242+Y$243+Z$243)/Denscalc($J58))*1000*  $J58 * Data!$B$6)) ), 0     ),  0)","v":0},39,null,null,{"$f":"IF(AND($A58<>\"\",(AC58+AD58)>0), IF($F58=\"Nej\",    IF(AD$13=\"Nm3\",(AE$12*1000*1000/((AC$242+AD$242+AC$243+AD$243)*1000*  $J58 * Data!$B$6)),  (AE$12*1000*1000/(((AC$242+AD$242+AC$243+AD$243)/Denscalc($J58))*1000*  $J58 * Data!$B$6)) ), 0     ),  0)","v":0},39,null,null,{"$f":"IF(AND($A58<>\"\",(AG58+AH58)>0), IF($F58=\"Nej\",    IF(AH$13=\"Nm3\",(AI$12*1000*1000/((AG$242+AH$242+AG$243+AH$243)*1000*  $J58 * Data!$B$6)),  (AI$12*1000*1000/(((AG$242+AH$242+AG$243+AH$243)/Denscalc($J58))*1000*  $J58 * Data!$B$6)) ), 0     ),  0)","v":0},39,null,null,{"$f":"IF(AND($A58<>\"\",(AK58+AL58)>0), IF($F58=\"Nej\",    IF(AL$13=\"Nm3\",(AM$12*1000*1000/((AK$242+AL$242+AK$243+AL$243)*1000*  $J58 * Data!$B$6)),  (AM$12*1000*1000/(((AK$242+AL$242+AK$243+AL$243)/Denscalc($J58))*1000*  $J58 * Data!$B$6)) ), 0     ),  0)","v":0},39,null,null,{"$f":"IF(AND($A58<>\"\",(AO58+AP58)>0), IF($F58=\"Nej\",    IF(AP$13=\"Nm3\",(AQ$12*1000*1000/((AO$242+AP$242+AO$243+AP$243)*1000*  $J58 * Data!$B$6)),  (AQ$12*1000*1000/(((AO$242+AP$242+AO$243+AP$243)/Denscalc($J58))*1000*  $J58 * Data!$B$6)) ), 0     ),  0)","v":0},39,null,null,{"$f":"IF(AND($A58<>\"\",(AS58+AT58)>0), IF($F58=\"Nej\",    IF(AT$13=\"Nm3\",(AU$12*1000*1000/((AS$242+AT$242+AS$243+AT$243)*1000*  $J58 * Data!$B$6)),  (AU$12*1000*1000/(((AS$242+AT$242+AS$243+AT$243)/Denscalc($J58))*1000*  $J58 * Data!$B$6)) ), 0     ),  0)","v":0},39,null,null,{"$f":"IF(AND($A58<>\"\",(AW58+AX58)>0), IF($F58=\"Nej\",\nIF(AX$13=\"Nm3\",(AY$12*1000*1000/((AW$242+AX$242+AW$243+AX$243-AW$240-AX$240)*1000*  $J58 * Data!$B$6))+(AY$6*1000*1000/((AW$242+AX$242+AW$243+AX$243)*1000*  $J58 * Data!$B$6)),\n (AY$12*1000*1000/(((AW$242+AX$242+AW$243+AX$243-AW$240-AX$240)/Denscalc($J58))*1000*  $J58 * Data!$B$6))  +  (AY$6*1000*1000/(((AW$242+AX$242+AW$243+AX$243)/Denscalc($J58))*1000*  $J58 * Data!$B$6)) ), 0     ),  0)","v":0},39,null,null,{"$f":"IF(AND($A58<>\"\",(BA58+BB58)>0), IF($F58=\"Nej\",\n (BC$12*1000*1000/((BA$244+BB$244-BA$240-BB$240)*1000* Data!$B$7))+ (BC$6*1000*1000/((BA$244+BB$244)*1000* Data!$B$7)),0 ),  0)","v":0},39,"",{"$f":"IF(A58<>\"\",IF(F58=\"Nej\", (Data!$B$129*Data!$B$5*1000*Data!$B$3)/Data!$B$6,  0 ),\"\")","v":""},"","",{"$f":"IF(A58<>\"\",IF(BH58>0,  IF(BE58=\"Nej\",    (Data!$B$8-BH58)/Data!$B$8,  ROUND( (Data!$B$8-BH58)/Data!$B$8,2)),      \"\"),\"\")","v":""},"","","","",{"$f":"IF(A58<>\"\", IF(H58=\"Flytande\",   IF(BM58>0,  IF(BE58=\"Nej\",  (Data!$B$8-BM58)/Data!$B$8,  ROUND( (Data!$B$8-BM58)/Data!$B$8,2)   ), \"\"), \"\"),\"\")","v":""},"",39,"","","",null,""]
[{"$f":"IF(Uppgradering!A47<>\"\",Uppgradering!A47,\"\")","v":""},40,{"$f":"Uppgradering!C47","v":0},{"$f":"Uppgradering!D47","v":0},{"$f":"Uppgradering!E47","v":0},{"$f":"Uppgradering!AT47","v":""},{"$f":"Uppgradering!AR47","v":""},{"$f":"Uppgradering!AO47","v":""},{"$f":"Uppgradering!AN47","v":""},{"$f":"Uppgradering!AS47","v":""},{"$f":"Uppgradering!AV47","v":""},null,null,null,{"$f":"IF(AND($A59<>\"\",(M59+N59)>0), IF($F59=\"Nej\",    IF(N$13=\"Nm3\",(O$12*1000*1000/((M$242+N$242+M$243+N$243)*1000*  $J59 * Data!$B$6)),  (O$12*1000*1000/(((M$242+N$242+M$243+N$243)/Denscalc($J59))*1000*  $J59 * Data!$B$6)) ), 0     ),  0)","v":0},40,null,null,{"$f":"IF(AND($A59<>\"\",(Q59+R59)>0), IF($F59=\"Nej\",    IF(R$13=\"Nm3\",(S$12*1000*1000/((Q$242+R$242+Q$243+R$243)*1000*  $J59 * Data!$B$6)),  (S$12*1000*1000/(((Q$242+R$242+Q$243+R$243)/Denscalc($J59))*1000*  $J59 * Data!$B$6)) ), 0     ),  0)","v":0},40,null,null,{"$f":"IF(AND($A59<>\"\",(U59+V59)>0), IF($F59=\"Nej\",    IF(V$13=\"Nm3\",(W$12*1000*1000/((U$242+V$242+U$243+V$243)*1000*  $J59 * Data!$B$6)),  (W$12*1000*1000/(((U$242+V$242+U$243+V$243)/Denscalc($J59))*1000*  $J59 * Data!$B$6)) ), 0     ),  0)","v":0},40,null,null,{"$f":"IF(AND($A59<>\"\",(Y59+Z59)>0), IF($F59=\"Nej\",    IF(Z$13=\"Nm3\",(AA$12*1000*1000/((Y$242+Z$242+Y$243+Z$243)*1000*  $J59 * Data!$B$6)),  (AA$12*1000*1000/(((Y$242+Z$242+Y$243+Z$243)/Denscalc($J59))*1000*  $J59 * Data!$B$6)) ), 0     ),  0)","v":0},40,null,null,{"$f":"IF(AND($A59<>\"\",(AC59+AD59)>0), IF($F59=\"Nej\",    IF(AD$13=\"Nm3\",(AE$12*1000*1000/((AC$242+AD$242+AC$243+AD$243)*1000*  $J59 * Data!$B$6)),  (AE$12*1000*1000/(((AC$242+AD$242+AC$243+AD$243)/Denscalc($J59))*1000*  $J59 * Data!$B$6)) ), 0     ),  0)","v":0},40,null,null,{"$f":"IF(AND($A59<>\"\",(AG59+AH59)>0), IF($F59=\"Nej\",    IF(AH$13=\"Nm3\",(AI$12*1000*1000/((AG$242+AH$242+AG$243+AH$243)*1000*  $J59 * Data!$B$6)),  (AI$12*1000*1000/(((AG$242+AH$242+AG$243+AH$243)/Denscalc($J59))*1000*  $J59 * Data!$B$6)) ), 0     ),  0)","v":0},40,null,null,{"$f":"IF(AND($A59<>\"\",(AK59+AL59)>0), IF($F59=\"Nej\",    IF(AL$13=\"Nm3\",(AM$12*1000*1000/((AK$242+AL$242+AK$243+AL$243)*1000*  $J59 * Data!$B$6)),  (AM$12*1000*1000/(((AK$242+AL$242+AK$243+AL$243)/Denscalc($J59))*1000*  $J59 * Data!$B$6)) ), 0     ),  0)","v":0},40,null,null,{"$f":"IF(AND($A59<>\"\",(AO59+AP59)>0), IF($F59=\"Nej\",    IF(AP$13=\"Nm3\",(AQ$12*1000*1000/((AO$242+AP$242+AO$243+AP$243)*1000*  $J59 * Data!$B$6)),  (AQ$12*1000*1000/(((AO$242+AP$242+AO$243+AP$243)/Denscalc($J59))*1000*  $J59 * Data!$B$6)) ), 0     ),  0)","v":0},40,null,null,{"$f":"IF(AND($A59<>\"\",(AS59+AT59)>0), IF($F59=\"Nej\",    IF(AT$13=\"Nm3\",(AU$12*1000*1000/((AS$242+AT$242+AS$243+AT$243)*1000*  $J59 * Data!$B$6)),  (AU$12*1000*1000/(((AS$242+AT$242+AS$243+AT$243)/Denscalc($J59))*1000*  $J59 * Data!$B$6)) ), 0     ),  0)","v":0},40,null,null,{"$f":"IF(AND($A59<>\"\",(AW59+AX59)>0), IF($F59=\"Nej\",\nIF(AX$13=\"Nm3\",(AY$12*1000*1000/((AW$242+AX$242+AW$243+AX$243-AW$240-AX$240)*1000*  $J59 * Data!$B$6))+(AY$6*1000*1000/((AW$242+AX$242+AW$243+AX$243)*1000*  $J59 * Data!$B$6)),\n (AY$12*1000*1000/(((AW$242+AX$242+AW$243+AX$243-AW$240-AX$240)/Denscalc($J59))*1000*  $J59 * Data!$B$6))  +  (AY$6*1000*1000/(((AW$242+AX$242+AW$243+AX$243)/Denscalc($J59))*1000*  $J59 * Data!$B$6)) ), 0     ),  0)","v":0},40,null,null,{"$f":"IF(AND($A59<>\"\",(BA59+BB59)>0), IF($F59=\"Nej\",\n (BC$12*1000*1000/((BA$244+BB$244-BA$240-BB$240)*1000* Data!$B$7))+ (BC$6*1000*1000/((BA$244+BB$244)*1000* Data!$B$7)),0 ),  0)","v":0},40,"",{"$f":"IF(A59<>\"\",IF(F59=\"Nej\", (Data!$B$129*Data!$B$5*1000*Data!$B$3)/Data!$B$6,  0 ),\"\")","v":""},"","",{"$f":"IF(A59<>\"\",IF(BH59>0,  IF(BE59=\"Nej\",    (Data!$B$8-BH59)/Data!$B$8,  ROUND( (Data!$B$8-BH59)/Data!$B$8,2)),      \"\"),\"\")","v":""},"","","","",{"$f":"IF(A59<>\"\", IF(H59=\"Flytande\",   IF(BM59>0,  IF(BE59=\"Nej\",  (Data!$B$8-BM59)/Data!$B$8,  ROUND( (Data!$B$8-BM59)/Data!$B$8,2)   ), \"\"), \"\"),\"\")","v":""},"",40,"","","",null,""]
[{"$f":"IF(Uppgradering!A48<>\"\",Uppgradering!A48,\"\")","v":""},41,{"$f":"Uppgradering!C48","v":0},{"$f":"Uppgradering!D48","v":0},{"$f":"Uppgradering!E48","v":0},{"$f":"Uppgradering!AT48","v":""},{"$f":"Uppgradering!AR48","v":""},{"$f":"Uppgradering!AO48","v":""},{"$f":"Uppgradering!AN48","v":""},{"$f":"Uppgradering!AS48","v":""},{"$f":"Uppgradering!AV48","v":""},null,null,null,{"$f":"IF(AND($A60<>\"\",(M60+N60)>0), IF($F60=\"Nej\",    IF(N$13=\"Nm3\",(O$12*1000*1000/((M$242+N$242+M$243+N$243)*1000*  $J60 * Data!$B$6)),  (O$12*1000*1000/(((M$242+N$242+M$243+N$243)/Denscalc($J60))*1000*  $J60 * Data!$B$6)) ), 0     ),  0)","v":0},41,null,null,{"$f":"IF(AND($A60<>\"\",(Q60+R60)>0), IF($F60=\"Nej\",    IF(R$13=\"Nm3\",(S$12*1000*1000/((Q$242+R$242+Q$243+R$243)*1000*  $J60 * Data!$B$6)),  (S$12*1000*1000/(((Q$242+R$242+Q$243+R$243)/Denscalc($J60))*1000*  $J60 * Data!$B$6)) ), 0     ),  0)","v":0},41,null,null,{"$f":"IF(AND($A60<>\"\",(U60+V60)>0), IF($F60=\"Nej\",    IF(V$13=\"Nm3\",(W$12*1000*1000/((U$242+V$242+U$243+V$243)*1000*  $J60 * Data!$B$6)),  (W$12*1000*1000/(((U$242+V$242+U$243+V$243)/Denscalc($J60))*1000*  $J60 * Data!$B$6)) ), 0     ),  0)","v":0},41,null,null,{"$f":"IF(AND($A60<>\"\",(Y60+Z60)>0), IF($F60=\"Nej\",    IF(Z$13=\"Nm3\",(AA$12*1000*1000/((Y$242+Z$242+Y$243+Z$243)*1000*  $J60 * Data!$B$6)),  (AA$12*1000*1000/(((Y$242+Z$242+Y$243+Z$243)/Denscalc($J60))*1000*  $J60 * Data!$B$6)) ), 0     ),  0)","v":0},41,null,null,{"$f":"IF(AND($A60<>\"\",(AC60+AD60)>0), IF($F60=\"Nej\",    IF(AD$13=\"Nm3\",(AE$12*1000*1000/((AC$242+AD$242+AC$243+AD$243)*1000*  $J60 * Data!$B$6)),  (AE$12*1000*1000/(((AC$242+AD$242+AC$243+AD$243)/Denscalc($J60))*1000*  $J60 * Data!$B$6)) ), 0     ),  0)","v":0},41,null,null,{"$f":"IF(AND($A60<>\"\",(AG60+AH60)>0), IF($F60=\"Nej\",    IF(AH$13=\"Nm3\",(AI$12*1000*1000/((AG$242+AH$242+AG$243+AH$243)*1000*  $J60 * Data!$B$6)),  (AI$12*1000*1000/(((AG$242+AH$242+AG$243+AH$243)/Denscalc($J60))*1000*  $J60 * Data!$B$6)) ), 0     ),  0)","v":0},41,null,null,{"$f":"IF(AND($A60<>\"\",(AK60+AL60)>0), IF($F60=\"Nej\",    IF(AL$13=\"Nm3\",(AM$12*1000*1000/((AK$242+AL$242+AK$243+AL$243)*1000*  $J60 * Data!$B$6)),  (AM$12*1000*1000/(((AK$242+AL$242+AK$243+AL$243)/Denscalc($J60))*1000*  $J60 * Data!$B$6)) ), 0     ),  0)","v":0},41,null,null,{"$f":"IF(AND($A60<>\"\",(AO60+AP60)>0), IF($F60=\"Nej\",    IF(AP$13=\"Nm3\",(AQ$12*1000*1000/((AO$242+AP$242+AO$243+AP$243)*1000*  $J60 * Data!$B$6)),  (AQ$12*1000*1000/(((AO$242+AP$242+AO$243+AP$243)/Denscalc($J60))*1000*  $J60 * Data!$B$6)) ), 0     ),  0)","v":0},41,null,null,{"$f":"IF(AND($A60<>\"\",(AS60+AT60)>0), IF($F60=\"Nej\",    IF(AT$13=\"Nm3\",(AU$12*1000*1000/((AS$242+AT$242+AS$243+AT$243)*1000*  $J60 * Data!$B$6)),  (AU$12*1000*1000/(((AS$242+AT$242+AS$243+AT$243)/Denscalc($J60))*1000*  $J60 * Data!$B$6)) ), 0     ),  0)","v":0},41,null,null,{"$f":"IF(AND($A60<>\"\",(AW60+AX60)>0), IF($F60=\"Nej\",\nIF(AX$13=\"Nm3\",(AY$12*1000*1000/((AW$242+AX$242+AW$243+AX$243-AW$240-AX$240)*1000*  $J60 * Data!$B$6))+(AY$6*1000*1000/((AW$242+AX$242+AW$243+AX$243)*1000*  $J60 * Data!$B$6)),\n (AY$12*1000*1000/(((AW$242+AX$242+AW$243+AX$243-AW$240-AX$240)/Denscalc($J60))*1000*  $J60 * Data!$B$6))  +  (AY$6*1000*1000/(((AW$242+AX$242+AW$243+AX$243)/Denscalc($J60))*1000*  $J60 * Data!$B$6)) ), 0     ),  0)","v":0},41,null,null,{"$f":"IF(AND($A60<>\"\",(BA60+BB60)>0), IF($F60=\"Nej\",\n (BC$12*1000*1000/((BA$244+BB$244-BA$240-BB$240)*1000* Data!$B$7))+ (BC$6*1000*1000/((BA$244+BB$244)*1000* Data!$B$7)),0 ),  0)","v":0},41,"",{"$f":"IF(A60<>\"\",IF(F60=\"Nej\", (Data!$B$129*Data!$B$5*1000*Data!$B$3)/Data!$B$6,  0 ),\"\")","v":""},"","",{"$f":"IF(A60<>\"\",IF(BH60>0,  IF(BE60=\"Nej\",    (Data!$B$8-BH60)/Data!$B$8,  ROUND( (Data!$B$8-BH60)/Data!$B$8,2)),      \"\"),\"\")","v":""},"","","","",{"$f":"IF(A60<>\"\", IF(H60=\"Flytande\",   IF(BM60>0,  IF(BE60=\"Nej\",  (Data!$B$8-BM60)/Data!$B$8,  ROUND( (Data!$B$8-BM60)/Data!$B$8,2)   ), \"\"), \"\"),\"\")","v":""},"",41,"","","",null,""]
[{"$f":"IF(Uppgradering!A49<>\"\",Uppgradering!A49,\"\")","v":""},42,{"$f":"Uppgradering!C49","v":0},{"$f":"Uppgradering!D49","v":0},{"$f":"Uppgradering!E49","v":0},{"$f":"Uppgradering!AT49","v":""},{"$f":"Uppgradering!AR49","v":""},{"$f":"Uppgradering!AO49","v":""},{"$f":"Uppgradering!AN49","v":""},{"$f":"Uppgradering!AS49","v":""},{"$f":"Uppgradering!AV49","v":""},null,null,null,{"$f":"IF(AND($A61<>\"\",(M61+N61)>0), IF($F61=\"Nej\",    IF(N$13=\"Nm3\",(O$12*1000*1000/((M$242+N$242+M$243+N$243)*1000*  $J61 * Data!$B$6)),  (O$12*1000*1000/(((M$242+N$242+M$243+N$243)/Denscalc($J61))*1000*  $J61 * Data!$B$6)) ), 0     ),  0)","v":0},42,null,null,{"$f":"IF(AND($A61<>\"\",(Q61+R61)>0), IF($F61=\"Nej\",    IF(R$13=\"Nm3\",(S$12*1000*1000/((Q$242+R$242+Q$243+R$243)*1000*  $J61 * Data!$B$6)),  (S$12*1000*1000/(((Q$242+R$242+Q$243+R$243)/Denscalc($J61))*1000*  $J61 * Data!$B$6)) ), 0     ),  0)","v":0},42,null,null,{"$f":"IF(AND($A61<>\"\",(U61+V61)>0), IF($F61=\"Nej\",    IF(V$13=\"Nm3\",(W$12*1000*1000/((U$242+V$242+U$243+V$243)*1000*  $J61 * Data!$B$6)),  (W$12*1000*1000/(((U$242+V$242+U$243+V$243)/Denscalc($J61))*1000*  $J61 * Data!$B$6)) ), 0     ),  0)","v":0},42,null,null,{"$f":"IF(AND($A61<>\"\",(Y61+Z61)>0), IF($F61=\"Nej\",    IF(Z$13=\"Nm3\",(AA$12*1000*1000/((Y$242+Z$242+Y$243+Z$243)*1000*  $J61 * Data!$B$6)),  (AA$12*1000*1000/(((Y$242+Z$242+Y$243+Z$243)/Denscalc($J61))*1000*  $J61 * Data!$B$6)) ), 0     ),  0)","v":0},42,null,null,{"$f":"IF(AND($A61<>\"\",(AC61+AD61)>0), IF($F61=\"Nej\",    IF(AD$13=\"Nm3\",(AE$12*1000*1000/((AC$242+AD$242+AC$243+AD$243)*1000*  $J61 * Data!$B$6)),  (AE$12*1000*1000/(((AC$242+AD$242+AC$243+AD$243)/Denscalc($J61))*1000*  $J61 * Data!$B$6)) ), 0     ),  0)","v":0},42,null,null,{"$f":"IF(AND($A61<>\"\",(AG61+AH61)>0), IF($F61=\"Nej\",    IF(AH$13=\"Nm3\",(AI$12*1000*1000/((AG$242+AH$242+AG$243+AH$243)*1000*  $J61 * Data!$B$6)),  (AI$12*1000*1000/(((AG$242+AH$242+AG$243+AH$243)/Denscalc($J61))*1000*  $J61 * Data!$B$6)) ), 0     ),  0)","v":0},42,null,null,{"$f":"IF(AND($A61<>\"\",(AK61+AL61)>0), IF($F61=\"Nej\",    IF(AL$13=\"Nm3\",(AM$12*1000*1000/((AK$242+AL$242+AK$243+AL$243)*1000*  $J61 * Data!$B$6)),  (AM$12*1000*1000/(((AK$242+AL$242+AK$243+AL$243)/Denscalc($J61))*1000*  $J61 * Data!$B$6)) ), 0     ),  0)","v":0},42,null,null,{"$f":"IF(AND($A61<>\"\",(AO61+AP61)>0), IF($F61=\"Nej\",    IF(AP$13=\"Nm3\",(AQ$12*1000*1000/((AO$242+AP$242+AO$243+AP$243)*1000*  $J61 * Data!$B$6)),  (AQ$12*1000*1000/(((AO$242+AP$242+AO$243+AP$243)/Denscalc($J61))*1000*  $J61 * Data!$B$6)) ), 0     ),  0)","v":0},42,null,null,{"$f":"IF(AND($A61<>\"\",(AS61+AT61)>0), IF($F61=\"Nej\",    IF(AT$13=\"Nm3\",(AU$12*1000*1000/((AS$242+AT$242+AS$243+AT$243)*1000*  $J61 * Data!$B$6)),  (AU$12*1000*1000/(((AS$242+AT$242+AS$243+AT$243)/Denscalc($J61))*1000*  $J61 * Data!$B$6)) ), 0     ),  0)","v":0},42,null,null,{"$f":"IF(AND($A61<>\"\",(AW61+AX61)>0), IF($F61=\"Nej\",\nIF(AX$13=\"Nm3\",(AY$12*1000*1000/((AW$242+AX$242+AW$243+AX$243-AW$240-AX$240)*1000*  $J61 * Data!$B$6))+(AY$6*1000*1000/((AW$242+AX$242+AW$243+AX$243)*1000*  $J61 * Data!$B$6)),\n (AY$12*1000*1000/(((AW$242+AX$242+AW$243+AX$243-AW$240-AX$240)/Denscalc($J61))*1000*  $J61 * Data!$B$6))  +  (AY$6*1000*1000/(((AW$242+AX$242+AW$243+AX$243)/Denscalc($J61))*1000*  $J61 * Data!$B$6)) ), 0     ),  0)","v":0},42,null,null,{"$f":"IF(AND($A61<>\"\",(BA61+BB61)>0), IF($F61=\"Nej\",\n (BC$12*1000*1000/((BA$244+BB$244-BA$240-BB$240)*1000* Data!$B$7))+ (BC$6*1000*1000/((BA$244+BB$244)*1000* Data!$B$7)),0 ),  0)","v":0},42,"",{"$f":"IF(A61<>\"\",IF(F61=\"Nej\", (Data!$B$129*Data!$B$5*1000*Data!$B$3)/Data!$B$6,  0 ),\"\")","v":""},"","",{"$f":"IF(A61<>\"\",IF(BH61>0,  IF(BE61=\"Nej\",    (Data!$B$8-BH61)/Data!$B$8,  ROUND( (Data!$B$8-BH61)/Data!$B$8,2)),      \"\"),\"\")","v":""},"","","","",{"$f":"IF(A61<>\"\", IF(H61=\"Flytande\",   IF(BM61>0,  IF(BE61=\"Nej\",  (Data!$B$8-BM61)/Data!$B$8,  ROUND( (Data!$B$8-BM61)/Data!$B$8,2)   ), \"\"), \"\"),\"\")","v":""},"",42,"","","",null,""]
[{"$f":"IF(Uppgradering!A50<>\"\",Uppgradering!A50,\"\")","v":""},43,{"$f":"Uppgradering!C50","v":0},{"$f":"Uppgradering!D50","v":0},{"$f":"Uppgradering!E50","v":0},{"$f":"Uppgradering!AT50","v":""},{"$f":"Uppgradering!AR50","v":""},{"$f":"Uppgradering!AO50","v":""},{"$f":"Uppgradering!AN50","v":""},{"$f":"Uppgradering!AS50","v":""},{"$f":"Uppgradering!AV50","v":""},null,null,null,{"$f":"IF(AND($A62<>\"\",(M62+N62)>0), IF($F62=\"Nej\",    IF(N$13=\"Nm3\",(O$12*1000*1000/((M$242+N$242+M$243+N$243)*1000*  $J62 * Data!$B$6)),  (O$12*1000*1000/(((M$242+N$242+M$243+N$243)/Denscalc($J62))*1000*  $J62 * Data!$B$6)) ), 0     ),  0)","v":0},43,null,null,{"$f":"IF(AND($A62<>\"\",(Q62+R62)>0), IF($F62=\"Nej\",    IF(R$13=\"Nm3\",(S$12*1000*1000/((Q$242+R$242+Q$243+R$243)*1000*  $J62 * Data!$B$6)),  (S$12*1000*1000/(((Q$242+R$242+Q$243+R$243)/Denscalc($J62))*1000*  $J62 * Data!$B$6)) ), 0     ),  0)","v":0},43,null,null,{"$f":"IF(AND($A62<>\"\",(U62+V62)>0), IF($F62=\"Nej\",    IF(V$13=\"Nm3\",(W$12*1000*1000/((U$242+V$242+U$243+V$243)*1000*  $J62 * Data!$B$6)),  (W$12*1000*1000/(((U$242+V$242+U$243+V$243)/Denscalc($J62))*1000*  $J62 * Data!$B$6)) ), 0     ),  0)","v":0},43,null,null,{"$f":"IF(AND($A62<>\"\",(Y62+Z62)>0), IF($F62=\"Nej\",    IF(Z$13=\"Nm3\",(AA$12*1000*1000/((Y$242+Z$242+Y$243+Z$243)*1000*  $J62 * Data!$B$6)),  (AA$12*1000*1000/(((Y$242+Z$242+Y$243+Z$243)/Denscalc($J62))*1000*  $J62 * Data!$B$6)) ), 0     ),  0)","v":0},43,null,null,{"$f":"IF(AND($A62<>\"\",(AC62+AD62)>0), IF($F62=\"Nej\",    IF(AD$13=\"Nm3\",(AE$12*1000*1000/((AC$242+AD$242+AC$243+AD$243)*1000*  $J62 * Data!$B$6)),  (AE$12*1000*1000/(((AC$242+AD$242+AC$243+AD$243)/Denscalc($J62))*1000*  $J62 * Data!$B$6)) ), 0     ),  0)","v":0},43,null,null,{"$f":"IF(AND($A62<>\"\",(AG62+AH62)>0), IF($F62=\"Nej\",    IF(AH$13=\"Nm3\",(AI$12*1000*1000/((AG$242+AH$242+AG$243+AH$243)*1000*  $J62 * Data!$B$6)),  (AI$12*1000*1000/(((AG$242+AH$242+AG$243+AH$243)/Denscalc($J62))*1000*  $J62 * Data!$B$6)) ), 0     ),  0)","v":0},43,null,null,{"$f":"IF(AND($A62<>\"\",(AK62+AL62)>0), IF($F62=\"Nej\",    IF(AL$13=\"Nm3\",(AM$12*1000*1000/((AK$242+AL$242+AK$243+AL$243)*1000*  $J62 * Data!$B$6)),  (AM$12*1000*1000/(((AK$242+AL$242+AK$243+AL$243)/Denscalc($J62))*1000*  $J62 * Data!$B$6)) ), 0     ),  0)","v":0},43,null,null,{"$f":"IF(AND($A62<>\"\",(AO62+AP62)>0), IF($F62=\"Nej\",    IF(AP$13=\"Nm3\",(AQ$12*1000*1000/((AO$242+AP$242+AO$243+AP$243)*1000*  $J62 * Data!$B$6)),  (AQ$12*1000*1000/(((AO$242+AP$242+AO$243+AP$243)/Denscalc($J62))*1000*  $J62 * Data!$B$6)) ), 0     ),  0)","v":0},43,null,null,{"$f":"IF(AND($A62<>\"\",(AS62+AT62)>0), IF($F62=\"Nej\",    IF(AT$13=\"Nm3\",(AU$12*1000*1000/((AS$242+AT$242+AS$243+AT$243)*1000*  $J62 * Data!$B$6)),  (AU$12*1000*1000/(((AS$242+AT$242+AS$243+AT$243)/Denscalc($J62))*1000*  $J62 * Data!$B$6)) ), 0     ),  0)","v":0},43,null,null,{"$f":"IF(AND($A62<>\"\",(AW62+AX62)>0), IF($F62=\"Nej\",\nIF(AX$13=\"Nm3\",(AY$12*1000*1000/((AW$242+AX$242+AW$243+AX$243-AW$240-AX$240)*1000*  $J62 * Data!$B$6))+(AY$6*1000*1000/((AW$242+AX$242+AW$243+AX$243)*1000*  $J62 * Data!$B$6)),\n (AY$12*1000*1000/(((AW$242+AX$242+AW$243+AX$243-AW$240-AX$240)/Denscalc($J62))*1000*  $J62 * Data!$B$6))  +  (AY$6*1000*1000/(((AW$242+AX$242+AW$243+AX$243)/Denscalc($J62))*1000*  $J62 * Data!$B$6)) ), 0     ),  0)","v":0},43,null,null,{"$f":"IF(AND($A62<>\"\",(BA62+BB62)>0), IF($F62=\"Nej\",\n (BC$12*1000*1000/((BA$244+BB$244-BA$240-BB$240)*1000* Data!$B$7))+ (BC$6*1000*1000/((BA$244+BB$244)*1000* Data!$B$7)),0 ),  0)","v":0},43,"",{"$f":"IF(A62<>\"\",IF(F62=\"Nej\", (Data!$B$129*Data!$B$5*1000*Data!$B$3)/Data!$B$6,  0 ),\"\")","v":""},"","",{"$f":"IF(A62<>\"\",IF(BH62>0,  IF(BE62=\"Nej\",    (Data!$B$8-BH62)/Data!$B$8,  ROUND( (Data!$B$8-BH62)/Data!$B$8,2)),      \"\"),\"\")","v":""},"","","","",{"$f":"IF(A62<>\"\", IF(H62=\"Flytande\",   IF(BM62>0,  IF(BE62=\"Nej\",  (Data!$B$8-BM62)/Data!$B$8,  ROUND( (Data!$B$8-BM62)/Data!$B$8,2)   ), \"\"), \"\"),\"\")","v":""},"",43,"","","",null,""]
[{"$f":"IF(Uppgradering!A51<>\"\",Uppgradering!A51,\"\")","v":""},44,{"$f":"Uppgradering!C51","v":0},{"$f":"Uppgradering!D51","v":0},{"$f":"Uppgradering!E51","v":0},{"$f":"Uppgradering!AT51","v":""},{"$f":"Uppgradering!AR51","v":""},{"$f":"Uppgradering!AO51","v":""},{"$f":"Uppgradering!AN51","v":""},{"$f":"Uppgradering!AS51","v":""},{"$f":"Uppgradering!AV51","v":""},null,null,null,{"$f":"IF(AND($A63<>\"\",(M63+N63)>0), IF($F63=\"Nej\",    IF(N$13=\"Nm3\",(O$12*1000*1000/((M$242+N$242+M$243+N$243)*1000*  $J63 * Data!$B$6)),  (O$12*1000*1000/(((M$242+N$242+M$243+N$243)/Denscalc($J63))*1000*  $J63 * Data!$B$6)) ), 0     ),  0)","v":0},44,null,null,{"$f":"IF(AND($A63<>\"\",(Q63+R63)>0), IF($F63=\"Nej\",    IF(R$13=\"Nm3\",(S$12*1000*1000/((Q$242+R$242+Q$243+R$243)*1000*  $J63 * Data!$B$6)),  (S$12*1000*1000/(((Q$242+R$242+Q$243+R$243)/Denscalc($J63))*1000*  $J63 * Data!$B$6)) ), 0     ),  0)","v":0},44,null,null,{"$f":"IF(AND($A63<>\"\",(U63+V63)>0), IF($F63=\"Nej\",    IF(V$13=\"Nm3\",(W$12*1000*1000/((U$242+V$242+U$243+V$243)*1000*  $J63 * Data!$B$6)),  (W$12*1000*1000/(((U$242+V$242+U$243+V$243)/Denscalc($J63))*1000*  $J63 * Data!$B$6)) ), 0     ),  0)","v":0},44,null,null,{"$f":"IF(AND($A63<>\"\",(Y63+Z63)>0), IF($F63=\"Nej\",    IF(Z$13=\"Nm3\",(AA$12*1000*1000/((Y$242+Z$242+Y$243+Z$243)*1000*  $J63 * Data!$B$6)),  (AA$12*1000*1000/(((Y$242+Z$242+Y$243+Z$243)/Denscalc($J63))*1000*  $J63 * Data!$B$6)) ), 0     ),  0)","v":0},44,null,null,{"$f":"IF(AND($A63<>\"\",(AC63+AD63)>0), IF($F63=\"Nej\",    IF(AD$13=\"Nm3\",(AE$12*1000*1000/((AC$242+AD$242+AC$243+AD$243)*1000*  $J63 * Data!$B$6)),  (AE$12*1000*1000/(((AC$242+AD$242+AC$243+AD$243)/Denscalc($J63))*1000*  $J63 * Data!$B$6)) ), 0     ),  0)","v":0},44,null,null,{"$f":"IF(AND($A63<>\"\",(AG63+AH63)>0), IF($F63=\"Nej\",    IF(AH$13=\"Nm3\",(AI$12*1000*1000/((AG$242+AH$242+AG$243+AH$243)*1000*  $J63 * Data!$B$6)),  (AI$12*1000*1000/(((AG$242+AH$242+AG$243+AH$243)/Denscalc($J63))*1000*  $J63 * Data!$B$6)) ), 0     ),  0)","v":0},44,null,null,{"$f":"IF(AND($A63<>\"\",(AK63+AL63)>0), IF($F63=\"Nej\",    IF(AL$13=\"Nm3\",(AM$12*1000*1000/((AK$242+AL$242+AK$243+AL$243)*1000*  $J63 * Data!$B$6)),  (AM$12*1000*1000/(((AK$242+AL$242+AK$243+AL$243)/Denscalc($J63))*1000*  $J63 * Data!$B$6)) ), 0     ),  0)","v":0},44,null,null,{"$f":"IF(AND($A63<>\"\",(AO63+AP63)>0), IF($F63=\"Nej\",    IF(AP$13=\"Nm3\",(AQ$12*1000*1000/((AO$242+AP$242+AO$243+AP$243)*1000*  $J63 * Data!$B$6)),  (AQ$12*1000*1000/(((AO$242+AP$242+AO$243+AP$243)/Denscalc($J63))*1000*  $J63 * Data!$B$6)) ), 0     ),  0)","v":0},44,null,null,{"$f":"IF(AND($A63<>\"\",(AS63+AT63)>0), IF($F63=\"Nej\",    IF(AT$13=\"Nm3\",(AU$12*1000*1000/((AS$242+AT$242+AS$243+AT$243)*1000*  $J63 * Data!$B$6)),  (AU$12*1000*1000/(((AS$242+AT$242+AS$243+AT$243)/Denscalc($J63))*1000*  $J63 * Data!$B$6)) ), 0     ),  0)","v":0},44,null,null,{"$f":"IF(AND($A63<>\"\",(AW63+AX63)>0), IF($F63=\"Nej\",\nIF(AX$13=\"Nm3\",(AY$12*1000*1000/((AW$242+AX$242+AW$243+AX$243-AW$240-AX$240)*1000*  $J63 * Data!$B$6))+(AY$6*1000*1000/((AW$242+AX$242+AW$243+AX$243)*1000*  $J63 * Data!$B$6)),\n (AY$12*1000*1000/(((AW$242+AX$242+AW$243+AX$243-AW$240-AX$240)/Denscalc($J63))*1000*  $J63 * Data!$B$6))  +  (AY$6*1000*1000/(((AW$242+AX$242+AW$243+AX$243)/Denscalc($J63))*1000*  $J63 * Data!$B$6)) ), 0     ),  0)","v":0},44,null,null,{"$f":"IF(AND($A63<>\"\",(BA63+BB63)>0), IF($F63=\"Nej\",\n (BC$12*1000*1000/((BA$244+BB$244-BA$240-BB$240)*1000* Data!$B$7))+ (BC$6*1000*1000/((BA$244+BB$244)*1000* Data!$B$7)),0 ),  0)","v":0},44,"",{"$f":"IF(A63<>\"\",IF(F63=\"Nej\", (Data!$B$129*Data!$B$5*1000*Data!$B$3)/Data!$B$6,  0 ),\"\")","v":""},"","",{"$f":"IF(A63<>\"\",IF(BH63>0,  IF(BE63=\"Nej\",    (Data!$B$8-BH63)/Data!$B$8,  ROUND( (Data!$B$8-BH63)/Data!$B$8,2)),      \"\"),\"\")","v":""},"","","","",{"$f":"IF(A63<>\"\", IF(H63=\"Flytande\",   IF(BM63>0,  IF(BE63=\"Nej\",  (Data!$B$8-BM63)/Data!$B$8,  ROUND( (Data!$B$8-BM63)/Data!$B$8,2)   ), \"\"), \"\"),\"\")","v":""},"",44,"","","",null,""]
[{"$f":"IF(Uppgradering!A52<>\"\",Uppgradering!A52,\"\")","v":""},45,{"$f":"Uppgradering!C52","v":0},{"$f":"Uppgradering!D52","v":0},{"$f":"Uppgradering!E52","v":0},{"$f":"Uppgradering!AT52","v":""},{"$f":"Uppgradering!AR52","v":""},{"$f":"Uppgradering!AO52","v":""},{"$f":"Uppgradering!AN52","v":""},{"$f":"Uppgradering!AS52","v":""},{"$f":"Uppgradering!AV52","v":""},null,null,null,{"$f":"IF(AND($A64<>\"\",(M64+N64)>0), IF($F64=\"Nej\",    IF(N$13=\"Nm3\",(O$12*1000*1000/((M$242+N$242+M$243+N$243)*1000*  $J64 * Data!$B$6)),  (O$12*1000*1000/(((M$242+N$242+M$243+N$243)/Denscalc($J64))*1000*  $J64 * Data!$B$6)) ), 0     ),  0)","v":0},45,null,null,{"$f":"IF(AND($A64<>\"\",(Q64+R64)>0), IF($F64=\"Nej\",    IF(R$13=\"Nm3\",(S$12*1000*1000/((Q$242+R$242+Q$243+R$243)*1000*  $J64 * Data!$B$6)),  (S$12*1000*1000/(((Q$242+R$242+Q$243+R$243)/Denscalc($J64))*1000*  $J64 * Data!$B$6)) ), 0     ),  0)","v":0},45,null,null,{"$f":"IF(AND($A64<>\"\",(U64+V64)>0), IF($F64=\"Nej\",    IF(V$13=\"Nm3\",(W$12*1000*1000/((U$242+V$242+U$243+V$243)*1000*  $J64 * Data!$B$6)),  (W$12*1000*1000/(((U$242+V$242+U$243+V$243)/Denscalc($J64))*1000*  $J64 * Data!$B$6)) ), 0     ),  0)","v":0},45,null,null,{"$f":"IF(AND($A64<>\"\",(Y64+Z64)>0), IF($F64=\"Nej\",    IF(Z$13=\"Nm3\",(AA$12*1000*1000/((Y$242+Z$242+Y$243+Z$243)*1000*  $J64 * Data!$B$6)),  (AA$12*1000*1000/(((Y$242+Z$242+Y$243+Z$243)/Denscalc($J64))*1000*  $J64 * Data!$B$6)) ), 0     ),  0)","v":0},45,null,null,{"$f":"IF(AND($A64<>\"\",(AC64+AD64)>0), IF($F64=\"Nej\",    IF(AD$13=\"Nm3\",(AE$12*1000*1000/((AC$242+AD$242+AC$243+AD$243)*1000*  $J64 * Data!$B$6)),  (AE$12*1000*1000/(((AC$242+AD$242+AC$243+AD$243)/Denscalc($J64))*1000*  $J64 * Data!$B$6)) ), 0     ),  0)","v":0},45,null,null,{"$f":"IF(AND($A64<>\"\",(AG64+AH64)>0), IF($F64=\"Nej\",    IF(AH$13=\"Nm3\",(AI$12*1000*1000/((AG$242+AH$242+AG$243+AH$243)*1000*  $J64 * Data!$B$6)),  (AI$12*1000*1000/(((AG$242+AH$242+AG$243+AH$243)/Denscalc($J64))*1000*  $J64 * Data!$B$6)) ), 0     ),  0)","v":0},45,null,null,{"$f":"IF(AND($A64<>\"\",(AK64+AL64)>0), IF($F64=\"Nej\",    IF(AL$13=\"Nm3\",(AM$12*1000*1000/((AK$242+AL$242+AK$243+AL$243)*1000*  $J64 * Data!$B$6)),  (AM$12*1000*1000/(((AK$242+AL$242+AK$243+AL$243)/Denscalc($J64))*1000*  $J64 * Data!$B$6)) ), 0     ),  0)","v":0},45,null,null,{"$f":"IF(AND($A64<>\"\",(AO64+AP64)>0), IF($F64=\"Nej\",    IF(AP$13=\"Nm3\",(AQ$12*1000*1000/((AO$242+AP$242+AO$243+AP$243)*1000*  $J64 * Data!$B$6)),  (AQ$12*1000*1000/(((AO$242+AP$242+AO$243+AP$243)/Denscalc($J64))*1000*  $J64 * Data!$B$6)) ), 0     ),  0)","v":0},45,null,null,{"$f":"IF(AND($A64<>\"\",(AS64+AT64)>0), IF($F64=\"Nej\",    IF(AT$13=\"Nm3\",(AU$12*1000*1000/((AS$242+AT$242+AS$243+AT$243)*1000*  $J64 * Data!$B$6)),  (AU$12*1000*1000/(((AS$242+AT$242+AS$243+AT$243)/Denscalc($J64))*1000*  $J64 * Data!$B$6)) ), 0     ),  0)","v":0},45,null,null,{"$f":"IF(AND($A64<>\"\",(AW64+AX64)>0), IF($F64=\"Nej\",\nIF(AX$13=\"Nm3\",(AY$12*1000*1000/((AW$242+AX$242+AW$243+AX$243-AW$240-AX$240)*1000*  $J64 * Data!$B$6))+(AY$6*1000*1000/((AW$242+AX$242+AW$243+AX$243)*1000*  $J64 * Data!$B$6)),\n (AY$12*1000*1000/(((AW$242+AX$242+AW$243+AX$243-AW$240-AX$240)/Denscalc($J64))*1000*  $J64 * Data!$B$6))  +  (AY$6*1000*1000/(((AW$242+AX$242+AW$243+AX$243)/Denscalc($J64))*1000*  $J64 * Data!$B$6)) ), 0     ),  0)","v":0},45,null,null,{"$f":"IF(AND($A64<>\"\",(BA64+BB64)>0), IF($F64=\"Nej\",\n (BC$12*1000*1000/((BA$244+BB$244-BA$240-BB$240)*1000* Data!$B$7))+ (BC$6*1000*1000/((BA$244+BB$244)*1000* Data!$B$7)),0 ),  0)","v":0},45,"",{"$f":"IF(A64<>\"\",IF(F64=\"Nej\", (Data!$B$129*Data!$B$5*1000*Data!$B$3)/Data!$B$6,  0 ),\"\")","v":""},"","",{"$f":"IF(A64<>\"\",IF(BH64>0,  IF(BE64=\"Nej\",    (Data!$B$8-BH64)/Data!$B$8,  ROUND( (Data!$B$8-BH64)/Data!$B$8,2)),      \"\"),\"\")","v":""},"","","","",{"$f":"IF(A64<>\"\", IF(H64=\"Flytande\",   IF(BM64>0,  IF(BE64=\"Nej\",  (Data!$B$8-BM64)/Data!$B$8,  ROUND( (Data!$B$8-BM64)/Data!$B$8,2)   ), \"\"), \"\"),\"\")","v":""},"",45,"","","",null,""]
[{"$f":"IF(Uppgradering!A53<>\"\",Uppgradering!A53,\"\")","v":""},46,{"$f":"Uppgradering!C53","v":0},{"$f":"Uppgradering!D53","v":0},{"$f":"Uppgradering!E53","v":0},{"$f":"Uppgradering!AT53","v":""},{"$f":"Uppgradering!AR53","v":""},{"$f":"Uppgradering!AO53","v":""},{"$f":"Uppgradering!AN53","v":""},{"$f":"Uppgradering!AS53","v":""},{"$f":"Uppgradering!AV53","v":""},null,null,null,{"$f":"IF(AND($A65<>\"\",(M65+N65)>0), IF($F65=\"Nej\",    IF(N$13=\"Nm3\",(O$12*1000*1000/((M$242+N$242+M$243+N$243)*1000*  $J65 * Data!$B$6)),  (O$12*1000*1000/(((M$242+N$242+M$243+N$243)/Denscalc($J65))*1000*  $J65 * Data!$B$6)) ), 0     ),  0)","v":0},46,null,null,{"$f":"IF(AND($A65<>\"\",(Q65+R65)>0), IF($F65=\"Nej\",    IF(R$13=\"Nm3\",(S$12*1000*1000/((Q$242+R$242+Q$243+R$243)*1000*  $J65 * Data!$B$6)),  (S$12*1000*1000/(((Q$242+R$242+Q$243+R$243)/Denscalc($J65))*1000*  $J65 * Data!$B$6)) ), 0     ),  0)","v":0},46,null,null,{"$f":"IF(AND($A65<>\"\",(U65+V65)>0), IF($F65=\"Nej\",    IF(V$13=\"Nm3\",(W$12*1000*1000/((U$242+V$242+U$243+V$243)*1000*  $J65 * Data!$B$6)),  (W$12*1000*1000/(((U$242+V$242+U$243+V$243)/Denscalc($J65))*1000*  $J65 * Data!$B$6)) ), 0     ),  0)","v":0},46,null,null,{"$f":"IF(AND($A65<>\"\",(Y65+Z65)>0), IF($F65=\"Nej\",    IF(Z$13=\"Nm3\",(AA$12*1000*1000/((Y$242+Z$242+Y$243+Z$243)*1000*  $J65 * Data!$B$6)),  (AA$12*1000*1000/(((Y$242+Z$242+Y$243+Z$243)/Denscalc($J65))*1000*  $J65 * Data!$B$6)) ), 0     ),  0)","v":0},46,null,null,{"$f":"IF(AND($A65<>\"\",(AC65+AD65)>0), IF($F65=\"Nej\",    IF(AD$13=\"Nm3\",(AE$12*1000*1000/((AC$242+AD$242+AC$243+AD$243)*1000*  $J65 * Data!$B$6)),  (AE$12*1000*1000/(((AC$242+AD$242+AC$243+AD$243)/Denscalc($J65))*1000*  $J65 * Data!$B$6)) ), 0     ),  0)","v":0},46,null,null,{"$f":"IF(AND($A65<>\"\",(AG65+AH65)>0), IF($F65=\"Nej\",    IF(AH$13=\"Nm3\",(AI$12*1000*1000/((AG$242+AH$242+AG$243+AH$243)*1000*  $J65 * Data!$B$6)),  (AI$12*1000*1000/(((AG$242+AH$242+AG$243+AH$243)/Denscalc($J65))*1000*  $J65 * Data!$B$6)) ), 0     ),  0)","v":0},46,null,null,{"$f":"IF(AND($A65<>\"\",(AK65+AL65)>0), IF($F65=\"Nej\",    IF(AL$13=\"Nm3\",(AM$12*1000*1000/((AK$242+AL$242+AK$243+AL$243)*1000*  $J65 * Data!$B$6)),  (AM$12*1000*1000/(((AK$242+AL$242+AK$243+AL$243)/Denscalc($J65))*1000*  $J65 * Data!$B$6)) ), 0     ),  0)","v":0},46,null,null,{"$f":"IF(AND($A65<>\"\",(AO65+AP65)>0), IF($F65=\"Nej\",    IF(AP$13=\"Nm3\",(AQ$12*1000*1000/((AO$242+AP$242+AO$243+AP$243)*1000*  $J65 * Data!$B$6)),  (AQ$12*1000*1000/(((AO$242+AP$242+AO$243+AP$243)/Denscalc($J65))*1000*  $J65 * Data!$B$6)) ), 0     ),  0)","v":0},46,null,null,{"$f":"IF(AND($A65<>\"\",(AS65+AT65)>0), IF($F65=\"Nej\",    IF(AT$13=\"Nm3\",(AU$12*1000*1000/((AS$242+AT$242+AS$243+AT$243)*1000*  $J65 * Data!$B$6)),  (AU$12*1000*1000/(((AS$242+AT$242+AS$243+AT$243)/Denscalc($J65))*1000*  $J65 * Data!$B$6)) ), 0     ),  0)","v":0},46,null,null,{"$f":"IF(AND($A65<>\"\",(AW65+AX65)>0), IF($F65=\"Nej\",\nIF(AX$13=\"Nm3\",(AY$12*1000*1000/((AW$242+AX$242+AW$243+AX$243-AW$240-AX$240)*1000*  $J65 * Data!$B$6))+(AY$6*1000*1000/((AW$242+AX$242+AW$243+AX$243)*1000*  $J65 * Data!$B$6)),\n (AY$12*1000*1000/(((AW$242+AX$242+AW$243+AX$243-AW$240-AX$240)/Denscalc($J65))*1000*  $J65 * Data!$B$6))  +  (AY$6*1000*1000/(((AW$242+AX$242+AW$243+AX$243)/Denscalc($J65))*1000*  $J65 * Data!$B$6)) ), 0     ),  0)","v":0},46,null,null,{"$f":"IF(AND($A65<>\"\",(BA65+BB65)>0), IF($F65=\"Nej\",\n (BC$12*1000*1000/((BA$244+BB$244-BA$240-BB$240)*1000* Data!$B$7))+ (BC$6*1000*1000/((BA$244+BB$244)*1000* Data!$B$7)),0 ),  0)","v":0},46,"",{"$f":"IF(A65<>\"\",IF(F65=\"Nej\", (Data!$B$129*Data!$B$5*1000*Data!$B$3)/Data!$B$6,  0 ),\"\")","v":""},"","",{"$f":"IF(A65<>\"\",IF(BH65>0,  IF(BE65=\"Nej\",    (Data!$B$8-BH65)/Data!$B$8,  ROUND( (Data!$B$8-BH65)/Data!$B$8,2)),      \"\"),\"\")","v":""},"","","","",{"$f":"IF(A65<>\"\", IF(H65=\"Flytande\",   IF(BM65>0,  IF(BE65=\"Nej\",  (Data!$B$8-BM65)/Data!$B$8,  ROUND( (Data!$B$8-BM65)/Data!$B$8,2)   ), \"\"), \"\"),\"\")","v":""},"",46,"","","",null,""]
[{"$f":"IF(Uppgradering!A54<>\"\",Uppgradering!A54,\"\")","v":""},47,{"$f":"Uppgradering!C54","v":0},{"$f":"Uppgradering!D54","v":0},{"$f":"Uppgradering!E54","v":0},{"$f":"Uppgradering!AT54","v":""},{"$f":"Uppgradering!AR54","v":""},{"$f":"Uppgradering!AO54","v":""},{"$f":"Uppgradering!AN54","v":""},{"$f":"Uppgradering!AS54","v":""},{"$f":"Uppgradering!AV54","v":""},null,null,null,{"$f":"IF(AND($A66<>\"\",(M66+N66)>0), IF($F66=\"Nej\",    IF(N$13=\"Nm3\",(O$12*1000*1000/((M$242+N$242+M$243+N$243)*1000*  $J66 * Data!$B$6)),  (O$12*1000*1000/(((M$242+N$242+M$243+N$243)/Denscalc($J66))*1000*  $J66 * Data!$B$6)) ), 0     ),  0)","v":0},47,null,null,{"$f":"IF(AND($A66<>\"\",(Q66+R66)>0), IF($F66=\"Nej\",    IF(R$13=\"Nm3\",(S$12*1000*1000/((Q$242+R$242+Q$243+R$243)*1000*  $J66 * Data!$B$6)),  (S$12*1000*1000/(((Q$242+R$242+Q$243+R$243)/Denscalc($J66))*1000*  $J66 * Data!$B$6)) ), 0     ),  0)","v":0},47,null,null,{"$f":"IF(AND($A66<>\"\",(U66+V66)>0), IF($F66=\"Nej\",    IF(V$13=\"Nm3\",(W$12*1000*1000/((U$242+V$242+U$243+V$243)*1000*  $J66 * Data!$B$6)),  (W$12*1000*1000/(((U$242+V$242+U$243+V$243)/Denscalc($J66))*1000*  $J66 * Data!$B$6)) ), 0     ),  0)","v":0},47,null,null,{"$f":"IF(AND($A66<>\"\",(Y66+Z66)>0), IF($F66=\"Nej\",    IF(Z$13=\"Nm3\",(AA$12*1000*1000/((Y$242+Z$242+Y$243+Z$243)*1000*  $J66 * Data!$B$6)),  (AA$12*1000*1000/(((Y$242+Z$242+Y$243+Z$243)/Denscalc($J66))*1000*  $J66 * Data!$B$6)) ), 0     ),  0)","v":0},47,null,null,{"$f":"IF(AND($A66<>\"\",(AC66+AD66)>0), IF($F66=\"Nej\",    IF(AD$13=\"Nm3\",(AE$12*1000*1000/((AC$242+AD$242+AC$243+AD$243)*1000*  $J66 * Data!$B$6)),  (AE$12*1000*1000/(((AC$242+AD$242+AC$243+AD$243)/Denscalc($J66))*1000*  $J66 * Data!$B$6)) ), 0     ),  0)","v":0},47,null,null,{"$f":"IF(AND($A66<>\"\",(AG66+AH66)>0), IF($F66=\"Nej\",    IF(AH$13=\"Nm3\",(AI$12*1000*1000/((AG$242+AH$242+AG$243+AH$243)*1000*  $J66 * Data!$B$6)),  (AI$12*1000*1000/(((AG$242+AH$242+AG$243+AH$243)/Denscalc($J66))*1000*  $J66 * Data!$B$6)) ), 0     ),  0)","v":0},47,null,null,{"$f":"IF(AND($A66<>\"\",(AK66+AL66)>0), IF($F66=\"Nej\",    IF(AL$13=\"Nm3\",(AM$12*1000*1000/((AK$242+AL$242+AK$243+AL$243)*1000*  $J66 * Data!$B$6)),  (AM$12*1000*1000/(((AK$242+AL$242+AK$243+AL$243)/Denscalc($J66))*1000*  $J66 * Data!$B$6)) ), 0     ),  0)","v":0},47,null,null,{"$f":"IF(AND($A66<>\"\",(AO66+AP66)>0), IF($F66=\"Nej\",    IF(AP$13=\"Nm3\",(AQ$12*1000*1000/((AO$242+AP$242+AO$243+AP$243)*1000*  $J66 * Data!$B$6)),  (AQ$12*1000*1000/(((AO$242+AP$242+AO$243+AP$243)/Denscalc($J66))*1000*  $J66 * Data!$B$6)) ), 0     ),  0)","v":0},47,null,null,{"$f":"IF(AND($A66<>\"\",(AS66+AT66)>0), IF($F66=\"Nej\",    IF(AT$13=\"Nm3\",(AU$12*1000*1000/((AS$242+AT$242+AS$243+AT$243)*1000*  $J66 * Data!$B$6)),  (AU$12*1000*1000/(((AS$242+AT$242+AS$243+AT$243)/Denscalc($J66))*1000*  $J66 * Data!$B$6)) ), 0     ),  0)","v":0},47,null,null,{"$f":"IF(AND($A66<>\"\",(AW66+AX66)>0), IF($F66=\"Nej\",\nIF(AX$13=\"Nm3\",(AY$12*1000*1000/((AW$242+AX$242+AW$243+AX$243-AW$240-AX$240)*1000*  $J66 * Data!$B$6))+(AY$6*1000*1000/((AW$242+AX$242+AW$243+AX$243)*1000*  $J66 * Data!$B$6)),\n (AY$12*1000*1000/(((AW$242+AX$242+AW$243+AX$243-AW$240-AX$240)/Denscalc($J66))*1000*  $J66 * Data!$B$6))  +  (AY$6*1000*1000/(((AW$242+AX$242+AW$243+AX$243)/Denscalc($J66))*1000*  $J66 * Data!$B$6)) ), 0     ),  0)","v":0},47,null,null,{"$f":"IF(AND($A66<>\"\",(BA66+BB66)>0), IF($F66=\"Nej\",\n (BC$12*1000*1000/((BA$244+BB$244-BA$240-BB$240)*1000* Data!$B$7))+ (BC$6*1000*1000/((BA$244+BB$244)*1000* Data!$B$7)),0 ),  0)","v":0},47,"",{"$f":"IF(A66<>\"\",IF(F66=\"Nej\", (Data!$B$129*Data!$B$5*1000*Data!$B$3)/Data!$B$6,  0 ),\"\")","v":""},"","",{"$f":"IF(A66<>\"\",IF(BH66>0,  IF(BE66=\"Nej\",    (Data!$B$8-BH66)/Data!$B$8,  ROUND( (Data!$B$8-BH66)/Data!$B$8,2)),      \"\"),\"\")","v":""},"","","","",{"$f":"IF(A66<>\"\", IF(H66=\"Flytande\",   IF(BM66>0,  IF(BE66=\"Nej\",  (Data!$B$8-BM66)/Data!$B$8,  ROUND( (Data!$B$8-BM66)/Data!$B$8,2)   ), \"\"), \"\"),\"\")","v":""},"",47,"","","",null,""]
[{"$f":"IF(Uppgradering!A55<>\"\",Uppgradering!A55,\"\")","v":""},48,{"$f":"Uppgradering!C55","v":0},{"$f":"Uppgradering!D55","v":0},{"$f":"Uppgradering!E55","v":0},{"$f":"Uppgradering!AT55","v":""},{"$f":"Uppgradering!AR55","v":""},{"$f":"Uppgradering!AO55","v":""},{"$f":"Uppgradering!AN55","v":""},{"$f":"Uppgradering!AS55","v":""},{"$f":"Uppgradering!AV55","v":""},null,null,null,{"$f":"IF(AND($A67<>\"\",(M67+N67)>0), IF($F67=\"Nej\",    IF(N$13=\"Nm3\",(O$12*1000*1000/((M$242+N$242+M$243+N$243)*1000*  $J67 * Data!$B$6)),  (O$12*1000*1000/(((M$242+N$242+M$243+N$243)/Denscalc($J67))*1000*  $J67 * Data!$B$6)) ), 0     ),  0)","v":0},48,null,null,{"$f":"IF(AND($A67<>\"\",(Q67+R67)>0), IF($F67=\"Nej\",    IF(R$13=\"Nm3\",(S$12*1000*1000/((Q$242+R$242+Q$243+R$243)*1000*  $J67 * Data!$B$6)),  (S$12*1000*1000/(((Q$242+R$242+Q$243+R$243)/Denscalc($J67))*1000*  $J67 * Data!$B$6)) ), 0     ),  0)","v":0},48,null,null,{"$f":"IF(AND($A67<>\"\",(U67+V67)>0), IF($F67=\"Nej\",    IF(V$13=\"Nm3\",(W$12*1000*1000/((U$242+V$242+U$243+V$243)*1000*  $J67 * Data!$B$6)),  (W$12*1000*1000/(((U$242+V$242+U$243+V$243)/Denscalc($J67))*1000*  $J67 * Data!$B$6)) ), 0     ),  0)","v":0},48,null,null,{"$f":"IF(AND($A67<>\"\",(Y67+Z67)>0), IF($F67=\"Nej\",    IF(Z$13=\"Nm3\",(AA$12*1000*1000/((Y$242+Z$242+Y$243+Z$243)*1000*  $J67 * Data!$B$6)),  (AA$12*1000*1000/(((Y$242+Z$242+Y$243+Z$243)/Denscalc($J67))*1000*  $J67 * Data!$B$6)) ), 0     ),  0)","v":0},48,null,null,{"$f":"IF(AND($A67<>\"\",(AC67+AD67)>0), IF($F67=\"Nej\",    IF(AD$13=\"Nm3\",(AE$12*1000*1000/((AC$242+AD$242+AC$243+AD$243)*1000*  $J67 * Data!$B$6)),  (AE$12*1000*1000/(((AC$242+AD$242+AC$243+AD$243)/Denscalc($J67))*1000*  $J67 * Data!$B$6)) ), 0     ),  0)","v":0},48,null,null,{"$f":"IF(AND($A67<>\"\",(AG67+AH67)>0), IF($F67=\"Nej\",    IF(AH$13=\"Nm3\",(AI$12*1000*1000/((AG$242+AH$242+AG$243+AH$243)*1000*  $J67 * Data!$B$6)),  (AI$12*1000*1000/(((AG$242+AH$242+AG$243+AH$243)/Denscalc($J67))*1000*  $J67 * Data!$B$6)) ), 0     ),  0)","v":0},48,null,null,{"$f":"IF(AND($A67<>\"\",(AK67+AL67)>0), IF($F67=\"Nej\",    IF(AL$13=\"Nm3\",(AM$12*1000*1000/((AK$242+AL$242+AK$243+AL$243)*1000*  $J67 * Data!$B$6)),  (AM$12*1000*1000/(((AK$242+AL$242+AK$243+AL$243)/Denscalc($J67))*1000*  $J67 * Data!$B$6)) ), 0     ),  0)","v":0},48,null,null,{"$f":"IF(AND($A67<>\"\",(AO67+AP67)>0), IF($F67=\"Nej\",    IF(AP$13=\"Nm3\",(AQ$12*1000*1000/((AO$242+AP$242+AO$243+AP$243)*1000*  $J67 * Data!$B$6)),  (AQ$12*1000*1000/(((AO$242+AP$242+AO$243+AP$243)/Denscalc($J67))*1000*  $J67 * Data!$B$6)) ), 0     ),  0)","v":0},48,null,null,{"$f":"IF(AND($A67<>\"\",(AS67+AT67)>0), IF($F67=\"Nej\",    IF(AT$13=\"Nm3\",(AU$12*1000*1000/((AS$242+AT$242+AS$243+AT$243)*1000*  $J67 * Data!$B$6)),  (AU$12*1000*1000/(((AS$242+AT$242+AS$243+AT$243)/Denscalc($J67))*1000*  $J67 * Data!$B$6)) ), 0     ),  0)","v":0},48,null,null,{"$f":"IF(AND($A67<>\"\",(AW67+AX67)>0), IF($F67=\"Nej\",\nIF(AX$13=\"Nm3\",(AY$12*1000*1000/((AW$242+AX$242+AW$243+AX$243-AW$240-AX$240)*1000*  $J67 * Data!$B$6))+(AY$6*1000*1000/((AW$242+AX$242+AW$243+AX$243)*1000*  $J67 * Data!$B$6)),\n (AY$12*1000*1000/(((AW$242+AX$242+AW$243+AX$243-AW$240-AX$240)/Denscalc($J67))*1000*  $J67 * Data!$B$6))  +  (AY$6*1000*1000/(((AW$242+AX$242+AW$243+AX$243)/Denscalc($J67))*1000*  $J67 * Data!$B$6)) ), 0     ),  0)","v":0},48,null,null,{"$f":"IF(AND($A67<>\"\",(BA67+BB67)>0), IF($F67=\"Nej\",\n (BC$12*1000*1000/((BA$244+BB$244-BA$240-BB$240)*1000* Data!$B$7))+ (BC$6*1000*1000/((BA$244+BB$244)*1000* Data!$B$7)),0 ),  0)","v":0},48,"",{"$f":"IF(A67<>\"\",IF(F67=\"Nej\", (Data!$B$129*Data!$B$5*1000*Data!$B$3)/Data!$B$6,  0 ),\"\")","v":""},"","",{"$f":"IF(A67<>\"\",IF(BH67>0,  IF(BE67=\"Nej\",    (Data!$B$8-BH67)/Data!$B$8,  ROUND( (Data!$B$8-BH67)/Data!$B$8,2)),      \"\"),\"\")","v":""},"","","","",{"$f":"IF(A67<>\"\", IF(H67=\"Flytande\",   IF(BM67>0,  IF(BE67=\"Nej\",  (Data!$B$8-BM67)/Data!$B$8,  ROUND( (Data!$B$8-BM67)/Data!$B$8,2)   ), \"\"), \"\"),\"\")","v":""},"",48,"","","",null,""]
[{"$f":"IF(Uppgradering!A56<>\"\",Uppgradering!A56,\"\")","v":""},49,{"$f":"Uppgradering!C56","v":0},{"$f":"Uppgradering!D56","v":0},{"$f":"Uppgradering!E56","v":0},{"$f":"Uppgradering!AT56","v":""},{"$f":"Uppgradering!AR56","v":""},{"$f":"Uppgradering!AO56","v":""},{"$f":"Uppgradering!AN56","v":""},{"$f":"Uppgradering!AS56","v":""},{"$f":"Uppgradering!AV56","v":""},null,null,null,{"$f":"IF(AND($A68<>\"\",(M68+N68)>0), IF($F68=\"Nej\",    IF(N$13=\"Nm3\",(O$12*1000*1000/((M$242+N$242+M$243+N$243)*1000*  $J68 * Data!$B$6)),  (O$12*1000*1000/(((M$242+N$242+M$243+N$243)/Denscalc($J68))*1000*  $J68 * Data!$B$6)) ), 0     ),  0)","v":0},49,null,null,{"$f":"IF(AND($A68<>\"\",(Q68+R68)>0), IF($F68=\"Nej\",    IF(R$13=\"Nm3\",(S$12*1000*1000/((Q$242+R$242+Q$243+R$243)*1000*  $J68 * Data!$B$6)),  (S$12*1000*1000/(((Q$242+R$242+Q$243+R$243)/Denscalc($J68))*1000*  $J68 * Data!$B$6)) ), 0     ),  0)","v":0},49,null,null,{"$f":"IF(AND($A68<>\"\",(U68+V68)>0), IF($F68=\"Nej\",    IF(V$13=\"Nm3\",(W$12*1000*1000/((U$242+V$242+U$243+V$243)*1000*  $J68 * Data!$B$6)),  (W$12*1000*1000/(((U$242+V$242+U$243+V$243)/Denscalc($J68))*1000*  $J68 * Data!$B$6)) ), 0     ),  0)","v":0},49,null,null,{"$f":"IF(AND($A68<>\"\",(Y68+Z68)>0), IF($F68=\"Nej\",    IF(Z$13=\"Nm3\",(AA$12*1000*1000/((Y$242+Z$242+Y$243+Z$243)*1000*  $J68 * Data!$B$6)),  (AA$12*1000*1000/(((Y$242+Z$242+Y$243+Z$243)/Denscalc($J68))*1000*  $J68 * Data!$B$6)) ), 0     ),  0)","v":0},49,null,null,{"$f":"IF(AND($A68<>\"\",(AC68+AD68)>0), IF($F68=\"Nej\",    IF(AD$13=\"Nm3\",(AE$12*1000*1000/((AC$242+AD$242+AC$243+AD$243)*1000*  $J68 * Data!$B$6)),  (AE$12*1000*1000/(((AC$242+AD$242+AC$243+AD$243)/Denscalc($J68))*1000*  $J68 * Data!$B$6)) ), 0     ),  0)","v":0},49,null,null,{"$f":"IF(AND($A68<>\"\",(AG68+AH68)>0), IF($F68=\"Nej\",    IF(AH$13=\"Nm3\",(AI$12*1000*1000/((AG$242+AH$242+AG$243+AH$243)*1000*  $J68 * Data!$B$6)),  (AI$12*1000*1000/(((AG$242+AH$242+AG$243+AH$243)/Denscalc($J68))*1000*  $J68 * Data!$B$6)) ), 0     ),  0)","v":0},49,null,null,{"$f":"IF(AND($A68<>\"\",(AK68+AL68)>0), IF($F68=\"Nej\",    IF(AL$13=\"Nm3\",(AM$12*1000*1000/((AK$242+AL$242+AK$243+AL$243)*1000*  $J68 * Data!$B$6)),  (AM$12*1000*1000/(((AK$242+AL$242+AK$243+AL$243)/Denscalc($J68))*1000*  $J68 * Data!$B$6)) ), 0     ),  0)","v":0},49,null,null,{"$f":"IF(AND($A68<>\"\",(AO68+AP68)>0), IF($F68=\"Nej\",    IF(AP$13=\"Nm3\",(AQ$12*1000*1000/((AO$242+AP$242+AO$243+AP$243)*1000*  $J68 * Data!$B$6)),  (AQ$12*1000*1000/(((AO$242+AP$242+AO$243+AP$243)/Denscalc($J68))*1000*  $J68 * Data!$B$6)) ), 0     ),  0)","v":0},49,null,null,{"$f":"IF(AND($A68<>\"\",(AS68+AT68)>0), IF($F68=\"Nej\",    IF(AT$13=\"Nm3\",(AU$12*1000*1000/((AS$242+AT$242+AS$243+AT$243)*1000*  $J68 * Data!$B$6)),  (AU$12*1000*1000/(((AS$242+AT$242+AS$243+AT$243)/Denscalc($J68))*1000*  $J68 * Data!$B$6)) ), 0     ),  0)","v":0},49,null,null,{"$f":"IF(AND($A68<>\"\",(AW68+AX68)>0), IF($F68=\"Nej\",\nIF(AX$13=\"Nm3\",(AY$12*1000*1000/((AW$242+AX$242+AW$243+AX$243-AW$240-AX$240)*1000*  $J68 * Data!$B$6))+(AY$6*1000*1000/((AW$242+AX$242+AW$243+AX$243)*1000*  $J68 * Data!$B$6)),\n (AY$12*1000*1000/(((AW$242+AX$242+AW$243+AX$243-AW$240-AX$240)/Denscalc($J68))*1000*  $J68 * Data!$B$6))  +  (AY$6*1000*1000/(((AW$242+AX$242+AW$243+AX$243)/Denscalc($J68))*1000*  $J68 * Data!$B$6)) ), 0     ),  0)","v":0},49,null,null,{"$f":"IF(AND($A68<>\"\",(BA68+BB68)>0), IF($F68=\"Nej\",\n (BC$12*1000*1000/((BA$244+BB$244-BA$240-BB$240)*1000* Data!$B$7))+ (BC$6*1000*1000/((BA$244+BB$244)*1000* Data!$B$7)),0 ),  0)","v":0},49,"",{"$f":"IF(A68<>\"\",IF(F68=\"Nej\", (Data!$B$129*Data!$B$5*1000*Data!$B$3)/Data!$B$6,  0 ),\"\")","v":""},"","",{"$f":"IF(A68<>\"\",IF(BH68>0,  IF(BE68=\"Nej\",    (Data!$B$8-BH68)/Data!$B$8,  ROUND( (Data!$B$8-BH68)/Data!$B$8,2)),      \"\"),\"\")","v":""},"","","","",{"$f":"IF(A68<>\"\", IF(H68=\"Flytande\",   IF(BM68>0,  IF(BE68=\"Nej\",  (Data!$B$8-BM68)/Data!$B$8,  ROUND( (Data!$B$8-BM68)/Data!$B$8,2)   ), \"\"), \"\"),\"\")","v":""},"",49,"","","",null,""]
[{"$f":"IF(Uppgradering!A57<>\"\",Uppgradering!A57,\"\")","v":""},50,{"$f":"Uppgradering!C57","v":0},{"$f":"Uppgradering!D57","v":0},{"$f":"Uppgradering!E57","v":0},{"$f":"Uppgradering!AT57","v":""},{"$f":"Uppgradering!AR57","v":""},{"$f":"Uppgradering!AO57","v":""},{"$f":"Uppgradering!AN57","v":""},{"$f":"Uppgradering!AS57","v":""},{"$f":"Uppgradering!AV57","v":""},null,null,null,{"$f":"IF(AND($A69<>\"\",(M69+N69)>0), IF($F69=\"Nej\",    IF(N$13=\"Nm3\",(O$12*1000*1000/((M$242+N$242+M$243+N$243)*1000*  $J69 * Data!$B$6)),  (O$12*1000*1000/(((M$242+N$242+M$243+N$243)/Denscalc($J69))*1000*  $J69 * Data!$B$6)) ), 0     ),  0)","v":0},50,null,null,{"$f":"IF(AND($A69<>\"\",(Q69+R69)>0), IF($F69=\"Nej\",    IF(R$13=\"Nm3\",(S$12*1000*1000/((Q$242+R$242+Q$243+R$243)*1000*  $J69 * Data!$B$6)),  (S$12*1000*1000/(((Q$242+R$242+Q$243+R$243)/Denscalc($J69))*1000*  $J69 * Data!$B$6)) ), 0     ),  0)","v":0},50,null,null,{"$f":"IF(AND($A69<>\"\",(U69+V69)>0), IF($F69=\"Nej\",    IF(V$13=\"Nm3\",(W$12*1000*1000/((U$242+V$242+U$243+V$243)*1000*  $J69 * Data!$B$6)),  (W$12*1000*1000/(((U$242+V$242+U$243+V$243)/Denscalc($J69))*1000*  $J69 * Data!$B$6)) ), 0     ),  0)","v":0},50,null,null,{"$f":"IF(AND($A69<>\"\",(Y69+Z69)>0), IF($F69=\"Nej\",    IF(Z$13=\"Nm3\",(AA$12*1000*1000/((Y$242+Z$242+Y$243+Z$243)*1000*  $J69 * Data!$B$6)),  (AA$12*1000*1000/(((Y$242+Z$242+Y$243+Z$243)/Denscalc($J69))*1000*  $J69 * Data!$B$6)) ), 0     ),  0)","v":0},50,null,null,{"$f":"IF(AND($A69<>\"\",(AC69+AD69)>0), IF($F69=\"Nej\",    IF(AD$13=\"Nm3\",(AE$12*1000*1000/((AC$242+AD$242+AC$243+AD$243)*1000*  $J69 * Data!$B$6)),  (AE$12*1000*1000/(((AC$242+AD$242+AC$243+AD$243)/Denscalc($J69))*1000*  $J69 * Data!$B$6)) ), 0     ),  0)","v":0},50,null,null,{"$f":"IF(AND($A69<>\"\",(AG69+AH69)>0), IF($F69=\"Nej\",    IF(AH$13=\"Nm3\",(AI$12*1000*1000/((AG$242+AH$242+AG$243+AH$243)*1000*  $J69 * Data!$B$6)),  (AI$12*1000*1000/(((AG$242+AH$242+AG$243+AH$243)/Denscalc($J69))*1000*  $J69 * Data!$B$6)) ), 0     ),  0)","v":0},50,null,null,{"$f":"IF(AND($A69<>\"\",(AK69+AL69)>0), IF($F69=\"Nej\",    IF(AL$13=\"Nm3\",(AM$12*1000*1000/((AK$242+AL$242+AK$243+AL$243)*1000*  $J69 * Data!$B$6)),  (AM$12*1000*1000/(((AK$242+AL$242+AK$243+AL$243)/Denscalc($J69))*1000*  $J69 * Data!$B$6)) ), 0     ),  0)","v":0},50,null,null,{"$f":"IF(AND($A69<>\"\",(AO69+AP69)>0), IF($F69=\"Nej\",    IF(AP$13=\"Nm3\",(AQ$12*1000*1000/((AO$242+AP$242+AO$243+AP$243)*1000*  $J69 * Data!$B$6)),  (AQ$12*1000*1000/(((AO$242+AP$242+AO$243+AP$243)/Denscalc($J69))*1000*  $J69 * Data!$B$6)) ), 0     ),  0)","v":0},50,null,null,{"$f":"IF(AND($A69<>\"\",(AS69+AT69)>0), IF($F69=\"Nej\",    IF(AT$13=\"Nm3\",(AU$12*1000*1000/((AS$242+AT$242+AS$243+AT$243)*1000*  $J69 * Data!$B$6)),  (AU$12*1000*1000/(((AS$242+AT$242+AS$243+AT$243)/Denscalc($J69))*1000*  $J69 * Data!$B$6)) ), 0     ),  0)","v":0},50,null,null,{"$f":"IF(AND($A69<>\"\",(AW69+AX69)>0), IF($F69=\"Nej\",\nIF(AX$13=\"Nm3\",(AY$12*1000*1000/((AW$242+AX$242+AW$243+AX$243-AW$240-AX$240)*1000*  $J69 * Data!$B$6))+(AY$6*1000*1000/((AW$242+AX$242+AW$243+AX$243)*1000*  $J69 * Data!$B$6)),\n (AY$12*1000*1000/(((AW$242+AX$242+AW$243+AX$243-AW$240-AX$240)/Denscalc($J69))*1000*  $J69 * Data!$B$6))  +  (AY$6*1000*1000/(((AW$242+AX$242+AW$243+AX$243)/Denscalc($J69))*1000*  $J69 * Data!$B$6)) ), 0     ),  0)","v":0},50,null,null,{"$f":"IF(AND($A69<>\"\",(BA69+BB69)>0), IF($F69=\"Nej\",\n (BC$12*1000*1000/((BA$244+BB$244-BA$240-BB$240)*1000* Data!$B$7))+ (BC$6*1000*1000/((BA$244+BB$244)*1000* Data!$B$7)),0 ),  0)","v":0},50,"",{"$f":"IF(A69<>\"\",IF(F69=\"Nej\", (Data!$B$129*Data!$B$5*1000*Data!$B$3)/Data!$B$6,  0 ),\"\")","v":""},"","",{"$f":"IF(A69<>\"\",IF(BH69>0,  IF(BE69=\"Nej\",    (Data!$B$8-BH69)/Data!$B$8,  ROUND( (Data!$B$8-BH69)/Data!$B$8,2)),      \"\"),\"\")","v":""},"","","","",{"$f":"IF(A69<>\"\", IF(H69=\"Flytande\",   IF(BM69>0,  IF(BE69=\"Nej\",  (Data!$B$8-BM69)/Data!$B$8,  ROUND( (Data!$B$8-BM69)/Data!$B$8,2)   ), \"\"), \"\"),\"\")","v":""},"",50,"","","",null,""]
[{"$f":"IF(Uppgradering!A58<>\"\",Uppgradering!A58,\"\")","v":""},51,{"$f":"Uppgradering!C58","v":0},{"$f":"Uppgradering!D58","v":0},{"$f":"Uppgradering!E58","v":0},{"$f":"Uppgradering!AT58","v":""},{"$f":"Uppgradering!AR58","v":""},{"$f":"Uppgradering!AO58","v":""},{"$f":"Uppgradering!AN58","v":""},{"$f":"Uppgradering!AS58","v":""},{"$f":"Uppgradering!AV58","v":""},null,null,null,{"$f":"IF(AND($A70<>\"\",(M70+N70)>0), IF($F70=\"Nej\",    IF(N$13=\"Nm3\",(O$12*1000*1000/((M$242+N$242+M$243+N$243)*1000*  $J70 * Data!$B$6)),  (O$12*1000*1000/(((M$242+N$242+M$243+N$243)/Denscalc($J70))*1000*  $J70 * Data!$B$6)) ), 0     ),  0)","v":0},51,null,null,{"$f":"IF(AND($A70<>\"\",(Q70+R70)>0), IF($F70=\"Nej\",    IF(R$13=\"Nm3\",(S$12*1000*1000/((Q$242+R$242+Q$243+R$243)*1000*  $J70 * Data!$B$6)),  (S$12*1000*1000/(((Q$242+R$242+Q$243+R$243)/Denscalc($J70))*1000*  $J70 * Data!$B$6)) ), 0     ),  0)","v":0},51,null,null,{"$f":"IF(AND($A70<>\"\",(U70+V70)>0), IF($F70=\"Nej\",    IF(V$13=\"Nm3\",(W$12*1000*1000/((U$242+V$242+U$243+V$243)*1000*  $J70 * Data!$B$6)),  (W$12*1000*1000/(((U$242+V$242+U$243+V$243)/Denscalc($J70))*1000*  $J70 * Data!$B$6)) ), 0     ),  0)","v":0},51,null,null,{"$f":"IF(AND($A70<>\"\",(Y70+Z70)>0), IF($F70=\"Nej\",    IF(Z$13=\"Nm3\",(AA$12*1000*1000/((Y$242+Z$242+Y$243+Z$243)*1000*  $J70 * Data!$B$6)),  (AA$12*1000*1000/(((Y$242+Z$242+Y$243+Z$243)/Denscalc($J70))*1000*  $J70 * Data!$B$6)) ), 0     ),  0)","v":0},51,null,null,{"$f":"IF(AND($A70<>\"\",(AC70+AD70)>0), IF($F70=\"Nej\",    IF(AD$13=\"Nm3\",(AE$12*1000*1000/((AC$242+AD$242+AC$243+AD$243)*1000*  $J70 * Data!$B$6)),  (AE$12*1000*1000/(((AC$242+AD$242+AC$243+AD$243)/Denscalc($J70))*1000*  $J70 * Data!$B$6)) ), 0     ),  0)","v":0},51,null,null,{"$f":"IF(AND($A70<>\"\",(AG70+AH70)>0), IF($F70=\"Nej\",    IF(AH$13=\"Nm3\",(AI$12*1000*1000/((AG$242+AH$242+AG$243+AH$243)*1000*  $J70 * Data!$B$6)),  (AI$12*1000*1000/(((AG$242+AH$242+AG$243+AH$243)/Denscalc($J70))*1000*  $J70 * Data!$B$6)) ), 0     ),  0)","v":0},51,null,null,{"$f":"IF(AND($A70<>\"\",(AK70+AL70)>0), IF($F70=\"Nej\",    IF(AL$13=\"Nm3\",(AM$12*1000*1000/((AK$242+AL$242+AK$243+AL$243)*1000*  $J70 * Data!$B$6)),  (AM$12*1000*1000/(((AK$242+AL$242+AK$243+AL$243)/Denscalc($J70))*1000*  $J70 * Data!$B$6)) ), 0     ),  0)","v":0},51,null,null,{"$f":"IF(AND($A70<>\"\",(AO70+AP70)>0), IF($F70=\"Nej\",    IF(AP$13=\"Nm3\",(AQ$12*1000*1000/((AO$242+AP$242+AO$243+AP$243)*1000*  $J70 * Data!$B$6)),  (AQ$12*1000*1000/(((AO$242+AP$242+AO$243+AP$243)/Denscalc($J70))*1000*  $J70 * Data!$B$6)) ), 0     ),  0)","v":0},51,null,null,{"$f":"IF(AND($A70<>\"\",(AS70+AT70)>0), IF($F70=\"Nej\",    IF(AT$13=\"Nm3\",(AU$12*1000*1000/((AS$242+AT$242+AS$243+AT$243)*1000*  $J70 * Data!$B$6)),  (AU$12*1000*1000/(((AS$242+AT$242+AS$243+AT$243)/Denscalc($J70))*1000*  $J70 * Data!$B$6)) ), 0     ),  0)","v":0},51,null,null,{"$f":"IF(AND($A70<>\"\",(AW70+AX70)>0), IF($F70=\"Nej\",\nIF(AX$13=\"Nm3\",(AY$12*1000*1000/((AW$242+AX$242+AW$243+AX$243-AW$240-AX$240)*1000*  $J70 * Data!$B$6))+(AY$6*1000*1000/((AW$242+AX$242+AW$243+AX$243)*1000*  $J70 * Data!$B$6)),\n (AY$12*1000*1000/(((AW$242+AX$242+AW$243+AX$243-AW$240-AX$240)/Denscalc($J70))*1000*  $J70 * Data!$B$6))  +  (AY$6*1000*1000/(((AW$242+AX$242+AW$243+AX$243)/Denscalc($J70))*1000*  $J70 * Data!$B$6)) ), 0     ),  0)","v":0},51,null,null,{"$f":"IF(AND($A70<>\"\",(BA70+BB70)>0), IF($F70=\"Nej\",\n (BC$12*1000*1000/((BA$244+BB$244-BA$240-BB$240)*1000* Data!$B$7))+ (BC$6*1000*1000/((BA$244+BB$244)*1000* Data!$B$7)),0 ),  0)","v":0},51,"",{"$f":"IF(A70<>\"\",IF(F70=\"Nej\", (Data!$B$129*Data!$B$5*1000*Data!$B$3)/Data!$B$6,  0 ),\"\")","v":""},"","",{"$f":"IF(A70<>\"\",IF(BH70>0,  IF(BE70=\"Nej\",    (Data!$B$8-BH70)/Data!$B$8,  ROUND( (Data!$B$8-BH70)/Data!$B$8,2)),      \"\"),\"\")","v":""},"","","","",{"$f":"IF(A70<>\"\", IF(H70=\"Flytande\",   IF(BM70>0,  IF(BE70=\"Nej\",  (Data!$B$8-BM70)/Data!$B$8,  ROUND( (Data!$B$8-BM70)/Data!$B$8,2)   ), \"\"), \"\"),\"\")","v":""},"",51,"","","",null,""]
[{"$f":"IF(Uppgradering!A59<>\"\",Uppgradering!A59,\"\")","v":""},52,{"$f":"Uppgradering!C59","v":0},{"$f":"Uppgradering!D59","v":0},{"$f":"Uppgradering!E59","v":0},{"$f":"Uppgradering!AT59","v":""},{"$f":"Uppgradering!AR59","v":""},{"$f":"Uppgradering!AO59","v":""},{"$f":"Uppgradering!AN59","v":""},{"$f":"Uppgradering!AS59","v":""},{"$f":"Uppgradering!AV59","v":""},null,null,null,{"$f":"IF(AND($A71<>\"\",(M71+N71)>0), IF($F71=\"Nej\",    IF(N$13=\"Nm3\",(O$12*1000*1000/((M$242+N$242+M$243+N$243)*1000*  $J71 * Data!$B$6)),  (O$12*1000*1000/(((M$242+N$242+M$243+N$243)/Denscalc($J71))*1000*  $J71 * Data!$B$6)) ), 0     ),  0)","v":0},52,null,null,{"$f":"IF(AND($A71<>\"\",(Q71+R71)>0), IF($F71=\"Nej\",    IF(R$13=\"Nm3\",(S$12*1000*1000/((Q$242+R$242+Q$243+R$243)*1000*  $J71 * Data!$B$6)),  (S$12*1000*1000/(((Q$242+R$242+Q$243+R$243)/Denscalc($J71))*1000*  $J71 * Data!$B$6)) ), 0     ),  0)","v":0},52,null,null,{"$f":"IF(AND($A71<>\"\",(U71+V71)>0), IF($F71=\"Nej\",    IF(V$13=\"Nm3\",(W$12*1000*1000/((U$242+V$242+U$243+V$243)*1000*  $J71 * Data!$B$6)),  (W$12*1000*1000/(((U$242+V$242+U$243+V$243)/Denscalc($J71))*1000*  $J71 * Data!$B$6)) ), 0     ),  0)","v":0},52,null,null,{"$f":"IF(AND($A71<>\"\",(Y71+Z71)>0), IF($F71=\"Nej\",    IF(Z$13=\"Nm3\",(AA$12*1000*1000/((Y$242+Z$242+Y$243+Z$243)*1000*  $J71 * Data!$B$6)),  (AA$12*1000*1000/(((Y$242+Z$242+Y$243+Z$243)/Denscalc($J71))*1000*  $J71 * Data!$B$6)) ), 0     ),  0)","v":0},52,null,null,{"$f":"IF(AND($A71<>\"\",(AC71+AD71)>0), IF($F71=\"Nej\",    IF(AD$13=\"Nm3\",(AE$12*1000*1000/((AC$242+AD$242+AC$243+AD$243)*1000*  $J71 * Data!$B$6)),  (AE$12*1000*1000/(((AC$242+AD$242+AC$243+AD$243)/Denscalc($J71))*1000*  $J71 * Data!$B$6)) ), 0     ),  0)","v":0},52,null,null,{"$f":"IF(AND($A71<>\"\",(AG71+AH71)>0), IF($F71=\"Nej\",    IF(AH$13=\"Nm3\",(AI$12*1000*1000/((AG$242+AH$242+AG$243+AH$243)*1000*  $J71 * Data!$B$6)),  (AI$12*1000*1000/(((AG$242+AH$242+AG$243+AH$243)/Denscalc($J71))*1000*  $J71 * Data!$B$6)) ), 0     ),  0)","v":0},52,null,null,{"$f":"IF(AND($A71<>\"\",(AK71+AL71)>0), IF($F71=\"Nej\",    IF(AL$13=\"Nm3\",(AM$12*1000*1000/((AK$242+AL$242+AK$243+AL$243)*1000*  $J71 * Data!$B$6)),  (AM$12*1000*1000/(((AK$242+AL$242+AK$243+AL$243)/Denscalc($J71))*1000*  $J71 * Data!$B$6)) ), 0     ),  0)","v":0},52,null,null,{"$f":"IF(AND($A71<>\"\",(AO71+AP71)>0), IF($F71=\"Nej\",    IF(AP$13=\"Nm3\",(AQ$12*1000*1000/((AO$242+AP$242+AO$243+AP$243)*1000*  $J71 * Data!$B$6)),  (AQ$12*1000*1000/(((AO$242+AP$242+AO$243+AP$243)/Denscalc($J71))*1000*  $J71 * Data!$B$6)) ), 0     ),  0)","v":0},52,null,null,{"$f":"IF(AND($A71<>\"\",(AS71+AT71)>0), IF($F71=\"Nej\",    IF(AT$13=\"Nm3\",(AU$12*1000*1000/((AS$242+AT$242+AS$243+AT$243)*1000*  $J71 * Data!$B$6)),  (AU$12*1000*1000/(((AS$242+AT$242+AS$243+AT$243)/Denscalc($J71))*1000*  $J71 * Data!$B$6)) ), 0     ),  0)","v":0},52,null,null,{"$f":"IF(AND($A71<>\"\",(AW71+AX71)>0), IF($F71=\"Nej\",\nIF(AX$13=\"Nm3\",(AY$12*1000*1000/((AW$242+AX$242+AW$243+AX$243-AW$240-AX$240)*1000*  $J71 * Data!$B$6))+(AY$6*1000*1000/((AW$242+AX$242+AW$243+AX$243)*1000*  $J71 * Data!$B$6)),\n (AY$12*1000*1000/(((AW$242+AX$242+AW$243+AX$243-AW$240-AX$240)/Denscalc($J71))*1000*  $J71 * Data!$B$6))  +  (AY$6*1000*1000/(((AW$242+AX$242+AW$243+AX$243)/Denscalc($J71))*1000*  $J71 * Data!$B$6)) ), 0     ),  0)","v":0},52,null,null,{"$f":"IF(AND($A71<>\"\",(BA71+BB71)>0), IF($F71=\"Nej\",\n (BC$12*1000*1000/((BA$244+BB$244-BA$240-BB$240)*1000* Data!$B$7))+ (BC$6*1000*1000/((BA$244+BB$244)*1000* Data!$B$7)),0 ),  0)","v":0},52,"",{"$f":"IF(A71<>\"\",IF(F71=\"Nej\", (Data!$B$129*Data!$B$5*1000*Data!$B$3)/Data!$B$6,  0 ),\"\")","v":""},"","",{"$f":"IF(A71<>\"\",IF(BH71>0,  IF(BE71=\"Nej\",    (Data!$B$8-BH71)/Data!$B$8,  ROUND( (Data!$B$8-BH71)/Data!$B$8,2)),      \"\"),\"\")","v":""},"","","","",{"$f":"IF(A71<>\"\", IF(H71=\"Flytande\",   IF(BM71>0,  IF(BE71=\"Nej\",  (Data!$B$8-BM71)/Data!$B$8,  ROUND( (Data!$B$8-BM71)/Data!$B$8,2)   ), \"\"), \"\"),\"\")","v":""},"",52,"","","",null,""]
[{"$f":"IF(Uppgradering!A60<>\"\",Uppgradering!A60,\"\")","v":""},53,{"$f":"Uppgradering!C60","v":0},{"$f":"Uppgradering!D60","v":0},{"$f":"Uppgradering!E60","v":0},{"$f":"Uppgradering!AT60","v":""},{"$f":"Uppgradering!AR60","v":""},{"$f":"Uppgradering!AO60","v":""},{"$f":"Uppgradering!AN60","v":""},{"$f":"Uppgradering!AS60","v":""},{"$f":"Uppgradering!AV60","v":""},null,null,null,{"$f":"IF(AND($A72<>\"\",(M72+N72)>0), IF($F72=\"Nej\",    IF(N$13=\"Nm3\",(O$12*1000*1000/((M$242+N$242+M$243+N$243)*1000*  $J72 * Data!$B$6)),  (O$12*1000*1000/(((M$242+N$242+M$243+N$243)/Denscalc($J72))*1000*  $J72 * Data!$B$6)) ), 0     ),  0)","v":0},53,null,null,{"$f":"IF(AND($A72<>\"\",(Q72+R72)>0), IF($F72=\"Nej\",    IF(R$13=\"Nm3\",(S$12*1000*1000/((Q$242+R$242+Q$243+R$243)*1000*  $J72 * Data!$B$6)),  (S$12*1000*1000/(((Q$242+R$242+Q$243+R$243)/Denscalc($J72))*1000*  $J72 * Data!$B$6)) ), 0     ),  0)","v":0},53,null,null,{"$f":"IF(AND($A72<>\"\",(U72+V72)>0), IF($F72=\"Nej\",    IF(V$13=\"Nm3\",(W$12*1000*1000/((U$242+V$242+U$243+V$243)*1000*  $J72 * Data!$B$6)),  (W$12*1000*1000/(((U$242+V$242+U$243+V$243)/Denscalc($J72))*1000*  $J72 * Data!$B$6)) ), 0     ),  0)","v":0},53,null,null,{"$f":"IF(AND($A72<>\"\",(Y72+Z72)>0), IF($F72=\"Nej\",    IF(Z$13=\"Nm3\",(AA$12*1000*1000/((Y$242+Z$242+Y$243+Z$243)*1000*  $J72 * Data!$B$6)),  (AA$12*1000*1000/(((Y$242+Z$242+Y$243+Z$243)/Denscalc($J72))*1000*  $J72 * Data!$B$6)) ), 0     ),  0)","v":0},53,null,null,{"$f":"IF(AND($A72<>\"\",(AC72+AD72)>0), IF($F72=\"Nej\",    IF(AD$13=\"Nm3\",(AE$12*1000*1000/((AC$242+AD$242+AC$243+AD$243)*1000*  $J72 * Data!$B$6)),  (AE$12*1000*1000/(((AC$242+AD$242+AC$243+AD$243)/Denscalc($J72))*1000*  $J72 * Data!$B$6)) ), 0     ),  0)","v":0},53,null,null,{"$f":"IF(AND($A72<>\"\",(AG72+AH72)>0), IF($F72=\"Nej\",    IF(AH$13=\"Nm3\",(AI$12*1000*1000/((AG$242+AH$242+AG$243+AH$243)*1000*  $J72 * Data!$B$6)),  (AI$12*1000*1000/(((AG$242+AH$242+AG$243+AH$243)/Denscalc($J72))*1000*  $J72 * Data!$B$6)) ), 0     ),  0)","v":0},53,null,null,{"$f":"IF(AND($A72<>\"\",(AK72+AL72)>0), IF($F72=\"Nej\",    IF(AL$13=\"Nm3\",(AM$12*1000*1000/((AK$242+AL$242+AK$243+AL$243)*1000*  $J72 * Data!$B$6)),  (AM$12*1000*1000/(((AK$242+AL$242+AK$243+AL$243)/Denscalc($J72))*1000*  $J72 * Data!$B$6)) ), 0     ),  0)","v":0},53,null,null,{"$f":"IF(AND($A72<>\"\",(AO72+AP72)>0), IF($F72=\"Nej\",    IF(AP$13=\"Nm3\",(AQ$12*1000*1000/((AO$242+AP$242+AO$243+AP$243)*1000*  $J72 * Data!$B$6)),  (AQ$12*1000*1000/(((AO$242+AP$242+AO$243+AP$243)/Denscalc($J72))*1000*  $J72 * Data!$B$6)) ), 0     ),  0)","v":0},53,null,null,{"$f":"IF(AND($A72<>\"\",(AS72+AT72)>0), IF($F72=\"Nej\",    IF(AT$13=\"Nm3\",(AU$12*1000*1000/((AS$242+AT$242+AS$243+AT$243)*1000*  $J72 * Data!$B$6)),  (AU$12*1000*1000/(((AS$242+AT$242+AS$243+AT$243)/Denscalc($J72))*1000*  $J72 * Data!$B$6)) ), 0     ),  0)","v":0},53,null,null,{"$f":"IF(AND($A72<>\"\",(AW72+AX72)>0), IF($F72=\"Nej\",\nIF(AX$13=\"Nm3\",(AY$12*1000*1000/((AW$242+AX$242+AW$243+AX$243-AW$240-AX$240)*1000*  $J72 * Data!$B$6))+(AY$6*1000*1000/((AW$242+AX$242+AW$243+AX$243)*1000*  $J72 * Data!$B$6)),\n (AY$12*1000*1000/(((AW$242+AX$242+AW$243+AX$243-AW$240-AX$240)/Denscalc($J72))*1000*  $J72 * Data!$B$6))  +  (AY$6*1000*1000/(((AW$242+AX$242+AW$243+AX$243)/Denscalc($J72))*1000*  $J72 * Data!$B$6)) ), 0     ),  0)","v":0},53,null,null,{"$f":"IF(AND($A72<>\"\",(BA72+BB72)>0), IF($F72=\"Nej\",\n (BC$12*1000*1000/((BA$244+BB$244-BA$240-BB$240)*1000* Data!$B$7))+ (BC$6*1000*1000/((BA$244+BB$244)*1000* Data!$B$7)),0 ),  0)","v":0},53,"",{"$f":"IF(A72<>\"\",IF(F72=\"Nej\", (Data!$B$129*Data!$B$5*1000*Data!$B$3)/Data!$B$6,  0 ),\"\")","v":""},"","",{"$f":"IF(A72<>\"\",IF(BH72>0,  IF(BE72=\"Nej\",    (Data!$B$8-BH72)/Data!$B$8,  ROUND( (Data!$B$8-BH72)/Data!$B$8,2)),      \"\"),\"\")","v":""},"","","","",{"$f":"IF(A72<>\"\", IF(H72=\"Flytande\",   IF(BM72>0,  IF(BE72=\"Nej\",  (Data!$B$8-BM72)/Data!$B$8,  ROUND( (Data!$B$8-BM72)/Data!$B$8,2)   ), \"\"), \"\"),\"\")","v":""},"",53,"","","",null,""]
[{"$f":"IF(Uppgradering!A61<>\"\",Uppgradering!A61,\"\")","v":""},54,{"$f":"Uppgradering!C61","v":0},{"$f":"Uppgradering!D61","v":0},{"$f":"Uppgradering!E61","v":0},{"$f":"Uppgradering!AT61","v":""},{"$f":"Uppgradering!AR61","v":""},{"$f":"Uppgradering!AO61","v":""},{"$f":"Uppgradering!AN61","v":""},{"$f":"Uppgradering!AS61","v":""},{"$f":"Uppgradering!AV61","v":""},null,null,null,{"$f":"IF(AND($A73<>\"\",(M73+N73)>0), IF($F73=\"Nej\",    IF(N$13=\"Nm3\",(O$12*1000*1000/((M$242+N$242+M$243+N$243)*1000*  $J73 * Data!$B$6)),  (O$12*1000*1000/(((M$242+N$242+M$243+N$243)/Denscalc($J73))*1000*  $J73 * Data!$B$6)) ), 0     ),  0)","v":0},54,null,null,{"$f":"IF(AND($A73<>\"\",(Q73+R73)>0), IF($F73=\"Nej\",    IF(R$13=\"Nm3\",(S$12*1000*1000/((Q$242+R$242+Q$243+R$243)*1000*  $J73 * Data!$B$6)),  (S$12*1000*1000/(((Q$242+R$242+Q$243+R$243)/Denscalc($J73))*1000*  $J73 * Data!$B$6)) ), 0     ),  0)","v":0},54,null,null,{"$f":"IF(AND($A73<>\"\",(U73+V73)>0), IF($F73=\"Nej\",    IF(V$13=\"Nm3\",(W$12*1000*1000/((U$242+V$242+U$243+V$243)*1000*  $J73 * Data!$B$6)),  (W$12*1000*1000/(((U$242+V$242+U$243+V$243)/Denscalc($J73))*1000*  $J73 * Data!$B$6)) ), 0     ),  0)","v":0},54,null,null,{"$f":"IF(AND($A73<>\"\",(Y73+Z73)>0), IF($F73=\"Nej\",    IF(Z$13=\"Nm3\",(AA$12*1000*1000/((Y$242+Z$242+Y$243+Z$243)*1000*  $J73 * Data!$B$6)),  (AA$12*1000*1000/(((Y$242+Z$242+Y$243+Z$243)/Denscalc($J73))*1000*  $J73 * Data!$B$6)) ), 0     ),  0)","v":0},54,null,null,{"$f":"IF(AND($A73<>\"\",(AC73+AD73)>0), IF($F73=\"Nej\",    IF(AD$13=\"Nm3\",(AE$12*1000*1000/((AC$242+AD$242+AC$243+AD$243)*1000*  $J73 * Data!$B$6)),  (AE$12*1000*1000/(((AC$242+AD$242+AC$243+AD$243)/Denscalc($J73))*1000*  $J73 * Data!$B$6)) ), 0     ),  0)","v":0},54,null,null,{"$f":"IF(AND($A73<>\"\",(AG73+AH73)>0), IF($F73=\"Nej\",    IF(AH$13=\"Nm3\",(AI$12*1000*1000/((AG$242+AH$242+AG$243+AH$243)*1000*  $J73 * Data!$B$6)),  (AI$12*1000*1000/(((AG$242+AH$242+AG$243+AH$243)/Denscalc($J73))*1000*  $J73 * Data!$B$6)) ), 0     ),  0)","v":0},54,null,null,{"$f":"IF(AND($A73<>\"\",(AK73+AL73)>0), IF($F73=\"Nej\",    IF(AL$13=\"Nm3\",(AM$12*1000*1000/((AK$242+AL$242+AK$243+AL$243)*1000*  $J73 * Data!$B$6)),  (AM$12*1000*1000/(((AK$242+AL$242+AK$243+AL$243)/Denscalc($J73))*1000*  $J73 * Data!$B$6)) ), 0     ),  0)","v":0},54,null,null,{"$f":"IF(AND($A73<>\"\",(AO73+AP73)>0), IF($F73=\"Nej\",    IF(AP$13=\"Nm3\",(AQ$12*1000*1000/((AO$242+AP$242+AO$243+AP$243)*1000*  $J73 * Data!$B$6)),  (AQ$12*1000*1000/(((AO$242+AP$242+AO$243+AP$243)/Denscalc($J73))*1000*  $J73 * Data!$B$6)) ), 0     ),  0)","v":0},54,null,null,{"$f":"IF(AND($A73<>\"\",(AS73+AT73)>0), IF($F73=\"Nej\",    IF(AT$13=\"Nm3\",(AU$12*1000*1000/((AS$242+AT$242+AS$243+AT$243)*1000*  $J73 * Data!$B$6)),  (AU$12*1000*1000/(((AS$242+AT$242+AS$243+AT$243)/Denscalc($J73))*1000*  $J73 * Data!$B$6)) ), 0     ),  0)","v":0},54,null,null,{"$f":"IF(AND($A73<>\"\",(AW73+AX73)>0), IF($F73=\"Nej\",\nIF(AX$13=\"Nm3\",(AY$12*1000*1000/((AW$242+AX$242+AW$243+AX$243-AW$240-AX$240)*1000*  $J73 * Data!$B$6))+(AY$6*1000*1000/((AW$242+AX$242+AW$243+AX$243)*1000*  $J73 * Data!$B$6)),\n (AY$12*1000*1000/(((AW$242+AX$242+AW$243+AX$243-AW$240-AX$240)/Denscalc($J73))*1000*  $J73 * Data!$B$6))  +  (AY$6*1000*1000/(((AW$242+AX$242+AW$243+AX$243)/Denscalc($J73))*1000*  $J73 * Data!$B$6)) ), 0     ),  0)","v":0},54,null,null,{"$f":"IF(AND($A73<>\"\",(BA73+BB73)>0), IF($F73=\"Nej\",\n (BC$12*1000*1000/((BA$244+BB$244-BA$240-BB$240)*1000* Data!$B$7))+ (BC$6*1000*1000/((BA$244+BB$244)*1000* Data!$B$7)),0 ),  0)","v":0},54,"",{"$f":"IF(A73<>\"\",IF(F73=\"Nej\", (Data!$B$129*Data!$B$5*1000*Data!$B$3)/Data!$B$6,  0 ),\"\")","v":""},"","",{"$f":"IF(A73<>\"\",IF(BH73>0,  IF(BE73=\"Nej\",    (Data!$B$8-BH73)/Data!$B$8,  ROUND( (Data!$B$8-BH73)/Data!$B$8,2)),      \"\"),\"\")","v":""},"","","","",{"$f":"IF(A73<>\"\", IF(H73=\"Flytande\",   IF(BM73>0,  IF(BE73=\"Nej\",  (Data!$B$8-BM73)/Data!$B$8,  ROUND( (Data!$B$8-BM73)/Data!$B$8,2)   ), \"\"), \"\"),\"\")","v":""},"",54,"","","",null,""]
[{"$f":"IF(Uppgradering!A62<>\"\",Uppgradering!A62,\"\")","v":""},55,{"$f":"Uppgradering!C62","v":0},{"$f":"Uppgradering!D62","v":0},{"$f":"Uppgradering!E62","v":0},{"$f":"Uppgradering!AT62","v":""},{"$f":"Uppgradering!AR62","v":""},{"$f":"Uppgradering!AO62","v":""},{"$f":"Uppgradering!AN62","v":""},{"$f":"Uppgradering!AS62","v":""},{"$f":"Uppgradering!AV62","v":""},null,null,null,{"$f":"IF(AND($A74<>\"\",(M74+N74)>0), IF($F74=\"Nej\",    IF(N$13=\"Nm3\",(O$12*1000*1000/((M$242+N$242+M$243+N$243)*1000*  $J74 * Data!$B$6)),  (O$12*1000*1000/(((M$242+N$242+M$243+N$243)/Denscalc($J74))*1000*  $J74 * Data!$B$6)) ), 0     ),  0)","v":0},55,null,null,{"$f":"IF(AND($A74<>\"\",(Q74+R74)>0), IF($F74=\"Nej\",    IF(R$13=\"Nm3\",(S$12*1000*1000/((Q$242+R$242+Q$243+R$243)*1000*  $J74 * Data!$B$6)),  (S$12*1000*1000/(((Q$242+R$242+Q$243+R$243)/Denscalc($J74))*1000*  $J74 * Data!$B$6)) ), 0     ),  0)","v":0},55,null,null,{"$f":"IF(AND($A74<>\"\",(U74+V74)>0), IF($F74=\"Nej\",    IF(V$13=\"Nm3\",(W$12*1000*1000/((U$242+V$242+U$243+V$243)*1000*  $J74 * Data!$B$6)),  (W$12*1000*1000/(((U$242+V$242+U$243+V$243)/Denscalc($J74))*1000*  $J74 * Data!$B$6)) ), 0     ),  0)","v":0},55,null,null,{"$f":"IF(AND($A74<>\"\",(Y74+Z74)>0), IF($F74=\"Nej\",    IF(Z$13=\"Nm3\",(AA$12*1000*1000/((Y$242+Z$242+Y$243+Z$243)*1000*  $J74 * Data!$B$6)),  (AA$12*1000*1000/(((Y$242+Z$242+Y$243+Z$243)/Denscalc($J74))*1000*  $J74 * Data!$B$6)) ), 0     ),  0)","v":0},55,null,null,{"$f":"IF(AND($A74<>\"\",(AC74+AD74)>0), IF($F74=\"Nej\",    IF(AD$13=\"Nm3\",(AE$12*1000*1000/((AC$242+AD$242+AC$243+AD$243)*1000*  $J74 * Data!$B$6)),  (AE$12*1000*1000/(((AC$242+AD$242+AC$243+AD$243)/Denscalc($J74))*1000*  $J74 * Data!$B$6)) ), 0     ),  0)","v":0},55,null,null,{"$f":"IF(AND($A74<>\"\",(AG74+AH74)>0), IF($F74=\"Nej\",    IF(AH$13=\"Nm3\",(AI$12*1000*1000/((AG$242+AH$242+AG$243+AH$243)*1000*  $J74 * Data!$B$6)),  (AI$12*1000*1000/(((AG$242+AH$242+AG$243+AH$243)/Denscalc($J74))*1000*  $J74 * Data!$B$6)) ), 0     ),  0)","v":0},55,null,null,{"$f":"IF(AND($A74<>\"\",(AK74+AL74)>0), IF($F74=\"Nej\",    IF(AL$13=\"Nm3\",(AM$12*1000*1000/((AK$242+AL$242+AK$243+AL$243)*1000*  $J74 * Data!$B$6)),  (AM$12*1000*1000/(((AK$242+AL$242+AK$243+AL$243)/Denscalc($J74))*1000*  $J74 * Data!$B$6)) ), 0     ),  0)","v":0},55,null,null,{"$f":"IF(AND($A74<>\"\",(AO74+AP74)>0), IF($F74=\"Nej\",    IF(AP$13=\"Nm3\",(AQ$12*1000*1000/((AO$242+AP$242+AO$243+AP$243)*1000*  $J74 * Data!$B$6)),  (AQ$12*1000*1000/(((AO$242+AP$242+AO$243+AP$243)/Denscalc($J74))*1000*  $J74 * Data!$B$6)) ), 0     ),  0)","v":0},55,null,null,{"$f":"IF(AND($A74<>\"\",(AS74+AT74)>0), IF($F74=\"Nej\",    IF(AT$13=\"Nm3\",(AU$12*1000*1000/((AS$242+AT$242+AS$243+AT$243)*1000*  $J74 * Data!$B$6)),  (AU$12*1000*1000/(((AS$242+AT$242+AS$243+AT$243)/Denscalc($J74))*1000*  $J74 * Data!$B$6)) ), 0     ),  0)","v":0},55,null,null,{"$f":"IF(AND($A74<>\"\",(AW74+AX74)>0), IF($F74=\"Nej\",\nIF(AX$13=\"Nm3\",(AY$12*1000*1000/((AW$242+AX$242+AW$243+AX$243-AW$240-AX$240)*1000*  $J74 * Data!$B$6))+(AY$6*1000*1000/((AW$242+AX$242+AW$243+AX$243)*1000*  $J74 * Data!$B$6)),\n (AY$12*1000*1000/(((AW$242+AX$242+AW$243+AX$243-AW$240-AX$240)/Denscalc($J74))*1000*  $J74 * Data!$B$6))  +  (AY$6*1000*1000/(((AW$242+AX$242+AW$243+AX$243)/Denscalc($J74))*1000*  $J74 * Data!$B$6)) ), 0     ),  0)","v":0},55,null,null,{"$f":"IF(AND($A74<>\"\",(BA74+BB74)>0), IF($F74=\"Nej\",\n (BC$12*1000*1000/((BA$244+BB$244-BA$240-BB$240)*1000* Data!$B$7))+ (BC$6*1000*1000/((BA$244+BB$244)*1000* Data!$B$7)),0 ),  0)","v":0},55,"",{"$f":"IF(A74<>\"\",IF(F74=\"Nej\", (Data!$B$129*Data!$B$5*1000*Data!$B$3)/Data!$B$6,  0 ),\"\")","v":""},"","",{"$f":"IF(A74<>\"\",IF(BH74>0,  IF(BE74=\"Nej\",    (Data!$B$8-BH74)/Data!$B$8,  ROUND( (Data!$B$8-BH74)/Data!$B$8,2)),      \"\"),\"\")","v":""},"","","","",{"$f":"IF(A74<>\"\", IF(H74=\"Flytande\",   IF(BM74>0,  IF(BE74=\"Nej\",  (Data!$B$8-BM74)/Data!$B$8,  ROUND( (Data!$B$8-BM74)/Data!$B$8,2)   ), \"\"), \"\"),\"\")","v":""},"",55,"","","",null,""]
[{"$f":"IF(Uppgradering!A63<>\"\",Uppgradering!A63,\"\")","v":""},56,{"$f":"Uppgradering!C63","v":0},{"$f":"Uppgradering!D63","v":0},{"$f":"Uppgradering!E63","v":0},{"$f":"Uppgradering!AT63","v":""},{"$f":"Uppgradering!AR63","v":""},{"$f":"Uppgradering!AO63","v":""},{"$f":"Uppgradering!AN63","v":""},{"$f":"Uppgradering!AS63","v":""},{"$f":"Uppgradering!AV63","v":""},null,null,null,{"$f":"IF(AND($A75<>\"\",(M75+N75)>0), IF($F75=\"Nej\",    IF(N$13=\"Nm3\",(O$12*1000*1000/((M$242+N$242+M$243+N$243)*1000*  $J75 * Data!$B$6)),  (O$12*1000*1000/(((M$242+N$242+M$243+N$243)/Denscalc($J75))*1000*  $J75 * Data!$B$6)) ), 0     ),  0)","v":0},56,null,null,{"$f":"IF(AND($A75<>\"\",(Q75+R75)>0), IF($F75=\"Nej\",    IF(R$13=\"Nm3\",(S$12*1000*1000/((Q$242+R$242+Q$243+R$243)*1000*  $J75 * Data!$B$6)),  (S$12*1000*1000/(((Q$242+R$242+Q$243+R$243)/Denscalc($J75))*1000*  $J75 * Data!$B$6)) ), 0     ),  0)","v":0},56,null,null,{"$f":"IF(AND($A75<>\"\",(U75+V75)>0), IF($F75=\"Nej\",    IF(V$13=\"Nm3\",(W$12*1000*1000/((U$242+V$242+U$243+V$243)*1000*  $J75 * Data!$B$6)),  (W$12*1000*1000/(((U$242+V$242+U$243+V$243)/Denscalc($J75))*1000*  $J75 * Data!$B$6)) ), 0     ),  0)","v":0},56,null,null,{"$f":"IF(AND($A75<>\"\",(Y75+Z75)>0), IF($F75=\"Nej\",    IF(Z$13=\"Nm3\",(AA$12*1000*1000/((Y$242+Z$242+Y$243+Z$243)*1000*  $J75 * Data!$B$6)),  (AA$12*1000*1000/(((Y$242+Z$242+Y$243+Z$243)/Denscalc($J75))*1000*  $J75 * Data!$B$6)) ), 0     ),  0)","v":0},56,null,null,{"$f":"IF(AND($A75<>\"\",(AC75+AD75)>0), IF($F75=\"Nej\",    IF(AD$13=\"Nm3\",(AE$12*1000*1000/((AC$242+AD$242+AC$243+AD$243)*1000*  $J75 * Data!$B$6)),  (AE$12*1000*1000/(((AC$242+AD$242+AC$243+AD$243)/Denscalc($J75))*1000*  $J75 * Data!$B$6)) ), 0     ),  0)","v":0},56,null,null,{"$f":"IF(AND($A75<>\"\",(AG75+AH75)>0), IF($F75=\"Nej\",    IF(AH$13=\"Nm3\",(AI$12*1000*1000/((AG$242+AH$242+AG$243+AH$243)*1000*  $J75 * Data!$B$6)),  (AI$12*1000*1000/(((AG$242+AH$242+AG$243+AH$243)/Denscalc($J75))*1000*  $J75 * Data!$B$6)) ), 0     ),  0)","v":0},56,null,null,{"$f":"IF(AND($A75<>\"\",(AK75+AL75)>0), IF($F75=\"Nej\",    IF(AL$13=\"Nm3\",(AM$12*1000*1000/((AK$242+AL$242+AK$243+AL$243)*1000*  $J75 * Data!$B$6)),  (AM$12*1000*1000/(((AK$242+AL$242+AK$243+AL$243)/Denscalc($J75))*1000*  $J75 * Data!$B$6)) ), 0     ),  0)","v":0},56,null,null,{"$f":"IF(AND($A75<>\"\",(AO75+AP75)>0), IF($F75=\"Nej\",    IF(AP$13=\"Nm3\",(AQ$12*1000*1000/((AO$242+AP$242+AO$243+AP$243)*1000*  $J75 * Data!$B$6)),  (AQ$12*1000*1000/(((AO$242+AP$242+AO$243+AP$243)/Denscalc($J75))*1000*  $J75 * Data!$B$6)) ), 0     ),  0)","v":0},56,null,null,{"$f":"IF(AND($A75<>\"\",(AS75+AT75)>0), IF($F75=\"Nej\",    IF(AT$13=\"Nm3\",(AU$12*1000*1000/((AS$242+AT$242+AS$243+AT$243)*1000*  $J75 * Data!$B$6)),  (AU$12*1000*1000/(((AS$242+AT$242+AS$243+AT$243)/Denscalc($J75))*1000*  $J75 * Data!$B$6)) ), 0     ),  0)","v":0},56,null,null,{"$f":"IF(AND($A75<>\"\",(AW75+AX75)>0), IF($F75=\"Nej\",\nIF(AX$13=\"Nm3\",(AY$12*1000*1000/((AW$242+AX$242+AW$243+AX$243-AW$240-AX$240)*1000*  $J75 * Data!$B$6))+(AY$6*1000*1000/((AW$242+AX$242+AW$243+AX$243)*1000*  $J75 * Data!$B$6)),\n (AY$12*1000*1000/(((AW$242+AX$242+AW$243+AX$243-AW$240-AX$240)/Denscalc($J75))*1000*  $J75 * Data!$B$6))  +  (AY$6*1000*1000/(((AW$242+AX$242+AW$243+AX$243)/Denscalc($J75))*1000*  $J75 * Data!$B$6)) ), 0     ),  0)","v":0},56,null,null,{"$f":"IF(AND($A75<>\"\",(BA75+BB75)>0), IF($F75=\"Nej\",\n (BC$12*1000*1000/((BA$244+BB$244-BA$240-BB$240)*1000* Data!$B$7))+ (BC$6*1000*1000/((BA$244+BB$244)*1000* Data!$B$7)),0 ),  0)","v":0},56,"",{"$f":"IF(A75<>\"\",IF(F75=\"Nej\", (Data!$B$129*Data!$B$5*1000*Data!$B$3)/Data!$B$6,  0 ),\"\")","v":""},"","",{"$f":"IF(A75<>\"\",IF(BH75>0,  IF(BE75=\"Nej\",    (Data!$B$8-BH75)/Data!$B$8,  ROUND( (Data!$B$8-BH75)/Data!$B$8,2)),      \"\"),\"\")","v":""},"","","","",{"$f":"IF(A75<>\"\", IF(H75=\"Flytande\",   IF(BM75>0,  IF(BE75=\"Nej\",  (Data!$B$8-BM75)/Data!$B$8,  ROUND( (Data!$B$8-BM75)/Data!$B$8,2)   ), \"\"), \"\"),\"\")","v":""},"",56,"","","",null,""]
[{"$f":"IF(Uppgradering!A64<>\"\",Uppgradering!A64,\"\")","v":""},57,{"$f":"Uppgradering!C64","v":0},{"$f":"Uppgradering!D64","v":0},{"$f":"Uppgradering!E64","v":0},{"$f":"Uppgradering!AT64","v":""},{"$f":"Uppgradering!AR64","v":""},{"$f":"Uppgradering!AO64","v":""},{"$f":"Uppgradering!AN64","v":""},{"$f":"Uppgradering!AS64","v":""},{"$f":"Uppgradering!AV64","v":""},null,null,null,{"$f":"IF(AND($A76<>\"\",(M76+N76)>0), IF($F76=\"Nej\",    IF(N$13=\"Nm3\",(O$12*1000*1000/((M$242+N$242+M$243+N$243)*1000*  $J76 * Data!$B$6)),  (O$12*1000*1000/(((M$242+N$242+M$243+N$243)/Denscalc($J76))*1000*  $J76 * Data!$B$6)) ), 0     ),  0)","v":0},57,null,null,{"$f":"IF(AND($A76<>\"\",(Q76+R76)>0), IF($F76=\"Nej\",    IF(R$13=\"Nm3\",(S$12*1000*1000/((Q$242+R$242+Q$243+R$243)*1000*  $J76 * Data!$B$6)),  (S$12*1000*1000/(((Q$242+R$242+Q$243+R$243)/Denscalc($J76))*1000*  $J76 * Data!$B$6)) ), 0     ),  0)","v":0},57,null,null,{"$f":"IF(AND($A76<>\"\",(U76+V76)>0), IF($F76=\"Nej\",    IF(V$13=\"Nm3\",(W$12*1000*1000/((U$242+V$242+U$243+V$243)*1000*  $J76 * Data!$B$6)),  (W$12*1000*1000/(((U$242+V$242+U$243+V$243)/Denscalc($J76))*1000*  $J76 * Data!$B$6)) ), 0     ),  0)","v":0},57,null,null,{"$f":"IF(AND($A76<>\"\",(Y76+Z76)>0), IF($F76=\"Nej\",    IF(Z$13=\"Nm3\",(AA$12*1000*1000/((Y$242+Z$242+Y$243+Z$243)*1000*  $J76 * Data!$B$6)),  (AA$12*1000*1000/(((Y$242+Z$242+Y$243+Z$243)/Denscalc($J76))*1000*  $J76 * Data!$B$6)) ), 0     ),  0)","v":0},57,null,null,{"$f":"IF(AND($A76<>\"\",(AC76+AD76)>0), IF($F76=\"Nej\",    IF(AD$13=\"Nm3\",(AE$12*1000*1000/((AC$242+AD$242+AC$243+AD$243)*1000*  $J76 * Data!$B$6)),  (AE$12*1000*1000/(((AC$242+AD$242+AC$243+AD$243)/Denscalc($J76))*1000*  $J76 * Data!$B$6)) ), 0     ),  0)","v":0},57,null,null,{"$f":"IF(AND($A76<>\"\",(AG76+AH76)>0), IF($F76=\"Nej\",    IF(AH$13=\"Nm3\",(AI$12*1000*1000/((AG$242+AH$242+AG$243+AH$243)*1000*  $J76 * Data!$B$6)),  (AI$12*1000*1000/(((AG$242+AH$242+AG$243+AH$243)/Denscalc($J76))*1000*  $J76 * Data!$B$6)) ), 0     ),  0)","v":0},57,null,null,{"$f":"IF(AND($A76<>\"\",(AK76+AL76)>0), IF($F76=\"Nej\",    IF(AL$13=\"Nm3\",(AM$12*1000*1000/((AK$242+AL$242+AK$243+AL$243)*1000*  $J76 * Data!$B$6)),  (AM$12*1000*1000/(((AK$242+AL$242+AK$243+AL$243)/Denscalc($J76))*1000*  $J76 * Data!$B$6)) ), 0     ),  0)","v":0},57,null,null,{"$f":"IF(AND($A76<>\"\",(AO76+AP76)>0), IF($F76=\"Nej\",    IF(AP$13=\"Nm3\",(AQ$12*1000*1000/((AO$242+AP$242+AO$243+AP$243)*1000*  $J76 * Data!$B$6)),  (AQ$12*1000*1000/(((AO$242+AP$242+AO$243+AP$243)/Denscalc($J76))*1000*  $J76 * Data!$B$6)) ), 0     ),  0)","v":0},57,null,null,{"$f":"IF(AND($A76<>\"\",(AS76+AT76)>0), IF($F76=\"Nej\",    IF(AT$13=\"Nm3\",(AU$12*1000*1000/((AS$242+AT$242+AS$243+AT$243)*1000*  $J76 * Data!$B$6)),  (AU$12*1000*1000/(((AS$242+AT$242+AS$243+AT$243)/Denscalc($J76))*1000*  $J76 * Data!$B$6)) ), 0     ),  0)","v":0},57,null,null,{"$f":"IF(AND($A76<>\"\",(AW76+AX76)>0), IF($F76=\"Nej\",\nIF(AX$13=\"Nm3\",(AY$12*1000*1000/((AW$242+AX$242+AW$243+AX$243-AW$240-AX$240)*1000*  $J76 * Data!$B$6))+(AY$6*1000*1000/((AW$242+AX$242+AW$243+AX$243)*1000*  $J76 * Data!$B$6)),\n (AY$12*1000*1000/(((AW$242+AX$242+AW$243+AX$243-AW$240-AX$240)/Denscalc($J76))*1000*  $J76 * Data!$B$6))  +  (AY$6*1000*1000/(((AW$242+AX$242+AW$243+AX$243)/Denscalc($J76))*1000*  $J76 * Data!$B$6)) ), 0     ),  0)","v":0},57,null,null,{"$f":"IF(AND($A76<>\"\",(BA76+BB76)>0), IF($F76=\"Nej\",\n (BC$12*1000*1000/((BA$244+BB$244-BA$240-BB$240)*1000* Data!$B$7))+ (BC$6*1000*1000/((BA$244+BB$244)*1000* Data!$B$7)),0 ),  0)","v":0},57,"",{"$f":"IF(A76<>\"\",IF(F76=\"Nej\", (Data!$B$129*Data!$B$5*1000*Data!$B$3)/Data!$B$6,  0 ),\"\")","v":""},"","",{"$f":"IF(A76<>\"\",IF(BH76>0,  IF(BE76=\"Nej\",    (Data!$B$8-BH76)/Data!$B$8,  ROUND( (Data!$B$8-BH76)/Data!$B$8,2)),      \"\"),\"\")","v":""},"","","","",{"$f":"IF(A76<>\"\", IF(H76=\"Flytande\",   IF(BM76>0,  IF(BE76=\"Nej\",  (Data!$B$8-BM76)/Data!$B$8,  ROUND( (Data!$B$8-BM76)/Data!$B$8,2)   ), \"\"), \"\"),\"\")","v":""},"",57,"","","",null,""]
[{"$f":"IF(Uppgradering!A65<>\"\",Uppgradering!A65,\"\")","v":""},58,{"$f":"Uppgradering!C65","v":0},{"$f":"Uppgradering!D65","v":0},{"$f":"Uppgradering!E65","v":0},{"$f":"Uppgradering!AT65","v":""},{"$f":"Uppgradering!AR65","v":""},{"$f":"Uppgradering!AO65","v":""},{"$f":"Uppgradering!AN65","v":""},{"$f":"Uppgradering!AS65","v":""},{"$f":"Uppgradering!AV65","v":""},null,null,null,{"$f":"IF(AND($A77<>\"\",(M77+N77)>0), IF($F77=\"Nej\",    IF(N$13=\"Nm3\",(O$12*1000*1000/((M$242+N$242+M$243+N$243)*1000*  $J77 * Data!$B$6)),  (O$12*1000*1000/(((M$242+N$242+M$243+N$243)/Denscalc($J77))*1000*  $J77 * Data!$B$6)) ), 0     ),  0)","v":0},58,null,null,{"$f":"IF(AND($A77<>\"\",(Q77+R77)>0), IF($F77=\"Nej\",    IF(R$13=\"Nm3\",(S$12*1000*1000/((Q$242+R$242+Q$243+R$243)*1000*  $J77 * Data!$B$6)),  (S$12*1000*1000/(((Q$242+R$242+Q$243+R$243)/Denscalc($J77))*1000*  $J77 * Data!$B$6)) ), 0     ),  0)","v":0},58,null,null,{"$f":"IF(AND($A77<>\"\",(U77+V77)>0), IF($F77=\"Nej\",    IF(V$13=\"Nm3\",(W$12*1000*1000/((U$242+V$242+U$243+V$243)*1000*  $J77 * Data!$B$6)),  (W$12*1000*1000/(((U$242+V$242+U$243+V$243)/Denscalc($J77))*1000*  $J77 * Data!$B$6)) ), 0     ),  0)","v":0},58,null,null,{"$f":"IF(AND($A77<>\"\",(Y77+Z77)>0), IF($F77=\"Nej\",    IF(Z$13=\"Nm3\",(AA$12*1000*1000/((Y$242+Z$242+Y$243+Z$243)*1000*  $J77 * Data!$B$6)),  (AA$12*1000*1000/(((Y$242+Z$242+Y$243+Z$243)/Denscalc($J77))*1000*  $J77 * Data!$B$6)) ), 0     ),  0)","v":0},58,null,null,{"$f":"IF(AND($A77<>\"\",(AC77+AD77)>0), IF($F77=\"Nej\",    IF(AD$13=\"Nm3\",(AE$12*1000*1000/((AC$242+AD$242+AC$243+AD$243)*1000*  $J77 * Data!$B$6)),  (AE$12*1000*1000/(((AC$242+AD$242+AC$243+AD$243)/Denscalc($J77))*1000*  $J77 * Data!$B$6)) ), 0     ),  0)","v":0},58,null,null,{"$f":"IF(AND($A77<>\"\",(AG77+AH77)>0), IF($F77=\"Nej\",    IF(AH$13=\"Nm3\",(AI$12*1000*1000/((AG$242+AH$242+AG$243+AH$243)*1000*  $J77 * Data!$B$6)),  (AI$12*1000*1000/(((AG$242+AH$242+AG$243+AH$243)/Denscalc($J77))*1000*  $J77 * Data!$B$6)) ), 0     ),  0)","v":0},58,null,null,{"$f":"IF(AND($A77<>\"\",(AK77+AL77)>0), IF($F77=\"Nej\",    IF(AL$13=\"Nm3\",(AM$12*1000*1000/((AK$242+AL$242+AK$243+AL$243)*1000*  $J77 * Data!$B$6)),  (AM$12*1000*1000/(((AK$242+AL$242+AK$243+AL$243)/Denscalc($J77))*1000*  $J77 * Data!$B$6)) ), 0     ),  0)","v":0},58,null,null,{"$f":"IF(AND($A77<>\"\",(AO77+AP77)>0), IF($F77=\"Nej\",    IF(AP$13=\"Nm3\",(AQ$12*1000*1000/((AO$242+AP$242+AO$243+AP$243)*1000*  $J77 * Data!$B$6)),  (AQ$12*1000*1000/(((AO$242+AP$242+AO$243+AP$243)/Denscalc($J77))*1000*  $J77 * Data!$B$6)) ), 0     ),  0)","v":0},58,null,null,{"$f":"IF(AND($A77<>\"\",(AS77+AT77)>0), IF($F77=\"Nej\",    IF(AT$13=\"Nm3\",(AU$12*1000*1000/((AS$242+AT$242+AS$243+AT$243)*1000*  $J77 * Data!$B$6)),  (AU$12*1000*1000/(((AS$242+AT$242+AS$243+AT$243)/Denscalc($J77))*1000*  $J77 * Data!$B$6)) ), 0     ),  0)","v":0},58,null,null,{"$f":"IF(AND($A77<>\"\",(AW77+AX77)>0), IF($F77=\"Nej\",\nIF(AX$13=\"Nm3\",(AY$12*1000*1000/((AW$242+AX$242+AW$243+AX$243-AW$240-AX$240)*1000*  $J77 * Data!$B$6))+(AY$6*1000*1000/((AW$242+AX$242+AW$243+AX$243)*1000*  $J77 * Data!$B$6)),\n (AY$12*1000*1000/(((AW$242+AX$242+AW$243+AX$243-AW$240-AX$240)/Denscalc($J77))*1000*  $J77 * Data!$B$6))  +  (AY$6*1000*1000/(((AW$242+AX$242+AW$243+AX$243)/Denscalc($J77))*1000*  $J77 * Data!$B$6)) ), 0     ),  0)","v":0},58,null,null,{"$f":"IF(AND($A77<>\"\",(BA77+BB77)>0), IF($F77=\"Nej\",\n (BC$12*1000*1000/((BA$244+BB$244-BA$240-BB$240)*1000* Data!$B$7))+ (BC$6*1000*1000/((BA$244+BB$244)*1000* Data!$B$7)),0 ),  0)","v":0},58,"",{"$f":"IF(A77<>\"\",IF(F77=\"Nej\", (Data!$B$129*Data!$B$5*1000*Data!$B$3)/Data!$B$6,  0 ),\"\")","v":""},"","",{"$f":"IF(A77<>\"\",IF(BH77>0,  IF(BE77=\"Nej\",    (Data!$B$8-BH77)/Data!$B$8,  ROUND( (Data!$B$8-BH77)/Data!$B$8,2)),      \"\"),\"\")","v":""},"","","","",{"$f":"IF(A77<>\"\", IF(H77=\"Flytande\",   IF(BM77>0,  IF(BE77=\"Nej\",  (Data!$B$8-BM77)/Data!$B$8,  ROUND( (Data!$B$8-BM77)/Data!$B$8,2)   ), \"\"), \"\"),\"\")","v":""},"",58,"","","",null,""]
[{"$f":"IF(Uppgradering!A66<>\"\",Uppgradering!A66,\"\")","v":""},59,{"$f":"Uppgradering!C66","v":0},{"$f":"Uppgradering!D66","v":0},{"$f":"Uppgradering!E66","v":0},{"$f":"Uppgradering!AT66","v":""},{"$f":"Uppgradering!AR66","v":""},{"$f":"Uppgradering!AO66","v":""},{"$f":"Uppgradering!AN66","v":""},{"$f":"Uppgradering!AS66","v":""},{"$f":"Uppgradering!AV66","v":""},null,null,null,{"$f":"IF(AND($A78<>\"\",(M78+N78)>0), IF($F78=\"Nej\",    IF(N$13=\"Nm3\",(O$12*1000*1000/((M$242+N$242+M$243+N$243)*1000*  $J78 * Data!$B$6)),  (O$12*1000*1000/(((M$242+N$242+M$243+N$243)/Denscalc($J78))*1000*  $J78 * Data!$B$6)) ), 0     ),  0)","v":0},59,null,null,{"$f":"IF(AND($A78<>\"\",(Q78+R78)>0), IF($F78=\"Nej\",    IF(R$13=\"Nm3\",(S$12*1000*1000/((Q$242+R$242+Q$243+R$243)*1000*  $J78 * Data!$B$6)),  (S$12*1000*1000/(((Q$242+R$242+Q$243+R$243)/Denscalc($J78))*1000*  $J78 * Data!$B$6)) ), 0     ),  0)","v":0},59,null,null,{"$f":"IF(AND($A78<>\"\",(U78+V78)>0), IF($F78=\"Nej\",    IF(V$13=\"Nm3\",(W$12*1000*1000/((U$242+V$242+U$243+V$243)*1000*  $J78 * Data!$B$6)),  (W$12*1000*1000/(((U$242+V$242+U$243+V$243)/Denscalc($J78))*1000*  $J78 * Data!$B$6)) ), 0     ),  0)","v":0},59,null,null,{"$f":"IF(AND($A78<>\"\",(Y78+Z78)>0), IF($F78=\"Nej\",    IF(Z$13=\"Nm3\",(AA$12*1000*1000/((Y$242+Z$242+Y$243+Z$243)*1000*  $J78 * Data!$B$6)),  (AA$12*1000*1000/(((Y$242+Z$242+Y$243+Z$243)/Denscalc($J78))*1000*  $J78 * Data!$B$6)) ), 0     ),  0)","v":0},59,null,null,{"$f":"IF(AND($A78<>\"\",(AC78+AD78)>0), IF($F78=\"Nej\",    IF(AD$13=\"Nm3\",(AE$12*1000*1000/((AC$242+AD$242+AC$243+AD$243)*1000*  $J78 * Data!$B$6)),  (AE$12*1000*1000/(((AC$242+AD$242+AC$243+AD$243)/Denscalc($J78))*1000*  $J78 * Data!$B$6)) ), 0     ),  0)","v":0},59,null,null,{"$f":"IF(AND($A78<>\"\",(AG78+AH78)>0), IF($F78=\"Nej\",    IF(AH$13=\"Nm3\",(AI$12*1000*1000/((AG$242+AH$242+AG$243+AH$243)*1000*  $J78 * Data!$B$6)),  (AI$12*1000*1000/(((AG$242+AH$242+AG$243+AH$243)/Denscalc($J78))*1000*  $J78 * Data!$B$6)) ), 0     ),  0)","v":0},59,null,null,{"$f":"IF(AND($A78<>\"\",(AK78+AL78)>0), IF($F78=\"Nej\",    IF(AL$13=\"Nm3\",(AM$12*1000*1000/((AK$242+AL$242+AK$243+AL$243)*1000*  $J78 * Data!$B$6)),  (AM$12*1000*1000/(((AK$242+AL$242+AK$243+AL$243)/Denscalc($J78))*1000*  $J78 * Data!$B$6)) ), 0     ),  0)","v":0},59,null,null,{"$f":"IF(AND($A78<>\"\",(AO78+AP78)>0), IF($F78=\"Nej\",    IF(AP$13=\"Nm3\",(AQ$12*1000*1000/((AO$242+AP$242+AO$243+AP$243)*1000*  $J78 * Data!$B$6)),  (AQ$12*1000*1000/(((AO$242+AP$242+AO$243+AP$243)/Denscalc($J78))*1000*  $J78 * Data!$B$6)) ), 0     ),  0)","v":0},59,null,null,{"$f":"IF(AND($A78<>\"\",(AS78+AT78)>0), IF($F78=\"Nej\",    IF(AT$13=\"Nm3\",(AU$12*1000*1000/((AS$242+AT$242+AS$243+AT$243)*1000*  $J78 * Data!$B$6)),  (AU$12*1000*1000/(((AS$242+AT$242+AS$243+AT$243)/Denscalc($J78))*1000*  $J78 * Data!$B$6)) ), 0     ),  0)","v":0},59,null,null,{"$f":"IF(AND($A78<>\"\",(AW78+AX78)>0), IF($F78=\"Nej\",\nIF(AX$13=\"Nm3\",(AY$12*1000*1000/((AW$242+AX$242+AW$243+AX$243-AW$240-AX$240)*1000*  $J78 * Data!$B$6))+(AY$6*1000*1000/((AW$242+AX$242+AW$243+AX$243)*1000*  $J78 * Data!$B$6)),\n (AY$12*1000*1000/(((AW$242+AX$242+AW$243+AX$243-AW$240-AX$240)/Denscalc($J78))*1000*  $J78 * Data!$B$6))  +  (AY$6*1000*1000/(((AW$242+AX$242+AW$243+AX$243)/Denscalc($J78))*1000*  $J78 * Data!$B$6)) ), 0     ),  0)","v":0},59,null,null,{"$f":"IF(AND($A78<>\"\",(BA78+BB78)>0), IF($F78=\"Nej\",\n (BC$12*1000*1000/((BA$244+BB$244-BA$240-BB$240)*1000* Data!$B$7))+ (BC$6*1000*1000/((BA$244+BB$244)*1000* Data!$B$7)),0 ),  0)","v":0},59,"",{"$f":"IF(A78<>\"\",IF(F78=\"Nej\", (Data!$B$129*Data!$B$5*1000*Data!$B$3)/Data!$B$6,  0 ),\"\")","v":""},"","",{"$f":"IF(A78<>\"\",IF(BH78>0,  IF(BE78=\"Nej\",    (Data!$B$8-BH78)/Data!$B$8,  ROUND( (Data!$B$8-BH78)/Data!$B$8,2)),      \"\"),\"\")","v":""},"","","","",{"$f":"IF(A78<>\"\", IF(H78=\"Flytande\",   IF(BM78>0,  IF(BE78=\"Nej\",  (Data!$B$8-BM78)/Data!$B$8,  ROUND( (Data!$B$8-BM78)/Data!$B$8,2)   ), \"\"), \"\"),\"\")","v":""},"",59,"","","",null,""]
[{"$f":"IF(Uppgradering!A67<>\"\",Uppgradering!A67,\"\")","v":""},60,{"$f":"Uppgradering!C67","v":0},{"$f":"Uppgradering!D67","v":0},{"$f":"Uppgradering!E67","v":0},{"$f":"Uppgradering!AT67","v":""},{"$f":"Uppgradering!AR67","v":""},{"$f":"Uppgradering!AO67","v":""},{"$f":"Uppgradering!AN67","v":""},{"$f":"Uppgradering!AS67","v":""},{"$f":"Uppgradering!AV67","v":""},null,null,null,{"$f":"IF(AND($A79<>\"\",(M79+N79)>0), IF($F79=\"Nej\",    IF(N$13=\"Nm3\",(O$12*1000*1000/((M$242+N$242+M$243+N$243)*1000*  $J79 * Data!$B$6)),  (O$12*1000*1000/(((M$242+N$242+M$243+N$243)/Denscalc($J79))*1000*  $J79 * Data!$B$6)) ), 0     ),  0)","v":0},60,null,null,{"$f":"IF(AND($A79<>\"\",(Q79+R79)>0), IF($F79=\"Nej\",    IF(R$13=\"Nm3\",(S$12*1000*1000/((Q$242+R$242+Q$243+R$243)*1000*  $J79 * Data!$B$6)),  (S$12*1000*1000/(((Q$242+R$242+Q$243+R$243)/Denscalc($J79))*1000*  $J79 * Data!$B$6)) ), 0     ),  0)","v":0},60,null,null,{"$f":"IF(AND($A79<>\"\",(U79+V79)>0), IF($F79=\"Nej\",    IF(V$13=\"Nm3\",(W$12*1000*1000/((U$242+V$242+U$243+V$243)*1000*  $J79 * Data!$B$6)),  (W$12*1000*1000/(((U$242+V$242+U$243+V$243)/Denscalc($J79))*1000*  $J79 * Data!$B$6)) ), 0     ),  0)","v":0},60,null,null,{"$f":"IF(AND($A79<>\"\",(Y79+Z79)>0), IF($F79=\"Nej\",    IF(Z$13=\"Nm3\",(AA$12*1000*1000/((Y$242+Z$242+Y$243+Z$243)*1000*  $J79 * Data!$B$6)),  (AA$12*1000*1000/(((Y$242+Z$242+Y$243+Z$243)/Denscalc($J79))*1000*  $J79 * Data!$B$6)) ), 0     ),  0)","v":0},60,null,null,{"$f":"IF(AND($A79<>\"\",(AC79+AD79)>0), IF($F79=\"Nej\",    IF(AD$13=\"Nm3\",(AE$12*1000*1000/((AC$242+AD$242+AC$243+AD$243)*1000*  $J79 * Data!$B$6)),  (AE$12*1000*1000/(((AC$242+AD$242+AC$243+AD$243)/Denscalc($J79))*1000*  $J79 * Data!$B$6)) ), 0     ),  0)","v":0},60,null,null,{"$f":"IF(AND($A79<>\"\",(AG79+AH79)>0), IF($F79=\"Nej\",    IF(AH$13=\"Nm3\",(AI$12*1000*1000/((AG$242+AH$242+AG$243+AH$243)*1000*  $J79 * Data!$B$6)),  (AI$12*1000*1000/(((AG$242+AH$242+AG$243+AH$243)/Denscalc($J79))*1000*  $J79 * Data!$B$6)) ), 0     ),  0)","v":0},60,null,null,{"$f":"IF(AND($A79<>\"\",(AK79+AL79)>0), IF($F79=\"Nej\",    IF(AL$13=\"Nm3\",(AM$12*1000*1000/((AK$242+AL$242+AK$243+AL$243)*1000*  $J79 * Data!$B$6)),  (AM$12*1000*1000/(((AK$242+AL$242+AK$243+AL$243)/Denscalc($J79))*1000*  $J79 * Data!$B$6)) ), 0     ),  0)","v":0},60,null,null,{"$f":"IF(AND($A79<>\"\",(AO79+AP79)>0), IF($F79=\"Nej\",    IF(AP$13=\"Nm3\",(AQ$12*1000*1000/((AO$242+AP$242+AO$243+AP$243)*1000*  $J79 * Data!$B$6)),  (AQ$12*1000*1000/(((AO$242+AP$242+AO$243+AP$243)/Denscalc($J79))*1000*  $J79 * Data!$B$6)) ), 0     ),  0)","v":0},60,null,null,{"$f":"IF(AND($A79<>\"\",(AS79+AT79)>0), IF($F79=\"Nej\",    IF(AT$13=\"Nm3\",(AU$12*1000*1000/((AS$242+AT$242+AS$243+AT$243)*1000*  $J79 * Data!$B$6)),  (AU$12*1000*1000/(((AS$242+AT$242+AS$243+AT$243)/Denscalc($J79))*1000*  $J79 * Data!$B$6)) ), 0     ),  0)","v":0},60,null,null,{"$f":"IF(AND($A79<>\"\",(AW79+AX79)>0), IF($F79=\"Nej\",\nIF(AX$13=\"Nm3\",(AY$12*1000*1000/((AW$242+AX$242+AW$243+AX$243-AW$240-AX$240)*1000*  $J79 * Data!$B$6))+(AY$6*1000*1000/((AW$242+AX$242+AW$243+AX$243)*1000*  $J79 * Data!$B$6)),\n (AY$12*1000*1000/(((AW$242+AX$242+AW$243+AX$243-AW$240-AX$240)/Denscalc($J79))*1000*  $J79 * Data!$B$6))  +  (AY$6*1000*1000/(((AW$242+AX$242+AW$243+AX$243)/Denscalc($J79))*1000*  $J79 * Data!$B$6)) ), 0     ),  0)","v":0},60,null,null,{"$f":"IF(AND($A79<>\"\",(BA79+BB79)>0), IF($F79=\"Nej\",\n (BC$12*1000*1000/((BA$244+BB$244-BA$240-BB$240)*1000* Data!$B$7))+ (BC$6*1000*1000/((BA$244+BB$244)*1000* Data!$B$7)),0 ),  0)","v":0},60,"",{"$f":"IF(A79<>\"\",IF(F79=\"Nej\", (Data!$B$129*Data!$B$5*1000*Data!$B$3)/Data!$B$6,  0 ),\"\")","v":""},"","",{"$f":"IF(A79<>\"\",IF(BH79>0,  IF(BE79=\"Nej\",    (Data!$B$8-BH79)/Data!$B$8,  ROUND( (Data!$B$8-BH79)/Data!$B$8,2)),      \"\"),\"\")","v":""},"","","","",{"$f":"IF(A79<>\"\", IF(H79=\"Flytande\",   IF(BM79>0,  IF(BE79=\"Nej\",  (Data!$B$8-BM79)/Data!$B$8,  ROUND( (Data!$B$8-BM79)/Data!$B$8,2)   ), \"\"), \"\"),\"\")","v":""},"",60,"","","",null,""]
["Summa egen producerad biogas (gasform, Nm3 )",null,null,null,null,null,{"$f":"SUMIFS(G50:G79,H50:H79,\"=Gas\",I50:I79,\"=Nm3\")","v":0},"Nm3","Såld gas (gasform)",null,null,null,{"$f":"IF(N13=\"Nm3\", SUM(M50:M79),\"\")","v":""},{"$f":"IF(N13=\"Nm3\", SUM(N50:N79),\"\")","v":""},"Nm3",null,{"$f":"IF(R13=\"Nm3\", SUM(Q50:Q79),\"\")","v":""},{"$f":"IF(R13=\"Nm3\", SUM(R50:R79),\"\")","v":""},"Nm3",null,{"$f":"IF(V13=\"Nm3\", SUM(U50:U79),\"\")","v":""},{"$f":"IF(V13=\"Nm3\", SUM(V50:V79),\"\")","v":""},"Nm3",null,{"$f":"IF(Z13=\"Nm3\", SUM(Y50:Y79),\"\")","v":""},{"$f":"IF(Z13=\"Nm3\", SUM(Z50:Z79),\"\")","v":""},"Nm3",null,{"$f":"IF(AD13=\"Nm3\", SUM(AC50:AC79),\"\")","v":""},{"$f":"IF(AD13=\"Nm3\", SUM(AD50:AD79),\"\")","v":""},"Nm3",null,{"$f":"IF(AH13=\"Nm3\", SUM(AG50:AG79),\"\")","v":""},{"$f":"IF(AH13=\"Nm3\", SUM(AH50:AH79),\"\")","v":""},"Nm3",null,{"$f":"IF(AL13=\"Nm3\", SUM(AK50:AK79),\"\")","v":""},{"$f":"IF(AL13=\"Nm3\", SUM(AL50:AL79),\"\")","v":""},"Nm3",null,{"$f":"IF(AP13=\"Nm3\", SUM(AO50:AO79),\"\")","v":""},{"$f":"IF(AP13=\"Nm3\", SUM(AP50:AP79),\"\")","v":""},"Nm3",null,{"$f":"IF(AT13=\"Nm3\", SUM(AS50:AS79),\"\")","v":""},{"$f":"IF(AT13=\"Nm3\", SUM(AT50:AT79),\"\")","v":""},"Nm3",null,{"$f":"IF(AX13=\"Nm3\", SUM(AW50:AW79),\"\")","v":""},{"$f":"IF(AX13=\"Nm3\", SUM(AX50:AX79),\"\")","v":""},"Nm3",null,null,null,null,null,null,null,null,null,"Summa",{"$f":"SUM(BJ50:BJ79)","v":0},null,"Nm3",null,null,null,null,{"$f":"SUM(BQ50:BQ79)","v":0}]
["Summa egen producerad biogas (gasform, kg)",null,null,null,null,null,{"$f":"SUMIFS(G50:G79,H50:H79,\"=Gas\",I50:I79,\"=kg\")","v":0},"kg","Såld gas (gasform)",null,null,null,{"$f":"IF(N13=\"kg\", SUM(M50:M79),\"\")","v":0},{"$f":"IF(N13=\"kg\", SUM(N50:N79),\"\")","v":0},"kg",null,{"$f":"IF(R13=\"kg\", SUM(Q50:Q79),\"\")","v":0},{"$f":"IF(R13=\"kg\", SUM(R50:R79),\"\")","v":0},"kg",null,{"$f":"IF(V13=\"kg\", SUM(U50:U79),\"\")","v":0},{"$f":"IF(V13=\"kg\", SUM(V50:V79),\"\")","v":0},"kg",null,{"$f":"IF(Z13=\"kg\", SUM(Y50:Y79),\"\")","v":0},{"$f":"IF(Z13=\"kg\", SUM(Z50:Z79),\"\")","v":0},"kg",null,{"$f":"IF(AD13=\"kg\", SUM(AC50:AC79),\"\")","v":0},{"$f":"IF(AD13=\"kg\", SUM(AD50:AD79),\"\")","v":0},"kg",null,{"$f":"IF(AH13=\"kg\", SUM(AG50:AG79),\"\")","v":0},{"$f":"IF(AH13=\"kg\", SUM(AH50:AH79),\"\")","v":0},"kg",null,{"$f":"IF(AL13=\"kg\", SUM(AK50:AK79),\"\")","v":0},{"$f":"IF(AL13=\"kg\", SUM(AL50:AL79),\"\")","v":0},"kg",null,{"$f":"IF(AP13=\"kg\", SUM(AO50:AO79),\"\")","v":0},{"$f":"IF(AP13=\"kg\", SUM(AP50:AP79),\"\")","v":0},"kg",null,{"$f":"IF(AT13=\"kg\", SUM(AS50:AS79),\"\")","v":0},{"$f":"IF(AT13=\"kg\", SUM(AT50:AT79),\"\")","v":0},"kg",null,{"$f":"IF(AX13=\"kg\", SUM(AW50:AW79),\"\")","v":0},{"$f":"IF(AX13=\"kg\", SUM(AX50:AX79),\"\")","v":0},"kg",null,null,null,null,null,null,null,null,null,"Summa",null,{"$f":"SUM(BK50:BK79)","v":0},"kg",null,null,null,null,null,{"$f":"SUM(BR50:BR79)","v":0}]
["Summa inköpt rågas som uppgraderats (flytande form, kg)",null,null,null,null,null,{"$f":"SUMIF(H50:H79,\"=Flytande\",G50:G79)","v":0},"kg",null,null,null,null,null,null,null,null,null,null,null,null,null,null,null,null,null,null,null,null,null,null,null,null,null,null,null,null,null,null,null,null,null,null,null,null,null,null,null,null,"Såld gas (flytande form)  ",null,null,null,{"$f":"SUM(BA50:BA79)","v":0},{"$f":"SUM(BB50:BB79)","v":0},null,null,null,null,null,null,null,null,null,null,null,"Summa",{"$f":"SUM(BO50:BO79)","v":0},null,null,null,{"$f":"SUM(BS50:BS79)","v":0}]
["Inköpt uppgraderad biogas",null,null,null,null,null,null,null,null,null,null,null,null,null,null,null,null,null,null,null,null,null,null,null,null,null,null,null,null,null,null,null,null,null,null,null,null,null,null,null,null,null,null,null,null,null,null,null,null,null,null,null,null,null,null,null,"Inköpt uppgraderad biogas"]
[null,61,null,"",null,null,null,null,null,null,null,null,null,null,{"$f":"IF(AND($A84<>\"\",(M84+N84)>0), IF($F84=\"Nej\",    IF(N$13=\"Nm3\",(O$12*1000*1000/((M$242+N$242+M$243+N$243)*1000*  $J84 * Data!$B$6)),  (O$12*1000*1000/(((M$242+N$242+M$243+N$243)/Denscalc($J84))*1000*  $J84 * Data!$B$6)) ), 0     ),  0)","v":0},61,null,null,{"$f":"IF(AND($A84<>\"\",(Q84+R84)>0), IF($F84=\"Nej\",    IF(R$13=\"Nm3\",(S$12*1000*1000/((Q$242+R$242+Q$243+R$243)*1000*  $J84 * Data!$B$6)),  (S$12*1000*1000/(((Q$242+R$242+Q$243+R$243)/Denscalc($J84))*1000*  $J84 * Data!$B$6)) ), 0     ),  0)","v":0},61,null,null,{"$f":"IF(AND($A84<>\"\",(U84+V84)>0), IF($F84=\"Nej\",    IF(V$13=\"Nm3\",(W$12*1000*1000/((U$242+V$242+U$243+V$243)*1000*  $J84 * Data!$B$6)),  (W$12*1000*1000/(((U$242+V$242+U$243+V$243)/Denscalc($J84))*1000*  $J84 * Data!$B$6)) ), 0     ),  0)","v":0},61,null,null,{"$f":"IF(AND($A84<>\"\",(Y84+Z84)>0), IF($F84=\"Nej\",    IF(Z$13=\"Nm3\",(AA$12*1000*1000/((Y$242+Z$242+Y$243+Z$243)*1000*  $J84 * Data!$B$6)),  (AA$12*1000*1000/(((Y$242+Z$242+Y$243+Z$243)/Denscalc($J84))*1000*  $J84 * Data!$B$6)) ), 0     ),  0)","v":0},61,null,null,{"$f":"IF(AND($A84<>\"\",(AC84+AD84)>0), IF($F84=\"Nej\",    IF(AD$13=\"Nm3\",(AE$12*1000*1000/((AC$242+AD$242+AC$243+AD$243)*1000*  $J84 * Data!$B$6)),  (AE$12*1000*1000/(((AC$242+AD$242+AC$243+AD$243)/Denscalc($J84))*1000*  $J84 * Data!$B$6)) ), 0     ),  0)","v":0},61,null,null,{"$f":"IF(AND($A84<>\"\",(AG84+AH84)>0), IF($F84=\"Nej\",    IF(AH$13=\"Nm3\",(AI$12*1000*1000/((AG$242+AH$242+AG$243+AH$243)*1000*  $J84 * Data!$B$6)),  (AI$12*1000*1000/(((AG$242+AH$242+AG$243+AH$243)/Denscalc($J84))*1000*  $J84 * Data!$B$6)) ), 0     ),  0)","v":0},61,null,null,{"$f":"IF(AND($A84<>\"\",(AK84+AL84)>0), IF($F84=\"Nej\",    IF(AL$13=\"Nm3\",(AM$12*1000*1000/((AK$242+AL$242+AK$243+AL$243)*1000*  $J84 * Data!$B$6)),  (AM$12*1000*1000/(((AK$242+AL$242+AK$243+AL$243)/Denscalc($J84))*1000*  $J84 * Data!$B$6)) ), 0     ),  0)","v":0},61,null,null,{"$f":"IF(AND($A84<>\"\",(AO84+AP84)>0), IF($F84=\"Nej\",    IF(AP$13=\"Nm3\",(AQ$12*1000*1000/((AO$242+AP$242+AO$243+AP$243)*1000*  $J84 * Data!$B$6)),  (AQ$12*1000*1000/(((AO$242+AP$242+AO$243+AP$243)/Denscalc($J84))*1000*  $J84 * Data!$B$6)) ), 0     ),  0)","v":0},61,null,null,{"$f":"IF(AND($A84<>\"\",(AS84+AT84)>0), IF($F84=\"Nej\",    IF(AT$13=\"Nm3\",(AU$12*1000*1000/((AS$242+AT$242+AS$243+AT$243)*1000*  $J84 * Data!$B$6)),  (AU$12*1000*1000/(((AS$242+AT$242+AS$243+AT$243)/Denscalc($J84))*1000*  $J84 * Data!$B$6)) ), 0     ),  0)","v":0},61,null,null,{"$f":"IF(AND($A84<>\"\",(AW84+AX84)>0), IF($F84=\"Nej\",\nIF(AX$13=\"Nm3\",(AY$12*1000*1000/((AW$242+AX$242+AW$243+AX$243-AW$240-AX$240)*1000*  $J84 * Data!$B$6))+(AY$6*1000*1000/((AW$242+AX$242+AW$243+AX$243)*1000*  $J84 * Data!$B$6)),\n (AY$12*1000*1000/(((AW$242+AX$242+AW$243+AX$243-AW$240-AX$240)/Denscalc($J84))*1000*  $J84 * Data!$B$6))  +  (AY$6*1000*1000/(((AW$242+AX$242+AW$243+AX$243)/Denscalc($J84))*1000*  $J84 * Data!$B$6)) ), 0     ),  0)","v":0},61,null,null,{"$f":"IF(AND($A84<>\"\",(BA84+BB84)>0), IF($F84=\"Nej\",\n (BC$12*1000*1000/((BA$244+BB$244-BA$240-BB$240)*1000* Data!$B$7))+ (BC$6*1000*1000/((BA$244+BB$244)*1000* Data!$B$7)),0 ),  0)","v":0},61,{"$f":"IF(F84<>0,F84,\"\")","v":""},{"$f":"IF(A84<>\"\",IF(F84=\"Nej\", (Data!$B$129*Data!$B$5*1000*Data!$B$3)/Data!$B$6,  0 ),\"\")","v":""},{"$f":"IF(A84<>\"\",   IF(H84=\"Gas\",\n( ((O84*(M84+N84) + S84*(Q84+R84) + W84*(U84+V84) + AA84*(Y84+Z84) + AE84*(AC84+AD84) + AI84*(AG84+AH84) + AM84*(AK84+AL84) + AQ84*(AO84+AP84) + AU84*(AS84+AT84)  )) /\n( M84+N84+Q84+R84+U84+V84+Y84+Z84+AC84+AD84+AG84+AH84+AK84+AL84+AO84+AP84+AS84+AT84)+BF84),\nAY84+BF84 ),  \"\")","v":""},{"$f":"IF(A84<>\"\", IF(BE84=\"Nej\",  (K84+BG84), BE84),\"\")","v":""},{"$f":"IF(A84<>\"\",IF(BH84>0,  IF(BE84=\"Nej\",    (Data!$B$8-BH84)/Data!$B$8,  ROUND( (Data!$B$8-BH84)/Data!$B$8,2)),      \"\"),\"\")","v":""},{"$f":"IF(A84<>\"\", SUM( IF(R$13=\"Nm3\",Q84,0),  IF(V$13=\"Nm3\",U84,0),  IF(Z$13=\"Nm3\",Y84,0),  IF(AD$13=\"Nm3\",AC84,0), IF(AH$13=\"Nm3\",AG84,0),  IF(AL$13=\"Nm3\",AK84,0),  IF(AP$13=\"Nm3\",AO84,0),  IF(AT$13=\"Nm3\",AS84,0), IF(AX$13=\"Nm3\",AW84,0),  ),\"\")","v":""},{"$f":"IF(A84<>\"\", SUM(  IF(R$13=\"kg\",Q84,0),  IF(V$13=\"kg\",U84,0),  IF(Z$13=\"kg\",Y84,0),  IF(AD$13=\"kg\",AC84,0), IF(AH$13=\"kg\",AG84,0),  IF(AL$13=\"kg\",AK84,0),  IF(AP$13=\"kg\",AO84,0),  IF(AT$13=\"kg\",AS84,0), IF(AX$13=\"kg\",AW84,0),  ),\"\")","v":""},{"$f":"IF(A84<>\"\",   IF(H84=\"Flytande\", BC84+BF84, \"\"    ), \"\")","v":""},{"$f":"IF(A84<>\"\", IF(H84=\"Flytande\", IF(BE84=\"Nej\",    (K84+BL84),  BE84),\"\"), \"\")","v":""},{"$f":"IF(A84<>\"\", IF(H84=\"Flytande\",   IF(BM84>0,  IF(BE84=\"Nej\",  (Data!$B$8-BM84)/Data!$B$8,  ROUND( (Data!$B$8-BM84)/Data!$B$8,2)   ), \"\"), \"\"),\"\")","v":""},{"$f":"IF(A84<>\"\",BA84,\"\")","v":""},61,{"$f":"IF(A84<>\"\", SUM(IF(N$13=\"Nm3\",N84,0),  IF(R$13=\"Nm3\",R84,0),  IF(V$13=\"Nm3\",V84,0),  IF(Z$13=\"Nm3\",Z84,0),  IF(AD$13=\"Nm3\",AD84,0), IF(AH$13=\"Nm3\",AH84,0),  IF(AL$13=\"Nm3\",AL84,0),  IF(AP$13=\"Nm3\",AP84,0),  IF(AT$13=\"Nm3\",AT84,0), IF(AX$13=\"Nm3\",AX84,0),  ),\"\")","v":""},{"$f":"IF(A84<>\"\", SUM(IF(N$13=\"kg\",N84,0),  IF(R$13=\"kg\",R84,0),  IF(V$13=\"kg\",V84,0),  IF(Z$13=\"kg\",Z84,0),  IF(AD$13=\"kg\",AD84,0), IF(AH$13=\"kg\",AH84,0),  IF(AL$13=\"kg\",AL84,0),  IF(AP$13=\"kg\",AP84,0),  IF(AT$13=\"kg\",AT84,0), IF(AX$13=\"kg\",AX84,0),  ),\"\")","v":""},{"$f":"IF(A84<>\"\",BB84,\"\")","v":""},null,{"$f":"IF(A84<>\"\",    IF(H84=\"Gas\", IF(I84=\"kg\", ((BJ84*Denscalc(J84) +BK84+BQ84*Denscalc(J84)+BR84)-G84), ( (BJ84+BK84/Denscalc(J84) + BQ84+BR84/Denscalc(J84))-G84)), ( (   BJ84*Denscalc(J84)+BK84+BO84+BQ84*Denscalc(J84)+BR84+BS84)-G84)  ), \"\")","v":""}]
[null,62,null,"",null,null,null,null,null,null,null,null,null,null,{"$f":"IF(AND($A85<>\"\",(M85+N85)>0), IF($F85=\"Nej\",    IF(N$13=\"Nm3\",(O$12*1000*1000/((M$242+N$242+M$243+N$243)*1000*  $J85 * Data!$B$6)),  (O$12*1000*1000/(((M$242+N$242+M$243+N$243)/Denscalc($J85))*1000*  $J85 * Data!$B$6)) ), 0     ),  0)","v":0},62,null,null,{"$f":"IF(AND($A85<>\"\",(Q85+R85)>0), IF($F85=\"Nej\",    IF(R$13=\"Nm3\",(S$12*1000*1000/((Q$242+R$242+Q$243+R$243)*1000*  $J85 * Data!$B$6)),  (S$12*1000*1000/(((Q$242+R$242+Q$243+R$243)/Denscalc($J85))*1000*  $J85 * Data!$B$6)) ), 0     ),  0)","v":0},62,null,null,{"$f":"IF(AND($A85<>\"\",(U85+V85)>0), IF($F85=\"Nej\",    IF(V$13=\"Nm3\",(W$12*1000*1000/((U$242+V$242+U$243+V$243)*1000*  $J85 * Data!$B$6)),  (W$12*1000*1000/(((U$242+V$242+U$243+V$243)/Denscalc($J85))*1000*  $J85 * Data!$B$6)) ), 0     ),  0)","v":0},62,null,null,{"$f":"IF(AND($A85<>\"\",(Y85+Z85)>0), IF($F85=\"Nej\",    IF(Z$13=\"Nm3\",(AA$12*1000*1000/((Y$242+Z$242+Y$243+Z$243)*1000*  $J85 * Data!$B$6)),  (AA$12*1000*1000/(((Y$242+Z$242+Y$243+Z$243)/Denscalc($J85))*1000*  $J85 * Data!$B$6)) ), 0     ),  0)","v":0},62,null,null,{"$f":"IF(AND($A85<>\"\",(AC85+AD85)>0), IF($F85=\"Nej\",    IF(AD$13=\"Nm3\",(AE$12*1000*1000/((AC$242+AD$242+AC$243+AD$243)*1000*  $J85 * Data!$B$6)),  (AE$12*1000*1000/(((AC$242+AD$242+AC$243+AD$243)/Denscalc($J85))*1000*  $J85 * Data!$B$6)) ), 0     ),  0)","v":0},62,null,null,{"$f":"IF(AND($A85<>\"\",(AG85+AH85)>0), IF($F85=\"Nej\",    IF(AH$13=\"Nm3\",(AI$12*1000*1000/((AG$242+AH$242+AG$243+AH$243)*1000*  $J85 * Data!$B$6)),  (AI$12*1000*1000/(((AG$242+AH$242+AG$243+AH$243)/Denscalc($J85))*1000*  $J85 * Data!$B$6)) ), 0     ),  0)","v":0},62,null,null,{"$f":"IF(AND($A85<>\"\",(AK85+AL85)>0), IF($F85=\"Nej\",    IF(AL$13=\"Nm3\",(AM$12*1000*1000/((AK$242+AL$242+AK$243+AL$243)*1000*  $J85 * Data!$B$6)),  (AM$12*1000*1000/(((AK$242+AL$242+AK$243+AL$243)/Denscalc($J85))*1000*  $J85 * Data!$B$6)) ), 0     ),  0)","v":0},62,null,null,{"$f":"IF(AND($A85<>\"\",(AO85+AP85)>0), IF($F85=\"Nej\",    IF(AP$13=\"Nm3\",(AQ$12*1000*1000/((AO$242+AP$242+AO$243+AP$243)*1000*  $J85 * Data!$B$6)),  (AQ$12*1000*1000/(((AO$242+AP$242+AO$243+AP$243)/Denscalc($J85))*1000*  $J85 * Data!$B$6)) ), 0     ),  0)","v":0},62,null,null,{"$f":"IF(AND($A85<>\"\",(AS85+AT85)>0), IF($F85=\"Nej\",    IF(AT$13=\"Nm3\",(AU$12*1000*1000/((AS$242+AT$242+AS$243+AT$243)*1000*  $J85 * Data!$B$6)),  (AU$12*1000*1000/(((AS$242+AT$242+AS$243+AT$243)/Denscalc($J85))*1000*  $J85 * Data!$B$6)) ), 0     ),  0)","v":0},62,null,null,{"$f":"IF(AND($A85<>\"\",(AW85+AX85)>0), IF($F85=\"Nej\",\nIF(AX$13=\"Nm3\",(AY$12*1000*1000/((AW$242+AX$242+AW$243+AX$243-AW$240-AX$240)*1000*  $J85 * Data!$B$6))+(AY$6*1000*1000/((AW$242+AX$242+AW$243+AX$243)*1000*  $J85 * Data!$B$6)),\n (AY$12*1000*1000/(((AW$242+AX$242+AW$243+AX$243-AW$240-AX$240)/Denscalc($J85))*1000*  $J85 * Data!$B$6))  +  (AY$6*1000*1000/(((AW$242+AX$242+AW$243+AX$243)/Denscalc($J85))*1000*  $J85 * Data!$B$6)) ), 0     ),  0)","v":0},62,null,null,{"$f":"IF(AND($A85<>\"\",(BA85+BB85)>0), IF($F85=\"Nej\",\n (BC$12*1000*1000/((BA$244+BB$244-BA$240-BB$240)*1000* Data!$B$7))+ (BC$6*1000*1000/((BA$244+BB$244)*1000* Data!$B$7)),0 ),  0)","v":0},62,{"$f":"IF(F85<>0,F85,\"\")","v":""},{"$f":"IF(A85<>\"\",IF(F85=\"Nej\", (Data!$B$129*Data!$B$5*1000*Data!$B$3)/Data!$B$6,  0 ),\"\")","v":""},{"$f":"IF(A85<>\"\",   IF(H85=\"Gas\",\n( ((O85*(M85+N85) + S85*(Q85+R85) + W85*(U85+V85) + AA85*(Y85+Z85) + AE85*(AC85+AD85) + AI85*(AG85+AH85) + AM85*(AK85+AL85) + AQ85*(AO85+AP85) + AU85*(AS85+AT85)  )) /\n( M85+N85+Q85+R85+U85+V85+Y85+Z85+AC85+AD85+AG85+AH85+AK85+AL85+AO85+AP85+AS85+AT85)+BF85),\nAY85+BF85 ),  \"\")","v":""},"",{"$f":"IF(A85<>\"\",IF(BH85>0,  IF(BE85=\"Nej\",    (Data!$B$8-BH85)/Data!$B$8,  ROUND( (Data!$B$8-BH85)/Data!$B$8,2)),      \"\"),\"\")","v":""},{"$f":"IF(A85<>\"\", SUM( IF(R$13=\"Nm3\",Q85,0),  IF(V$13=\"Nm3\",U85,0),  IF(Z$13=\"Nm3\",Y85,0),  IF(AD$13=\"Nm3\",AC85,0), IF(AH$13=\"Nm3\",AG85,0),  IF(AL$13=\"Nm3\",AK85,0),  IF(AP$13=\"Nm3\",AO85,0),  IF(AT$13=\"Nm3\",AS85,0), IF(AX$13=\"Nm3\",AW85,0),  ),\"\")","v":""},"",{"$f":"IF(A85<>\"\",   IF(H85=\"Flytande\", BC85+BF85, \"\"    ), \"\")","v":""},{"$f":"IF(A85<>\"\", IF(H85=\"Flytande\", IF(BE85=\"Nej\",    (K85+BL85),  BE85),\"\"), \"\")","v":""},{"$f":"IF(A85<>\"\", IF(H85=\"Flytande\",   IF(BM85>0,  IF(BE85=\"Nej\",  (Data!$B$8-BM85)/Data!$B$8,  ROUND( (Data!$B$8-BM85)/Data!$B$8,2)   ), \"\"), \"\"),\"\")","v":""},{"$f":"IF(A85<>\"\",BA85,\"\")","v":""},62,"","","",null,""]
[null,63,null,"",null,null,null,null,null,null,null,null,null,null,{"$f":"IF(AND($A86<>\"\",(M86+N86)>0), IF($F86=\"Nej\",    IF(N$13=\"Nm3\",(O$12*1000*1000/((M$242+N$242+M$243+N$243)*1000*  $J86 * Data!$B$6)),  (O$12*1000*1000/(((M$242+N$242+M$243+N$243)/Denscalc($J86))*1000*  $J86 * Data!$B$6)) ), 0     ),  0)","v":0},63,null,null,{"$f":"IF(AND($A86<>\"\",(Q86+R86)>0), IF($F86=\"Nej\",    IF(R$13=\"Nm3\",(S$12*1000*1000/((Q$242+R$242+Q$243+R$243)*1000*  $J86 * Data!$B$6)),  (S$12*1000*1000/(((Q$242+R$242+Q$243+R$243)/Denscalc($J86))*1000*  $J86 * Data!$B$6)) ), 0     ),  0)","v":0},63,null,null,{"$f":"IF(AND($A86<>\"\",(U86+V86)>0), IF($F86=\"Nej\",    IF(V$13=\"Nm3\",(W$12*1000*1000/((U$242+V$242+U$243+V$243)*1000*  $J86 * Data!$B$6)),  (W$12*1000*1000/(((U$242+V$242+U$243+V$243)/Denscalc($J86))*1000*  $J86 * Data!$B$6)) ), 0     ),  0)","v":0},63,null,null,{"$f":"IF(AND($A86<>\"\",(Y86+Z86)>0), IF($F86=\"Nej\",    IF(Z$13=\"Nm3\",(AA$12*1000*1000/((Y$242+Z$242+Y$243+Z$243)*1000*  $J86 * Data!$B$6)),  (AA$12*1000*1000/(((Y$242+Z$242+Y$243+Z$243)/Denscalc($J86))*1000*  $J86 * Data!$B$6)) ), 0     ),  0)","v":0},63,null,null,{"$f":"IF(AND($A86<>\"\",(AC86+AD86)>0), IF($F86=\"Nej\",    IF(AD$13=\"Nm3\",(AE$12*1000*1000/((AC$242+AD$242+AC$243+AD$243)*1000*  $J86 * Data!$B$6)),  (AE$12*1000*1000/(((AC$242+AD$242+AC$243+AD$243)/Denscalc($J86))*1000*  $J86 * Data!$B$6)) ), 0     ),  0)","v":0},63,null,null,{"$f":"IF(AND($A86<>\"\",(AG86+AH86)>0), IF($F86=\"Nej\",    IF(AH$13=\"Nm3\",(AI$12*1000*1000/((AG$242+AH$242+AG$243+AH$243)*1000*  $J86 * Data!$B$6)),  (AI$12*1000*1000/(((AG$242+AH$242+AG$243+AH$243)/Denscalc($J86))*1000*  $J86 * Data!$B$6)) ), 0     ),  0)","v":0},63,null,null,{"$f":"IF(AND($A86<>\"\",(AK86+AL86)>0), IF($F86=\"Nej\",    IF(AL$13=\"Nm3\",(AM$12*1000*1000/((AK$242+AL$242+AK$243+AL$243)*1000*  $J86 * Data!$B$6)),  (AM$12*1000*1000/(((AK$242+AL$242+AK$243+AL$243)/Denscalc($J86))*1000*  $J86 * Data!$B$6)) ), 0     ),  0)","v":0},63,null,null,{"$f":"IF(AND($A86<>\"\",(AO86+AP86)>0), IF($F86=\"Nej\",    IF(AP$13=\"Nm3\",(AQ$12*1000*1000/((AO$242+AP$242+AO$243+AP$243)*1000*  $J86 * Data!$B$6)),  (AQ$12*1000*1000/(((AO$242+AP$242+AO$243+AP$243)/Denscalc($J86))*1000*  $J86 * Data!$B$6)) ), 0     ),  0)","v":0},63,null,null,{"$f":"IF(AND($A86<>\"\",(AS86+AT86)>0), IF($F86=\"Nej\",    IF(AT$13=\"Nm3\",(AU$12*1000*1000/((AS$242+AT$242+AS$243+AT$243)*1000*  $J86 * Data!$B$6)),  (AU$12*1000*1000/(((AS$242+AT$242+AS$243+AT$243)/Denscalc($J86))*1000*  $J86 * Data!$B$6)) ), 0     ),  0)","v":0},63,null,null,{"$f":"IF(AND($A86<>\"\",(AW86+AX86)>0), IF($F86=\"Nej\",\nIF(AX$13=\"Nm3\",(AY$12*1000*1000/((AW$242+AX$242+AW$243+AX$243-AW$240-AX$240)*1000*  $J86 * Data!$B$6))+(AY$6*1000*1000/((AW$242+AX$242+AW$243+AX$243)*1000*  $J86 * Data!$B$6)),\n (AY$12*1000*1000/(((AW$242+AX$242+AW$243+AX$243-AW$240-AX$240)/Denscalc($J86))*1000*  $J86 * Data!$B$6))  +  (AY$6*1000*1000/(((AW$242+AX$242+AW$243+AX$243)/Denscalc($J86))*1000*  $J86 * Data!$B$6)) ), 0     ),  0)","v":0},63,null,null,{"$f":"IF(AND($A86<>\"\",(BA86+BB86)>0), IF($F86=\"Nej\",\n (BC$12*1000*1000/((BA$244+BB$244-BA$240-BB$240)*1000* Data!$B$7))+ (BC$6*1000*1000/((BA$244+BB$244)*1000* Data!$B$7)),0 ),  0)","v":0},63,"",{"$f":"IF(A86<>\"\",IF(F86=\"Nej\", (Data!$B$129*Data!$B$5*1000*Data!$B$3)/Data!$B$6,  0 ),\"\")","v":""},"","",{"$f":"IF(A86<>\"\",IF(BH86>0,  IF(BE86=\"Nej\",    (Data!$B$8-BH86)/Data!$B$8,  ROUND( (Data!$B$8-BH86)/Data!$B$8,2)),      \"\"),\"\")","v":""},"","","","",{"$f":"IF(A86<>\"\", IF(H86=\"Flytande\",   IF(BM86>0,  IF(BE86=\"Nej\",  (Data!$B$8-BM86)/Data!$B$8,  ROUND( (Data!$B$8-BM86)/Data!$B$8,2)   ), \"\"), \"\"),\"\")","v":""},"",63,"","","",null,""]
[null,64,null,"",null,null,null,null,null,null,null,null,null,null,{"$f":"IF(AND($A87<>\"\",(M87+N87)>0), IF($F87=\"Nej\",    IF(N$13=\"Nm3\",(O$12*1000*1000/((M$242+N$242+M$243+N$243)*1000*  $J87 * Data!$B$6)),  (O$12*1000*1000/(((M$242+N$242+M$243+N$243)/Denscalc($J87))*1000*  $J87 * Data!$B$6)) ), 0     ),  0)","v":0},64,null,null,{"$f":"IF(AND($A87<>\"\",(Q87+R87)>0), IF($F87=\"Nej\",    IF(R$13=\"Nm3\",(S$12*1000*1000/((Q$242+R$242+Q$243+R$243)*1000*  $J87 * Data!$B$6)),  (S$12*1000*1000/(((Q$242+R$242+Q$243+R$243)/Denscalc($J87))*1000*  $J87 * Data!$B$6)) ), 0     ),  0)","v":0},64,null,null,{"$f":"IF(AND($A87<>\"\",(U87+V87)>0), IF($F87=\"Nej\",    IF(V$13=\"Nm3\",(W$12*1000*1000/((U$242+V$242+U$243+V$243)*1000*  $J87 * Data!$B$6)),  (W$12*1000*1000/(((U$242+V$242+U$243+V$243)/Denscalc($J87))*1000*  $J87 * Data!$B$6)) ), 0     ),  0)","v":0},64,null,null,{"$f":"IF(AND($A87<>\"\",(Y87+Z87)>0), IF($F87=\"Nej\",    IF(Z$13=\"Nm3\",(AA$12*1000*1000/((Y$242+Z$242+Y$243+Z$243)*1000*  $J87 * Data!$B$6)),  (AA$12*1000*1000/(((Y$242+Z$242+Y$243+Z$243)/Denscalc($J87))*1000*  $J87 * Data!$B$6)) ), 0     ),  0)","v":0},64,null,null,{"$f":"IF(AND($A87<>\"\",(AC87+AD87)>0), IF($F87=\"Nej\",    IF(AD$13=\"Nm3\",(AE$12*1000*1000/((AC$242+AD$242+AC$243+AD$243)*1000*  $J87 * Data!$B$6)),  (AE$12*1000*1000/(((AC$242+AD$242+AC$243+AD$243)/Denscalc($J87))*1000*  $J87 * Data!$B$6)) ), 0     ),  0)","v":0},64,null,null,{"$f":"IF(AND($A87<>\"\",(AG87+AH87)>0), IF($F87=\"Nej\",    IF(AH$13=\"Nm3\",(AI$12*1000*1000/((AG$242+AH$242+AG$243+AH$243)*1000*  $J87 * Data!$B$6)),  (AI$12*1000*1000/(((AG$242+AH$242+AG$243+AH$243)/Denscalc($J87))*1000*  $J87 * Data!$B$6)) ), 0     ),  0)","v":0},64,null,null,{"$f":"IF(AND($A87<>\"\",(AK87+AL87)>0), IF($F87=\"Nej\",    IF(AL$13=\"Nm3\",(AM$12*1000*1000/((AK$242+AL$242+AK$243+AL$243)*1000*  $J87 * Data!$B$6)),  (AM$12*1000*1000/(((AK$242+AL$242+AK$243+AL$243)/Denscalc($J87))*1000*  $J87 * Data!$B$6)) ), 0     ),  0)","v":0},64,null,null,{"$f":"IF(AND($A87<>\"\",(AO87+AP87)>0), IF($F87=\"Nej\",    IF(AP$13=\"Nm3\",(AQ$12*1000*1000/((AO$242+AP$242+AO$243+AP$243)*1000*  $J87 * Data!$B$6)),  (AQ$12*1000*1000/(((AO$242+AP$242+AO$243+AP$243)/Denscalc($J87))*1000*  $J87 * Data!$B$6)) ), 0     ),  0)","v":0},64,null,null,{"$f":"IF(AND($A87<>\"\",(AS87+AT87)>0), IF($F87=\"Nej\",    IF(AT$13=\"Nm3\",(AU$12*1000*1000/((AS$242+AT$242+AS$243+AT$243)*1000*  $J87 * Data!$B$6)),  (AU$12*1000*1000/(((AS$242+AT$242+AS$243+AT$243)/Denscalc($J87))*1000*  $J87 * Data!$B$6)) ), 0     ),  0)","v":0},64,null,null,{"$f":"IF(AND($A87<>\"\",(AW87+AX87)>0), IF($F87=\"Nej\",\nIF(AX$13=\"Nm3\",(AY$12*1000*1000/((AW$242+AX$242+AW$243+AX$243-AW$240-AX$240)*1000*  $J87 * Data!$B$6))+(AY$6*1000*1000/((AW$242+AX$242+AW$243+AX$243)*1000*  $J87 * Data!$B$6)),\n (AY$12*1000*1000/(((AW$242+AX$242+AW$243+AX$243-AW$240-AX$240)/Denscalc($J87))*1000*  $J87 * Data!$B$6))  +  (AY$6*1000*1000/(((AW$242+AX$242+AW$243+AX$243)/Denscalc($J87))*1000*  $J87 * Data!$B$6)) ), 0     ),  0)","v":0},64,null,null,{"$f":"IF(AND($A87<>\"\",(BA87+BB87)>0), IF($F87=\"Nej\",\n (BC$12*1000*1000/((BA$244+BB$244-BA$240-BB$240)*1000* Data!$B$7))+ (BC$6*1000*1000/((BA$244+BB$244)*1000* Data!$B$7)),0 ),  0)","v":0},64,"",{"$f":"IF(A87<>\"\",IF(F87=\"Nej\", (Data!$B$129*Data!$B$5*1000*Data!$B$3)/Data!$B$6,  0 ),\"\")","v":""},"","",{"$f":"IF(A87<>\"\",IF(BH87>0,  IF(BE87=\"Nej\",    (Data!$B$8-BH87)/Data!$B$8,  ROUND( (Data!$B$8-BH87)/Data!$B$8,2)),      \"\"),\"\")","v":""},"","","","",{"$f":"IF(A87<>\"\", IF(H87=\"Flytande\",   IF(BM87>0,  IF(BE87=\"Nej\",  (Data!$B$8-BM87)/Data!$B$8,  ROUND( (Data!$B$8-BM87)/Data!$B$8,2)   ), \"\"), \"\"),\"\")","v":""},"",64,"","","",null,""]
[null,65,null,"",null,null,null,null,null,null,null,null,null,null,{"$f":"IF(AND($A88<>\"\",(M88+N88)>0), IF($F88=\"Nej\",    IF(N$13=\"Nm3\",(O$12*1000*1000/((M$242+N$242+M$243+N$243)*1000*  $J88 * Data!$B$6)),  (O$12*1000*1000/(((M$242+N$242+M$243+N$243)/Denscalc($J88))*1000*  $J88 * Data!$B$6)) ), 0     ),  0)","v":0},65,null,null,{"$f":"IF(AND($A88<>\"\",(Q88+R88)>0), IF($F88=\"Nej\",    IF(R$13=\"Nm3\",(S$12*1000*1000/((Q$242+R$242+Q$243+R$243)*1000*  $J88 * Data!$B$6)),  (S$12*1000*1000/(((Q$242+R$242+Q$243+R$243)/Denscalc($J88))*1000*  $J88 * Data!$B$6)) ), 0     ),  0)","v":0},65,null,null,{"$f":"IF(AND($A88<>\"\",(U88+V88)>0), IF($F88=\"Nej\",    IF(V$13=\"Nm3\",(W$12*1000*1000/((U$242+V$242+U$243+V$243)*1000*  $J88 * Data!$B$6)),  (W$12*1000*1000/(((U$242+V$242+U$243+V$243)/Denscalc($J88))*1000*  $J88 * Data!$B$6)) ), 0     ),  0)","v":0},65,null,null,{"$f":"IF(AND($A88<>\"\",(Y88+Z88)>0), IF($F88=\"Nej\",    IF(Z$13=\"Nm3\",(AA$12*1000*1000/((Y$242+Z$242+Y$243+Z$243)*1000*  $J88 * Data!$B$6)),  (AA$12*1000*1000/(((Y$242+Z$242+Y$243+Z$243)/Denscalc($J88))*1000*  $J88 * Data!$B$6)) ), 0     ),  0)","v":0},65,null,null,{"$f":"IF(AND($A88<>\"\",(AC88+AD88)>0), IF($F88=\"Nej\",    IF(AD$13=\"Nm3\",(AE$12*1000*1000/((AC$242+AD$242+AC$243+AD$243)*1000*  $J88 * Data!$B$6)),  (AE$12*1000*1000/(((AC$242+AD$242+AC$243+AD$243)/Denscalc($J88))*1000*  $J88 * Data!$B$6)) ), 0     ),  0)","v":0},65,null,null,{"$f":"IF(AND($A88<>\"\",(AG88+AH88)>0), IF($F88=\"Nej\",    IF(AH$13=\"Nm3\",(AI$12*1000*1000/((AG$242+AH$242+AG$243+AH$243)*1000*  $J88 * Data!$B$6)),  (AI$12*1000*1000/(((AG$242+AH$242+AG$243+AH$243)/Denscalc($J88))*1000*  $J88 * Data!$B$6)) ), 0     ),  0)","v":0},65,null,null,{"$f":"IF(AND($A88<>\"\",(AK88+AL88)>0), IF($F88=\"Nej\",    IF(AL$13=\"Nm3\",(AM$12*1000*1000/((AK$242+AL$242+AK$243+AL$243)*1000*  $J88 * Data!$B$6)),  (AM$12*1000*1000/(((AK$242+AL$242+AK$243+AL$243)/Denscalc($J88))*1000*  $J88 * Data!$B$6)) ), 0     ),  0)","v":0},65,null,null,{"$f":"IF(AND($A88<>\"\",(AO88+AP88)>0), IF($F88=\"Nej\",    IF(AP$13=\"Nm3\",(AQ$12*1000*1000/((AO$242+AP$242+AO$243+AP$243)*1000*  $J88 * Data!$B$6)),  (AQ$12*1000*1000/(((AO$242+AP$242+AO$243+AP$243)/Denscalc($J88))*1000*  $J88 * Data!$B$6)) ), 0     ),  0)","v":0},65,null,null,{"$f":"IF(AND($A88<>\"\",(AS88+AT88)>0), IF($F88=\"Nej\",    IF(AT$13=\"Nm3\",(AU$12*1000*1000/((AS$242+AT$242+AS$243+AT$243)*1000*  $J88 * Data!$B$6)),  (AU$12*1000*1000/(((AS$242+AT$242+AS$243+AT$243)/Denscalc($J88))*1000*  $J88 * Data!$B$6)) ), 0     ),  0)","v":0},65,null,null,{"$f":"IF(AND($A88<>\"\",(AW88+AX88)>0), IF($F88=\"Nej\",\nIF(AX$13=\"Nm3\",(AY$12*1000*1000/((AW$242+AX$242+AW$243+AX$243-AW$240-AX$240)*1000*  $J88 * Data!$B$6))+(AY$6*1000*1000/((AW$242+AX$242+AW$243+AX$243)*1000*  $J88 * Data!$B$6)),\n (AY$12*1000*1000/(((AW$242+AX$242+AW$243+AX$243-AW$240-AX$240)/Denscalc($J88))*1000*  $J88 * Data!$B$6))  +  (AY$6*1000*1000/(((AW$242+AX$242+AW$243+AX$243)/Denscalc($J88))*1000*  $J88 * Data!$B$6)) ), 0     ),  0)","v":0},65,null,null,{"$f":"IF(AND($A88<>\"\",(BA88+BB88)>0), IF($F88=\"Nej\",\n (BC$12*1000*1000/((BA$244+BB$244-BA$240-BB$240)*1000* Data!$B$7))+ (BC$6*1000*1000/((BA$244+BB$244)*1000* Data!$B$7)),0 ),  0)","v":0},65,"",{"$f":"IF(A88<>\"\",IF(F88=\"Nej\", (Data!$B$129*Data!$B$5*1000*Data!$B$3)/Data!$B$6,  0 ),\"\")","v":""},"","",{"$f":"IF(A88<>\"\",IF(BH88>0,  IF(BE88=\"Nej\",    (Data!$B$8-BH88)/Data!$B$8,  ROUND( (Data!$B$8-BH88)/Data!$B$8,2)),      \"\"),\"\")","v":""},"","","","",{"$f":"IF(A88<>\"\", IF(H88=\"Flytande\",   IF(BM88>0,  IF(BE88=\"Nej\",  (Data!$B$8-BM88)/Data!$B$8,  ROUND( (Data!$B$8-BM88)/Data!$B$8,2)   ), \"\"), \"\"),\"\")","v":""},"",65,"","","",null,""]
[null,66,null,"",null,null,null,null,null,null,null,null,null,null,{"$f":"IF(AND($A89<>\"\",(M89+N89)>0), IF($F89=\"Nej\",    IF(N$13=\"Nm3\",(O$12*1000*1000/((M$242+N$242+M$243+N$243)*1000*  $J89 * Data!$B$6)),  (O$12*1000*1000/(((M$242+N$242+M$243+N$243)/Denscalc($J89))*1000*  $J89 * Data!$B$6)) ), 0     ),  0)","v":0},66,null,null,{"$f":"IF(AND($A89<>\"\",(Q89+R89)>0), IF($F89=\"Nej\",    IF(R$13=\"Nm3\",(S$12*1000*1000/((Q$242+R$242+Q$243+R$243)*1000*  $J89 * Data!$B$6)),  (S$12*1000*1000/(((Q$242+R$242+Q$243+R$243)/Denscalc($J89))*1000*  $J89 * Data!$B$6)) ), 0     ),  0)","v":0},66,null,null,{"$f":"IF(AND($A89<>\"\",(U89+V89)>0), IF($F89=\"Nej\",    IF(V$13=\"Nm3\",(W$12*1000*1000/((U$242+V$242+U$243+V$243)*1000*  $J89 * Data!$B$6)),  (W$12*1000*1000/(((U$242+V$242+U$243+V$243)/Denscalc($J89))*1000*  $J89 * Data!$B$6)) ), 0     ),  0)","v":0},66,null,null,{"$f":"IF(AND($A89<>\"\",(Y89+Z89)>0), IF($F89=\"Nej\",    IF(Z$13=\"Nm3\",(AA$12*1000*1000/((Y$242+Z$242+Y$243+Z$243)*1000*  $J89 * Data!$B$6)),  (AA$12*1000*1000/(((Y$242+Z$242+Y$243+Z$243)/Denscalc($J89))*1000*  $J89 * Data!$B$6)) ), 0     ),  0)","v":0},66,null,null,{"$f":"IF(AND($A89<>\"\",(AC89+AD89)>0), IF($F89=\"Nej\",    IF(AD$13=\"Nm3\",(AE$12*1000*1000/((AC$242+AD$242+AC$243+AD$243)*1000*  $J89 * Data!$B$6)),  (AE$12*1000*1000/(((AC$242+AD$242+AC$243+AD$243)/Denscalc($J89))*1000*  $J89 * Data!$B$6)) ), 0     ),  0)","v":0},66,null,null,{"$f":"IF(AND($A89<>\"\",(AG89+AH89)>0), IF($F89=\"Nej\",    IF(AH$13=\"Nm3\",(AI$12*1000*1000/((AG$242+AH$242+AG$243+AH$243)*1000*  $J89 * Data!$B$6)),  (AI$12*1000*1000/(((AG$242+AH$242+AG$243+AH$243)/Denscalc($J89))*1000*  $J89 * Data!$B$6)) ), 0     ),  0)","v":0},66,null,null,{"$f":"IF(AND($A89<>\"\",(AK89+AL89)>0), IF($F89=\"Nej\",    IF(AL$13=\"Nm3\",(AM$12*1000*1000/((AK$242+AL$242+AK$243+AL$243)*1000*  $J89 * Data!$B$6)),  (AM$12*1000*1000/(((AK$242+AL$242+AK$243+AL$243)/Denscalc($J89))*1000*  $J89 * Data!$B$6)) ), 0     ),  0)","v":0},66,null,null,{"$f":"IF(AND($A89<>\"\",(AO89+AP89)>0), IF($F89=\"Nej\",    IF(AP$13=\"Nm3\",(AQ$12*1000*1000/((AO$242+AP$242+AO$243+AP$243)*1000*  $J89 * Data!$B$6)),  (AQ$12*1000*1000/(((AO$242+AP$242+AO$243+AP$243)/Denscalc($J89))*1000*  $J89 * Data!$B$6)) ), 0     ),  0)","v":0},66,null,null,{"$f":"IF(AND($A89<>\"\",(AS89+AT89)>0), IF($F89=\"Nej\",    IF(AT$13=\"Nm3\",(AU$12*1000*1000/((AS$242+AT$242+AS$243+AT$243)*1000*  $J89 * Data!$B$6)),  (AU$12*1000*1000/(((AS$242+AT$242+AS$243+AT$243)/Denscalc($J89))*1000*  $J89 * Data!$B$6)) ), 0     ),  0)","v":0},66,null,null,{"$f":"IF(AND($A89<>\"\",(AW89+AX89)>0), IF($F89=\"Nej\",\nIF(AX$13=\"Nm3\",(AY$12*1000*1000/((AW$242+AX$242+AW$243+AX$243-AW$240-AX$240)*1000*  $J89 * Data!$B$6))+(AY$6*1000*1000/((AW$242+AX$242+AW$243+AX$243)*1000*  $J89 * Data!$B$6)),\n (AY$12*1000*1000/(((AW$242+AX$242+AW$243+AX$243-AW$240-AX$240)/Denscalc($J89))*1000*  $J89 * Data!$B$6))  +  (AY$6*1000*1000/(((AW$242+AX$242+AW$243+AX$243)/Denscalc($J89))*1000*  $J89 * Data!$B$6)) ), 0     ),  0)","v":0},66,null,null,{"$f":"IF(AND($A89<>\"\",(BA89+BB89)>0), IF($F89=\"Nej\",\n (BC$12*1000*1000/((BA$244+BB$244-BA$240-BB$240)*1000* Data!$B$7))+ (BC$6*1000*1000/((BA$244+BB$244)*1000* Data!$B$7)),0 ),  0)","v":0},66,"",{"$f":"IF(A89<>\"\",IF(F89=\"Nej\", (Data!$B$129*Data!$B$5*1000*Data!$B$3)/Data!$B$6,  0 ),\"\")","v":""},"","",{"$f":"IF(A89<>\"\",IF(BH89>0,  IF(BE89=\"Nej\",    (Data!$B$8-BH89)/Data!$B$8,  ROUND( (Data!$B$8-BH89)/Data!$B$8,2)),      \"\"),\"\")","v":""},"","","","",{"$f":"IF(A89<>\"\", IF(H89=\"Flytande\",   IF(BM89>0,  IF(BE89=\"Nej\",  (Data!$B$8-BM89)/Data!$B$8,  ROUND( (Data!$B$8-BM89)/Data!$B$8,2)   ), \"\"), \"\"),\"\")","v":""},"",66,"","","",null,""]
[null,67,null,"",null,null,null,null,null,null,null,null,null,null,{"$f":"IF(AND($A90<>\"\",(M90+N90)>0), IF($F90=\"Nej\",    IF(N$13=\"Nm3\",(O$12*1000*1000/((M$242+N$242+M$243+N$243)*1000*  $J90 * Data!$B$6)),  (O$12*1000*1000/(((M$242+N$242+M$243+N$243)/Denscalc($J90))*1000*  $J90 * Data!$B$6)) ), 0     ),  0)","v":0},67,null,null,{"$f":"IF(AND($A90<>\"\",(Q90+R90)>0), IF($F90=\"Nej\",    IF(R$13=\"Nm3\",(S$12*1000*1000/((Q$242+R$242+Q$243+R$243)*1000*  $J90 * Data!$B$6)),  (S$12*1000*1000/(((Q$242+R$242+Q$243+R$243)/Denscalc($J90))*1000*  $J90 * Data!$B$6)) ), 0     ),  0)","v":0},67,null,null,{"$f":"IF(AND($A90<>\"\",(U90+V90)>0), IF($F90=\"Nej\",    IF(V$13=\"Nm3\",(W$12*1000*1000/((U$242+V$242+U$243+V$243)*1000*  $J90 * Data!$B$6)),  (W$12*1000*1000/(((U$242+V$242+U$243+V$243)/Denscalc($J90))*1000*  $J90 * Data!$B$6)) ), 0     ),  0)","v":0},67,null,null,{"$f":"IF(AND($A90<>\"\",(Y90+Z90)>0), IF($F90=\"Nej\",    IF(Z$13=\"Nm3\",(AA$12*1000*1000/((Y$242+Z$242+Y$243+Z$243)*1000*  $J90 * Data!$B$6)),  (AA$12*1000*1000/(((Y$242+Z$242+Y$243+Z$243)/Denscalc($J90))*1000*  $J90 * Data!$B$6)) ), 0     ),  0)","v":0},67,null,null,{"$f":"IF(AND($A90<>\"\",(AC90+AD90)>0), IF($F90=\"Nej\",    IF(AD$13=\"Nm3\",(AE$12*1000*1000/((AC$242+AD$242+AC$243+AD$243)*1000*  $J90 * Data!$B$6)),  (AE$12*1000*1000/(((AC$242+AD$242+AC$243+AD$243)/Denscalc($J90))*1000*  $J90 * Data!$B$6)) ), 0     ),  0)","v":0},67,null,null,{"$f":"IF(AND($A90<>\"\",(AG90+AH90)>0), IF($F90=\"Nej\",    IF(AH$13=\"Nm3\",(AI$12*1000*1000/((AG$242+AH$242+AG$243+AH$243)*1000*  $J90 * Data!$B$6)),  (AI$12*1000*1000/(((AG$242+AH$242+AG$243+AH$243)/Denscalc($J90))*1000*  $J90 * Data!$B$6)) ), 0     ),  0)","v":0},67,null,null,{"$f":"IF(AND($A90<>\"\",(AK90+AL90)>0), IF($F90=\"Nej\",    IF(AL$13=\"Nm3\",(AM$12*1000*1000/((AK$242+AL$242+AK$243+AL$243)*1000*  $J90 * Data!$B$6)),  (AM$12*1000*1000/(((AK$242+AL$242+AK$243+AL$243)/Denscalc($J90))*1000*  $J90 * Data!$B$6)) ), 0     ),  0)","v":0},67,null,null,{"$f":"IF(AND($A90<>\"\",(AO90+AP90)>0), IF($F90=\"Nej\",    IF(AP$13=\"Nm3\",(AQ$12*1000*1000/((AO$242+AP$242+AO$243+AP$243)*1000*  $J90 * Data!$B$6)),  (AQ$12*1000*1000/(((AO$242+AP$242+AO$243+AP$243)/Denscalc($J90))*1000*  $J90 * Data!$B$6)) ), 0     ),  0)","v":0},67,null,null,{"$f":"IF(AND($A90<>\"\",(AS90+AT90)>0), IF($F90=\"Nej\",    IF(AT$13=\"Nm3\",(AU$12*1000*1000/((AS$242+AT$242+AS$243+AT$243)*1000*  $J90 * Data!$B$6)),  (AU$12*1000*1000/(((AS$242+AT$242+AS$243+AT$243)/Denscalc($J90))*1000*  $J90 * Data!$B$6)) ), 0     ),  0)","v":0},67,null,null,{"$f":"IF(AND($A90<>\"\",(AW90+AX90)>0), IF($F90=\"Nej\",\nIF(AX$13=\"Nm3\",(AY$12*1000*1000/((AW$242+AX$242+AW$243+AX$243-AW$240-AX$240)*1000*  $J90 * Data!$B$6))+(AY$6*1000*1000/((AW$242+AX$242+AW$243+AX$243)*1000*  $J90 * Data!$B$6)),\n (AY$12*1000*1000/(((AW$242+AX$242+AW$243+AX$243-AW$240-AX$240)/Denscalc($J90))*1000*  $J90 * Data!$B$6))  +  (AY$6*1000*1000/(((AW$242+AX$242+AW$243+AX$243)/Denscalc($J90))*1000*  $J90 * Data!$B$6)) ), 0     ),  0)","v":0},67,null,null,{"$f":"IF(AND($A90<>\"\",(BA90+BB90)>0), IF($F90=\"Nej\",\n (BC$12*1000*1000/((BA$244+BB$244-BA$240-BB$240)*1000* Data!$B$7))+ (BC$6*1000*1000/((BA$244+BB$244)*1000* Data!$B$7)),0 ),  0)","v":0},67,"",{"$f":"IF(A90<>\"\",IF(F90=\"Nej\", (Data!$B$129*Data!$B$5*1000*Data!$B$3)/Data!$B$6,  0 ),\"\")","v":""},"","",{"$f":"IF(A90<>\"\",IF(BH90>0,  IF(BE90=\"Nej\",    (Data!$B$8-BH90)/Data!$B$8,  ROUND( (Data!$B$8-BH90)/Data!$B$8,2)),      \"\"),\"\")","v":""},"","","","",{"$f":"IF(A90<>\"\", IF(H90=\"Flytande\",   IF(BM90>0,  IF(BE90=\"Nej\",  (Data!$B$8-BM90)/Data!$B$8,  ROUND( (Data!$B$8-BM90)/Data!$B$8,2)   ), \"\"), \"\"),\"\")","v":""},"",67,"","","",null,""]
[null,68,null,"",null,null,null,null,null,null,null,null,null,null,{"$f":"IF(AND($A91<>\"\",(M91+N91)>0), IF($F91=\"Nej\",    IF(N$13=\"Nm3\",(O$12*1000*1000/((M$242+N$242+M$243+N$243)*1000*  $J91 * Data!$B$6)),  (O$12*1000*1000/(((M$242+N$242+M$243+N$243)/Denscalc($J91))*1000*  $J91 * Data!$B$6)) ), 0     ),  0)","v":0},68,null,null,{"$f":"IF(AND($A91<>\"\",(Q91+R91)>0), IF($F91=\"Nej\",    IF(R$13=\"Nm3\",(S$12*1000*1000/((Q$242+R$242+Q$243+R$243)*1000*  $J91 * Data!$B$6)),  (S$12*1000*1000/(((Q$242+R$242+Q$243+R$243)/Denscalc($J91))*1000*  $J91 * Data!$B$6)) ), 0     ),  0)","v":0},68,null,null,{"$f":"IF(AND($A91<>\"\",(U91+V91)>0), IF($F91=\"Nej\",    IF(V$13=\"Nm3\",(W$12*1000*1000/((U$242+V$242+U$243+V$243)*1000*  $J91 * Data!$B$6)),  (W$12*1000*1000/(((U$242+V$242+U$243+V$243)/Denscalc($J91))*1000*  $J91 * Data!$B$6)) ), 0     ),  0)","v":0},68,null,null,{"$f":"IF(AND($A91<>\"\",(Y91+Z91)>0), IF($F91=\"Nej\",    IF(Z$13=\"Nm3\",(AA$12*1000*1000/((Y$242+Z$242+Y$243+Z$243)*1000*  $J91 * Data!$B$6)),  (AA$12*1000*1000/(((Y$242+Z$242+Y$243+Z$243)/Denscalc($J91))*1000*  $J91 * Data!$B$6)) ), 0     ),  0)","v":0},68,null,null,{"$f":"IF(AND($A91<>\"\",(AC91+AD91)>0), IF($F91=\"Nej\",    IF(AD$13=\"Nm3\",(AE$12*1000*1000/((AC$242+AD$242+AC$243+AD$243)*1000*  $J91 * Data!$B$6)),  (AE$12*1000*1000/(((AC$242+AD$242+AC$243+AD$243)/Denscalc($J91))*1000*  $J91 * Data!$B$6)) ), 0     ),  0)","v":0},68,null,null,{"$f":"IF(AND($A91<>\"\",(AG91+AH91)>0), IF($F91=\"Nej\",    IF(AH$13=\"Nm3\",(AI$12*1000*1000/((AG$242+AH$242+AG$243+AH$243)*1000*  $J91 * Data!$B$6)),  (AI$12*1000*1000/(((AG$242+AH$242+AG$243+AH$243)/Denscalc($J91))*1000*  $J91 * Data!$B$6)) ), 0     ),  0)","v":0},68,null,null,{"$f":"IF(AND($A91<>\"\",(AK91+AL91)>0), IF($F91=\"Nej\",    IF(AL$13=\"Nm3\",(AM$12*1000*1000/((AK$242+AL$242+AK$243+AL$243)*1000*  $J91 * Data!$B$6)),  (AM$12*1000*1000/(((AK$242+AL$242+AK$243+AL$243)/Denscalc($J91))*1000*  $J91 * Data!$B$6)) ), 0     ),  0)","v":0},68,null,null,{"$f":"IF(AND($A91<>\"\",(AO91+AP91)>0), IF($F91=\"Nej\",    IF(AP$13=\"Nm3\",(AQ$12*1000*1000/((AO$242+AP$242+AO$243+AP$243)*1000*  $J91 * Data!$B$6)),  (AQ$12*1000*1000/(((AO$242+AP$242+AO$243+AP$243)/Denscalc($J91))*1000*  $J91 * Data!$B$6)) ), 0     ),  0)","v":0},68,null,null,{"$f":"IF(AND($A91<>\"\",(AS91+AT91)>0), IF($F91=\"Nej\",    IF(AT$13=\"Nm3\",(AU$12*1000*1000/((AS$242+AT$242+AS$243+AT$243)*1000*  $J91 * Data!$B$6)),  (AU$12*1000*1000/(((AS$242+AT$242+AS$243+AT$243)/Denscalc($J91))*1000*  $J91 * Data!$B$6)) ), 0     ),  0)","v":0},68,null,null,{"$f":"IF(AND($A91<>\"\",(AW91+AX91)>0), IF($F91=\"Nej\",\nIF(AX$13=\"Nm3\",(AY$12*1000*1000/((AW$242+AX$242+AW$243+AX$243-AW$240-AX$240)*1000*  $J91 * Data!$B$6))+(AY$6*1000*1000/((AW$242+AX$242+AW$243+AX$243)*1000*  $J91 * Data!$B$6)),\n (AY$12*1000*1000/(((AW$242+AX$242+AW$243+AX$243-AW$240-AX$240)/Denscalc($J91))*1000*  $J91 * Data!$B$6))  +  (AY$6*1000*1000/(((AW$242+AX$242+AW$243+AX$243)/Denscalc($J91))*1000*  $J91 * Data!$B$6)) ), 0     ),  0)","v":0},68,null,null,{"$f":"IF(AND($A91<>\"\",(BA91+BB91)>0), IF($F91=\"Nej\",\n (BC$12*1000*1000/((BA$244+BB$244-BA$240-BB$240)*1000* Data!$B$7))+ (BC$6*1000*1000/((BA$244+BB$244)*1000* Data!$B$7)),0 ),  0)","v":0},68,"",{"$f":"IF(A91<>\"\",IF(F91=\"Nej\", (Data!$B$129*Data!$B$5*1000*Data!$B$3)/Data!$B$6,  0 ),\"\")","v":""},"","",{"$f":"IF(A91<>\"\",IF(BH91>0,  IF(BE91=\"Nej\",    (Data!$B$8-BH91)/Data!$B$8,  ROUND( (Data!$B$8-BH91)/Data!$B$8,2)),      \"\"),\"\")","v":""},"","","","",{"$f":"IF(A91<>\"\", IF(H91=\"Flytande\",   IF(BM91>0,  IF(BE91=\"Nej\",  (Data!$B$8-BM91)/Data!$B$8,  ROUND( (Data!$B$8-BM91)/Data!$B$8,2)   ), \"\"), \"\"),\"\")","v":""},"",68,"","","",null,""]
[null,69,null,"",null,null,null,null,null,null,null,null,null,null,{"$f":"IF(AND($A92<>\"\",(M92+N92)>0), IF($F92=\"Nej\",    IF(N$13=\"Nm3\",(O$12*1000*1000/((M$242+N$242+M$243+N$243)*1000*  $J92 * Data!$B$6)),  (O$12*1000*1000/(((M$242+N$242+M$243+N$243)/Denscalc($J92))*1000*  $J92 * Data!$B$6)) ), 0     ),  0)","v":0},69,null,null,{"$f":"IF(AND($A92<>\"\",(Q92+R92)>0), IF($F92=\"Nej\",    IF(R$13=\"Nm3\",(S$12*1000*1000/((Q$242+R$242+Q$243+R$243)*1000*  $J92 * Data!$B$6)),  (S$12*1000*1000/(((Q$242+R$242+Q$243+R$243)/Denscalc($J92))*1000*  $J92 * Data!$B$6)) ), 0     ),  0)","v":0},69,null,null,{"$f":"IF(AND($A92<>\"\",(U92+V92)>0), IF($F92=\"Nej\",    IF(V$13=\"Nm3\",(W$12*1000*1000/((U$242+V$242+U$243+V$243)*1000*  $J92 * Data!$B$6)),  (W$12*1000*1000/(((U$242+V$242+U$243+V$243)/Denscalc($J92))*1000*  $J92 * Data!$B$6)) ), 0     ),  0)","v":0},69,null,null,{"$f":"IF(AND($A92<>\"\",(Y92+Z92)>0), IF($F92=\"Nej\",    IF(Z$13=\"Nm3\",(AA$12*1000*1000/((Y$242+Z$242+Y$243+Z$243)*1000*  $J92 * Data!$B$6)),  (AA$12*1000*1000/(((Y$242+Z$242+Y$243+Z$243)/Denscalc($J92))*1000*  $J92 * Data!$B$6)) ), 0     ),  0)","v":0},69,null,null,{"$f":"IF(AND($A92<>\"\",(AC92+AD92)>0), IF($F92=\"Nej\",    IF(AD$13=\"Nm3\",(AE$12*1000*1000/((AC$242+AD$242+AC$243+AD$243)*1000*  $J92 * Data!$B$6)),  (AE$12*1000*1000/(((AC$242+AD$242+AC$243+AD$243)/Denscalc($J92))*1000*  $J92 * Data!$B$6)) ), 0     ),  0)","v":0},69,null,null,{"$f":"IF(AND($A92<>\"\",(AG92+AH92)>0), IF($F92=\"Nej\",    IF(AH$13=\"Nm3\",(AI$12*1000*1000/((AG$242+AH$242+AG$243+AH$243)*1000*  $J92 * Data!$B$6)),  (AI$12*1000*1000/(((AG$242+AH$242+AG$243+AH$243)/Denscalc($J92))*1000*  $J92 * Data!$B$6)) ), 0     ),  0)","v":0},69,null,null,{"$f":"IF(AND($A92<>\"\",(AK92+AL92)>0), IF($F92=\"Nej\",    IF(AL$13=\"Nm3\",(AM$12*1000*1000/((AK$242+AL$242+AK$243+AL$243)*1000*  $J92 * Data!$B$6)),  (AM$12*1000*1000/(((AK$242+AL$242+AK$243+AL$243)/Denscalc($J92))*1000*  $J92 * Data!$B$6)) ), 0     ),  0)","v":0},69,null,null,{"$f":"IF(AND($A92<>\"\",(AO92+AP92)>0), IF($F92=\"Nej\",    IF(AP$13=\"Nm3\",(AQ$12*1000*1000/((AO$242+AP$242+AO$243+AP$243)*1000*  $J92 * Data!$B$6)),  (AQ$12*1000*1000/(((AO$242+AP$242+AO$243+AP$243)/Denscalc($J92))*1000*  $J92 * Data!$B$6)) ), 0     ),  0)","v":0},69,null,null,{"$f":"IF(AND($A92<>\"\",(AS92+AT92)>0), IF($F92=\"Nej\",    IF(AT$13=\"Nm3\",(AU$12*1000*1000/((AS$242+AT$242+AS$243+AT$243)*1000*  $J92 * Data!$B$6)),  (AU$12*1000*1000/(((AS$242+AT$242+AS$243+AT$243)/Denscalc($J92))*1000*  $J92 * Data!$B$6)) ), 0     ),  0)","v":0},69,null,null,{"$f":"IF(AND($A92<>\"\",(AW92+AX92)>0), IF($F92=\"Nej\",\nIF(AX$13=\"Nm3\",(AY$12*1000*1000/((AW$242+AX$242+AW$243+AX$243-AW$240-AX$240)*1000*  $J92 * Data!$B$6))+(AY$6*1000*1000/((AW$242+AX$242+AW$243+AX$243)*1000*  $J92 * Data!$B$6)),\n (AY$12*1000*1000/(((AW$242+AX$242+AW$243+AX$243-AW$240-AX$240)/Denscalc($J92))*1000*  $J92 * Data!$B$6))  +  (AY$6*1000*1000/(((AW$242+AX$242+AW$243+AX$243)/Denscalc($J92))*1000*  $J92 * Data!$B$6)) ), 0     ),  0)","v":0},69,null,null,{"$f":"IF(AND($A92<>\"\",(BA92+BB92)>0), IF($F92=\"Nej\",\n (BC$12*1000*1000/((BA$244+BB$244-BA$240-BB$240)*1000* Data!$B$7))+ (BC$6*1000*1000/((BA$244+BB$244)*1000* Data!$B$7)),0 ),  0)","v":0},69,"",{"$f":"IF(A92<>\"\",IF(F92=\"Nej\", (Data!$B$129*Data!$B$5*1000*Data!$B$3)/Data!$B$6,  0 ),\"\")","v":""},"","",{"$f":"IF(A92<>\"\",IF(BH92>0,  IF(BE92=\"Nej\",    (Data!$B$8-BH92)/Data!$B$8,  ROUND( (Data!$B$8-BH92)/Data!$B$8,2)),      \"\"),\"\")","v":""},"","","","",{"$f":"IF(A92<>\"\", IF(H92=\"Flytande\",   IF(BM92>0,  IF(BE92=\"Nej\",  (Data!$B$8-BM92)/Data!$B$8,  ROUND( (Data!$B$8-BM92)/Data!$B$8,2)   ), \"\"), \"\"),\"\")","v":""},"",69,"","","",null,""]
[null,70,null,"",null,null,null,null,null,null,null,null,null,null,{"$f":"IF(AND($A93<>\"\",(M93+N93)>0), IF($F93=\"Nej\",    IF(N$13=\"Nm3\",(O$12*1000*1000/((M$242+N$242+M$243+N$243)*1000*  $J93 * Data!$B$6)),  (O$12*1000*1000/(((M$242+N$242+M$243+N$243)/Denscalc($J93))*1000*  $J93 * Data!$B$6)) ), 0     ),  0)","v":0},70,null,null,{"$f":"IF(AND($A93<>\"\",(Q93+R93)>0), IF($F93=\"Nej\",    IF(R$13=\"Nm3\",(S$12*1000*1000/((Q$242+R$242+Q$243+R$243)*1000*  $J93 * Data!$B$6)),  (S$12*1000*1000/(((Q$242+R$242+Q$243+R$243)/Denscalc($J93))*1000*  $J93 * Data!$B$6)) ), 0     ),  0)","v":0},70,null,null,{"$f":"IF(AND($A93<>\"\",(U93+V93)>0), IF($F93=\"Nej\",    IF(V$13=\"Nm3\",(W$12*1000*1000/((U$242+V$242+U$243+V$243)*1000*  $J93 * Data!$B$6)),  (W$12*1000*1000/(((U$242+V$242+U$243+V$243)/Denscalc($J93))*1000*  $J93 * Data!$B$6)) ), 0     ),  0)","v":0},70,null,null,{"$f":"IF(AND($A93<>\"\",(Y93+Z93)>0), IF($F93=\"Nej\",    IF(Z$13=\"Nm3\",(AA$12*1000*1000/((Y$242+Z$242+Y$243+Z$243)*1000*  $J93 * Data!$B$6)),  (AA$12*1000*1000/(((Y$242+Z$242+Y$243+Z$243)/Denscalc($J93))*1000*  $J93 * Data!$B$6)) ), 0     ),  0)","v":0},70,null,null,{"$f":"IF(AND($A93<>\"\",(AC93+AD93)>0), IF($F93=\"Nej\",    IF(AD$13=\"Nm3\",(AE$12*1000*1000/((AC$242+AD$242+AC$243+AD$243)*1000*  $J93 * Data!$B$6)),  (AE$12*1000*1000/(((AC$242+AD$242+AC$243+AD$243)/Denscalc($J93))*1000*  $J93 * Data!$B$6)) ), 0     ),  0)","v":0},70,null,null,{"$f":"IF(AND($A93<>\"\",(AG93+AH93)>0), IF($F93=\"Nej\",    IF(AH$13=\"Nm3\",(AI$12*1000*1000/((AG$242+AH$242+AG$243+AH$243)*1000*  $J93 * Data!$B$6)),  (AI$12*1000*1000/(((AG$242+AH$242+AG$243+AH$243)/Denscalc($J93))*1000*  $J93 * Data!$B$6)) ), 0     ),  0)","v":0},70,null,null,{"$f":"IF(AND($A93<>\"\",(AK93+AL93)>0), IF($F93=\"Nej\",    IF(AL$13=\"Nm3\",(AM$12*1000*1000/((AK$242+AL$242+AK$243+AL$243)*1000*  $J93 * Data!$B$6)),  (AM$12*1000*1000/(((AK$242+AL$242+AK$243+AL$243)/Denscalc($J93))*1000*  $J93 * Data!$B$6)) ), 0     ),  0)","v":0},70,null,null,{"$f":"IF(AND($A93<>\"\",(AO93+AP93)>0), IF($F93=\"Nej\",    IF(AP$13=\"Nm3\",(AQ$12*1000*1000/((AO$242+AP$242+AO$243+AP$243)*1000*  $J93 * Data!$B$6)),  (AQ$12*1000*1000/(((AO$242+AP$242+AO$243+AP$243)/Denscalc($J93))*1000*  $J93 * Data!$B$6)) ), 0     ),  0)","v":0},70,null,null,{"$f":"IF(AND($A93<>\"\",(AS93+AT93)>0), IF($F93=\"Nej\",    IF(AT$13=\"Nm3\",(AU$12*1000*1000/((AS$242+AT$242+AS$243+AT$243)*1000*  $J93 * Data!$B$6)),  (AU$12*1000*1000/(((AS$242+AT$242+AS$243+AT$243)/Denscalc($J93))*1000*  $J93 * Data!$B$6)) ), 0     ),  0)","v":0},70,null,null,{"$f":"IF(AND($A93<>\"\",(AW93+AX93)>0), IF($F93=\"Nej\",\nIF(AX$13=\"Nm3\",(AY$12*1000*1000/((AW$242+AX$242+AW$243+AX$243-AW$240-AX$240)*1000*  $J93 * Data!$B$6))+(AY$6*1000*1000/((AW$242+AX$242+AW$243+AX$243)*1000*  $J93 * Data!$B$6)),\n (AY$12*1000*1000/(((AW$242+AX$242+AW$243+AX$243-AW$240-AX$240)/Denscalc($J93))*1000*  $J93 * Data!$B$6))  +  (AY$6*1000*1000/(((AW$242+AX$242+AW$243+AX$243)/Denscalc($J93))*1000*  $J93 * Data!$B$6)) ), 0     ),  0)","v":0},70,null,null,{"$f":"IF(AND($A93<>\"\",(BA93+BB93)>0), IF($F93=\"Nej\",\n (BC$12*1000*1000/((BA$244+BB$244-BA$240-BB$240)*1000* Data!$B$7))+ (BC$6*1000*1000/((BA$244+BB$244)*1000* Data!$B$7)),0 ),  0)","v":0},70,"",{"$f":"IF(A93<>\"\",IF(F93=\"Nej\", (Data!$B$129*Data!$B$5*1000*Data!$B$3)/Data!$B$6,  0 ),\"\")","v":""},"","",{"$f":"IF(A93<>\"\",IF(BH93>0,  IF(BE93=\"Nej\",    (Data!$B$8-BH93)/Data!$B$8,  ROUND( (Data!$B$8-BH93)/Data!$B$8,2)),      \"\"),\"\")","v":""},"","","","",{"$f":"IF(A93<>\"\", IF(H93=\"Flytande\",   IF(BM93>0,  IF(BE93=\"Nej\",  (Data!$B$8-BM93)/Data!$B$8,  ROUND( (Data!$B$8-BM93)/Data!$B$8,2)   ), \"\"), \"\"),\"\")","v":""},"",70,"","","",null,""]
[null,71,null,"",null,null,null,null,null,null,null,null,null,null,{"$f":"IF(AND($A94<>\"\",(M94+N94)>0), IF($F94=\"Nej\",    IF(N$13=\"Nm3\",(O$12*1000*1000/((M$242+N$242+M$243+N$243)*1000*  $J94 * Data!$B$6)),  (O$12*1000*1000/(((M$242+N$242+M$243+N$243)/Denscalc($J94))*1000*  $J94 * Data!$B$6)) ), 0     ),  0)","v":0},71,null,null,{"$f":"IF(AND($A94<>\"\",(Q94+R94)>0), IF($F94=\"Nej\",    IF(R$13=\"Nm3\",(S$12*1000*1000/((Q$242+R$242+Q$243+R$243)*1000*  $J94 * Data!$B$6)),  (S$12*1000*1000/(((Q$242+R$242+Q$243+R$243)/Denscalc($J94))*1000*  $J94 * Data!$B$6)) ), 0     ),  0)","v":0},71,null,null,{"$f":"IF(AND($A94<>\"\",(U94+V94)>0), IF($F94=\"Nej\",    IF(V$13=\"Nm3\",(W$12*1000*1000/((U$242+V$242+U$243+V$243)*1000*  $J94 * Data!$B$6)),  (W$12*1000*1000/(((U$242+V$242+U$243+V$243)/Denscalc($J94))*1000*  $J94 * Data!$B$6)) ), 0     ),  0)","v":0},71,null,null,{"$f":"IF(AND($A94<>\"\",(Y94+Z94)>0), IF($F94=\"Nej\",    IF(Z$13=\"Nm3\",(AA$12*1000*1000/((Y$242+Z$242+Y$243+Z$243)*1000*  $J94 * Data!$B$6)),  (AA$12*1000*1000/(((Y$242+Z$242+Y$243+Z$243)/Denscalc($J94))*1000*  $J94 * Data!$B$6)) ), 0     ),  0)","v":0},71,null,null,{"$f":"IF(AND($A94<>\"\",(AC94+AD94)>0), IF($F94=\"Nej\",    IF(AD$13=\"Nm3\",(AE$12*1000*1000/((AC$242+AD$242+AC$243+AD$243)*1000*  $J94 * Data!$B$6)),  (AE$12*1000*1000/(((AC$242+AD$242+AC$243+AD$243)/Denscalc($J94))*1000*  $J94 * Data!$B$6)) ), 0     ),  0)","v":0},71,null,null,{"$f":"IF(AND($A94<>\"\",(AG94+AH94)>0), IF($F94=\"Nej\",    IF(AH$13=\"Nm3\",(AI$12*1000*1000/((AG$242+AH$242+AG$243+AH$243)*1000*  $J94 * Data!$B$6)),  (AI$12*1000*1000/(((AG$242+AH$242+AG$243+AH$243)/Denscalc($J94))*1000*  $J94 * Data!$B$6)) ), 0     ),  0)","v":0},71,null,null,{"$f":"IF(AND($A94<>\"\",(AK94+AL94)>0), IF($F94=\"Nej\",    IF(AL$13=\"Nm3\",(AM$12*1000*1000/((AK$242+AL$242+AK$243+AL$243)*1000*  $J94 * Data!$B$6)),  (AM$12*1000*1000/(((AK$242+AL$242+AK$243+AL$243)/Denscalc($J94))*1000*  $J94 * Data!$B$6)) ), 0     ),  0)","v":0},71,null,null,{"$f":"IF(AND($A94<>\"\",(AO94+AP94)>0), IF($F94=\"Nej\",    IF(AP$13=\"Nm3\",(AQ$12*1000*1000/((AO$242+AP$242+AO$243+AP$243)*1000*  $J94 * Data!$B$6)),  (AQ$12*1000*1000/(((AO$242+AP$242+AO$243+AP$243)/Denscalc($J94))*1000*  $J94 * Data!$B$6)) ), 0     ),  0)","v":0},71,null,null,{"$f":"IF(AND($A94<>\"\",(AS94+AT94)>0), IF($F94=\"Nej\",    IF(AT$13=\"Nm3\",(AU$12*1000*1000/((AS$242+AT$242+AS$243+AT$243)*1000*  $J94 * Data!$B$6)),  (AU$12*1000*1000/(((AS$242+AT$242+AS$243+AT$243)/Denscalc($J94))*1000*  $J94 * Data!$B$6)) ), 0     ),  0)","v":0},71,null,null,{"$f":"IF(AND($A94<>\"\",(AW94+AX94)>0), IF($F94=\"Nej\",\nIF(AX$13=\"Nm3\",(AY$12*1000*1000/((AW$242+AX$242+AW$243+AX$243-AW$240-AX$240)*1000*  $J94 * Data!$B$6))+(AY$6*1000*1000/((AW$242+AX$242+AW$243+AX$243)*1000*  $J94 * Data!$B$6)),\n (AY$12*1000*1000/(((AW$242+AX$242+AW$243+AX$243-AW$240-AX$240)/Denscalc($J94))*1000*  $J94 * Data!$B$6))  +  (AY$6*1000*1000/(((AW$242+AX$242+AW$243+AX$243)/Denscalc($J94))*1000*  $J94 * Data!$B$6)) ), 0     ),  0)","v":0},71,null,null,{"$f":"IF(AND($A94<>\"\",(BA94+BB94)>0), IF($F94=\"Nej\",\n (BC$12*1000*1000/((BA$244+BB$244-BA$240-BB$240)*1000* Data!$B$7))+ (BC$6*1000*1000/((BA$244+BB$244)*1000* Data!$B$7)),0 ),  0)","v":0},71,"",{"$f":"IF(A94<>\"\",IF(F94=\"Nej\", (Data!$B$129*Data!$B$5*1000*Data!$B$3)/Data!$B$6,  0 ),\"\")","v":""},"","",{"$f":"IF(A94<>\"\",IF(BH94>0,  IF(BE94=\"Nej\",    (Data!$B$8-BH94)/Data!$B$8,  ROUND( (Data!$B$8-BH94)/Data!$B$8,2)),      \"\"),\"\")","v":""},"","","","",{"$f":"IF(A94<>\"\", IF(H94=\"Flytande\",   IF(BM94>0,  IF(BE94=\"Nej\",  (Data!$B$8-BM94)/Data!$B$8,  ROUND( (Data!$B$8-BM94)/Data!$B$8,2)   ), \"\"), \"\"),\"\")","v":""},"",71,"","","",null,""]
[null,72,null,"",null,null,null,null,null,null,null,null,null,null,{"$f":"IF(AND($A95<>\"\",(M95+N95)>0), IF($F95=\"Nej\",    IF(N$13=\"Nm3\",(O$12*1000*1000/((M$242+N$242+M$243+N$243)*1000*  $J95 * Data!$B$6)),  (O$12*1000*1000/(((M$242+N$242+M$243+N$243)/Denscalc($J95))*1000*  $J95 * Data!$B$6)) ), 0     ),  0)","v":0},72,null,null,{"$f":"IF(AND($A95<>\"\",(Q95+R95)>0), IF($F95=\"Nej\",    IF(R$13=\"Nm3\",(S$12*1000*1000/((Q$242+R$242+Q$243+R$243)*1000*  $J95 * Data!$B$6)),  (S$12*1000*1000/(((Q$242+R$242+Q$243+R$243)/Denscalc($J95))*1000*  $J95 * Data!$B$6)) ), 0     ),  0)","v":0},72,null,null,{"$f":"IF(AND($A95<>\"\",(U95+V95)>0), IF($F95=\"Nej\",    IF(V$13=\"Nm3\",(W$12*1000*1000/((U$242+V$242+U$243+V$243)*1000*  $J95 * Data!$B$6)),  (W$12*1000*1000/(((U$242+V$242+U$243+V$243)/Denscalc($J95))*1000*  $J95 * Data!$B$6)) ), 0     ),  0)","v":0},72,null,null,{"$f":"IF(AND($A95<>\"\",(Y95+Z95)>0), IF($F95=\"Nej\",    IF(Z$13=\"Nm3\",(AA$12*1000*1000/((Y$242+Z$242+Y$243+Z$243)*1000*  $J95 * Data!$B$6)),  (AA$12*1000*1000/(((Y$242+Z$242+Y$243+Z$243)/Denscalc($J95))*1000*  $J95 * Data!$B$6)) ), 0     ),  0)","v":0},72,null,null,{"$f":"IF(AND($A95<>\"\",(AC95+AD95)>0), IF($F95=\"Nej\",    IF(AD$13=\"Nm3\",(AE$12*1000*1000/((AC$242+AD$242+AC$243+AD$243)*1000*  $J95 * Data!$B$6)),  (AE$12*1000*1000/(((AC$242+AD$242+AC$243+AD$243)/Denscalc($J95))*1000*  $J95 * Data!$B$6)) ), 0     ),  0)","v":0},72,null,null,{"$f":"IF(AND($A95<>\"\",(AG95+AH95)>0), IF($F95=\"Nej\",    IF(AH$13=\"Nm3\",(AI$12*1000*1000/((AG$242+AH$242+AG$243+AH$243)*1000*  $J95 * Data!$B$6)),  (AI$12*1000*1000/(((AG$242+AH$242+AG$243+AH$243)/Denscalc($J95))*1000*  $J95 * Data!$B$6)) ), 0     ),  0)","v":0},72,null,null,{"$f":"IF(AND($A95<>\"\",(AK95+AL95)>0), IF($F95=\"Nej\",    IF(AL$13=\"Nm3\",(AM$12*1000*1000/((AK$242+AL$242+AK$243+AL$243)*1000*  $J95 * Data!$B$6)),  (AM$12*1000*1000/(((AK$242+AL$242+AK$243+AL$243)/Denscalc($J95))*1000*  $J95 * Data!$B$6)) ), 0     ),  0)","v":0},72,null,null,{"$f":"IF(AND($A95<>\"\",(AO95+AP95)>0), IF($F95=\"Nej\",    IF(AP$13=\"Nm3\",(AQ$12*1000*1000/((AO$242+AP$242+AO$243+AP$243)*1000*  $J95 * Data!$B$6)),  (AQ$12*1000*1000/(((AO$242+AP$242+AO$243+AP$243)/Denscalc($J95))*1000*  $J95 * Data!$B$6)) ), 0     ),  0)","v":0},72,null,null,{"$f":"IF(AND($A95<>\"\",(AS95+AT95)>0), IF($F95=\"Nej\",    IF(AT$13=\"Nm3\",(AU$12*1000*1000/((AS$242+AT$242+AS$243+AT$243)*1000*  $J95 * Data!$B$6)),  (AU$12*1000*1000/(((AS$242+AT$242+AS$243+AT$243)/Denscalc($J95))*1000*  $J95 * Data!$B$6)) ), 0     ),  0)","v":0},72,null,null,{"$f":"IF(AND($A95<>\"\",(AW95+AX95)>0), IF($F95=\"Nej\",\nIF(AX$13=\"Nm3\",(AY$12*1000*1000/((AW$242+AX$242+AW$243+AX$243-AW$240-AX$240)*1000*  $J95 * Data!$B$6))+(AY$6*1000*1000/((AW$242+AX$242+AW$243+AX$243)*1000*  $J95 * Data!$B$6)),\n (AY$12*1000*1000/(((AW$242+AX$242+AW$243+AX$243-AW$240-AX$240)/Denscalc($J95))*1000*  $J95 * Data!$B$6))  +  (AY$6*1000*1000/(((AW$242+AX$242+AW$243+AX$243)/Denscalc($J95))*1000*  $J95 * Data!$B$6)) ), 0     ),  0)","v":0},72,null,null,{"$f":"IF(AND($A95<>\"\",(BA95+BB95)>0), IF($F95=\"Nej\",\n (BC$12*1000*1000/((BA$244+BB$244-BA$240-BB$240)*1000* Data!$B$7))+ (BC$6*1000*1000/((BA$244+BB$244)*1000* Data!$B$7)),0 ),  0)","v":0},72,"",{"$f":"IF(A95<>\"\",IF(F95=\"Nej\", (Data!$B$129*Data!$B$5*1000*Data!$B$3)/Data!$B$6,  0 ),\"\")","v":""},"","",{"$f":"IF(A95<>\"\",IF(BH95>0,  IF(BE95=\"Nej\",    (Data!$B$8-BH95)/Data!$B$8,  ROUND( (Data!$B$8-BH95)/Data!$B$8,2)),      \"\"),\"\")","v":""},"","","","",{"$f":"IF(A95<>\"\", IF(H95=\"Flytande\",   IF(BM95>0,  IF(BE95=\"Nej\",  (Data!$B$8-BM95)/Data!$B$8,  ROUND( (Data!$B$8-BM95)/Data!$B$8,2)   ), \"\"), \"\"),\"\")","v":""},"",72,"","","",null,""]
[null,73,null,"",null,null,null,null,null,null,null,null,null,null,{"$f":"IF(AND($A96<>\"\",(M96+N96)>0), IF($F96=\"Nej\",    IF(N$13=\"Nm3\",(O$12*1000*1000/((M$242+N$242+M$243+N$243)*1000*  $J96 * Data!$B$6)),  (O$12*1000*1000/(((M$242+N$242+M$243+N$243)/Denscalc($J96))*1000*  $J96 * Data!$B$6)) ), 0     ),  0)","v":0},73,null,null,{"$f":"IF(AND($A96<>\"\",(Q96+R96)>0), IF($F96=\"Nej\",    IF(R$13=\"Nm3\",(S$12*1000*1000/((Q$242+R$242+Q$243+R$243)*1000*  $J96 * Data!$B$6)),  (S$12*1000*1000/(((Q$242+R$242+Q$243+R$243)/Denscalc($J96))*1000*  $J96 * Data!$B$6)) ), 0     ),  0)","v":0},73,null,null,{"$f":"IF(AND($A96<>\"\",(U96+V96)>0), IF($F96=\"Nej\",    IF(V$13=\"Nm3\",(W$12*1000*1000/((U$242+V$242+U$243+V$243)*1000*  $J96 * Data!$B$6)),  (W$12*1000*1000/(((U$242+V$242+U$243+V$243)/Denscalc($J96))*1000*  $J96 * Data!$B$6)) ), 0     ),  0)","v":0},73,null,null,{"$f":"IF(AND($A96<>\"\",(Y96+Z96)>0), IF($F96=\"Nej\",    IF(Z$13=\"Nm3\",(AA$12*1000*1000/((Y$242+Z$242+Y$243+Z$243)*1000*  $J96 * Data!$B$6)),  (AA$12*1000*1000/(((Y$242+Z$242+Y$243+Z$243)/Denscalc($J96))*1000*  $J96 * Data!$B$6)) ), 0     ),  0)","v":0},73,null,null,{"$f":"IF(AND($A96<>\"\",(AC96+AD96)>0), IF($F96=\"Nej\",    IF(AD$13=\"Nm3\",(AE$12*1000*1000/((AC$242+AD$242+AC$243+AD$243)*1000*  $J96 * Data!$B$6)),  (AE$12*1000*1000/(((AC$242+AD$242+AC$243+AD$243)/Denscalc($J96))*1000*  $J96 * Data!$B$6)) ), 0     ),  0)","v":0},73,null,null,{"$f":"IF(AND($A96<>\"\",(AG96+AH96)>0), IF($F96=\"Nej\",    IF(AH$13=\"Nm3\",(AI$12*1000*1000/((AG$242+AH$242+AG$243+AH$243)*1000*  $J96 * Data!$B$6)),  (AI$12*1000*1000/(((AG$242+AH$242+AG$243+AH$243)/Denscalc($J96))*1000*  $J96 * Data!$B$6)) ), 0     ),  0)","v":0},73,null,null,{"$f":"IF(AND($A96<>\"\",(AK96+AL96)>0), IF($F96=\"Nej\",    IF(AL$13=\"Nm3\",(AM$12*1000*1000/((AK$242+AL$242+AK$243+AL$243)*1000*  $J96 * Data!$B$6)),  (AM$12*1000*1000/(((AK$242+AL$242+AK$243+AL$243)/Denscalc($J96))*1000*  $J96 * Data!$B$6)) ), 0     ),  0)","v":0},73,null,null,{"$f":"IF(AND($A96<>\"\",(AO96+AP96)>0), IF($F96=\"Nej\",    IF(AP$13=\"Nm3\",(AQ$12*1000*1000/((AO$242+AP$242+AO$243+AP$243)*1000*  $J96 * Data!$B$6)),  (AQ$12*1000*1000/(((AO$242+AP$242+AO$243+AP$243)/Denscalc($J96))*1000*  $J96 * Data!$B$6)) ), 0     ),  0)","v":0},73,null,null,{"$f":"IF(AND($A96<>\"\",(AS96+AT96)>0), IF($F96=\"Nej\",    IF(AT$13=\"Nm3\",(AU$12*1000*1000/((AS$242+AT$242+AS$243+AT$243)*1000*  $J96 * Data!$B$6)),  (AU$12*1000*1000/(((AS$242+AT$242+AS$243+AT$243)/Denscalc($J96))*1000*  $J96 * Data!$B$6)) ), 0     ),  0)","v":0},73,null,null,{"$f":"IF(AND($A96<>\"\",(AW96+AX96)>0), IF($F96=\"Nej\",\nIF(AX$13=\"Nm3\",(AY$12*1000*1000/((AW$242+AX$242+AW$243+AX$243-AW$240-AX$240)*1000*  $J96 * Data!$B$6))+(AY$6*1000*1000/((AW$242+AX$242+AW$243+AX$243)*1000*  $J96 * Data!$B$6)),\n (AY$12*1000*1000/(((AW$242+AX$242+AW$243+AX$243-AW$240-AX$240)/Denscalc($J96))*1000*  $J96 * Data!$B$6))  +  (AY$6*1000*1000/(((AW$242+AX$242+AW$243+AX$243)/Denscalc($J96))*1000*  $J96 * Data!$B$6)) ), 0     ),  0)","v":0},73,null,null,{"$f":"IF(AND($A96<>\"\",(BA96+BB96)>0), IF($F96=\"Nej\",\n (BC$12*1000*1000/((BA$244+BB$244-BA$240-BB$240)*1000* Data!$B$7))+ (BC$6*1000*1000/((BA$244+BB$244)*1000* Data!$B$7)),0 ),  0)","v":0},73,"",{"$f":"IF(A96<>\"\",IF(F96=\"Nej\", (Data!$B$129*Data!$B$5*1000*Data!$B$3)/Data!$B$6,  0 ),\"\")","v":""},"","",{"$f":"IF(A96<>\"\",IF(BH96>0,  IF(BE96=\"Nej\",    (Data!$B$8-BH96)/Data!$B$8,  ROUND( (Data!$B$8-BH96)/Data!$B$8,2)),      \"\"),\"\")","v":""},"","","","",{"$f":"IF(A96<>\"\", IF(H96=\"Flytande\",   IF(BM96>0,  IF(BE96=\"Nej\",  (Data!$B$8-BM96)/Data!$B$8,  ROUND( (Data!$B$8-BM96)/Data!$B$8,2)   ), \"\"), \"\"),\"\")","v":""},"",73,"","","",null,""]
[null,74,null,"",null,null,null,null,null,null,null,null,null,null,{"$f":"IF(AND($A97<>\"\",(M97+N97)>0), IF($F97=\"Nej\",    IF(N$13=\"Nm3\",(O$12*1000*1000/((M$242+N$242+M$243+N$243)*1000*  $J97 * Data!$B$6)),  (O$12*1000*1000/(((M$242+N$242+M$243+N$243)/Denscalc($J97))*1000*  $J97 * Data!$B$6)) ), 0     ),  0)","v":0},74,null,null,{"$f":"IF(AND($A97<>\"\",(Q97+R97)>0), IF($F97=\"Nej\",    IF(R$13=\"Nm3\",(S$12*1000*1000/((Q$242+R$242+Q$243+R$243)*1000*  $J97 * Data!$B$6)),  (S$12*1000*1000/(((Q$242+R$242+Q$243+R$243)/Denscalc($J97))*1000*  $J97 * Data!$B$6)) ), 0     ),  0)","v":0},74,null,null,{"$f":"IF(AND($A97<>\"\",(U97+V97)>0), IF($F97=\"Nej\",    IF(V$13=\"Nm3\",(W$12*1000*1000/((U$242+V$242+U$243+V$243)*1000*  $J97 * Data!$B$6)),  (W$12*1000*1000/(((U$242+V$242+U$243+V$243)/Denscalc($J97))*1000*  $J97 * Data!$B$6)) ), 0     ),  0)","v":0},74,null,null,{"$f":"IF(AND($A97<>\"\",(Y97+Z97)>0), IF($F97=\"Nej\",    IF(Z$13=\"Nm3\",(AA$12*1000*1000/((Y$242+Z$242+Y$243+Z$243)*1000*  $J97 * Data!$B$6)),  (AA$12*1000*1000/(((Y$242+Z$242+Y$243+Z$243)/Denscalc($J97))*1000*  $J97 * Data!$B$6)) ), 0     ),  0)","v":0},74,null,null,{"$f":"IF(AND($A97<>\"\",(AC97+AD97)>0), IF($F97=\"Nej\",    IF(AD$13=\"Nm3\",(AE$12*1000*1000/((AC$242+AD$242+AC$243+AD$243)*1000*  $J97 * Data!$B$6)),  (AE$12*1000*1000/(((AC$242+AD$242+AC$243+AD$243)/Denscalc($J97))*1000*  $J97 * Data!$B$6)) ), 0     ),  0)","v":0},74,null,null,{"$f":"IF(AND($A97<>\"\",(AG97+AH97)>0), IF($F97=\"Nej\",    IF(AH$13=\"Nm3\",(AI$12*1000*1000/((AG$242+AH$242+AG$243+AH$243)*1000*  $J97 * Data!$B$6)),  (AI$12*1000*1000/(((AG$242+AH$242+AG$243+AH$243)/Denscalc($J97))*1000*  $J97 * Data!$B$6)) ), 0     ),  0)","v":0},74,null,null,{"$f":"IF(AND($A97<>\"\",(AK97+AL97)>0), IF($F97=\"Nej\",    IF(AL$13=\"Nm3\",(AM$12*1000*1000/((AK$242+AL$242+AK$243+AL$243)*1000*  $J97 * Data!$B$6)),  (AM$12*1000*1000/(((AK$242+AL$242+AK$243+AL$243)/Denscalc($J97))*1000*  $J97 * Data!$B$6)) ), 0     ),  0)","v":0},74,null,null,{"$f":"IF(AND($A97<>\"\",(AO97+AP97)>0), IF($F97=\"Nej\",    IF(AP$13=\"Nm3\",(AQ$12*1000*1000/((AO$242+AP$242+AO$243+AP$243)*1000*  $J97 * Data!$B$6)),  (AQ$12*1000*1000/(((AO$242+AP$242+AO$243+AP$243)/Denscalc($J97))*1000*  $J97 * Data!$B$6)) ), 0     ),  0)","v":0},74,null,null,{"$f":"IF(AND($A97<>\"\",(AS97+AT97)>0), IF($F97=\"Nej\",    IF(AT$13=\"Nm3\",(AU$12*1000*1000/((AS$242+AT$242+AS$243+AT$243)*1000*  $J97 * Data!$B$6)),  (AU$12*1000*1000/(((AS$242+AT$242+AS$243+AT$243)/Denscalc($J97))*1000*  $J97 * Data!$B$6)) ), 0     ),  0)","v":0},74,null,null,{"$f":"IF(AND($A97<>\"\",(AW97+AX97)>0), IF($F97=\"Nej\",\nIF(AX$13=\"Nm3\",(AY$12*1000*1000/((AW$242+AX$242+AW$243+AX$243-AW$240-AX$240)*1000*  $J97 * Data!$B$6))+(AY$6*1000*1000/((AW$242+AX$242+AW$243+AX$243)*1000*  $J97 * Data!$B$6)),\n (AY$12*1000*1000/(((AW$242+AX$242+AW$243+AX$243-AW$240-AX$240)/Denscalc($J97))*1000*  $J97 * Data!$B$6))  +  (AY$6*1000*1000/(((AW$242+AX$242+AW$243+AX$243)/Denscalc($J97))*1000*  $J97 * Data!$B$6)) ), 0     ),  0)","v":0},74,null,null,{"$f":"IF(AND($A97<>\"\",(BA97+BB97)>0), IF($F97=\"Nej\",\n (BC$12*1000*1000/((BA$244+BB$244-BA$240-BB$240)*1000* Data!$B$7))+ (BC$6*1000*1000/((BA$244+BB$244)*1000* Data!$B$7)),0 ),  0)","v":0},74,"",{"$f":"IF(A97<>\"\",IF(F97=\"Nej\", (Data!$B$129*Data!$B$5*1000*Data!$B$3)/Data!$B$6,  0 ),\"\")","v":""},"","",{"$f":"IF(A97<>\"\",IF(BH97>0,  IF(BE97=\"Nej\",    (Data!$B$8-BH97)/Data!$B$8,  ROUND( (Data!$B$8-BH97)/Data!$B$8,2)),      \"\"),\"\")","v":""},"","","","",{"$f":"IF(A97<>\"\", IF(H97=\"Flytande\",   IF(BM97>0,  IF(BE97=\"Nej\",  (Data!$B$8-BM97)/Data!$B$8,  ROUND( (Data!$B$8-BM97)/Data!$B$8,2)   ), \"\"), \"\"),\"\")","v":""},"",74,"","","",null,""]
[null,75,null,"",null,null,null,null,null,null,null,null,null,null,{"$f":"IF(AND($A98<>\"\",(M98+N98)>0), IF($F98=\"Nej\",    IF(N$13=\"Nm3\",(O$12*1000*1000/((M$242+N$242+M$243+N$243)*1000*  $J98 * Data!$B$6)),  (O$12*1000*1000/(((M$242+N$242+M$243+N$243)/Denscalc($J98))*1000*  $J98 * Data!$B$6)) ), 0     ),  0)","v":0},75,null,null,{"$f":"IF(AND($A98<>\"\",(Q98+R98)>0), IF($F98=\"Nej\",    IF(R$13=\"Nm3\",(S$12*1000*1000/((Q$242+R$242+Q$243+R$243)*1000*  $J98 * Data!$B$6)),  (S$12*1000*1000/(((Q$242+R$242+Q$243+R$243)/Denscalc($J98))*1000*  $J98 * Data!$B$6)) ), 0     ),  0)","v":0},75,null,null,{"$f":"IF(AND($A98<>\"\",(U98+V98)>0), IF($F98=\"Nej\",    IF(V$13=\"Nm3\",(W$12*1000*1000/((U$242+V$242+U$243+V$243)*1000*  $J98 * Data!$B$6)),  (W$12*1000*1000/(((U$242+V$242+U$243+V$243)/Denscalc($J98))*1000*  $J98 * Data!$B$6)) ), 0     ),  0)","v":0},75,null,null,{"$f":"IF(AND($A98<>\"\",(Y98+Z98)>0), IF($F98=\"Nej\",    IF(Z$13=\"Nm3\",(AA$12*1000*1000/((Y$242+Z$242+Y$243+Z$243)*1000*  $J98 * Data!$B$6)),  (AA$12*1000*1000/(((Y$242+Z$242+Y$243+Z$243)/Denscalc($J98))*1000*  $J98 * Data!$B$6)) ), 0     ),  0)","v":0},75,null,null,{"$f":"IF(AND($A98<>\"\",(AC98+AD98)>0), IF($F98=\"Nej\",    IF(AD$13=\"Nm3\",(AE$12*1000*1000/((AC$242+AD$242+AC$243+AD$243)*1000*  $J98 * Data!$B$6)),  (AE$12*1000*1000/(((AC$242+AD$242+AC$243+AD$243)/Denscalc($J98))*1000*  $J98 * Data!$B$6)) ), 0     ),  0)","v":0},75,null,null,{"$f":"IF(AND($A98<>\"\",(AG98+AH98)>0), IF($F98=\"Nej\",    IF(AH$13=\"Nm3\",(AI$12*1000*1000/((AG$242+AH$242+AG$243+AH$243)*1000*  $J98 * Data!$B$6)),  (AI$12*1000*1000/(((AG$242+AH$242+AG$243+AH$243)/Denscalc($J98))*1000*  $J98 * Data!$B$6)) ), 0     ),  0)","v":0},75,null,null,{"$f":"IF(AND($A98<>\"\",(AK98+AL98)>0), IF($F98=\"Nej\",    IF(AL$13=\"Nm3\",(AM$12*1000*1000/((AK$242+AL$242+AK$243+AL$243)*1000*  $J98 * Data!$B$6)),  (AM$12*1000*1000/(((AK$242+AL$242+AK$243+AL$243)/Denscalc($J98))*1000*  $J98 * Data!$B$6)) ), 0     ),  0)","v":0},75,null,null,{"$f":"IF(AND($A98<>\"\",(AO98+AP98)>0), IF($F98=\"Nej\",    IF(AP$13=\"Nm3\",(AQ$12*1000*1000/((AO$242+AP$242+AO$243+AP$243)*1000*  $J98 * Data!$B$6)),  (AQ$12*1000*1000/(((AO$242+AP$242+AO$243+AP$243)/Denscalc($J98))*1000*  $J98 * Data!$B$6)) ), 0     ),  0)","v":0},75,null,null,{"$f":"IF(AND($A98<>\"\",(AS98+AT98)>0), IF($F98=\"Nej\",    IF(AT$13=\"Nm3\",(AU$12*1000*1000/((AS$242+AT$242+AS$243+AT$243)*1000*  $J98 * Data!$B$6)),  (AU$12*1000*1000/(((AS$242+AT$242+AS$243+AT$243)/Denscalc($J98))*1000*  $J98 * Data!$B$6)) ), 0     ),  0)","v":0},75,null,null,{"$f":"IF(AND($A98<>\"\",(AW98+AX98)>0), IF($F98=\"Nej\",\nIF(AX$13=\"Nm3\",(AY$12*1000*1000/((AW$242+AX$242+AW$243+AX$243-AW$240-AX$240)*1000*  $J98 * Data!$B$6))+(AY$6*1000*1000/((AW$242+AX$242+AW$243+AX$243)*1000*  $J98 * Data!$B$6)),\n (AY$12*1000*1000/(((AW$242+AX$242+AW$243+AX$243-AW$240-AX$240)/Denscalc($J98))*1000*  $J98 * Data!$B$6))  +  (AY$6*1000*1000/(((AW$242+AX$242+AW$243+AX$243)/Denscalc($J98))*1000*  $J98 * Data!$B$6)) ), 0     ),  0)","v":0},75,null,null,{"$f":"IF(AND($A98<>\"\",(BA98+BB98)>0), IF($F98=\"Nej\",\n (BC$12*1000*1000/((BA$244+BB$244-BA$240-BB$240)*1000* Data!$B$7))+ (BC$6*1000*1000/((BA$244+BB$244)*1000* Data!$B$7)),0 ),  0)","v":0},75,"",{"$f":"IF(A98<>\"\",IF(F98=\"Nej\", (Data!$B$129*Data!$B$5*1000*Data!$B$3)/Data!$B$6,  0 ),\"\")","v":""},"","",{"$f":"IF(A98<>\"\",IF(BH98>0,  IF(BE98=\"Nej\",    (Data!$B$8-BH98)/Data!$B$8,  ROUND( (Data!$B$8-BH98)/Data!$B$8,2)),      \"\"),\"\")","v":""},"","","","",{"$f":"IF(A98<>\"\", IF(H98=\"Flytande\",   IF(BM98>0,  IF(BE98=\"Nej\",  (Data!$B$8-BM98)/Data!$B$8,  ROUND( (Data!$B$8-BM98)/Data!$B$8,2)   ), \"\"), \"\"),\"\")","v":""},"",75,"","","",null,""]
[null,76,null,"",null,null,null,null,null,null,null,null,null,null,{"$f":"IF(AND($A99<>\"\",(M99+N99)>0), IF($F99=\"Nej\",    IF(N$13=\"Nm3\",(O$12*1000*1000/((M$242+N$242+M$243+N$243)*1000*  $J99 * Data!$B$6)),  (O$12*1000*1000/(((M$242+N$242+M$243+N$243)/Denscalc($J99))*1000*  $J99 * Data!$B$6)) ), 0     ),  0)","v":0},76,null,null,{"$f":"IF(AND($A99<>\"\",(Q99+R99)>0), IF($F99=\"Nej\",    IF(R$13=\"Nm3\",(S$12*1000*1000/((Q$242+R$242+Q$243+R$243)*1000*  $J99 * Data!$B$6)),  (S$12*1000*1000/(((Q$242+R$242+Q$243+R$243)/Denscalc($J99))*1000*  $J99 * Data!$B$6)) ), 0     ),  0)","v":0},76,null,null,{"$f":"IF(AND($A99<>\"\",(U99+V99)>0), IF($F99=\"Nej\",    IF(V$13=\"Nm3\",(W$12*1000*1000/((U$242+V$242+U$243+V$243)*1000*  $J99 * Data!$B$6)),  (W$12*1000*1000/(((U$242+V$242+U$243+V$243)/Denscalc($J99))*1000*  $J99 * Data!$B$6)) ), 0     ),  0)","v":0},76,null,null,{"$f":"IF(AND($A99<>\"\",(Y99+Z99)>0), IF($F99=\"Nej\",    IF(Z$13=\"Nm3\",(AA$12*1000*1000/((Y$242+Z$242+Y$243+Z$243)*1000*  $J99 * Data!$B$6)),  (AA$12*1000*1000/(((Y$242+Z$242+Y$243+Z$243)/Denscalc($J99))*1000*  $J99 * Data!$B$6)) ), 0     ),  0)","v":0},76,null,null,{"$f":"IF(AND($A99<>\"\",(AC99+AD99)>0), IF($F99=\"Nej\",    IF(AD$13=\"Nm3\",(AE$12*1000*1000/((AC$242+AD$242+AC$243+AD$243)*1000*  $J99 * Data!$B$6)),  (AE$12*1000*1000/(((AC$242+AD$242+AC$243+AD$243)/Denscalc($J99))*1000*  $J99 * Data!$B$6)) ), 0     ),  0)","v":0},76,null,null,{"$f":"IF(AND($A99<>\"\",(AG99+AH99)>0), IF($F99=\"Nej\",    IF(AH$13=\"Nm3\",(AI$12*1000*1000/((AG$242+AH$242+AG$243+AH$243)*1000*  $J99 * Data!$B$6)),  (AI$12*1000*1000/(((AG$242+AH$242+AG$243+AH$243)/Denscalc($J99))*1000*  $J99 * Data!$B$6)) ), 0     ),  0)","v":0},76,null,null,{"$f":"IF(AND($A99<>\"\",(AK99+AL99)>0), IF($F99=\"Nej\",    IF(AL$13=\"Nm3\",(AM$12*1000*1000/((AK$242+AL$242+AK$243+AL$243)*1000*  $J99 * Data!$B$6)),  (AM$12*1000*1000/(((AK$242+AL$242+AK$243+AL$243)/Denscalc($J99))*1000*  $J99 * Data!$B$6)) ), 0     ),  0)","v":0},76,null,null,{"$f":"IF(AND($A99<>\"\",(AO99+AP99)>0), IF($F99=\"Nej\",    IF(AP$13=\"Nm3\",(AQ$12*1000*1000/((AO$242+AP$242+AO$243+AP$243)*1000*  $J99 * Data!$B$6)),  (AQ$12*1000*1000/(((AO$242+AP$242+AO$243+AP$243)/Denscalc($J99))*1000*  $J99 * Data!$B$6)) ), 0     ),  0)","v":0},76,null,null,{"$f":"IF(AND($A99<>\"\",(AS99+AT99)>0), IF($F99=\"Nej\",    IF(AT$13=\"Nm3\",(AU$12*1000*1000/((AS$242+AT$242+AS$243+AT$243)*1000*  $J99 * Data!$B$6)),  (AU$12*1000*1000/(((AS$242+AT$242+AS$243+AT$243)/Denscalc($J99))*1000*  $J99 * Data!$B$6)) ), 0     ),  0)","v":0},76,null,null,{"$f":"IF(AND($A99<>\"\",(AW99+AX99)>0), IF($F99=\"Nej\",\nIF(AX$13=\"Nm3\",(AY$12*1000*1000/((AW$242+AX$242+AW$243+AX$243-AW$240-AX$240)*1000*  $J99 * Data!$B$6))+(AY$6*1000*1000/((AW$242+AX$242+AW$243+AX$243)*1000*  $J99 * Data!$B$6)),\n (AY$12*1000*1000/(((AW$242+AX$242+AW$243+AX$243-AW$240-AX$240)/Denscalc($J99))*1000*  $J99 * Data!$B$6))  +  (AY$6*1000*1000/(((AW$242+AX$242+AW$243+AX$243)/Denscalc($J99))*1000*  $J99 * Data!$B$6)) ), 0     ),  0)","v":0},76,null,null,{"$f":"IF(AND($A99<>\"\",(BA99+BB99)>0), IF($F99=\"Nej\",\n (BC$12*1000*1000/((BA$244+BB$244-BA$240-BB$240)*1000* Data!$B$7))+ (BC$6*1000*1000/((BA$244+BB$244)*1000* Data!$B$7)),0 ),  0)","v":0},76,"",{"$f":"IF(A99<>\"\",IF(F99=\"Nej\", (Data!$B$129*Data!$B$5*1000*Data!$B$3)/Data!$B$6,  0 ),\"\")","v":""},"","",{"$f":"IF(A99<>\"\",IF(BH99>0,  IF(BE99=\"Nej\",    (Data!$B$8-BH99)/Data!$B$8,  ROUND( (Data!$B$8-BH99)/Data!$B$8,2)),      \"\"),\"\")","v":""},"","","","",{"$f":"IF(A99<>\"\", IF(H99=\"Flytande\",   IF(BM99>0,  IF(BE99=\"Nej\",  (Data!$B$8-BM99)/Data!$B$8,  ROUND( (Data!$B$8-BM99)/Data!$B$8,2)   ), \"\"), \"\"),\"\")","v":""},"",76,"","","",null,""]
[null,77,null,"",null,null,null,null,null,null,null,null,null,null,{"$f":"IF(AND($A100<>\"\",(M100+N100)>0), IF($F100=\"Nej\",    IF(N$13=\"Nm3\",(O$12*1000*1000/((M$242+N$242+M$243+N$243)*1000*  $J100 * Data!$B$6)),  (O$12*1000*1000/(((M$242+N$242+M$243+N$243)/Denscalc($J100))*1000*  $J100 * Data!$B$6)) ), 0     ),  0)","v":0},77,null,null,{"$f":"IF(AND($A100<>\"\",(Q100+R100)>0), IF($F100=\"Nej\",    IF(R$13=\"Nm3\",(S$12*1000*1000/((Q$242+R$242+Q$243+R$243)*1000*  $J100 * Data!$B$6)),  (S$12*1000*1000/(((Q$242+R$242+Q$243+R$243)/Denscalc($J100))*1000*  $J100 * Data!$B$6)) ), 0     ),  0)","v":0},77,null,null,{"$f":"IF(AND($A100<>\"\",(U100+V100)>0), IF($F100=\"Nej\",    IF(V$13=\"Nm3\",(W$12*1000*1000/((U$242+V$242+U$243+V$243)*1000*  $J100 * Data!$B$6)),  (W$12*1000*1000/(((U$242+V$242+U$243+V$243)/Denscalc($J100))*1000*  $J100 * Data!$B$6)) ), 0     ),  0)","v":0},77,null,null,{"$f":"IF(AND($A100<>\"\",(Y100+Z100)>0), IF($F100=\"Nej\",    IF(Z$13=\"Nm3\",(AA$12*1000*1000/((Y$242+Z$242+Y$243+Z$243)*1000*  $J100 * Data!$B$6)),  (AA$12*1000*1000/(((Y$242+Z$242+Y$243+Z$243)/Denscalc($J100))*1000*  $J100 * Data!$B$6)) ), 0     ),  0)","v":0},77,null,null,{"$f":"IF(AND($A100<>\"\",(AC100+AD100)>0), IF($F100=\"Nej\",    IF(AD$13=\"Nm3\",(AE$12*1000*1000/((AC$242+AD$242+AC$243+AD$243)*1000*  $J100 * Data!$B$6)),  (AE$12*1000*1000/(((AC$242+AD$242+AC$243+AD$243)/Denscalc($J100))*1000*  $J100 * Data!$B$6)) ), 0     ),  0)","v":0},77,null,null,{"$f":"IF(AND($A100<>\"\",(AG100+AH100)>0), IF($F100=\"Nej\",    IF(AH$13=\"Nm3\",(AI$12*1000*1000/((AG$242+AH$242+AG$243+AH$243)*1000*  $J100 * Data!$B$6)),  (AI$12*1000*1000/(((AG$242+AH$242+AG$243+AH$243)/Denscalc($J100))*1000*  $J100 * Data!$B$6)) ), 0     ),  0)","v":0},77,null,null,{"$f":"IF(AND($A100<>\"\",(AK100+AL100)>0), IF($F100=\"Nej\",    IF(AL$13=\"Nm3\",(AM$12*1000*1000/((AK$242+AL$242+AK$243+AL$243)*1000*  $J100 * Data!$B$6)),  (AM$12*1000*1000/(((AK$242+AL$242+AK$243+AL$243)/Denscalc($J100))*1000*  $J100 * Data!$B$6)) ), 0     ),  0)","v":0},77,null,null,{"$f":"IF(AND($A100<>\"\",(AO100+AP100)>0), IF($F100=\"Nej\",    IF(AP$13=\"Nm3\",(AQ$12*1000*1000/((AO$242+AP$242+AO$243+AP$243)*1000*  $J100 * Data!$B$6)),  (AQ$12*1000*1000/(((AO$242+AP$242+AO$243+AP$243)/Denscalc($J100))*1000*  $J100 * Data!$B$6)) ), 0     ),  0)","v":0},77,null,null,{"$f":"IF(AND($A100<>\"\",(AS100+AT100)>0), IF($F100=\"Nej\",    IF(AT$13=\"Nm3\",(AU$12*1000*1000/((AS$242+AT$242+AS$243+AT$243)*1000*  $J100 * Data!$B$6)),  (AU$12*1000*1000/(((AS$242+AT$242+AS$243+AT$243)/Denscalc($J100))*1000*  $J100 * Data!$B$6)) ), 0     ),  0)","v":0},77,null,null,{"$f":"IF(AND($A100<>\"\",(AW100+AX100)>0), IF($F100=\"Nej\",\nIF(AX$13=\"Nm3\",(AY$12*1000*1000/((AW$242+AX$242+AW$243+AX$243-AW$240-AX$240)*1000*  $J100 * Data!$B$6))+(AY$6*1000*1000/((AW$242+AX$242+AW$243+AX$243)*1000*  $J100 * Data!$B$6)),\n (AY$12*1000*1000/(((AW$242+AX$242+AW$243+AX$243-AW$240-AX$240)/Denscalc($J100))*1000*  $J100 * Data!$B$6))  +  (AY$6*1000*1000/(((AW$242+AX$242+AW$243+AX$243)/Denscalc($J100))*1000*  $J100 * Data!$B$6)) ), 0     ),  0)","v":0},77,null,null,{"$f":"IF(AND($A100<>\"\",(BA100+BB100)>0), IF($F100=\"Nej\",\n (BC$12*1000*1000/((BA$244+BB$244-BA$240-BB$240)*1000* Data!$B$7))+ (BC$6*1000*1000/((BA$244+BB$244)*1000* Data!$B$7)),0 ),  0)","v":0},77,"",{"$f":"IF(A100<>\"\",IF(F100=\"Nej\", (Data!$B$129*Data!$B$5*1000*Data!$B$3)/Data!$B$6,  0 ),\"\")","v":""},"","",{"$f":"IF(A100<>\"\",IF(BH100>0,  IF(BE100=\"Nej\",    (Data!$B$8-BH100)/Data!$B$8,  ROUND( (Data!$B$8-BH100)/Data!$B$8,2)),      \"\"),\"\")","v":""},"","","","",{"$f":"IF(A100<>\"\", IF(H100=\"Flytande\",   IF(BM100>0,  IF(BE100=\"Nej\",  (Data!$B$8-BM100)/Data!$B$8,  ROUND( (Data!$B$8-BM100)/Data!$B$8,2)   ), \"\"), \"\"),\"\")","v":""},"",77,"","","",null,""]
[null,78,null,"",null,null,null,null,null,null,null,null,null,null,{"$f":"IF(AND($A101<>\"\",(M101+N101)>0), IF($F101=\"Nej\",    IF(N$13=\"Nm3\",(O$12*1000*1000/((M$242+N$242+M$243+N$243)*1000*  $J101 * Data!$B$6)),  (O$12*1000*1000/(((M$242+N$242+M$243+N$243)/Denscalc($J101))*1000*  $J101 * Data!$B$6)) ), 0     ),  0)","v":0},78,null,null,{"$f":"IF(AND($A101<>\"\",(Q101+R101)>0), IF($F101=\"Nej\",    IF(R$13=\"Nm3\",(S$12*1000*1000/((Q$242+R$242+Q$243+R$243)*1000*  $J101 * Data!$B$6)),  (S$12*1000*1000/(((Q$242+R$242+Q$243+R$243)/Denscalc($J101))*1000*  $J101 * Data!$B$6)) ), 0     ),  0)","v":0},78,null,null,{"$f":"IF(AND($A101<>\"\",(U101+V101)>0), IF($F101=\"Nej\",    IF(V$13=\"Nm3\",(W$12*1000*1000/((U$242+V$242+U$243+V$243)*1000*  $J101 * Data!$B$6)),  (W$12*1000*1000/(((U$242+V$242+U$243+V$243)/Denscalc($J101))*1000*  $J101 * Data!$B$6)) ), 0     ),  0)","v":0},78,null,null,{"$f":"IF(AND($A101<>\"\",(Y101+Z101)>0), IF($F101=\"Nej\",    IF(Z$13=\"Nm3\",(AA$12*1000*1000/((Y$242+Z$242+Y$243+Z$243)*1000*  $J101 * Data!$B$6)),  (AA$12*1000*1000/(((Y$242+Z$242+Y$243+Z$243)/Denscalc($J101))*1000*  $J101 * Data!$B$6)) ), 0     ),  0)","v":0},78,null,null,{"$f":"IF(AND($A101<>\"\",(AC101+AD101)>0), IF($F101=\"Nej\",    IF(AD$13=\"Nm3\",(AE$12*1000*1000/((AC$242+AD$242+AC$243+AD$243)*1000*  $J101 * Data!$B$6)),  (AE$12*1000*1000/(((AC$242+AD$242+AC$243+AD$243)/Denscalc($J101))*1000*  $J101 * Data!$B$6)) ), 0     ),  0)","v":0},78,null,null,{"$f":"IF(AND($A101<>\"\",(AG101+AH101)>0), IF($F101=\"Nej\",    IF(AH$13=\"Nm3\",(AI$12*1000*1000/((AG$242+AH$242+AG$243+AH$243)*1000*  $J101 * Data!$B$6)),  (AI$12*1000*1000/(((AG$242+AH$242+AG$243+AH$243)/Denscalc($J101))*1000*  $J101 * Data!$B$6)) ), 0     ),  0)","v":0},78,null,null,{"$f":"IF(AND($A101<>\"\",(AK101+AL101)>0), IF($F101=\"Nej\",    IF(AL$13=\"Nm3\",(AM$12*1000*1000/((AK$242+AL$242+AK$243+AL$243)*1000*  $J101 * Data!$B$6)),  (AM$12*1000*1000/(((AK$242+AL$242+AK$243+AL$243)/Denscalc($J101))*1000*  $J101 * Data!$B$6)) ), 0     ),  0)","v":0},78,null,null,{"$f":"IF(AND($A101<>\"\",(AO101+AP101)>0), IF($F101=\"Nej\",    IF(AP$13=\"Nm3\",(AQ$12*1000*1000/((AO$242+AP$242+AO$243+AP$243)*1000*  $J101 * Data!$B$6)),  (AQ$12*1000*1000/(((AO$242+AP$242+AO$243+AP$243)/Denscalc($J101))*1000*  $J101 * Data!$B$6)) ), 0     ),  0)","v":0},78,null,null,{"$f":"IF(AND($A101<>\"\",(AS101+AT101)>0), IF($F101=\"Nej\",    IF(AT$13=\"Nm3\",(AU$12*1000*1000/((AS$242+AT$242+AS$243+AT$243)*1000*  $J101 * Data!$B$6)),  (AU$12*1000*1000/(((AS$242+AT$242+AS$243+AT$243)/Denscalc($J101))*1000*  $J101 * Data!$B$6)) ), 0     ),  0)","v":0},78,null,null,{"$f":"IF(AND($A101<>\"\",(AW101+AX101)>0), IF($F101=\"Nej\",\nIF(AX$13=\"Nm3\",(AY$12*1000*1000/((AW$242+AX$242+AW$243+AX$243-AW$240-AX$240)*1000*  $J101 * Data!$B$6))+(AY$6*1000*1000/((AW$242+AX$242+AW$243+AX$243)*1000*  $J101 * Data!$B$6)),\n (AY$12*1000*1000/(((AW$242+AX$242+AW$243+AX$243-AW$240-AX$240)/Denscalc($J101))*1000*  $J101 * Data!$B$6))  +  (AY$6*1000*1000/(((AW$242+AX$242+AW$243+AX$243)/Denscalc($J101))*1000*  $J101 * Data!$B$6)) ), 0     ),  0)","v":0},78,null,null,{"$f":"IF(AND($A101<>\"\",(BA101+BB101)>0), IF($F101=\"Nej\",\n (BC$12*1000*1000/((BA$244+BB$244-BA$240-BB$240)*1000* Data!$B$7))+ (BC$6*1000*1000/((BA$244+BB$244)*1000* Data!$B$7)),0 ),  0)","v":0},78,"",{"$f":"IF(A101<>\"\",IF(F101=\"Nej\", (Data!$B$129*Data!$B$5*1000*Data!$B$3)/Data!$B$6,  0 ),\"\")","v":""},"","",{"$f":"IF(A101<>\"\",IF(BH101>0,  IF(BE101=\"Nej\",    (Data!$B$8-BH101)/Data!$B$8,  ROUND( (Data!$B$8-BH101)/Data!$B$8,2)),      \"\"),\"\")","v":""},"","","","",{"$f":"IF(A101<>\"\", IF(H101=\"Flytande\",   IF(BM101>0,  IF(BE101=\"Nej\",  (Data!$B$8-BM101)/Data!$B$8,  ROUND( (Data!$B$8-BM101)/Data!$B$8,2)   ), \"\"), \"\"),\"\")","v":""},"",78,"","","",null,""]
[null,79,null,"",null,null,null,null,null,null,null,null,null,null,{"$f":"IF(AND($A102<>\"\",(M102+N102)>0), IF($F102=\"Nej\",    IF(N$13=\"Nm3\",(O$12*1000*1000/((M$242+N$242+M$243+N$243)*1000*  $J102 * Data!$B$6)),  (O$12*1000*1000/(((M$242+N$242+M$243+N$243)/Denscalc($J102))*1000*  $J102 * Data!$B$6)) ), 0     ),  0)","v":0},79,null,null,{"$f":"IF(AND($A102<>\"\",(Q102+R102)>0), IF($F102=\"Nej\",    IF(R$13=\"Nm3\",(S$12*1000*1000/((Q$242+R$242+Q$243+R$243)*1000*  $J102 * Data!$B$6)),  (S$12*1000*1000/(((Q$242+R$242+Q$243+R$243)/Denscalc($J102))*1000*  $J102 * Data!$B$6)) ), 0     ),  0)","v":0},79,null,null,{"$f":"IF(AND($A102<>\"\",(U102+V102)>0), IF($F102=\"Nej\",    IF(V$13=\"Nm3\",(W$12*1000*1000/((U$242+V$242+U$243+V$243)*1000*  $J102 * Data!$B$6)),  (W$12*1000*1000/(((U$242+V$242+U$243+V$243)/Denscalc($J102))*1000*  $J102 * Data!$B$6)) ), 0     ),  0)","v":0},79,null,null,{"$f":"IF(AND($A102<>\"\",(Y102+Z102)>0), IF($F102=\"Nej\",    IF(Z$13=\"Nm3\",(AA$12*1000*1000/((Y$242+Z$242+Y$243+Z$243)*1000*  $J102 * Data!$B$6)),  (AA$12*1000*1000/(((Y$242+Z$242+Y$243+Z$243)/Denscalc($J102))*1000*  $J102 * Data!$B$6)) ), 0     ),  0)","v":0},79,null,null,{"$f":"IF(AND($A102<>\"\",(AC102+AD102)>0), IF($F102=\"Nej\",    IF(AD$13=\"Nm3\",(AE$12*1000*1000/((AC$242+AD$242+AC$243+AD$243)*1000*  $J102 * Data!$B$6)),  (AE$12*1000*1000/(((AC$242+AD$242+AC$243+AD$243)/Denscalc($J102))*1000*  $J102 * Data!$B$6)) ), 0     ),  0)","v":0},79,null,null,{"$f":"IF(AND($A102<>\"\",(AG102+AH102)>0), IF($F102=\"Nej\",    IF(AH$13=\"Nm3\",(AI$12*1000*1000/((AG$242+AH$242+AG$243+AH$243)*1000*  $J102 * Data!$B$6)),  (AI$12*1000*1000/(((AG$242+AH$242+AG$243+AH$243)/Denscalc($J102))*1000*  $J102 * Data!$B$6)) ), 0     ),  0)","v":0},79,null,null,{"$f":"IF(AND($A102<>\"\",(AK102+AL102)>0), IF($F102=\"Nej\",    IF(AL$13=\"Nm3\",(AM$12*1000*1000/((AK$242+AL$242+AK$243+AL$243)*1000*  $J102 * Data!$B$6)),  (AM$12*1000*1000/(((AK$242+AL$242+AK$243+AL$243)/Denscalc($J102))*1000*  $J102 * Data!$B$6)) ), 0     ),  0)","v":0},79,null,null,{"$f":"IF(AND($A102<>\"\",(AO102+AP102)>0), IF($F102=\"Nej\",    IF(AP$13=\"Nm3\",(AQ$12*1000*1000/((AO$242+AP$242+AO$243+AP$243)*1000*  $J102 * Data!$B$6)),  (AQ$12*1000*1000/(((AO$242+AP$242+AO$243+AP$243)/Denscalc($J102))*1000*  $J102 * Data!$B$6)) ), 0     ),  0)","v":0},79,null,null,{"$f":"IF(AND($A102<>\"\",(AS102+AT102)>0), IF($F102=\"Nej\",    IF(AT$13=\"Nm3\",(AU$12*1000*1000/((AS$242+AT$242+AS$243+AT$243)*1000*  $J102 * Data!$B$6)),  (AU$12*1000*1000/(((AS$242+AT$242+AS$243+AT$243)/Denscalc($J102))*1000*  $J102 * Data!$B$6)) ), 0     ),  0)","v":0},79,null,null,{"$f":"IF(AND($A102<>\"\",(AW102+AX102)>0), IF($F102=\"Nej\",\nIF(AX$13=\"Nm3\",(AY$12*1000*1000/((AW$242+AX$242+AW$243+AX$243-AW$240-AX$240)*1000*  $J102 * Data!$B$6))+(AY$6*1000*1000/((AW$242+AX$242+AW$243+AX$243)*1000*  $J102 * Data!$B$6)),\n (AY$12*1000*1000/(((AW$242+AX$242+AW$243+AX$243-AW$240-AX$240)/Denscalc($J102))*1000*  $J102 * Data!$B$6))  +  (AY$6*1000*1000/(((AW$242+AX$242+AW$243+AX$243)/Denscalc($J102))*1000*  $J102 * Data!$B$6)) ), 0     ),  0)","v":0},79,null,null,{"$f":"IF(AND($A102<>\"\",(BA102+BB102)>0), IF($F102=\"Nej\",\n (BC$12*1000*1000/((BA$244+BB$244-BA$240-BB$240)*1000* Data!$B$7))+ (BC$6*1000*1000/((BA$244+BB$244)*1000* Data!$B$7)),0 ),  0)","v":0},79,"",{"$f":"IF(A102<>\"\",IF(F102=\"Nej\", (Data!$B$129*Data!$B$5*1000*Data!$B$3)/Data!$B$6,  0 ),\"\")","v":""},"","",{"$f":"IF(A102<>\"\",IF(BH102>0,  IF(BE102=\"Nej\",    (Data!$B$8-BH102)/Data!$B$8,  ROUND( (Data!$B$8-BH102)/Data!$B$8,2)),      \"\"),\"\")","v":""},"","","","",{"$f":"IF(A102<>\"\", IF(H102=\"Flytande\",   IF(BM102>0,  IF(BE102=\"Nej\",  (Data!$B$8-BM102)/Data!$B$8,  ROUND( (Data!$B$8-BM102)/Data!$B$8,2)   ), \"\"), \"\"),\"\")","v":""},"",79,"","","",null,""]
[null,80,null,"",null,null,null,null,null,null,null,null,null,null,{"$f":"IF(AND($A103<>\"\",(M103+N103)>0), IF($F103=\"Nej\",    IF(N$13=\"Nm3\",(O$12*1000*1000/((M$242+N$242+M$243+N$243)*1000*  $J103 * Data!$B$6)),  (O$12*1000*1000/(((M$242+N$242+M$243+N$243)/Denscalc($J103))*1000*  $J103 * Data!$B$6)) ), 0     ),  0)","v":0},80,null,null,{"$f":"IF(AND($A103<>\"\",(Q103+R103)>0), IF($F103=\"Nej\",    IF(R$13=\"Nm3\",(S$12*1000*1000/((Q$242+R$242+Q$243+R$243)*1000*  $J103 * Data!$B$6)),  (S$12*1000*1000/(((Q$242+R$242+Q$243+R$243)/Denscalc($J103))*1000*  $J103 * Data!$B$6)) ), 0     ),  0)","v":0},80,null,null,{"$f":"IF(AND($A103<>\"\",(U103+V103)>0), IF($F103=\"Nej\",    IF(V$13=\"Nm3\",(W$12*1000*1000/((U$242+V$242+U$243+V$243)*1000*  $J103 * Data!$B$6)),  (W$12*1000*1000/(((U$242+V$242+U$243+V$243)/Denscalc($J103))*1000*  $J103 * Data!$B$6)) ), 0     ),  0)","v":0},80,null,null,{"$f":"IF(AND($A103<>\"\",(Y103+Z103)>0), IF($F103=\"Nej\",    IF(Z$13=\"Nm3\",(AA$12*1000*1000/((Y$242+Z$242+Y$243+Z$243)*1000*  $J103 * Data!$B$6)),  (AA$12*1000*1000/(((Y$242+Z$242+Y$243+Z$243)/Denscalc($J103))*1000*  $J103 * Data!$B$6)) ), 0     ),  0)","v":0},80,null,null,{"$f":"IF(AND($A103<>\"\",(AC103+AD103)>0), IF($F103=\"Nej\",    IF(AD$13=\"Nm3\",(AE$12*1000*1000/((AC$242+AD$242+AC$243+AD$243)*1000*  $J103 * Data!$B$6)),  (AE$12*1000*1000/(((AC$242+AD$242+AC$243+AD$243)/Denscalc($J103))*1000*  $J103 * Data!$B$6)) ), 0     ),  0)","v":0},80,null,null,{"$f":"IF(AND($A103<>\"\",(AG103+AH103)>0), IF($F103=\"Nej\",    IF(AH$13=\"Nm3\",(AI$12*1000*1000/((AG$242+AH$242+AG$243+AH$243)*1000*  $J103 * Data!$B$6)),  (AI$12*1000*1000/(((AG$242+AH$242+AG$243+AH$243)/Denscalc($J103))*1000*  $J103 * Data!$B$6)) ), 0     ),  0)","v":0},80,null,null,{"$f":"IF(AND($A103<>\"\",(AK103+AL103)>0), IF($F103=\"Nej\",    IF(AL$13=\"Nm3\",(AM$12*1000*1000/((AK$242+AL$242+AK$243+AL$243)*1000*  $J103 * Data!$B$6)),  (AM$12*1000*1000/(((AK$242+AL$242+AK$243+AL$243)/Denscalc($J103))*1000*  $J103 * Data!$B$6)) ), 0     ),  0)","v":0},80,null,null,{"$f":"IF(AND($A103<>\"\",(AO103+AP103)>0), IF($F103=\"Nej\",    IF(AP$13=\"Nm3\",(AQ$12*1000*1000/((AO$242+AP$242+AO$243+AP$243)*1000*  $J103 * Data!$B$6)),  (AQ$12*1000*1000/(((AO$242+AP$242+AO$243+AP$243)/Denscalc($J103))*1000*  $J103 * Data!$B$6)) ), 0     ),  0)","v":0},80,null,null,{"$f":"IF(AND($A103<>\"\",(AS103+AT103)>0), IF($F103=\"Nej\",    IF(AT$13=\"Nm3\",(AU$12*1000*1000/((AS$242+AT$242+AS$243+AT$243)*1000*  $J103 * Data!$B$6)),  (AU$12*1000*1000/(((AS$242+AT$242+AS$243+AT$243)/Denscalc($J103))*1000*  $J103 * Data!$B$6)) ), 0     ),  0)","v":0},80,null,null,{"$f":"IF(AND($A103<>\"\",(AW103+AX103)>0), IF($F103=\"Nej\",\nIF(AX$13=\"Nm3\",(AY$12*1000*1000/((AW$242+AX$242+AW$243+AX$243-AW$240-AX$240)*1000*  $J103 * Data!$B$6))+(AY$6*1000*1000/((AW$242+AX$242+AW$243+AX$243)*1000*  $J103 * Data!$B$6)),\n (AY$12*1000*1000/(((AW$242+AX$242+AW$243+AX$243-AW$240-AX$240)/Denscalc($J103))*1000*  $J103 * Data!$B$6))  +  (AY$6*1000*1000/(((AW$242+AX$242+AW$243+AX$243)/Denscalc($J103))*1000*  $J103 * Data!$B$6)) ), 0     ),  0)","v":0},80,null,null,{"$f":"IF(AND($A103<>\"\",(BA103+BB103)>0), IF($F103=\"Nej\",\n (BC$12*1000*1000/((BA$244+BB$244-BA$240-BB$240)*1000* Data!$B$7))+ (BC$6*1000*1000/((BA$244+BB$244)*1000* Data!$B$7)),0 ),  0)","v":0},80,"",{"$f":"IF(A103<>\"\",IF(F103=\"Nej\", (Data!$B$129*Data!$B$5*1000*Data!$B$3)/Data!$B$6,  0 ),\"\")","v":""},"","",{"$f":"IF(A103<>\"\",IF(BH103>0,  IF(BE103=\"Nej\",    (Data!$B$8-BH103)/Data!$B$8,  ROUND( (Data!$B$8-BH103)/Data!$B$8,2)),      \"\"),\"\")","v":""},"","","","",{"$f":"IF(A103<>\"\", IF(H103=\"Flytande\",   IF(BM103>0,  IF(BE103=\"Nej\",  (Data!$B$8-BM103)/Data!$B$8,  ROUND( (Data!$B$8-BM103)/Data!$B$8,2)   ), \"\"), \"\"),\"\")","v":""},"",80,"","","",null,""]
[null,81,null,"",null,null,null,null,null,null,null,null,null,null,{"$f":"IF(AND($A104<>\"\",(M104+N104)>0), IF($F104=\"Nej\",    IF(N$13=\"Nm3\",(O$12*1000*1000/((M$242+N$242+M$243+N$243)*1000*  $J104 * Data!$B$6)),  (O$12*1000*1000/(((M$242+N$242+M$243+N$243)/Denscalc($J104))*1000*  $J104 * Data!$B$6)) ), 0     ),  0)","v":0},81,null,null,{"$f":"IF(AND($A104<>\"\",(Q104+R104)>0), IF($F104=\"Nej\",    IF(R$13=\"Nm3\",(S$12*1000*1000/((Q$242+R$242+Q$243+R$243)*1000*  $J104 * Data!$B$6)),  (S$12*1000*1000/(((Q$242+R$242+Q$243+R$243)/Denscalc($J104))*1000*  $J104 * Data!$B$6)) ), 0     ),  0)","v":0},81,null,null,{"$f":"IF(AND($A104<>\"\",(U104+V104)>0), IF($F104=\"Nej\",    IF(V$13=\"Nm3\",(W$12*1000*1000/((U$242+V$242+U$243+V$243)*1000*  $J104 * Data!$B$6)),  (W$12*1000*1000/(((U$242+V$242+U$243+V$243)/Denscalc($J104))*1000*  $J104 * Data!$B$6)) ), 0     ),  0)","v":0},81,null,null,{"$f":"IF(AND($A104<>\"\",(Y104+Z104)>0), IF($F104=\"Nej\",    IF(Z$13=\"Nm3\",(AA$12*1000*1000/((Y$242+Z$242+Y$243+Z$243)*1000*  $J104 * Data!$B$6)),  (AA$12*1000*1000/(((Y$242+Z$242+Y$243+Z$243)/Denscalc($J104))*1000*  $J104 * Data!$B$6)) ), 0     ),  0)","v":0},81,null,null,{"$f":"IF(AND($A104<>\"\",(AC104+AD104)>0), IF($F104=\"Nej\",    IF(AD$13=\"Nm3\",(AE$12*1000*1000/((AC$242+AD$242+AC$243+AD$243)*1000*  $J104 * Data!$B$6)),  (AE$12*1000*1000/(((AC$242+AD$242+AC$243+AD$243)/Denscalc($J104))*1000*  $J104 * Data!$B$6)) ), 0     ),  0)","v":0},81,null,null,{"$f":"IF(AND($A104<>\"\",(AG104+AH104)>0), IF($F104=\"Nej\",    IF(AH$13=\"Nm3\",(AI$12*1000*1000/((AG$242+AH$242+AG$243+AH$243)*1000*  $J104 * Data!$B$6)),  (AI$12*1000*1000/(((AG$242+AH$242+AG$243+AH$243)/Denscalc($J104))*1000*  $J104 * Data!$B$6)) ), 0     ),  0)","v":0},81,null,null,{"$f":"IF(AND($A104<>\"\",(AK104+AL104)>0), IF($F104=\"Nej\",    IF(AL$13=\"Nm3\",(AM$12*1000*1000/((AK$242+AL$242+AK$243+AL$243)*1000*  $J104 * Data!$B$6)),  (AM$12*1000*1000/(((AK$242+AL$242+AK$243+AL$243)/Denscalc($J104))*1000*  $J104 * Data!$B$6)) ), 0     ),  0)","v":0},81,null,null,{"$f":"IF(AND($A104<>\"\",(AO104+AP104)>0), IF($F104=\"Nej\",    IF(AP$13=\"Nm3\",(AQ$12*1000*1000/((AO$242+AP$242+AO$243+AP$243)*1000*  $J104 * Data!$B$6)),  (AQ$12*1000*1000/(((AO$242+AP$242+AO$243+AP$243)/Denscalc($J104))*1000*  $J104 * Data!$B$6)) ), 0     ),  0)","v":0},81,null,null,{"$f":"IF(AND($A104<>\"\",(AS104+AT104)>0), IF($F104=\"Nej\",    IF(AT$13=\"Nm3\",(AU$12*1000*1000/((AS$242+AT$242+AS$243+AT$243)*1000*  $J104 * Data!$B$6)),  (AU$12*1000*1000/(((AS$242+AT$242+AS$243+AT$243)/Denscalc($J104))*1000*  $J104 * Data!$B$6)) ), 0     ),  0)","v":0},81,null,null,{"$f":"IF(AND($A104<>\"\",(AW104+AX104)>0), IF($F104=\"Nej\",\nIF(AX$13=\"Nm3\",(AY$12*1000*1000/((AW$242+AX$242+AW$243+AX$243-AW$240-AX$240)*1000*  $J104 * Data!$B$6))+(AY$6*1000*1000/((AW$242+AX$242+AW$243+AX$243)*1000*  $J104 * Data!$B$6)),\n (AY$12*1000*1000/(((AW$242+AX$242+AW$243+AX$243-AW$240-AX$240)/Denscalc($J104))*1000*  $J104 * Data!$B$6))  +  (AY$6*1000*1000/(((AW$242+AX$242+AW$243+AX$243)/Denscalc($J104))*1000*  $J104 * Data!$B$6)) ), 0     ),  0)","v":0},81,null,null,{"$f":"IF(AND($A104<>\"\",(BA104+BB104)>0), IF($F104=\"Nej\",\n (BC$12*1000*1000/((BA$244+BB$244-BA$240-BB$240)*1000* Data!$B$7))+ (BC$6*1000*1000/((BA$244+BB$244)*1000* Data!$B$7)),0 ),  0)","v":0},81,"",{"$f":"IF(A104<>\"\",IF(F104=\"Nej\", (Data!$B$129*Data!$B$5*1000*Data!$B$3)/Data!$B$6,  0 ),\"\")","v":""},"","",{"$f":"IF(A104<>\"\",IF(BH104>0,  IF(BE104=\"Nej\",    (Data!$B$8-BH104)/Data!$B$8,  ROUND( (Data!$B$8-BH104)/Data!$B$8,2)),      \"\"),\"\")","v":""},"","","","",{"$f":"IF(A104<>\"\", IF(H104=\"Flytande\",   IF(BM104>0,  IF(BE104=\"Nej\",  (Data!$B$8-BM104)/Data!$B$8,  ROUND( (Data!$B$8-BM104)/Data!$B$8,2)   ), \"\"), \"\"),\"\")","v":""},"",81,"","","",null,""]
[null,82,null,"",null,null,null,null,null,null,null,null,null,null,{"$f":"IF(AND($A105<>\"\",(M105+N105)>0), IF($F105=\"Nej\",    IF(N$13=\"Nm3\",(O$12*1000*1000/((M$242+N$242+M$243+N$243)*1000*  $J105 * Data!$B$6)),  (O$12*1000*1000/(((M$242+N$242+M$243+N$243)/Denscalc($J105))*1000*  $J105 * Data!$B$6)) ), 0     ),  0)","v":0},82,null,null,{"$f":"IF(AND($A105<>\"\",(Q105+R105)>0), IF($F105=\"Nej\",    IF(R$13=\"Nm3\",(S$12*1000*1000/((Q$242+R$242+Q$243+R$243)*1000*  $J105 * Data!$B$6)),  (S$12*1000*1000/(((Q$242+R$242+Q$243+R$243)/Denscalc($J105))*1000*  $J105 * Data!$B$6)) ), 0     ),  0)","v":0},82,null,null,{"$f":"IF(AND($A105<>\"\",(U105+V105)>0), IF($F105=\"Nej\",    IF(V$13=\"Nm3\",(W$12*1000*1000/((U$242+V$242+U$243+V$243)*1000*  $J105 * Data!$B$6)),  (W$12*1000*1000/(((U$242+V$242+U$243+V$243)/Denscalc($J105))*1000*  $J105 * Data!$B$6)) ), 0     ),  0)","v":0},82,null,null,{"$f":"IF(AND($A105<>\"\",(Y105+Z105)>0), IF($F105=\"Nej\",    IF(Z$13=\"Nm3\",(AA$12*1000*1000/((Y$242+Z$242+Y$243+Z$243)*1000*  $J105 * Data!$B$6)),  (AA$12*1000*1000/(((Y$242+Z$242+Y$243+Z$243)/Denscalc($J105))*1000*  $J105 * Data!$B$6)) ), 0     ),  0)","v":0},82,null,null,{"$f":"IF(AND($A105<>\"\",(AC105+AD105)>0), IF($F105=\"Nej\",    IF(AD$13=\"Nm3\",(AE$12*1000*1000/((AC$242+AD$242+AC$243+AD$243)*1000*  $J105 * Data!$B$6)),  (AE$12*1000*1000/(((AC$242+AD$242+AC$243+AD$243)/Denscalc($J105))*1000*  $J105 * Data!$B$6)) ), 0     ),  0)","v":0},82,null,null,{"$f":"IF(AND($A105<>\"\",(AG105+AH105)>0), IF($F105=\"Nej\",    IF(AH$13=\"Nm3\",(AI$12*1000*1000/((AG$242+AH$242+AG$243+AH$243)*1000*  $J105 * Data!$B$6)),  (AI$12*1000*1000/(((AG$242+AH$242+AG$243+AH$243)/Denscalc($J105))*1000*  $J105 * Data!$B$6)) ), 0     ),  0)","v":0},82,null,null,{"$f":"IF(AND($A105<>\"\",(AK105+AL105)>0), IF($F105=\"Nej\",    IF(AL$13=\"Nm3\",(AM$12*1000*1000/((AK$242+AL$242+AK$243+AL$243)*1000*  $J105 * Data!$B$6)),  (AM$12*1000*1000/(((AK$242+AL$242+AK$243+AL$243)/Denscalc($J105))*1000*  $J105 * Data!$B$6)) ), 0     ),  0)","v":0},82,null,null,{"$f":"IF(AND($A105<>\"\",(AO105+AP105)>0), IF($F105=\"Nej\",    IF(AP$13=\"Nm3\",(AQ$12*1000*1000/((AO$242+AP$242+AO$243+AP$243)*1000*  $J105 * Data!$B$6)),  (AQ$12*1000*1000/(((AO$242+AP$242+AO$243+AP$243)/Denscalc($J105))*1000*  $J105 * Data!$B$6)) ), 0     ),  0)","v":0},82,null,null,{"$f":"IF(AND($A105<>\"\",(AS105+AT105)>0), IF($F105=\"Nej\",    IF(AT$13=\"Nm3\",(AU$12*1000*1000/((AS$242+AT$242+AS$243+AT$243)*1000*  $J105 * Data!$B$6)),  (AU$12*1000*1000/(((AS$242+AT$242+AS$243+AT$243)/Denscalc($J105))*1000*  $J105 * Data!$B$6)) ), 0     ),  0)","v":0},82,null,null,{"$f":"IF(AND($A105<>\"\",(AW105+AX105)>0), IF($F105=\"Nej\",\nIF(AX$13=\"Nm3\",(AY$12*1000*1000/((AW$242+AX$242+AW$243+AX$243-AW$240-AX$240)*1000*  $J105 * Data!$B$6))+(AY$6*1000*1000/((AW$242+AX$242+AW$243+AX$243)*1000*  $J105 * Data!$B$6)),\n (AY$12*1000*1000/(((AW$242+AX$242+AW$243+AX$243-AW$240-AX$240)/Denscalc($J105))*1000*  $J105 * Data!$B$6))  +  (AY$6*1000*1000/(((AW$242+AX$242+AW$243+AX$243)/Denscalc($J105))*1000*  $J105 * Data!$B$6)) ), 0     ),  0)","v":0},82,null,null,{"$f":"IF(AND($A105<>\"\",(BA105+BB105)>0), IF($F105=\"Nej\",\n (BC$12*1000*1000/((BA$244+BB$244-BA$240-BB$240)*1000* Data!$B$7))+ (BC$6*1000*1000/((BA$244+BB$244)*1000* Data!$B$7)),0 ),  0)","v":0},82,"",{"$f":"IF(A105<>\"\",IF(F105=\"Nej\", (Data!$B$129*Data!$B$5*1000*Data!$B$3)/Data!$B$6,  0 ),\"\")","v":""},"","",{"$f":"IF(A105<>\"\",IF(BH105>0,  IF(BE105=\"Nej\",    (Data!$B$8-BH105)/Data!$B$8,  ROUND( (Data!$B$8-BH105)/Data!$B$8,2)),      \"\"),\"\")","v":""},"","","","",{"$f":"IF(A105<>\"\", IF(H105=\"Flytande\",   IF(BM105>0,  IF(BE105=\"Nej\",  (Data!$B$8-BM105)/Data!$B$8,  ROUND( (Data!$B$8-BM105)/Data!$B$8,2)   ), \"\"), \"\"),\"\")","v":""},"",82,"","","",null,""]
[null,83,null,"",null,null,null,null,null,null,null,null,null,null,{"$f":"IF(AND($A106<>\"\",(M106+N106)>0), IF($F106=\"Nej\",    IF(N$13=\"Nm3\",(O$12*1000*1000/((M$242+N$242+M$243+N$243)*1000*  $J106 * Data!$B$6)),  (O$12*1000*1000/(((M$242+N$242+M$243+N$243)/Denscalc($J106))*1000*  $J106 * Data!$B$6)) ), 0     ),  0)","v":0},83,null,null,{"$f":"IF(AND($A106<>\"\",(Q106+R106)>0), IF($F106=\"Nej\",    IF(R$13=\"Nm3\",(S$12*1000*1000/((Q$242+R$242+Q$243+R$243)*1000*  $J106 * Data!$B$6)),  (S$12*1000*1000/(((Q$242+R$242+Q$243+R$243)/Denscalc($J106))*1000*  $J106 * Data!$B$6)) ), 0     ),  0)","v":0},83,null,null,{"$f":"IF(AND($A106<>\"\",(U106+V106)>0), IF($F106=\"Nej\",    IF(V$13=\"Nm3\",(W$12*1000*1000/((U$242+V$242+U$243+V$243)*1000*  $J106 * Data!$B$6)),  (W$12*1000*1000/(((U$242+V$242+U$243+V$243)/Denscalc($J106))*1000*  $J106 * Data!$B$6)) ), 0     ),  0)","v":0},83,null,null,{"$f":"IF(AND($A106<>\"\",(Y106+Z106)>0), IF($F106=\"Nej\",    IF(Z$13=\"Nm3\",(AA$12*1000*1000/((Y$242+Z$242+Y$243+Z$243)*1000*  $J106 * Data!$B$6)),  (AA$12*1000*1000/(((Y$242+Z$242+Y$243+Z$243)/Denscalc($J106))*1000*  $J106 * Data!$B$6)) ), 0     ),  0)","v":0},83,null,null,{"$f":"IF(AND($A106<>\"\",(AC106+AD106)>0), IF($F106=\"Nej\",    IF(AD$13=\"Nm3\",(AE$12*1000*1000/((AC$242+AD$242+AC$243+AD$243)*1000*  $J106 * Data!$B$6)),  (AE$12*1000*1000/(((AC$242+AD$242+AC$243+AD$243)/Denscalc($J106))*1000*  $J106 * Data!$B$6)) ), 0     ),  0)","v":0},83,null,null,{"$f":"IF(AND($A106<>\"\",(AG106+AH106)>0), IF($F106=\"Nej\",    IF(AH$13=\"Nm3\",(AI$12*1000*1000/((AG$242+AH$242+AG$243+AH$243)*1000*  $J106 * Data!$B$6)),  (AI$12*1000*1000/(((AG$242+AH$242+AG$243+AH$243)/Denscalc($J106))*1000*  $J106 * Data!$B$6)) ), 0     ),  0)","v":0},83,null,null,{"$f":"IF(AND($A106<>\"\",(AK106+AL106)>0), IF($F106=\"Nej\",    IF(AL$13=\"Nm3\",(AM$12*1000*1000/((AK$242+AL$242+AK$243+AL$243)*1000*  $J106 * Data!$B$6)),  (AM$12*1000*1000/(((AK$242+AL$242+AK$243+AL$243)/Denscalc($J106))*1000*  $J106 * Data!$B$6)) ), 0     ),  0)","v":0},83,null,null,{"$f":"IF(AND($A106<>\"\",(AO106+AP106)>0), IF($F106=\"Nej\",    IF(AP$13=\"Nm3\",(AQ$12*1000*1000/((AO$242+AP$242+AO$243+AP$243)*1000*  $J106 * Data!$B$6)),  (AQ$12*1000*1000/(((AO$242+AP$242+AO$243+AP$243)/Denscalc($J106))*1000*  $J106 * Data!$B$6)) ), 0     ),  0)","v":0},83,null,null,{"$f":"IF(AND($A106<>\"\",(AS106+AT106)>0), IF($F106=\"Nej\",    IF(AT$13=\"Nm3\",(AU$12*1000*1000/((AS$242+AT$242+AS$243+AT$243)*1000*  $J106 * Data!$B$6)),  (AU$12*1000*1000/(((AS$242+AT$242+AS$243+AT$243)/Denscalc($J106))*1000*  $J106 * Data!$B$6)) ), 0     ),  0)","v":0},83,null,null,{"$f":"IF(AND($A106<>\"\",(AW106+AX106)>0), IF($F106=\"Nej\",\nIF(AX$13=\"Nm3\",(AY$12*1000*1000/((AW$242+AX$242+AW$243+AX$243-AW$240-AX$240)*1000*  $J106 * Data!$B$6))+(AY$6*1000*1000/((AW$242+AX$242+AW$243+AX$243)*1000*  $J106 * Data!$B$6)),\n (AY$12*1000*1000/(((AW$242+AX$242+AW$243+AX$243-AW$240-AX$240)/Denscalc($J106))*1000*  $J106 * Data!$B$6))  +  (AY$6*1000*1000/(((AW$242+AX$242+AW$243+AX$243)/Denscalc($J106))*1000*  $J106 * Data!$B$6)) ), 0     ),  0)","v":0},83,null,null,{"$f":"IF(AND($A106<>\"\",(BA106+BB106)>0), IF($F106=\"Nej\",\n (BC$12*1000*1000/((BA$244+BB$244-BA$240-BB$240)*1000* Data!$B$7))+ (BC$6*1000*1000/((BA$244+BB$244)*1000* Data!$B$7)),0 ),  0)","v":0},83,"",{"$f":"IF(A106<>\"\",IF(F106=\"Nej\", (Data!$B$129*Data!$B$5*1000*Data!$B$3)/Data!$B$6,  0 ),\"\")","v":""},"","",{"$f":"IF(A106<>\"\",IF(BH106>0,  IF(BE106=\"Nej\",    (Data!$B$8-BH106)/Data!$B$8,  ROUND( (Data!$B$8-BH106)/Data!$B$8,2)),      \"\"),\"\")","v":""},"","","","",{"$f":"IF(A106<>\"\", IF(H106=\"Flytande\",   IF(BM106>0,  IF(BE106=\"Nej\",  (Data!$B$8-BM106)/Data!$B$8,  ROUND( (Data!$B$8-BM106)/Data!$B$8,2)   ), \"\"), \"\"),\"\")","v":""},"",83,"","","",null,""]
[null,84,null,"",null,null,null,null,null,null,null,null,null,null,{"$f":"IF(AND($A107<>\"\",(M107+N107)>0), IF($F107=\"Nej\",    IF(N$13=\"Nm3\",(O$12*1000*1000/((M$242+N$242+M$243+N$243)*1000*  $J107 * Data!$B$6)),  (O$12*1000*1000/(((M$242+N$242+M$243+N$243)/Denscalc($J107))*1000*  $J107 * Data!$B$6)) ), 0     ),  0)","v":0},84,null,null,{"$f":"IF(AND($A107<>\"\",(Q107+R107)>0), IF($F107=\"Nej\",    IF(R$13=\"Nm3\",(S$12*1000*1000/((Q$242+R$242+Q$243+R$243)*1000*  $J107 * Data!$B$6)),  (S$12*1000*1000/(((Q$242+R$242+Q$243+R$243)/Denscalc($J107))*1000*  $J107 * Data!$B$6)) ), 0     ),  0)","v":0},84,null,null,{"$f":"IF(AND($A107<>\"\",(U107+V107)>0), IF($F107=\"Nej\",    IF(V$13=\"Nm3\",(W$12*1000*1000/((U$242+V$242+U$243+V$243)*1000*  $J107 * Data!$B$6)),  (W$12*1000*1000/(((U$242+V$242+U$243+V$243)/Denscalc($J107))*1000*  $J107 * Data!$B$6)) ), 0     ),  0)","v":0},84,null,null,{"$f":"IF(AND($A107<>\"\",(Y107+Z107)>0), IF($F107=\"Nej\",    IF(Z$13=\"Nm3\",(AA$12*1000*1000/((Y$242+Z$242+Y$243+Z$243)*1000*  $J107 * Data!$B$6)),  (AA$12*1000*1000/(((Y$242+Z$242+Y$243+Z$243)/Denscalc($J107))*1000*  $J107 * Data!$B$6)) ), 0     ),  0)","v":0},84,null,null,{"$f":"IF(AND($A107<>\"\",(AC107+AD107)>0), IF($F107=\"Nej\",    IF(AD$13=\"Nm3\",(AE$12*1000*1000/((AC$242+AD$242+AC$243+AD$243)*1000*  $J107 * Data!$B$6)),  (AE$12*1000*1000/(((AC$242+AD$242+AC$243+AD$243)/Denscalc($J107))*1000*  $J107 * Data!$B$6)) ), 0     ),  0)","v":0},84,null,null,{"$f":"IF(AND($A107<>\"\",(AG107+AH107)>0), IF($F107=\"Nej\",    IF(AH$13=\"Nm3\",(AI$12*1000*1000/((AG$242+AH$242+AG$243+AH$243)*1000*  $J107 * Data!$B$6)),  (AI$12*1000*1000/(((AG$242+AH$242+AG$243+AH$243)/Denscalc($J107))*1000*  $J107 * Data!$B$6)) ), 0     ),  0)","v":0},84,null,null,{"$f":"IF(AND($A107<>\"\",(AK107+AL107)>0), IF($F107=\"Nej\",    IF(AL$13=\"Nm3\",(AM$12*1000*1000/((AK$242+AL$242+AK$243+AL$243)*1000*  $J107 * Data!$B$6)),  (AM$12*1000*1000/(((AK$242+AL$242+AK$243+AL$243)/Denscalc($J107))*1000*  $J107 * Data!$B$6)) ), 0     ),  0)","v":0},84,null,null,{"$f":"IF(AND($A107<>\"\",(AO107+AP107)>0), IF($F107=\"Nej\",    IF(AP$13=\"Nm3\",(AQ$12*1000*1000/((AO$242+AP$242+AO$243+AP$243)*1000*  $J107 * Data!$B$6)),  (AQ$12*1000*1000/(((AO$242+AP$242+AO$243+AP$243)/Denscalc($J107))*1000*  $J107 * Data!$B$6)) ), 0     ),  0)","v":0},84,null,null,{"$f":"IF(AND($A107<>\"\",(AS107+AT107)>0), IF($F107=\"Nej\",    IF(AT$13=\"Nm3\",(AU$12*1000*1000/((AS$242+AT$242+AS$243+AT$243)*1000*  $J107 * Data!$B$6)),  (AU$12*1000*1000/(((AS$242+AT$242+AS$243+AT$243)/Denscalc($J107))*1000*  $J107 * Data!$B$6)) ), 0     ),  0)","v":0},84,null,null,{"$f":"IF(AND($A107<>\"\",(AW107+AX107)>0), IF($F107=\"Nej\",\nIF(AX$13=\"Nm3\",(AY$12*1000*1000/((AW$242+AX$242+AW$243+AX$243-AW$240-AX$240)*1000*  $J107 * Data!$B$6))+(AY$6*1000*1000/((AW$242+AX$242+AW$243+AX$243)*1000*  $J107 * Data!$B$6)),\n (AY$12*1000*1000/(((AW$242+AX$242+AW$243+AX$243-AW$240-AX$240)/Denscalc($J107))*1000*  $J107 * Data!$B$6))  +  (AY$6*1000*1000/(((AW$242+AX$242+AW$243+AX$243)/Denscalc($J107))*1000*  $J107 * Data!$B$6)) ), 0     ),  0)","v":0},84,null,null,{"$f":"IF(AND($A107<>\"\",(BA107+BB107)>0), IF($F107=\"Nej\",\n (BC$12*1000*1000/((BA$244+BB$244-BA$240-BB$240)*1000* Data!$B$7))+ (BC$6*1000*1000/((BA$244+BB$244)*1000* Data!$B$7)),0 ),  0)","v":0},84,"",{"$f":"IF(A107<>\"\",IF(F107=\"Nej\", (Data!$B$129*Data!$B$5*1000*Data!$B$3)/Data!$B$6,  0 ),\"\")","v":""},"","",{"$f":"IF(A107<>\"\",IF(BH107>0,  IF(BE107=\"Nej\",    (Data!$B$8-BH107)/Data!$B$8,  ROUND( (Data!$B$8-BH107)/Data!$B$8,2)),      \"\"),\"\")","v":""},"","","","",{"$f":"IF(A107<>\"\", IF(H107=\"Flytande\",   IF(BM107>0,  IF(BE107=\"Nej\",  (Data!$B$8-BM107)/Data!$B$8,  ROUND( (Data!$B$8-BM107)/Data!$B$8,2)   ), \"\"), \"\"),\"\")","v":""},"",84,"","","",null,""]
[null,85,null,"",null,null,null,null,null,null,null,null,null,null,{"$f":"IF(AND($A108<>\"\",(M108+N108)>0), IF($F108=\"Nej\",    IF(N$13=\"Nm3\",(O$12*1000*1000/((M$242+N$242+M$243+N$243)*1000*  $J108 * Data!$B$6)),  (O$12*1000*1000/(((M$242+N$242+M$243+N$243)/Denscalc($J108))*1000*  $J108 * Data!$B$6)) ), 0     ),  0)","v":0},85,null,null,{"$f":"IF(AND($A108<>\"\",(Q108+R108)>0), IF($F108=\"Nej\",    IF(R$13=\"Nm3\",(S$12*1000*1000/((Q$242+R$242+Q$243+R$243)*1000*  $J108 * Data!$B$6)),  (S$12*1000*1000/(((Q$242+R$242+Q$243+R$243)/Denscalc($J108))*1000*  $J108 * Data!$B$6)) ), 0     ),  0)","v":0},85,null,null,{"$f":"IF(AND($A108<>\"\",(U108+V108)>0), IF($F108=\"Nej\",    IF(V$13=\"Nm3\",(W$12*1000*1000/((U$242+V$242+U$243+V$243)*1000*  $J108 * Data!$B$6)),  (W$12*1000*1000/(((U$242+V$242+U$243+V$243)/Denscalc($J108))*1000*  $J108 * Data!$B$6)) ), 0     ),  0)","v":0},85,null,null,{"$f":"IF(AND($A108<>\"\",(Y108+Z108)>0), IF($F108=\"Nej\",    IF(Z$13=\"Nm3\",(AA$12*1000*1000/((Y$242+Z$242+Y$243+Z$243)*1000*  $J108 * Data!$B$6)),  (AA$12*1000*1000/(((Y$242+Z$242+Y$243+Z$243)/Denscalc($J108))*1000*  $J108 * Data!$B$6)) ), 0     ),  0)","v":0},85,null,null,{"$f":"IF(AND($A108<>\"\",(AC108+AD108)>0), IF($F108=\"Nej\",    IF(AD$13=\"Nm3\",(AE$12*1000*1000/((AC$242+AD$242+AC$243+AD$243)*1000*  $J108 * Data!$B$6)),  (AE$12*1000*1000/(((AC$242+AD$242+AC$243+AD$243)/Denscalc($J108))*1000*  $J108 * Data!$B$6)) ), 0     ),  0)","v":0},85,null,null,{"$f":"IF(AND($A108<>\"\",(AG108+AH108)>0), IF($F108=\"Nej\",    IF(AH$13=\"Nm3\",(AI$12*1000*1000/((AG$242+AH$242+AG$243+AH$243)*1000*  $J108 * Data!$B$6)),  (AI$12*1000*1000/(((AG$242+AH$242+AG$243+AH$243)/Denscalc($J108))*1000*  $J108 * Data!$B$6)) ), 0     ),  0)","v":0},85,null,null,{"$f":"IF(AND($A108<>\"\",(AK108+AL108)>0), IF($F108=\"Nej\",    IF(AL$13=\"Nm3\",(AM$12*1000*1000/((AK$242+AL$242+AK$243+AL$243)*1000*  $J108 * Data!$B$6)),  (AM$12*1000*1000/(((AK$242+AL$242+AK$243+AL$243)/Denscalc($J108))*1000*  $J108 * Data!$B$6)) ), 0     ),  0)","v":0},85,null,null,{"$f":"IF(AND($A108<>\"\",(AO108+AP108)>0), IF($F108=\"Nej\",    IF(AP$13=\"Nm3\",(AQ$12*1000*1000/((AO$242+AP$242+AO$243+AP$243)*1000*  $J108 * Data!$B$6)),  (AQ$12*1000*1000/(((AO$242+AP$242+AO$243+AP$243)/Denscalc($J108))*1000*  $J108 * Data!$B$6)) ), 0     ),  0)","v":0},85,null,null,{"$f":"IF(AND($A108<>\"\",(AS108+AT108)>0), IF($F108=\"Nej\",    IF(AT$13=\"Nm3\",(AU$12*1000*1000/((AS$242+AT$242+AS$243+AT$243)*1000*  $J108 * Data!$B$6)),  (AU$12*1000*1000/(((AS$242+AT$242+AS$243+AT$243)/Denscalc($J108))*1000*  $J108 * Data!$B$6)) ), 0     ),  0)","v":0},85,null,null,{"$f":"IF(AND($A108<>\"\",(AW108+AX108)>0), IF($F108=\"Nej\",\nIF(AX$13=\"Nm3\",(AY$12*1000*1000/((AW$242+AX$242+AW$243+AX$243-AW$240-AX$240)*1000*  $J108 * Data!$B$6))+(AY$6*1000*1000/((AW$242+AX$242+AW$243+AX$243)*1000*  $J108 * Data!$B$6)),\n (AY$12*1000*1000/(((AW$242+AX$242+AW$243+AX$243-AW$240-AX$240)/Denscalc($J108))*1000*  $J108 * Data!$B$6))  +  (AY$6*1000*1000/(((AW$242+AX$242+AW$243+AX$243)/Denscalc($J108))*1000*  $J108 * Data!$B$6)) ), 0     ),  0)","v":0},85,null,null,{"$f":"IF(AND($A108<>\"\",(BA108+BB108)>0), IF($F108=\"Nej\",\n (BC$12*1000*1000/((BA$244+BB$244-BA$240-BB$240)*1000* Data!$B$7))+ (BC$6*1000*1000/((BA$244+BB$244)*1000* Data!$B$7)),0 ),  0)","v":0},85,"",{"$f":"IF(A108<>\"\",IF(F108=\"Nej\", (Data!$B$129*Data!$B$5*1000*Data!$B$3)/Data!$B$6,  0 ),\"\")","v":""},"","",{"$f":"IF(A108<>\"\",IF(BH108>0,  IF(BE108=\"Nej\",    (Data!$B$8-BH108)/Data!$B$8,  ROUND( (Data!$B$8-BH108)/Data!$B$8,2)),      \"\"),\"\")","v":""},"","","","",{"$f":"IF(A108<>\"\", IF(H108=\"Flytande\",   IF(BM108>0,  IF(BE108=\"Nej\",  (Data!$B$8-BM108)/Data!$B$8,  ROUND( (Data!$B$8-BM108)/Data!$B$8,2)   ), \"\"), \"\"),\"\")","v":""},"",85,"","","",null,""]
[null,86,null,"",null,null,null,null,null,null,null,null,null,null,{"$f":"IF(AND($A109<>\"\",(M109+N109)>0), IF($F109=\"Nej\",    IF(N$13=\"Nm3\",(O$12*1000*1000/((M$242+N$242+M$243+N$243)*1000*  $J109 * Data!$B$6)),  (O$12*1000*1000/(((M$242+N$242+M$243+N$243)/Denscalc($J109))*1000*  $J109 * Data!$B$6)) ), 0     ),  0)","v":0},86,null,null,{"$f":"IF(AND($A109<>\"\",(Q109+R109)>0), IF($F109=\"Nej\",    IF(R$13=\"Nm3\",(S$12*1000*1000/((Q$242+R$242+Q$243+R$243)*1000*  $J109 * Data!$B$6)),  (S$12*1000*1000/(((Q$242+R$242+Q$243+R$243)/Denscalc($J109))*1000*  $J109 * Data!$B$6)) ), 0     ),  0)","v":0},86,null,null,{"$f":"IF(AND($A109<>\"\",(U109+V109)>0), IF($F109=\"Nej\",    IF(V$13=\"Nm3\",(W$12*1000*1000/((U$242+V$242+U$243+V$243)*1000*  $J109 * Data!$B$6)),  (W$12*1000*1000/(((U$242+V$242+U$243+V$243)/Denscalc($J109))*1000*  $J109 * Data!$B$6)) ), 0     ),  0)","v":0},86,null,null,{"$f":"IF(AND($A109<>\"\",(Y109+Z109)>0), IF($F109=\"Nej\",    IF(Z$13=\"Nm3\",(AA$12*1000*1000/((Y$242+Z$242+Y$243+Z$243)*1000*  $J109 * Data!$B$6)),  (AA$12*1000*1000/(((Y$242+Z$242+Y$243+Z$243)/Denscalc($J109))*1000*  $J109 * Data!$B$6)) ), 0     ),  0)","v":0},86,null,null,{"$f":"IF(AND($A109<>\"\",(AC109+AD109)>0), IF($F109=\"Nej\",    IF(AD$13=\"Nm3\",(AE$12*1000*1000/((AC$242+AD$242+AC$243+AD$243)*1000*  $J109 * Data!$B$6)),  (AE$12*1000*1000/(((AC$242+AD$242+AC$243+AD$243)/Denscalc($J109))*1000*  $J109 * Data!$B$6)) ), 0     ),  0)","v":0},86,null,null,{"$f":"IF(AND($A109<>\"\",(AG109+AH109)>0), IF($F109=\"Nej\",    IF(AH$13=\"Nm3\",(AI$12*1000*1000/((AG$242+AH$242+AG$243+AH$243)*1000*  $J109 * Data!$B$6)),  (AI$12*1000*1000/(((AG$242+AH$242+AG$243+AH$243)/Denscalc($J109))*1000*  $J109 * Data!$B$6)) ), 0     ),  0)","v":0},86,null,null,{"$f":"IF(AND($A109<>\"\",(AK109+AL109)>0), IF($F109=\"Nej\",    IF(AL$13=\"Nm3\",(AM$12*1000*1000/((AK$242+AL$242+AK$243+AL$243)*1000*  $J109 * Data!$B$6)),  (AM$12*1000*1000/(((AK$242+AL$242+AK$243+AL$243)/Denscalc($J109))*1000*  $J109 * Data!$B$6)) ), 0     ),  0)","v":0},86,null,null,{"$f":"IF(AND($A109<>\"\",(AO109+AP109)>0), IF($F109=\"Nej\",    IF(AP$13=\"Nm3\",(AQ$12*1000*1000/((AO$242+AP$242+AO$243+AP$243)*1000*  $J109 * Data!$B$6)),  (AQ$12*1000*1000/(((AO$242+AP$242+AO$243+AP$243)/Denscalc($J109))*1000*  $J109 * Data!$B$6)) ), 0     ),  0)","v":0},86,null,null,{"$f":"IF(AND($A109<>\"\",(AS109+AT109)>0), IF($F109=\"Nej\",    IF(AT$13=\"Nm3\",(AU$12*1000*1000/((AS$242+AT$242+AS$243+AT$243)*1000*  $J109 * Data!$B$6)),  (AU$12*1000*1000/(((AS$242+AT$242+AS$243+AT$243)/Denscalc($J109))*1000*  $J109 * Data!$B$6)) ), 0     ),  0)","v":0},86,null,null,{"$f":"IF(AND($A109<>\"\",(AW109+AX109)>0), IF($F109=\"Nej\",\nIF(AX$13=\"Nm3\",(AY$12*1000*1000/((AW$242+AX$242+AW$243+AX$243-AW$240-AX$240)*1000*  $J109 * Data!$B$6))+(AY$6*1000*1000/((AW$242+AX$242+AW$243+AX$243)*1000*  $J109 * Data!$B$6)),\n (AY$12*1000*1000/(((AW$242+AX$242+AW$243+AX$243-AW$240-AX$240)/Denscalc($J109))*1000*  $J109 * Data!$B$6))  +  (AY$6*1000*1000/(((AW$242+AX$242+AW$243+AX$243)/Denscalc($J109))*1000*  $J109 * Data!$B$6)) ), 0     ),  0)","v":0},86,null,null,{"$f":"IF(AND($A109<>\"\",(BA109+BB109)>0), IF($F109=\"Nej\",\n (BC$12*1000*1000/((BA$244+BB$244-BA$240-BB$240)*1000* Data!$B$7))+ (BC$6*1000*1000/((BA$244+BB$244)*1000* Data!$B$7)),0 ),  0)","v":0},86,"",{"$f":"IF(A109<>\"\",IF(F109=\"Nej\", (Data!$B$129*Data!$B$5*1000*Data!$B$3)/Data!$B$6,  0 ),\"\")","v":""},"","",{"$f":"IF(A109<>\"\",IF(BH109>0,  IF(BE109=\"Nej\",    (Data!$B$8-BH109)/Data!$B$8,  ROUND( (Data!$B$8-BH109)/Data!$B$8,2)),      \"\"),\"\")","v":""},"","","","",{"$f":"IF(A109<>\"\", IF(H109=\"Flytande\",   IF(BM109>0,  IF(BE109=\"Nej\",  (Data!$B$8-BM109)/Data!$B$8,  ROUND( (Data!$B$8-BM109)/Data!$B$8,2)   ), \"\"), \"\"),\"\")","v":""},"",86,"","","",null,""]
[null,87,null,"",null,null,null,null,null,null,null,null,null,null,{"$f":"IF(AND($A110<>\"\",(M110+N110)>0), IF($F110=\"Nej\",    IF(N$13=\"Nm3\",(O$12*1000*1000/((M$242+N$242+M$243+N$243)*1000*  $J110 * Data!$B$6)),  (O$12*1000*1000/(((M$242+N$242+M$243+N$243)/Denscalc($J110))*1000*  $J110 * Data!$B$6)) ), 0     ),  0)","v":0},87,null,null,{"$f":"IF(AND($A110<>\"\",(Q110+R110)>0), IF($F110=\"Nej\",    IF(R$13=\"Nm3\",(S$12*1000*1000/((Q$242+R$242+Q$243+R$243)*1000*  $J110 * Data!$B$6)),  (S$12*1000*1000/(((Q$242+R$242+Q$243+R$243)/Denscalc($J110))*1000*  $J110 * Data!$B$6)) ), 0     ),  0)","v":0},87,null,null,{"$f":"IF(AND($A110<>\"\",(U110+V110)>0), IF($F110=\"Nej\",    IF(V$13=\"Nm3\",(W$12*1000*1000/((U$242+V$242+U$243+V$243)*1000*  $J110 * Data!$B$6)),  (W$12*1000*1000/(((U$242+V$242+U$243+V$243)/Denscalc($J110))*1000*  $J110 * Data!$B$6)) ), 0     ),  0)","v":0},87,null,null,{"$f":"IF(AND($A110<>\"\",(Y110+Z110)>0), IF($F110=\"Nej\",    IF(Z$13=\"Nm3\",(AA$12*1000*1000/((Y$242+Z$242+Y$243+Z$243)*1000*  $J110 * Data!$B$6)),  (AA$12*1000*1000/(((Y$242+Z$242+Y$243+Z$243)/Denscalc($J110))*1000*  $J110 * Data!$B$6)) ), 0     ),  0)","v":0},87,null,null,{"$f":"IF(AND($A110<>\"\",(AC110+AD110)>0), IF($F110=\"Nej\",    IF(AD$13=\"Nm3\",(AE$12*1000*1000/((AC$242+AD$242+AC$243+AD$243)*1000*  $J110 * Data!$B$6)),  (AE$12*1000*1000/(((AC$242+AD$242+AC$243+AD$243)/Denscalc($J110))*1000*  $J110 * Data!$B$6)) ), 0     ),  0)","v":0},87,null,null,{"$f":"IF(AND($A110<>\"\",(AG110+AH110)>0), IF($F110=\"Nej\",    IF(AH$13=\"Nm3\",(AI$12*1000*1000/((AG$242+AH$242+AG$243+AH$243)*1000*  $J110 * Data!$B$6)),  (AI$12*1000*1000/(((AG$242+AH$242+AG$243+AH$243)/Denscalc($J110))*1000*  $J110 * Data!$B$6)) ), 0     ),  0)","v":0},87,null,null,{"$f":"IF(AND($A110<>\"\",(AK110+AL110)>0), IF($F110=\"Nej\",    IF(AL$13=\"Nm3\",(AM$12*1000*1000/((AK$242+AL$242+AK$243+AL$243)*1000*  $J110 * Data!$B$6)),  (AM$12*1000*1000/(((AK$242+AL$242+AK$243+AL$243)/Denscalc($J110))*1000*  $J110 * Data!$B$6)) ), 0     ),  0)","v":0},87,null,null,{"$f":"IF(AND($A110<>\"\",(AO110+AP110)>0), IF($F110=\"Nej\",    IF(AP$13=\"Nm3\",(AQ$12*1000*1000/((AO$242+AP$242+AO$243+AP$243)*1000*  $J110 * Data!$B$6)),  (AQ$12*1000*1000/(((AO$242+AP$242+AO$243+AP$243)/Denscalc($J110))*1000*  $J110 * Data!$B$6)) ), 0     ),  0)","v":0},87,null,null,{"$f":"IF(AND($A110<>\"\",(AS110+AT110)>0), IF($F110=\"Nej\",    IF(AT$13=\"Nm3\",(AU$12*1000*1000/((AS$242+AT$242+AS$243+AT$243)*1000*  $J110 * Data!$B$6)),  (AU$12*1000*1000/(((AS$242+AT$242+AS$243+AT$243)/Denscalc($J110))*1000*  $J110 * Data!$B$6)) ), 0     ),  0)","v":0},87,null,null,{"$f":"IF(AND($A110<>\"\",(AW110+AX110)>0), IF($F110=\"Nej\",\nIF(AX$13=\"Nm3\",(AY$12*1000*1000/((AW$242+AX$242+AW$243+AX$243-AW$240-AX$240)*1000*  $J110 * Data!$B$6))+(AY$6*1000*1000/((AW$242+AX$242+AW$243+AX$243)*1000*  $J110 * Data!$B$6)),\n (AY$12*1000*1000/(((AW$242+AX$242+AW$243+AX$243-AW$240-AX$240)/Denscalc($J110))*1000*  $J110 * Data!$B$6))  +  (AY$6*1000*1000/(((AW$242+AX$242+AW$243+AX$243)/Denscalc($J110))*1000*  $J110 * Data!$B$6)) ), 0     ),  0)","v":0},87,null,null,{"$f":"IF(AND($A110<>\"\",(BA110+BB110)>0), IF($F110=\"Nej\",\n (BC$12*1000*1000/((BA$244+BB$244-BA$240-BB$240)*1000* Data!$B$7))+ (BC$6*1000*1000/((BA$244+BB$244)*1000* Data!$B$7)),0 ),  0)","v":0},87,"",{"$f":"IF(A110<>\"\",IF(F110=\"Nej\", (Data!$B$129*Data!$B$5*1000*Data!$B$3)/Data!$B$6,  0 ),\"\")","v":""},"","",{"$f":"IF(A110<>\"\",IF(BH110>0,  IF(BE110=\"Nej\",    (Data!$B$8-BH110)/Data!$B$8,  ROUND( (Data!$B$8-BH110)/Data!$B$8,2)),      \"\"),\"\")","v":""},"","","","",{"$f":"IF(A110<>\"\", IF(H110=\"Flytande\",   IF(BM110>0,  IF(BE110=\"Nej\",  (Data!$B$8-BM110)/Data!$B$8,  ROUND( (Data!$B$8-BM110)/Data!$B$8,2)   ), \"\"), \"\"),\"\")","v":""},"",87,"","","",null,""]
[null,88,null,"",null,null,null,null,null,null,null,null,null,null,{"$f":"IF(AND($A111<>\"\",(M111+N111)>0), IF($F111=\"Nej\",    IF(N$13=\"Nm3\",(O$12*1000*1000/((M$242+N$242+M$243+N$243)*1000*  $J111 * Data!$B$6)),  (O$12*1000*1000/(((M$242+N$242+M$243+N$243)/Denscalc($J111))*1000*  $J111 * Data!$B$6)) ), 0     ),  0)","v":0},88,null,null,{"$f":"IF(AND($A111<>\"\",(Q111+R111)>0), IF($F111=\"Nej\",    IF(R$13=\"Nm3\",(S$12*1000*1000/((Q$242+R$242+Q$243+R$243)*1000*  $J111 * Data!$B$6)),  (S$12*1000*1000/(((Q$242+R$242+Q$243+R$243)/Denscalc($J111))*1000*  $J111 * Data!$B$6)) ), 0     ),  0)","v":0},88,null,null,{"$f":"IF(AND($A111<>\"\",(U111+V111)>0), IF($F111=\"Nej\",    IF(V$13=\"Nm3\",(W$12*1000*1000/((U$242+V$242+U$243+V$243)*1000*  $J111 * Data!$B$6)),  (W$12*1000*1000/(((U$242+V$242+U$243+V$243)/Denscalc($J111))*1000*  $J111 * Data!$B$6)) ), 0     ),  0)","v":0},88,null,null,{"$f":"IF(AND($A111<>\"\",(Y111+Z111)>0), IF($F111=\"Nej\",    IF(Z$13=\"Nm3\",(AA$12*1000*1000/((Y$242+Z$242+Y$243+Z$243)*1000*  $J111 * Data!$B$6)),  (AA$12*1000*1000/(((Y$242+Z$242+Y$243+Z$243)/Denscalc($J111))*1000*  $J111 * Data!$B$6)) ), 0     ),  0)","v":0},88,null,null,{"$f":"IF(AND($A111<>\"\",(AC111+AD111)>0), IF($F111=\"Nej\",    IF(AD$13=\"Nm3\",(AE$12*1000*1000/((AC$242+AD$242+AC$243+AD$243)*1000*  $J111 * Data!$B$6)),  (AE$12*1000*1000/(((AC$242+AD$242+AC$243+AD$243)/Denscalc($J111))*1000*  $J111 * Data!$B$6)) ), 0     ),  0)","v":0},88,null,null,{"$f":"IF(AND($A111<>\"\",(AG111+AH111)>0), IF($F111=\"Nej\",    IF(AH$13=\"Nm3\",(AI$12*1000*1000/((AG$242+AH$242+AG$243+AH$243)*1000*  $J111 * Data!$B$6)),  (AI$12*1000*1000/(((AG$242+AH$242+AG$243+AH$243)/Denscalc($J111))*1000*  $J111 * Data!$B$6)) ), 0     ),  0)","v":0},88,null,null,{"$f":"IF(AND($A111<>\"\",(AK111+AL111)>0), IF($F111=\"Nej\",    IF(AL$13=\"Nm3\",(AM$12*1000*1000/((AK$242+AL$242+AK$243+AL$243)*1000*  $J111 * Data!$B$6)),  (AM$12*1000*1000/(((AK$242+AL$242+AK$243+AL$243)/Denscalc($J111))*1000*  $J111 * Data!$B$6)) ), 0     ),  0)","v":0},88,null,null,{"$f":"IF(AND($A111<>\"\",(AO111+AP111)>0), IF($F111=\"Nej\",    IF(AP$13=\"Nm3\",(AQ$12*1000*1000/((AO$242+AP$242+AO$243+AP$243)*1000*  $J111 * Data!$B$6)),  (AQ$12*1000*1000/(((AO$242+AP$242+AO$243+AP$243)/Denscalc($J111))*1000*  $J111 * Data!$B$6)) ), 0     ),  0)","v":0},88,null,null,{"$f":"IF(AND($A111<>\"\",(AS111+AT111)>0), IF($F111=\"Nej\",    IF(AT$13=\"Nm3\",(AU$12*1000*1000/((AS$242+AT$242+AS$243+AT$243)*1000*  $J111 * Data!$B$6)),  (AU$12*1000*1000/(((AS$242+AT$242+AS$243+AT$243)/Denscalc($J111))*1000*  $J111 * Data!$B$6)) ), 0     ),  0)","v":0},88,null,null,{"$f":"IF(AND($A111<>\"\",(AW111+AX111)>0), IF($F111=\"Nej\",\nIF(AX$13=\"Nm3\",(AY$12*1000*1000/((AW$242+AX$242+AW$243+AX$243-AW$240-AX$240)*1000*  $J111 * Data!$B$6))+(AY$6*1000*1000/((AW$242+AX$242+AW$243+AX$243)*1000*  $J111 * Data!$B$6)),\n (AY$12*1000*1000/(((AW$242+AX$242+AW$243+AX$243-AW$240-AX$240)/Denscalc($J111))*1000*  $J111 * Data!$B$6))  +  (AY$6*1000*1000/(((AW$242+AX$242+AW$243+AX$243)/Denscalc($J111))*1000*  $J111 * Data!$B$6)) ), 0     ),  0)","v":0},88,null,null,{"$f":"IF(AND($A111<>\"\",(BA111+BB111)>0), IF($F111=\"Nej\",\n (BC$12*1000*1000/((BA$244+BB$244-BA$240-BB$240)*1000* Data!$B$7))+ (BC$6*1000*1000/((BA$244+BB$244)*1000* Data!$B$7)),0 ),  0)","v":0},88,"",{"$f":"IF(A111<>\"\",IF(F111=\"Nej\", (Data!$B$129*Data!$B$5*1000*Data!$B$3)/Data!$B$6,  0 ),\"\")","v":""},"","",{"$f":"IF(A111<>\"\",IF(BH111>0,  IF(BE111=\"Nej\",    (Data!$B$8-BH111)/Data!$B$8,  ROUND( (Data!$B$8-BH111)/Data!$B$8,2)),      \"\"),\"\")","v":""},"","","","",{"$f":"IF(A111<>\"\", IF(H111=\"Flytande\",   IF(BM111>0,  IF(BE111=\"Nej\",  (Data!$B$8-BM111)/Data!$B$8,  ROUND( (Data!$B$8-BM111)/Data!$B$8,2)   ), \"\"), \"\"),\"\")","v":""},"",88,"","","",null,""]
[null,89,null,"",null,null,null,null,null,null,null,null,null,null,{"$f":"IF(AND($A112<>\"\",(M112+N112)>0), IF($F112=\"Nej\",    IF(N$13=\"Nm3\",(O$12*1000*1000/((M$242+N$242+M$243+N$243)*1000*  $J112 * Data!$B$6)),  (O$12*1000*1000/(((M$242+N$242+M$243+N$243)/Denscalc($J112))*1000*  $J112 * Data!$B$6)) ), 0     ),  0)","v":0},89,null,null,{"$f":"IF(AND($A112<>\"\",(Q112+R112)>0), IF($F112=\"Nej\",    IF(R$13=\"Nm3\",(S$12*1000*1000/((Q$242+R$242+Q$243+R$243)*1000*  $J112 * Data!$B$6)),  (S$12*1000*1000/(((Q$242+R$242+Q$243+R$243)/Denscalc($J112))*1000*  $J112 * Data!$B$6)) ), 0     ),  0)","v":0},89,null,null,{"$f":"IF(AND($A112<>\"\",(U112+V112)>0), IF($F112=\"Nej\",    IF(V$13=\"Nm3\",(W$12*1000*1000/((U$242+V$242+U$243+V$243)*1000*  $J112 * Data!$B$6)),  (W$12*1000*1000/(((U$242+V$242+U$243+V$243)/Denscalc($J112))*1000*  $J112 * Data!$B$6)) ), 0     ),  0)","v":0},89,null,null,{"$f":"IF(AND($A112<>\"\",(Y112+Z112)>0), IF($F112=\"Nej\",    IF(Z$13=\"Nm3\",(AA$12*1000*1000/((Y$242+Z$242+Y$243+Z$243)*1000*  $J112 * Data!$B$6)),  (AA$12*1000*1000/(((Y$242+Z$242+Y$243+Z$243)/Denscalc($J112))*1000*  $J112 * Data!$B$6)) ), 0     ),  0)","v":0},89,null,null,{"$f":"IF(AND($A112<>\"\",(AC112+AD112)>0), IF($F112=\"Nej\",    IF(AD$13=\"Nm3\",(AE$12*1000*1000/((AC$242+AD$242+AC$243+AD$243)*1000*  $J112 * Data!$B$6)),  (AE$12*1000*1000/(((AC$242+AD$242+AC$243+AD$243)/Denscalc($J112))*1000*  $J112 * Data!$B$6)) ), 0     ),  0)","v":0},89,null,null,{"$f":"IF(AND($A112<>\"\",(AG112+AH112)>0), IF($F112=\"Nej\",    IF(AH$13=\"Nm3\",(AI$12*1000*1000/((AG$242+AH$242+AG$243+AH$243)*1000*  $J112 * Data!$B$6)),  (AI$12*1000*1000/(((AG$242+AH$242+AG$243+AH$243)/Denscalc($J112))*1000*  $J112 * Data!$B$6)) ), 0     ),  0)","v":0},89,null,null,{"$f":"IF(AND($A112<>\"\",(AK112+AL112)>0), IF($F112=\"Nej\",    IF(AL$13=\"Nm3\",(AM$12*1000*1000/((AK$242+AL$242+AK$243+AL$243)*1000*  $J112 * Data!$B$6)),  (AM$12*1000*1000/(((AK$242+AL$242+AK$243+AL$243)/Denscalc($J112))*1000*  $J112 * Data!$B$6)) ), 0     ),  0)","v":0},89,null,null,{"$f":"IF(AND($A112<>\"\",(AO112+AP112)>0), IF($F112=\"Nej\",    IF(AP$13=\"Nm3\",(AQ$12*1000*1000/((AO$242+AP$242+AO$243+AP$243)*1000*  $J112 * Data!$B$6)),  (AQ$12*1000*1000/(((AO$242+AP$242+AO$243+AP$243)/Denscalc($J112))*1000*  $J112 * Data!$B$6)) ), 0     ),  0)","v":0},89,null,null,{"$f":"IF(AND($A112<>\"\",(AS112+AT112)>0), IF($F112=\"Nej\",    IF(AT$13=\"Nm3\",(AU$12*1000*1000/((AS$242+AT$242+AS$243+AT$243)*1000*  $J112 * Data!$B$6)),  (AU$12*1000*1000/(((AS$242+AT$242+AS$243+AT$243)/Denscalc($J112))*1000*  $J112 * Data!$B$6)) ), 0     ),  0)","v":0},89,null,null,{"$f":"IF(AND($A112<>\"\",(AW112+AX112)>0), IF($F112=\"Nej\",\nIF(AX$13=\"Nm3\",(AY$12*1000*1000/((AW$242+AX$242+AW$243+AX$243-AW$240-AX$240)*1000*  $J112 * Data!$B$6))+(AY$6*1000*1000/((AW$242+AX$242+AW$243+AX$243)*1000*  $J112 * Data!$B$6)),\n (AY$12*1000*1000/(((AW$242+AX$242+AW$243+AX$243-AW$240-AX$240)/Denscalc($J112))*1000*  $J112 * Data!$B$6))  +  (AY$6*1000*1000/(((AW$242+AX$242+AW$243+AX$243)/Denscalc($J112))*1000*  $J112 * Data!$B$6)) ), 0     ),  0)","v":0},89,null,null,{"$f":"IF(AND($A112<>\"\",(BA112+BB112)>0), IF($F112=\"Nej\",\n (BC$12*1000*1000/((BA$244+BB$244-BA$240-BB$240)*1000* Data!$B$7))+ (BC$6*1000*1000/((BA$244+BB$244)*1000* Data!$B$7)),0 ),  0)","v":0},89,"",{"$f":"IF(A112<>\"\",IF(F112=\"Nej\", (Data!$B$129*Data!$B$5*1000*Data!$B$3)/Data!$B$6,  0 ),\"\")","v":""},"","",{"$f":"IF(A112<>\"\",IF(BH112>0,  IF(BE112=\"Nej\",    (Data!$B$8-BH112)/Data!$B$8,  ROUND( (Data!$B$8-BH112)/Data!$B$8,2)),      \"\"),\"\")","v":""},"","","","",{"$f":"IF(A112<>\"\", IF(H112=\"Flytande\",   IF(BM112>0,  IF(BE112=\"Nej\",  (Data!$B$8-BM112)/Data!$B$8,  ROUND( (Data!$B$8-BM112)/Data!$B$8,2)   ), \"\"), \"\"),\"\")","v":""},"",89,"","","",null,""]
[null,90,null,"",null,null,null,null,null,null,null,null,null,null,{"$f":"IF(AND($A113<>\"\",(M113+N113)>0), IF($F113=\"Nej\",    IF(N$13=\"Nm3\",(O$12*1000*1000/((M$242+N$242+M$243+N$243)*1000*  $J113 * Data!$B$6)),  (O$12*1000*1000/(((M$242+N$242+M$243+N$243)/Denscalc($J113))*1000*  $J113 * Data!$B$6)) ), 0     ),  0)","v":0},90,null,null,{"$f":"IF(AND($A113<>\"\",(Q113+R113)>0), IF($F113=\"Nej\",    IF(R$13=\"Nm3\",(S$12*1000*1000/((Q$242+R$242+Q$243+R$243)*1000*  $J113 * Data!$B$6)),  (S$12*1000*1000/(((Q$242+R$242+Q$243+R$243)/Denscalc($J113))*1000*  $J113 * Data!$B$6)) ), 0     ),  0)","v":0},90,null,null,{"$f":"IF(AND($A113<>\"\",(U113+V113)>0), IF($F113=\"Nej\",    IF(V$13=\"Nm3\",(W$12*1000*1000/((U$242+V$242+U$243+V$243)*1000*  $J113 * Data!$B$6)),  (W$12*1000*1000/(((U$242+V$242+U$243+V$243)/Denscalc($J113))*1000*  $J113 * Data!$B$6)) ), 0     ),  0)","v":0},90,null,null,{"$f":"IF(AND($A113<>\"\",(Y113+Z113)>0), IF($F113=\"Nej\",    IF(Z$13=\"Nm3\",(AA$12*1000*1000/((Y$242+Z$242+Y$243+Z$243)*1000*  $J113 * Data!$B$6)),  (AA$12*1000*1000/(((Y$242+Z$242+Y$243+Z$243)/Denscalc($J113))*1000*  $J113 * Data!$B$6)) ), 0     ),  0)","v":0},90,null,null,{"$f":"IF(AND($A113<>\"\",(AC113+AD113)>0), IF($F113=\"Nej\",    IF(AD$13=\"Nm3\",(AE$12*1000*1000/((AC$242+AD$242+AC$243+AD$243)*1000*  $J113 * Data!$B$6)),  (AE$12*1000*1000/(((AC$242+AD$242+AC$243+AD$243)/Denscalc($J113))*1000*  $J113 * Data!$B$6)) ), 0     ),  0)","v":0},90,null,null,{"$f":"IF(AND($A113<>\"\",(AG113+AH113)>0), IF($F113=\"Nej\",    IF(AH$13=\"Nm3\",(AI$12*1000*1000/((AG$242+AH$242+AG$243+AH$243)*1000*  $J113 * Data!$B$6)),  (AI$12*1000*1000/(((AG$242+AH$242+AG$243+AH$243)/Denscalc($J113))*1000*  $J113 * Data!$B$6)) ), 0     ),  0)","v":0},90,null,null,{"$f":"IF(AND($A113<>\"\",(AK113+AL113)>0), IF($F113=\"Nej\",    IF(AL$13=\"Nm3\",(AM$12*1000*1000/((AK$242+AL$242+AK$243+AL$243)*1000*  $J113 * Data!$B$6)),  (AM$12*1000*1000/(((AK$242+AL$242+AK$243+AL$243)/Denscalc($J113))*1000*  $J113 * Data!$B$6)) ), 0     ),  0)","v":0},90,null,null,{"$f":"IF(AND($A113<>\"\",(AO113+AP113)>0), IF($F113=\"Nej\",    IF(AP$13=\"Nm3\",(AQ$12*1000*1000/((AO$242+AP$242+AO$243+AP$243)*1000*  $J113 * Data!$B$6)),  (AQ$12*1000*1000/(((AO$242+AP$242+AO$243+AP$243)/Denscalc($J113))*1000*  $J113 * Data!$B$6)) ), 0     ),  0)","v":0},90,null,null,{"$f":"IF(AND($A113<>\"\",(AS113+AT113)>0), IF($F113=\"Nej\",    IF(AT$13=\"Nm3\",(AU$12*1000*1000/((AS$242+AT$242+AS$243+AT$243)*1000*  $J113 * Data!$B$6)),  (AU$12*1000*1000/(((AS$242+AT$242+AS$243+AT$243)/Denscalc($J113))*1000*  $J113 * Data!$B$6)) ), 0     ),  0)","v":0},90,null,null,{"$f":"IF(AND($A113<>\"\",(AW113+AX113)>0), IF($F113=\"Nej\",\nIF(AX$13=\"Nm3\",(AY$12*1000*1000/((AW$242+AX$242+AW$243+AX$243-AW$240-AX$240)*1000*  $J113 * Data!$B$6))+(AY$6*1000*1000/((AW$242+AX$242+AW$243+AX$243)*1000*  $J113 * Data!$B$6)),\n (AY$12*1000*1000/(((AW$242+AX$242+AW$243+AX$243-AW$240-AX$240)/Denscalc($J113))*1000*  $J113 * Data!$B$6))  +  (AY$6*1000*1000/(((AW$242+AX$242+AW$243+AX$243)/Denscalc($J113))*1000*  $J113 * Data!$B$6)) ), 0     ),  0)","v":0},90,null,null,{"$f":"IF(AND($A113<>\"\",(BA113+BB113)>0), IF($F113=\"Nej\",\n (BC$12*1000*1000/((BA$244+BB$244-BA$240-BB$240)*1000* Data!$B$7))+ (BC$6*1000*1000/((BA$244+BB$244)*1000* Data!$B$7)),0 ),  0)","v":0},90,"",{"$f":"IF(A113<>\"\",IF(F113=\"Nej\", (Data!$B$129*Data!$B$5*1000*Data!$B$3)/Data!$B$6,  0 ),\"\")","v":""},"","",{"$f":"IF(A113<>\"\",IF(BH113>0,  IF(BE113=\"Nej\",    (Data!$B$8-BH113)/Data!$B$8,  ROUND( (Data!$B$8-BH113)/Data!$B$8,2)),      \"\"),\"\")","v":""},"","","","",{"$f":"IF(A113<>\"\", IF(H113=\"Flytande\",   IF(BM113>0,  IF(BE113=\"Nej\",  (Data!$B$8-BM113)/Data!$B$8,  ROUND( (Data!$B$8-BM113)/Data!$B$8,2)   ), \"\"), \"\"),\"\")","v":""},"",90,"","","",null,""]
[null,91,null,"",null,null,null,null,null,null,null,null,null,null,{"$f":"IF(AND($A114<>\"\",(M114+N114)>0), IF($F114=\"Nej\",    IF(N$13=\"Nm3\",(O$12*1000*1000/((M$242+N$242+M$243+N$243)*1000*  $J114 * Data!$B$6)),  (O$12*1000*1000/(((M$242+N$242+M$243+N$243)/Denscalc($J114))*1000*  $J114 * Data!$B$6)) ), 0     ),  0)","v":0},91,null,null,{"$f":"IF(AND($A114<>\"\",(Q114+R114)>0), IF($F114=\"Nej\",    IF(R$13=\"Nm3\",(S$12*1000*1000/((Q$242+R$242+Q$243+R$243)*1000*  $J114 * Data!$B$6)),  (S$12*1000*1000/(((Q$242+R$242+Q$243+R$243)/Denscalc($J114))*1000*  $J114 * Data!$B$6)) ), 0     ),  0)","v":0},91,null,null,{"$f":"IF(AND($A114<>\"\",(U114+V114)>0), IF($F114=\"Nej\",    IF(V$13=\"Nm3\",(W$12*1000*1000/((U$242+V$242+U$243+V$243)*1000*  $J114 * Data!$B$6)),  (W$12*1000*1000/(((U$242+V$242+U$243+V$243)/Denscalc($J114))*1000*  $J114 * Data!$B$6)) ), 0     ),  0)","v":0},91,null,null,{"$f":"IF(AND($A114<>\"\",(Y114+Z114)>0), IF($F114=\"Nej\",    IF(Z$13=\"Nm3\",(AA$12*1000*1000/((Y$242+Z$242+Y$243+Z$243)*1000*  $J114 * Data!$B$6)),  (AA$12*1000*1000/(((Y$242+Z$242+Y$243+Z$243)/Denscalc($J114))*1000*  $J114 * Data!$B$6)) ), 0     ),  0)","v":0},91,null,null,{"$f":"IF(AND($A114<>\"\",(AC114+AD114)>0), IF($F114=\"Nej\",    IF(AD$13=\"Nm3\",(AE$12*1000*1000/((AC$242+AD$242+AC$243+AD$243)*1000*  $J114 * Data!$B$6)),  (AE$12*1000*1000/(((AC$242+AD$242+AC$243+AD$243)/Denscalc($J114))*1000*  $J114 * Data!$B$6)) ), 0     ),  0)","v":0},91,null,null,{"$f":"IF(AND($A114<>\"\",(AG114+AH114)>0), IF($F114=\"Nej\",    IF(AH$13=\"Nm3\",(AI$12*1000*1000/((AG$242+AH$242+AG$243+AH$243)*1000*  $J114 * Data!$B$6)),  (AI$12*1000*1000/(((AG$242+AH$242+AG$243+AH$243)/Denscalc($J114))*1000*  $J114 * Data!$B$6)) ), 0     ),  0)","v":0},91,null,null,{"$f":"IF(AND($A114<>\"\",(AK114+AL114)>0), IF($F114=\"Nej\",    IF(AL$13=\"Nm3\",(AM$12*1000*1000/((AK$242+AL$242+AK$243+AL$243)*1000*  $J114 * Data!$B$6)),  (AM$12*1000*1000/(((AK$242+AL$242+AK$243+AL$243)/Denscalc($J114))*1000*  $J114 * Data!$B$6)) ), 0     ),  0)","v":0},91,null,null,{"$f":"IF(AND($A114<>\"\",(AO114+AP114)>0), IF($F114=\"Nej\",    IF(AP$13=\"Nm3\",(AQ$12*1000*1000/((AO$242+AP$242+AO$243+AP$243)*1000*  $J114 * Data!$B$6)),  (AQ$12*1000*1000/(((AO$242+AP$242+AO$243+AP$243)/Denscalc($J114))*1000*  $J114 * Data!$B$6)) ), 0     ),  0)","v":0},91,null,null,{"$f":"IF(AND($A114<>\"\",(AS114+AT114)>0), IF($F114=\"Nej\",    IF(AT$13=\"Nm3\",(AU$12*1000*1000/((AS$242+AT$242+AS$243+AT$243)*1000*  $J114 * Data!$B$6)),  (AU$12*1000*1000/(((AS$242+AT$242+AS$243+AT$243)/Denscalc($J114))*1000*  $J114 * Data!$B$6)) ), 0     ),  0)","v":0},91,null,null,{"$f":"IF(AND($A114<>\"\",(AW114+AX114)>0), IF($F114=\"Nej\",\nIF(AX$13=\"Nm3\",(AY$12*1000*1000/((AW$242+AX$242+AW$243+AX$243-AW$240-AX$240)*1000*  $J114 * Data!$B$6))+(AY$6*1000*1000/((AW$242+AX$242+AW$243+AX$243)*1000*  $J114 * Data!$B$6)),\n (AY$12*1000*1000/(((AW$242+AX$242+AW$243+AX$243-AW$240-AX$240)/Denscalc($J114))*1000*  $J114 * Data!$B$6))  +  (AY$6*1000*1000/(((AW$242+AX$242+AW$243+AX$243)/Denscalc($J114))*1000*  $J114 * Data!$B$6)) ), 0     ),  0)","v":0},91,null,null,{"$f":"IF(AND($A114<>\"\",(BA114+BB114)>0), IF($F114=\"Nej\",\n (BC$12*1000*1000/((BA$244+BB$244-BA$240-BB$240)*1000* Data!$B$7))+ (BC$6*1000*1000/((BA$244+BB$244)*1000* Data!$B$7)),0 ),  0)","v":0},91,"",{"$f":"IF(A114<>\"\",IF(F114=\"Nej\", (Data!$B$129*Data!$B$5*1000*Data!$B$3)/Data!$B$6,  0 ),\"\")","v":""},"","",{"$f":"IF(A114<>\"\",IF(BH114>0,  IF(BE114=\"Nej\",    (Data!$B$8-BH114)/Data!$B$8,  ROUND( (Data!$B$8-BH114)/Data!$B$8,2)),      \"\"),\"\")","v":""},"","","","",{"$f":"IF(A114<>\"\", IF(H114=\"Flytande\",   IF(BM114>0,  IF(BE114=\"Nej\",  (Data!$B$8-BM114)/Data!$B$8,  ROUND( (Data!$B$8-BM114)/Data!$B$8,2)   ), \"\"), \"\"),\"\")","v":""},"",91,"","","",null,""]
[null,92,null,"",null,null,null,null,null,null,null,null,null,null,{"$f":"IF(AND($A115<>\"\",(M115+N115)>0), IF($F115=\"Nej\",    IF(N$13=\"Nm3\",(O$12*1000*1000/((M$242+N$242+M$243+N$243)*1000*  $J115 * Data!$B$6)),  (O$12*1000*1000/(((M$242+N$242+M$243+N$243)/Denscalc($J115))*1000*  $J115 * Data!$B$6)) ), 0     ),  0)","v":0},92,null,null,{"$f":"IF(AND($A115<>\"\",(Q115+R115)>0), IF($F115=\"Nej\",    IF(R$13=\"Nm3\",(S$12*1000*1000/((Q$242+R$242+Q$243+R$243)*1000*  $J115 * Data!$B$6)),  (S$12*1000*1000/(((Q$242+R$242+Q$243+R$243)/Denscalc($J115))*1000*  $J115 * Data!$B$6)) ), 0     ),  0)","v":0},92,null,null,{"$f":"IF(AND($A115<>\"\",(U115+V115)>0), IF($F115=\"Nej\",    IF(V$13=\"Nm3\",(W$12*1000*1000/((U$242+V$242+U$243+V$243)*1000*  $J115 * Data!$B$6)),  (W$12*1000*1000/(((U$242+V$242+U$243+V$243)/Denscalc($J115))*1000*  $J115 * Data!$B$6)) ), 0     ),  0)","v":0},92,null,null,{"$f":"IF(AND($A115<>\"\",(Y115+Z115)>0), IF($F115=\"Nej\",    IF(Z$13=\"Nm3\",(AA$12*1000*1000/((Y$242+Z$242+Y$243+Z$243)*1000*  $J115 * Data!$B$6)),  (AA$12*1000*1000/(((Y$242+Z$242+Y$243+Z$243)/Denscalc($J115))*1000*  $J115 * Data!$B$6)) ), 0     ),  0)","v":0},92,null,null,{"$f":"IF(AND($A115<>\"\",(AC115+AD115)>0), IF($F115=\"Nej\",    IF(AD$13=\"Nm3\",(AE$12*1000*1000/((AC$242+AD$242+AC$243+AD$243)*1000*  $J115 * Data!$B$6)),  (AE$12*1000*1000/(((AC$242+AD$242+AC$243+AD$243)/Denscalc($J115))*1000*  $J115 * Data!$B$6)) ), 0     ),  0)","v":0},92,null,null,{"$f":"IF(AND($A115<>\"\",(AG115+AH115)>0), IF($F115=\"Nej\",    IF(AH$13=\"Nm3\",(AI$12*1000*1000/((AG$242+AH$242+AG$243+AH$243)*1000*  $J115 * Data!$B$6)),  (AI$12*1000*1000/(((AG$242+AH$242+AG$243+AH$243)/Denscalc($J115))*1000*  $J115 * Data!$B$6)) ), 0     ),  0)","v":0},92,null,null,{"$f":"IF(AND($A115<>\"\",(AK115+AL115)>0), IF($F115=\"Nej\",    IF(AL$13=\"Nm3\",(AM$12*1000*1000/((AK$242+AL$242+AK$243+AL$243)*1000*  $J115 * Data!$B$6)),  (AM$12*1000*1000/(((AK$242+AL$242+AK$243+AL$243)/Denscalc($J115))*1000*  $J115 * Data!$B$6)) ), 0     ),  0)","v":0},92,null,null,{"$f":"IF(AND($A115<>\"\",(AO115+AP115)>0), IF($F115=\"Nej\",    IF(AP$13=\"Nm3\",(AQ$12*1000*1000/((AO$242+AP$242+AO$243+AP$243)*1000*  $J115 * Data!$B$6)),  (AQ$12*1000*1000/(((AO$242+AP$242+AO$243+AP$243)/Denscalc($J115))*1000*  $J115 * Data!$B$6)) ), 0     ),  0)","v":0},92,null,null,{"$f":"IF(AND($A115<>\"\",(AS115+AT115)>0), IF($F115=\"Nej\",    IF(AT$13=\"Nm3\",(AU$12*1000*1000/((AS$242+AT$242+AS$243+AT$243)*1000*  $J115 * Data!$B$6)),  (AU$12*1000*1000/(((AS$242+AT$242+AS$243+AT$243)/Denscalc($J115))*1000*  $J115 * Data!$B$6)) ), 0     ),  0)","v":0},92,null,null,{"$f":"IF(AND($A115<>\"\",(AW115+AX115)>0), IF($F115=\"Nej\",\nIF(AX$13=\"Nm3\",(AY$12*1000*1000/((AW$242+AX$242+AW$243+AX$243-AW$240-AX$240)*1000*  $J115 * Data!$B$6))+(AY$6*1000*1000/((AW$242+AX$242+AW$243+AX$243)*1000*  $J115 * Data!$B$6)),\n (AY$12*1000*1000/(((AW$242+AX$242+AW$243+AX$243-AW$240-AX$240)/Denscalc($J115))*1000*  $J115 * Data!$B$6))  +  (AY$6*1000*1000/(((AW$242+AX$242+AW$243+AX$243)/Denscalc($J115))*1000*  $J115 * Data!$B$6)) ), 0     ),  0)","v":0},92,null,null,{"$f":"IF(AND($A115<>\"\",(BA115+BB115)>0), IF($F115=\"Nej\",\n (BC$12*1000*1000/((BA$244+BB$244-BA$240-BB$240)*1000* Data!$B$7))+ (BC$6*1000*1000/((BA$244+BB$244)*1000* Data!$B$7)),0 ),  0)","v":0},92,"",{"$f":"IF(A115<>\"\",IF(F115=\"Nej\", (Data!$B$129*Data!$B$5*1000*Data!$B$3)/Data!$B$6,  0 ),\"\")","v":""},"","",{"$f":"IF(A115<>\"\",IF(BH115>0,  IF(BE115=\"Nej\",    (Data!$B$8-BH115)/Data!$B$8,  ROUND( (Data!$B$8-BH115)/Data!$B$8,2)),      \"\"),\"\")","v":""},"","","","",{"$f":"IF(A115<>\"\", IF(H115=\"Flytande\",   IF(BM115>0,  IF(BE115=\"Nej\",  (Data!$B$8-BM115)/Data!$B$8,  ROUND( (Data!$B$8-BM115)/Data!$B$8,2)   ), \"\"), \"\"),\"\")","v":""},"",92,"","","",null,""]
[null,93,null,"",null,null,null,null,null,null,null,null,null,null,{"$f":"IF(AND($A116<>\"\",(M116+N116)>0), IF($F116=\"Nej\",    IF(N$13=\"Nm3\",(O$12*1000*1000/((M$242+N$242+M$243+N$243)*1000*  $J116 * Data!$B$6)),  (O$12*1000*1000/(((M$242+N$242+M$243+N$243)/Denscalc($J116))*1000*  $J116 * Data!$B$6)) ), 0     ),  0)","v":0},93,null,null,{"$f":"IF(AND($A116<>\"\",(Q116+R116)>0), IF($F116=\"Nej\",    IF(R$13=\"Nm3\",(S$12*1000*1000/((Q$242+R$242+Q$243+R$243)*1000*  $J116 * Data!$B$6)),  (S$12*1000*1000/(((Q$242+R$242+Q$243+R$243)/Denscalc($J116))*1000*  $J116 * Data!$B$6)) ), 0     ),  0)","v":0},93,null,null,{"$f":"IF(AND($A116<>\"\",(U116+V116)>0), IF($F116=\"Nej\",    IF(V$13=\"Nm3\",(W$12*1000*1000/((U$242+V$242+U$243+V$243)*1000*  $J116 * Data!$B$6)),  (W$12*1000*1000/(((U$242+V$242+U$243+V$243)/Denscalc($J116))*1000*  $J116 * Data!$B$6)) ), 0     ),  0)","v":0},93,null,null,{"$f":"IF(AND($A116<>\"\",(Y116+Z116)>0), IF($F116=\"Nej\",    IF(Z$13=\"Nm3\",(AA$12*1000*1000/((Y$242+Z$242+Y$243+Z$243)*1000*  $J116 * Data!$B$6)),  (AA$12*1000*1000/(((Y$242+Z$242+Y$243+Z$243)/Denscalc($J116))*1000*  $J116 * Data!$B$6)) ), 0     ),  0)","v":0},93,null,null,{"$f":"IF(AND($A116<>\"\",(AC116+AD116)>0), IF($F116=\"Nej\",    IF(AD$13=\"Nm3\",(AE$12*1000*1000/((AC$242+AD$242+AC$243+AD$243)*1000*  $J116 * Data!$B$6)),  (AE$12*1000*1000/(((AC$242+AD$242+AC$243+AD$243)/Denscalc($J116))*1000*  $J116 * Data!$B$6)) ), 0     ),  0)","v":0},93,null,null,{"$f":"IF(AND($A116<>\"\",(AG116+AH116)>0), IF($F116=\"Nej\",    IF(AH$13=\"Nm3\",(AI$12*1000*1000/((AG$242+AH$242+AG$243+AH$243)*1000*  $J116 * Data!$B$6)),  (AI$12*1000*1000/(((AG$242+AH$242+AG$243+AH$243)/Denscalc($J116))*1000*  $J116 * Data!$B$6)) ), 0     ),  0)","v":0},93,null,null,{"$f":"IF(AND($A116<>\"\",(AK116+AL116)>0), IF($F116=\"Nej\",    IF(AL$13=\"Nm3\",(AM$12*1000*1000/((AK$242+AL$242+AK$243+AL$243)*1000*  $J116 * Data!$B$6)),  (AM$12*1000*1000/(((AK$242+AL$242+AK$243+AL$243)/Denscalc($J116))*1000*  $J116 * Data!$B$6)) ), 0     ),  0)","v":0},93,null,null,{"$f":"IF(AND($A116<>\"\",(AO116+AP116)>0), IF($F116=\"Nej\",    IF(AP$13=\"Nm3\",(AQ$12*1000*1000/((AO$242+AP$242+AO$243+AP$243)*1000*  $J116 * Data!$B$6)),  (AQ$12*1000*1000/(((AO$242+AP$242+AO$243+AP$243)/Denscalc($J116))*1000*  $J116 * Data!$B$6)) ), 0     ),  0)","v":0},93,null,null,{"$f":"IF(AND($A116<>\"\",(AS116+AT116)>0), IF($F116=\"Nej\",    IF(AT$13=\"Nm3\",(AU$12*1000*1000/((AS$242+AT$242+AS$243+AT$243)*1000*  $J116 * Data!$B$6)),  (AU$12*1000*1000/(((AS$242+AT$242+AS$243+AT$243)/Denscalc($J116))*1000*  $J116 * Data!$B$6)) ), 0     ),  0)","v":0},93,null,null,{"$f":"IF(AND($A116<>\"\",(AW116+AX116)>0), IF($F116=\"Nej\",\nIF(AX$13=\"Nm3\",(AY$12*1000*1000/((AW$242+AX$242+AW$243+AX$243-AW$240-AX$240)*1000*  $J116 * Data!$B$6))+(AY$6*1000*1000/((AW$242+AX$242+AW$243+AX$243)*1000*  $J116 * Data!$B$6)),\n (AY$12*1000*1000/(((AW$242+AX$242+AW$243+AX$243-AW$240-AX$240)/Denscalc($J116))*1000*  $J116 * Data!$B$6))  +  (AY$6*1000*1000/(((AW$242+AX$242+AW$243+AX$243)/Denscalc($J116))*1000*  $J116 * Data!$B$6)) ), 0     ),  0)","v":0},93,null,null,{"$f":"IF(AND($A116<>\"\",(BA116+BB116)>0), IF($F116=\"Nej\",\n (BC$12*1000*1000/((BA$244+BB$244-BA$240-BB$240)*1000* Data!$B$7))+ (BC$6*1000*1000/((BA$244+BB$244)*1000* Data!$B$7)),0 ),  0)","v":0},93,"",{"$f":"IF(A116<>\"\",IF(F116=\"Nej\", (Data!$B$129*Data!$B$5*1000*Data!$B$3)/Data!$B$6,  0 ),\"\")","v":""},"","",{"$f":"IF(A116<>\"\",IF(BH116>0,  IF(BE116=\"Nej\",    (Data!$B$8-BH116)/Data!$B$8,  ROUND( (Data!$B$8-BH116)/Data!$B$8,2)),      \"\"),\"\")","v":""},"","","","",{"$f":"IF(A116<>\"\", IF(H116=\"Flytande\",   IF(BM116>0,  IF(BE116=\"Nej\",  (Data!$B$8-BM116)/Data!$B$8,  ROUND( (Data!$B$8-BM116)/Data!$B$8,2)   ), \"\"), \"\"),\"\")","v":""},"",93,"","","",null,{"$f":"IF(A116<>\"\",    IF(H116=\"Gas\", IF(I116=\"kg\", ((BJ116*Denscalc(J116) +BK116+BQ116*Denscalc(J116)+BR116)-G116), ( (BJ116+BK116/Denscalc(J116) + BQ116+BR116/Denscalc(J116))-G116)), ( (   BJ116*Denscalc(J116)+BK116+BO116+BQ116*Denscalc(J116)+BR116+BS116)-G116)  ), \"\")","v":""}]
[null,94,null,"",null,null,null,null,null,null,null,null,null,null,{"$f":"IF(AND($A117<>\"\",(M117+N117)>0), IF($F117=\"Nej\",    IF(N$13=\"Nm3\",(O$12*1000*1000/((M$242+N$242+M$243+N$243)*1000*  $J117 * Data!$B$6)),  (O$12*1000*1000/(((M$242+N$242+M$243+N$243)/Denscalc($J117))*1000*  $J117 * Data!$B$6)) ), 0     ),  0)","v":0},94,null,null,{"$f":"IF(AND($A117<>\"\",(Q117+R117)>0), IF($F117=\"Nej\",    IF(R$13=\"Nm3\",(S$12*1000*1000/((Q$242+R$242+Q$243+R$243)*1000*  $J117 * Data!$B$6)),  (S$12*1000*1000/(((Q$242+R$242+Q$243+R$243)/Denscalc($J117))*1000*  $J117 * Data!$B$6)) ), 0     ),  0)","v":0},94,null,null,{"$f":"IF(AND($A117<>\"\",(U117+V117)>0), IF($F117=\"Nej\",    IF(V$13=\"Nm3\",(W$12*1000*1000/((U$242+V$242+U$243+V$243)*1000*  $J117 * Data!$B$6)),  (W$12*1000*1000/(((U$242+V$242+U$243+V$243)/Denscalc($J117))*1000*  $J117 * Data!$B$6)) ), 0     ),  0)","v":0},94,null,null,{"$f":"IF(AND($A117<>\"\",(Y117+Z117)>0), IF($F117=\"Nej\",    IF(Z$13=\"Nm3\",(AA$12*1000*1000/((Y$242+Z$242+Y$243+Z$243)*1000*  $J117 * Data!$B$6)),  (AA$12*1000*1000/(((Y$242+Z$242+Y$243+Z$243)/Denscalc($J117))*1000*  $J117 * Data!$B$6)) ), 0     ),  0)","v":0},94,null,null,{"$f":"IF(AND($A117<>\"\",(AC117+AD117)>0), IF($F117=\"Nej\",    IF(AD$13=\"Nm3\",(AE$12*1000*1000/((AC$242+AD$242+AC$243+AD$243)*1000*  $J117 * Data!$B$6)),  (AE$12*1000*1000/(((AC$242+AD$242+AC$243+AD$243)/Denscalc($J117))*1000*  $J117 * Data!$B$6)) ), 0     ),  0)","v":0},94,null,null,{"$f":"IF(AND($A117<>\"\",(AG117+AH117)>0), IF($F117=\"Nej\",    IF(AH$13=\"Nm3\",(AI$12*1000*1000/((AG$242+AH$242+AG$243+AH$243)*1000*  $J117 * Data!$B$6)),  (AI$12*1000*1000/(((AG$242+AH$242+AG$243+AH$243)/Denscalc($J117))*1000*  $J117 * Data!$B$6)) ), 0     ),  0)","v":0},94,null,null,{"$f":"IF(AND($A117<>\"\",(AK117+AL117)>0), IF($F117=\"Nej\",    IF(AL$13=\"Nm3\",(AM$12*1000*1000/((AK$242+AL$242+AK$243+AL$243)*1000*  $J117 * Data!$B$6)),  (AM$12*1000*1000/(((AK$242+AL$242+AK$243+AL$243)/Denscalc($J117))*1000*  $J117 * Data!$B$6)) ), 0     ),  0)","v":0},94,null,null,{"$f":"IF(AND($A117<>\"\",(AO117+AP117)>0), IF($F117=\"Nej\",    IF(AP$13=\"Nm3\",(AQ$12*1000*1000/((AO$242+AP$242+AO$243+AP$243)*1000*  $J117 * Data!$B$6)),  (AQ$12*1000*1000/(((AO$242+AP$242+AO$243+AP$243)/Denscalc($J117))*1000*  $J117 * Data!$B$6)) ), 0     ),  0)","v":0},94,null,null,{"$f":"IF(AND($A117<>\"\",(AS117+AT117)>0), IF($F117=\"Nej\",    IF(AT$13=\"Nm3\",(AU$12*1000*1000/((AS$242+AT$242+AS$243+AT$243)*1000*  $J117 * Data!$B$6)),  (AU$12*1000*1000/(((AS$242+AT$242+AS$243+AT$243)/Denscalc($J117))*1000*  $J117 * Data!$B$6)) ), 0     ),  0)","v":0},94,null,null,{"$f":"IF(AND($A117<>\"\",(AW117+AX117)>0), IF($F117=\"Nej\",\nIF(AX$13=\"Nm3\",(AY$12*1000*1000/((AW$242+AX$242+AW$243+AX$243-AW$240-AX$240)*1000*  $J117 * Data!$B$6))+(AY$6*1000*1000/((AW$242+AX$242+AW$243+AX$243)*1000*  $J117 * Data!$B$6)),\n (AY$12*1000*1000/(((AW$242+AX$242+AW$243+AX$243-AW$240-AX$240)/Denscalc($J117))*1000*  $J117 * Data!$B$6))  +  (AY$6*1000*1000/(((AW$242+AX$242+AW$243+AX$243)/Denscalc($J117))*1000*  $J117 * Data!$B$6)) ), 0     ),  0)","v":0},94,null,null,{"$f":"IF(AND($A117<>\"\",(BA117+BB117)>0), IF($F117=\"Nej\",\n (BC$12*1000*1000/((BA$244+BB$244-BA$240-BB$240)*1000* Data!$B$7))+ (BC$6*1000*1000/((BA$244+BB$244)*1000* Data!$B$7)),0 ),  0)","v":0},94,"",{"$f":"IF(A117<>\"\",IF(F117=\"Nej\", (Data!$B$129*Data!$B$5*1000*Data!$B$3)/Data!$B$6,  0 ),\"\")","v":""},"","",{"$f":"IF(A117<>\"\",IF(BH117>0,  IF(BE117=\"Nej\",    (Data!$B$8-BH117)/Data!$B$8,  ROUND( (Data!$B$8-BH117)/Data!$B$8,2)),      \"\"),\"\")","v":""},"","","","",{"$f":"IF(A117<>\"\", IF(H117=\"Flytande\",   IF(BM117>0,  IF(BE117=\"Nej\",  (Data!$B$8-BM117)/Data!$B$8,  ROUND( (Data!$B$8-BM117)/Data!$B$8,2)   ), \"\"), \"\"),\"\")","v":""},"",94,"","","",null,""]
[null,95,null,"",null,null,null,null,null,null,null,null,null,null,{"$f":"IF(AND($A118<>\"\",(M118+N118)>0), IF($F118=\"Nej\",    IF(N$13=\"Nm3\",(O$12*1000*1000/((M$242+N$242+M$243+N$243)*1000*  $J118 * Data!$B$6)),  (O$12*1000*1000/(((M$242+N$242+M$243+N$243)/Denscalc($J118))*1000*  $J118 * Data!$B$6)) ), 0     ),  0)","v":0},95,null,null,{"$f":"IF(AND($A118<>\"\",(Q118+R118)>0), IF($F118=\"Nej\",    IF(R$13=\"Nm3\",(S$12*1000*1000/((Q$242+R$242+Q$243+R$243)*1000*  $J118 * Data!$B$6)),  (S$12*1000*1000/(((Q$242+R$242+Q$243+R$243)/Denscalc($J118))*1000*  $J118 * Data!$B$6)) ), 0     ),  0)","v":0},95,null,null,{"$f":"IF(AND($A118<>\"\",(U118+V118)>0), IF($F118=\"Nej\",    IF(V$13=\"Nm3\",(W$12*1000*1000/((U$242+V$242+U$243+V$243)*1000*  $J118 * Data!$B$6)),  (W$12*1000*1000/(((U$242+V$242+U$243+V$243)/Denscalc($J118))*1000*  $J118 * Data!$B$6)) ), 0     ),  0)","v":0},95,null,null,{"$f":"IF(AND($A118<>\"\",(Y118+Z118)>0), IF($F118=\"Nej\",    IF(Z$13=\"Nm3\",(AA$12*1000*1000/((Y$242+Z$242+Y$243+Z$243)*1000*  $J118 * Data!$B$6)),  (AA$12*1000*1000/(((Y$242+Z$242+Y$243+Z$243)/Denscalc($J118))*1000*  $J118 * Data!$B$6)) ), 0     ),  0)","v":0},95,null,null,{"$f":"IF(AND($A118<>\"\",(AC118+AD118)>0), IF($F118=\"Nej\",    IF(AD$13=\"Nm3\",(AE$12*1000*1000/((AC$242+AD$242+AC$243+AD$243)*1000*  $J118 * Data!$B$6)),  (AE$12*1000*1000/(((AC$242+AD$242+AC$243+AD$243)/Denscalc($J118))*1000*  $J118 * Data!$B$6)) ), 0     ),  0)","v":0},95,null,null,{"$f":"IF(AND($A118<>\"\",(AG118+AH118)>0), IF($F118=\"Nej\",    IF(AH$13=\"Nm3\",(AI$12*1000*1000/((AG$242+AH$242+AG$243+AH$243)*1000*  $J118 * Data!$B$6)),  (AI$12*1000*1000/(((AG$242+AH$242+AG$243+AH$243)/Denscalc($J118))*1000*  $J118 * Data!$B$6)) ), 0     ),  0)","v":0},95,null,null,{"$f":"IF(AND($A118<>\"\",(AK118+AL118)>0), IF($F118=\"Nej\",    IF(AL$13=\"Nm3\",(AM$12*1000*1000/((AK$242+AL$242+AK$243+AL$243)*1000*  $J118 * Data!$B$6)),  (AM$12*1000*1000/(((AK$242+AL$242+AK$243+AL$243)/Denscalc($J118))*1000*  $J118 * Data!$B$6)) ), 0     ),  0)","v":0},95,null,null,{"$f":"IF(AND($A118<>\"\",(AO118+AP118)>0), IF($F118=\"Nej\",    IF(AP$13=\"Nm3\",(AQ$12*1000*1000/((AO$242+AP$242+AO$243+AP$243)*1000*  $J118 * Data!$B$6)),  (AQ$12*1000*1000/(((AO$242+AP$242+AO$243+AP$243)/Denscalc($J118))*1000*  $J118 * Data!$B$6)) ), 0     ),  0)","v":0},95,null,null,{"$f":"IF(AND($A118<>\"\",(AS118+AT118)>0), IF($F118=\"Nej\",    IF(AT$13=\"Nm3\",(AU$12*1000*1000/((AS$242+AT$242+AS$243+AT$243)*1000*  $J118 * Data!$B$6)),  (AU$12*1000*1000/(((AS$242+AT$242+AS$243+AT$243)/Denscalc($J118))*1000*  $J118 * Data!$B$6)) ), 0     ),  0)","v":0},95,null,null,{"$f":"IF(AND($A118<>\"\",(AW118+AX118)>0), IF($F118=\"Nej\",\nIF(AX$13=\"Nm3\",(AY$12*1000*1000/((AW$242+AX$242+AW$243+AX$243-AW$240-AX$240)*1000*  $J118 * Data!$B$6))+(AY$6*1000*1000/((AW$242+AX$242+AW$243+AX$243)*1000*  $J118 * Data!$B$6)),\n (AY$12*1000*1000/(((AW$242+AX$242+AW$243+AX$243-AW$240-AX$240)/Denscalc($J118))*1000*  $J118 * Data!$B$6))  +  (AY$6*1000*1000/(((AW$242+AX$242+AW$243+AX$243)/Denscalc($J118))*1000*  $J118 * Data!$B$6)) ), 0     ),  0)","v":0},95,null,null,{"$f":"IF(AND($A118<>\"\",(BA118+BB118)>0), IF($F118=\"Nej\",\n (BC$12*1000*1000/((BA$244+BB$244-BA$240-BB$240)*1000* Data!$B$7))+ (BC$6*1000*1000/((BA$244+BB$244)*1000* Data!$B$7)),0 ),  0)","v":0},95,"",{"$f":"IF(A118<>\"\",IF(F118=\"Nej\", (Data!$B$129*Data!$B$5*1000*Data!$B$3)/Data!$B$6,  0 ),\"\")","v":""},"","",{"$f":"IF(A118<>\"\",IF(BH118>0,  IF(BE118=\"Nej\",    (Data!$B$8-BH118)/Data!$B$8,  ROUND( (Data!$B$8-BH118)/Data!$B$8,2)),      \"\"),\"\")","v":""},"","","","",{"$f":"IF(A118<>\"\", IF(H118=\"Flytande\",   IF(BM118>0,  IF(BE118=\"Nej\",  (Data!$B$8-BM118)/Data!$B$8,  ROUND( (Data!$B$8-BM118)/Data!$B$8,2)   ), \"\"), \"\"),\"\")","v":""},"",95,"","","",null,""]
[null,96,null,"",null,null,null,null,null,null,null,null,null,null,{"$f":"IF(AND($A119<>\"\",(M119+N119)>0), IF($F119=\"Nej\",    IF(N$13=\"Nm3\",(O$12*1000*1000/((M$242+N$242+M$243+N$243)*1000*  $J119 * Data!$B$6)),  (O$12*1000*1000/(((M$242+N$242+M$243+N$243)/Denscalc($J119))*1000*  $J119 * Data!$B$6)) ), 0     ),  0)","v":0},96,null,null,{"$f":"IF(AND($A119<>\"\",(Q119+R119)>0), IF($F119=\"Nej\",    IF(R$13=\"Nm3\",(S$12*1000*1000/((Q$242+R$242+Q$243+R$243)*1000*  $J119 * Data!$B$6)),  (S$12*1000*1000/(((Q$242+R$242+Q$243+R$243)/Denscalc($J119))*1000*  $J119 * Data!$B$6)) ), 0     ),  0)","v":0},96,null,null,{"$f":"IF(AND($A119<>\"\",(U119+V119)>0), IF($F119=\"Nej\",    IF(V$13=\"Nm3\",(W$12*1000*1000/((U$242+V$242+U$243+V$243)*1000*  $J119 * Data!$B$6)),  (W$12*1000*1000/(((U$242+V$242+U$243+V$243)/Denscalc($J119))*1000*  $J119 * Data!$B$6)) ), 0     ),  0)","v":0},96,null,null,{"$f":"IF(AND($A119<>\"\",(Y119+Z119)>0), IF($F119=\"Nej\",    IF(Z$13=\"Nm3\",(AA$12*1000*1000/((Y$242+Z$242+Y$243+Z$243)*1000*  $J119 * Data!$B$6)),  (AA$12*1000*1000/(((Y$242+Z$242+Y$243+Z$243)/Denscalc($J119))*1000*  $J119 * Data!$B$6)) ), 0     ),  0)","v":0},96,null,null,{"$f":"IF(AND($A119<>\"\",(AC119+AD119)>0), IF($F119=\"Nej\",    IF(AD$13=\"Nm3\",(AE$12*1000*1000/((AC$242+AD$242+AC$243+AD$243)*1000*  $J119 * Data!$B$6)),  (AE$12*1000*1000/(((AC$242+AD$242+AC$243+AD$243)/Denscalc($J119))*1000*  $J119 * Data!$B$6)) ), 0     ),  0)","v":0},96,null,null,{"$f":"IF(AND($A119<>\"\",(AG119+AH119)>0), IF($F119=\"Nej\",    IF(AH$13=\"Nm3\",(AI$12*1000*1000/((AG$242+AH$242+AG$243+AH$243)*1000*  $J119 * Data!$B$6)),  (AI$12*1000*1000/(((AG$242+AH$242+AG$243+AH$243)/Denscalc($J119))*1000*  $J119 * Data!$B$6)) ), 0     ),  0)","v":0},96,null,null,{"$f":"IF(AND($A119<>\"\",(AK119+AL119)>0), IF($F119=\"Nej\",    IF(AL$13=\"Nm3\",(AM$12*1000*1000/((AK$242+AL$242+AK$243+AL$243)*1000*  $J119 * Data!$B$6)),  (AM$12*1000*1000/(((AK$242+AL$242+AK$243+AL$243)/Denscalc($J119))*1000*  $J119 * Data!$B$6)) ), 0     ),  0)","v":0},96,null,null,{"$f":"IF(AND($A119<>\"\",(AO119+AP119)>0), IF($F119=\"Nej\",    IF(AP$13=\"Nm3\",(AQ$12*1000*1000/((AO$242+AP$242+AO$243+AP$243)*1000*  $J119 * Data!$B$6)),  (AQ$12*1000*1000/(((AO$242+AP$242+AO$243+AP$243)/Denscalc($J119))*1000*  $J119 * Data!$B$6)) ), 0     ),  0)","v":0},96,null,null,{"$f":"IF(AND($A119<>\"\",(AS119+AT119)>0), IF($F119=\"Nej\",    IF(AT$13=\"Nm3\",(AU$12*1000*1000/((AS$242+AT$242+AS$243+AT$243)*1000*  $J119 * Data!$B$6)),  (AU$12*1000*1000/(((AS$242+AT$242+AS$243+AT$243)/Denscalc($J119))*1000*  $J119 * Data!$B$6)) ), 0     ),  0)","v":0},96,null,null,{"$f":"IF(AND($A119<>\"\",(AW119+AX119)>0), IF($F119=\"Nej\",\nIF(AX$13=\"Nm3\",(AY$12*1000*1000/((AW$242+AX$242+AW$243+AX$243-AW$240-AX$240)*1000*  $J119 * Data!$B$6))+(AY$6*1000*1000/((AW$242+AX$242+AW$243+AX$243)*1000*  $J119 * Data!$B$6)),\n (AY$12*1000*1000/(((AW$242+AX$242+AW$243+AX$243-AW$240-AX$240)/Denscalc($J119))*1000*  $J119 * Data!$B$6))  +  (AY$6*1000*1000/(((AW$242+AX$242+AW$243+AX$243)/Denscalc($J119))*1000*  $J119 * Data!$B$6)) ), 0     ),  0)","v":0},96,null,null,{"$f":"IF(AND($A119<>\"\",(BA119+BB119)>0), IF($F119=\"Nej\",\n (BC$12*1000*1000/((BA$244+BB$244-BA$240-BB$240)*1000* Data!$B$7))+ (BC$6*1000*1000/((BA$244+BB$244)*1000* Data!$B$7)),0 ),  0)","v":0},96,"",{"$f":"IF(A119<>\"\",IF(F119=\"Nej\", (Data!$B$129*Data!$B$5*1000*Data!$B$3)/Data!$B$6,  0 ),\"\")","v":""},"","",{"$f":"IF(A119<>\"\",IF(BH119>0,  IF(BE119=\"Nej\",    (Data!$B$8-BH119)/Data!$B$8,  ROUND( (Data!$B$8-BH119)/Data!$B$8,2)),      \"\"),\"\")","v":""},"","","","",{"$f":"IF(A119<>\"\", IF(H119=\"Flytande\",   IF(BM119>0,  IF(BE119=\"Nej\",  (Data!$B$8-BM119)/Data!$B$8,  ROUND( (Data!$B$8-BM119)/Data!$B$8,2)   ), \"\"), \"\"),\"\")","v":""},"",96,"","","",null,""]
[null,97,null,"",null,null,null,null,null,null,null,null,null,null,{"$f":"IF(AND($A120<>\"\",(M120+N120)>0), IF($F120=\"Nej\",    IF(N$13=\"Nm3\",(O$12*1000*1000/((M$242+N$242+M$243+N$243)*1000*  $J120 * Data!$B$6)),  (O$12*1000*1000/(((M$242+N$242+M$243+N$243)/Denscalc($J120))*1000*  $J120 * Data!$B$6)) ), 0     ),  0)","v":0},97,null,null,{"$f":"IF(AND($A120<>\"\",(Q120+R120)>0), IF($F120=\"Nej\",    IF(R$13=\"Nm3\",(S$12*1000*1000/((Q$242+R$242+Q$243+R$243)*1000*  $J120 * Data!$B$6)),  (S$12*1000*1000/(((Q$242+R$242+Q$243+R$243)/Denscalc($J120))*1000*  $J120 * Data!$B$6)) ), 0     ),  0)","v":0},97,null,null,{"$f":"IF(AND($A120<>\"\",(U120+V120)>0), IF($F120=\"Nej\",    IF(V$13=\"Nm3\",(W$12*1000*1000/((U$242+V$242+U$243+V$243)*1000*  $J120 * Data!$B$6)),  (W$12*1000*1000/(((U$242+V$242+U$243+V$243)/Denscalc($J120))*1000*  $J120 * Data!$B$6)) ), 0     ),  0)","v":0},97,null,null,{"$f":"IF(AND($A120<>\"\",(Y120+Z120)>0), IF($F120=\"Nej\",    IF(Z$13=\"Nm3\",(AA$12*1000*1000/((Y$242+Z$242+Y$243+Z$243)*1000*  $J120 * Data!$B$6)),  (AA$12*1000*1000/(((Y$242+Z$242+Y$243+Z$243)/Denscalc($J120))*1000*  $J120 * Data!$B$6)) ), 0     ),  0)","v":0},97,null,null,{"$f":"IF(AND($A120<>\"\",(AC120+AD120)>0), IF($F120=\"Nej\",    IF(AD$13=\"Nm3\",(AE$12*1000*1000/((AC$242+AD$242+AC$243+AD$243)*1000*  $J120 * Data!$B$6)),  (AE$12*1000*1000/(((AC$242+AD$242+AC$243+AD$243)/Denscalc($J120))*1000*  $J120 * Data!$B$6)) ), 0     ),  0)","v":0},97,null,null,{"$f":"IF(AND($A120<>\"\",(AG120+AH120)>0), IF($F120=\"Nej\",    IF(AH$13=\"Nm3\",(AI$12*1000*1000/((AG$242+AH$242+AG$243+AH$243)*1000*  $J120 * Data!$B$6)),  (AI$12*1000*1000/(((AG$242+AH$242+AG$243+AH$243)/Denscalc($J120))*1000*  $J120 * Data!$B$6)) ), 0     ),  0)","v":0},97,null,null,{"$f":"IF(AND($A120<>\"\",(AK120+AL120)>0), IF($F120=\"Nej\",    IF(AL$13=\"Nm3\",(AM$12*1000*1000/((AK$242+AL$242+AK$243+AL$243)*1000*  $J120 * Data!$B$6)),  (AM$12*1000*1000/(((AK$242+AL$242+AK$243+AL$243)/Denscalc($J120))*1000*  $J120 * Data!$B$6)) ), 0     ),  0)","v":0},97,null,null,{"$f":"IF(AND($A120<>\"\",(AO120+AP120)>0), IF($F120=\"Nej\",    IF(AP$13=\"Nm3\",(AQ$12*1000*1000/((AO$242+AP$242+AO$243+AP$243)*1000*  $J120 * Data!$B$6)),  (AQ$12*1000*1000/(((AO$242+AP$242+AO$243+AP$243)/Denscalc($J120))*1000*  $J120 * Data!$B$6)) ), 0     ),  0)","v":0},97,null,null,{"$f":"IF(AND($A120<>\"\",(AS120+AT120)>0), IF($F120=\"Nej\",    IF(AT$13=\"Nm3\",(AU$12*1000*1000/((AS$242+AT$242+AS$243+AT$243)*1000*  $J120 * Data!$B$6)),  (AU$12*1000*1000/(((AS$242+AT$242+AS$243+AT$243)/Denscalc($J120))*1000*  $J120 * Data!$B$6)) ), 0     ),  0)","v":0},97,null,null,{"$f":"IF(AND($A120<>\"\",(AW120+AX120)>0), IF($F120=\"Nej\",\nIF(AX$13=\"Nm3\",(AY$12*1000*1000/((AW$242+AX$242+AW$243+AX$243-AW$240-AX$240)*1000*  $J120 * Data!$B$6))+(AY$6*1000*1000/((AW$242+AX$242+AW$243+AX$243)*1000*  $J120 * Data!$B$6)),\n (AY$12*1000*1000/(((AW$242+AX$242+AW$243+AX$243-AW$240-AX$240)/Denscalc($J120))*1000*  $J120 * Data!$B$6))  +  (AY$6*1000*1000/(((AW$242+AX$242+AW$243+AX$243)/Denscalc($J120))*1000*  $J120 * Data!$B$6)) ), 0     ),  0)","v":0},97,null,null,{"$f":"IF(AND($A120<>\"\",(BA120+BB120)>0), IF($F120=\"Nej\",\n (BC$12*1000*1000/((BA$244+BB$244-BA$240-BB$240)*1000* Data!$B$7))+ (BC$6*1000*1000/((BA$244+BB$244)*1000* Data!$B$7)),0 ),  0)","v":0},97,"",{"$f":"IF(A120<>\"\",IF(F120=\"Nej\", (Data!$B$129*Data!$B$5*1000*Data!$B$3)/Data!$B$6,  0 ),\"\")","v":""},"","",{"$f":"IF(A120<>\"\",IF(BH120>0,  IF(BE120=\"Nej\",    (Data!$B$8-BH120)/Data!$B$8,  ROUND( (Data!$B$8-BH120)/Data!$B$8,2)),      \"\"),\"\")","v":""},"","","","",{"$f":"IF(A120<>\"\", IF(H120=\"Flytande\",   IF(BM120>0,  IF(BE120=\"Nej\",  (Data!$B$8-BM120)/Data!$B$8,  ROUND( (Data!$B$8-BM120)/Data!$B$8,2)   ), \"\"), \"\"),\"\")","v":""},"",97,"","","",null,""]
[null,98,null,"",null,null,null,null,null,null,null,null,null,null,{"$f":"IF(AND($A121<>\"\",(M121+N121)>0), IF($F121=\"Nej\",    IF(N$13=\"Nm3\",(O$12*1000*1000/((M$242+N$242+M$243+N$243)*1000*  $J121 * Data!$B$6)),  (O$12*1000*1000/(((M$242+N$242+M$243+N$243)/Denscalc($J121))*1000*  $J121 * Data!$B$6)) ), 0     ),  0)","v":0},98,null,null,{"$f":"IF(AND($A121<>\"\",(Q121+R121)>0), IF($F121=\"Nej\",    IF(R$13=\"Nm3\",(S$12*1000*1000/((Q$242+R$242+Q$243+R$243)*1000*  $J121 * Data!$B$6)),  (S$12*1000*1000/(((Q$242+R$242+Q$243+R$243)/Denscalc($J121))*1000*  $J121 * Data!$B$6)) ), 0     ),  0)","v":0},98,null,null,{"$f":"IF(AND($A121<>\"\",(U121+V121)>0), IF($F121=\"Nej\",    IF(V$13=\"Nm3\",(W$12*1000*1000/((U$242+V$242+U$243+V$243)*1000*  $J121 * Data!$B$6)),  (W$12*1000*1000/(((U$242+V$242+U$243+V$243)/Denscalc($J121))*1000*  $J121 * Data!$B$6)) ), 0     ),  0)","v":0},98,null,null,{"$f":"IF(AND($A121<>\"\",(Y121+Z121)>0), IF($F121=\"Nej\",    IF(Z$13=\"Nm3\",(AA$12*1000*1000/((Y$242+Z$242+Y$243+Z$243)*1000*  $J121 * Data!$B$6)),  (AA$12*1000*1000/(((Y$242+Z$242+Y$243+Z$243)/Denscalc($J121))*1000*  $J121 * Data!$B$6)) ), 0     ),  0)","v":0},98,null,null,{"$f":"IF(AND($A121<>\"\",(AC121+AD121)>0), IF($F121=\"Nej\",    IF(AD$13=\"Nm3\",(AE$12*1000*1000/((AC$242+AD$242+AC$243+AD$243)*1000*  $J121 * Data!$B$6)),  (AE$12*1000*1000/(((AC$242+AD$242+AC$243+AD$243)/Denscalc($J121))*1000*  $J121 * Data!$B$6)) ), 0     ),  0)","v":0},98,null,null,{"$f":"IF(AND($A121<>\"\",(AG121+AH121)>0), IF($F121=\"Nej\",    IF(AH$13=\"Nm3\",(AI$12*1000*1000/((AG$242+AH$242+AG$243+AH$243)*1000*  $J121 * Data!$B$6)),  (AI$12*1000*1000/(((AG$242+AH$242+AG$243+AH$243)/Denscalc($J121))*1000*  $J121 * Data!$B$6)) ), 0     ),  0)","v":0},98,null,null,{"$f":"IF(AND($A121<>\"\",(AK121+AL121)>0), IF($F121=\"Nej\",    IF(AL$13=\"Nm3\",(AM$12*1000*1000/((AK$242+AL$242+AK$243+AL$243)*1000*  $J121 * Data!$B$6)),  (AM$12*1000*1000/(((AK$242+AL$242+AK$243+AL$243)/Denscalc($J121))*1000*  $J121 * Data!$B$6)) ), 0     ),  0)","v":0},98,null,null,{"$f":"IF(AND($A121<>\"\",(AO121+AP121)>0), IF($F121=\"Nej\",    IF(AP$13=\"Nm3\",(AQ$12*1000*1000/((AO$242+AP$242+AO$243+AP$243)*1000*  $J121 * Data!$B$6)),  (AQ$12*1000*1000/(((AO$242+AP$242+AO$243+AP$243)/Denscalc($J121))*1000*  $J121 * Data!$B$6)) ), 0     ),  0)","v":0},98,null,null,{"$f":"IF(AND($A121<>\"\",(AS121+AT121)>0), IF($F121=\"Nej\",    IF(AT$13=\"Nm3\",(AU$12*1000*1000/((AS$242+AT$242+AS$243+AT$243)*1000*  $J121 * Data!$B$6)),  (AU$12*1000*1000/(((AS$242+AT$242+AS$243+AT$243)/Denscalc($J121))*1000*  $J121 * Data!$B$6)) ), 0     ),  0)","v":0},98,null,null,{"$f":"IF(AND($A121<>\"\",(AW121+AX121)>0), IF($F121=\"Nej\",\nIF(AX$13=\"Nm3\",(AY$12*1000*1000/((AW$242+AX$242+AW$243+AX$243-AW$240-AX$240)*1000*  $J121 * Data!$B$6))+(AY$6*1000*1000/((AW$242+AX$242+AW$243+AX$243)*1000*  $J121 * Data!$B$6)),\n (AY$12*1000*1000/(((AW$242+AX$242+AW$243+AX$243-AW$240-AX$240)/Denscalc($J121))*1000*  $J121 * Data!$B$6))  +  (AY$6*1000*1000/(((AW$242+AX$242+AW$243+AX$243)/Denscalc($J121))*1000*  $J121 * Data!$B$6)) ), 0     ),  0)","v":0},98,null,null,{"$f":"IF(AND($A121<>\"\",(BA121+BB121)>0), IF($F121=\"Nej\",\n (BC$12*1000*1000/((BA$244+BB$244-BA$240-BB$240)*1000* Data!$B$7))+ (BC$6*1000*1000/((BA$244+BB$244)*1000* Data!$B$7)),0 ),  0)","v":0},98,"",{"$f":"IF(A121<>\"\",IF(F121=\"Nej\", (Data!$B$129*Data!$B$5*1000*Data!$B$3)/Data!$B$6,  0 ),\"\")","v":""},"","",{"$f":"IF(A121<>\"\",IF(BH121>0,  IF(BE121=\"Nej\",    (Data!$B$8-BH121)/Data!$B$8,  ROUND( (Data!$B$8-BH121)/Data!$B$8,2)),      \"\"),\"\")","v":""},"","","","",{"$f":"IF(A121<>\"\", IF(H121=\"Flytande\",   IF(BM121>0,  IF(BE121=\"Nej\",  (Data!$B$8-BM121)/Data!$B$8,  ROUND( (Data!$B$8-BM121)/Data!$B$8,2)   ), \"\"), \"\"),\"\")","v":""},"",98,"","","",null,""]
[null,99,null,"",null,null,null,null,null,null,null,null,null,null,{"$f":"IF(AND($A122<>\"\",(M122+N122)>0), IF($F122=\"Nej\",    IF(N$13=\"Nm3\",(O$12*1000*1000/((M$242+N$242+M$243+N$243)*1000*  $J122 * Data!$B$6)),  (O$12*1000*1000/(((M$242+N$242+M$243+N$243)/Denscalc($J122))*1000*  $J122 * Data!$B$6)) ), 0     ),  0)","v":0},99,null,null,{"$f":"IF(AND($A122<>\"\",(Q122+R122)>0), IF($F122=\"Nej\",    IF(R$13=\"Nm3\",(S$12*1000*1000/((Q$242+R$242+Q$243+R$243)*1000*  $J122 * Data!$B$6)),  (S$12*1000*1000/(((Q$242+R$242+Q$243+R$243)/Denscalc($J122))*1000*  $J122 * Data!$B$6)) ), 0     ),  0)","v":0},99,null,null,{"$f":"IF(AND($A122<>\"\",(U122+V122)>0), IF($F122=\"Nej\",    IF(V$13=\"Nm3\",(W$12*1000*1000/((U$242+V$242+U$243+V$243)*1000*  $J122 * Data!$B$6)),  (W$12*1000*1000/(((U$242+V$242+U$243+V$243)/Denscalc($J122))*1000*  $J122 * Data!$B$6)) ), 0     ),  0)","v":0},99,null,null,{"$f":"IF(AND($A122<>\"\",(Y122+Z122)>0), IF($F122=\"Nej\",    IF(Z$13=\"Nm3\",(AA$12*1000*1000/((Y$242+Z$242+Y$243+Z$243)*1000*  $J122 * Data!$B$6)),  (AA$12*1000*1000/(((Y$242+Z$242+Y$243+Z$243)/Denscalc($J122))*1000*  $J122 * Data!$B$6)) ), 0     ),  0)","v":0},99,null,null,{"$f":"IF(AND($A122<>\"\",(AC122+AD122)>0), IF($F122=\"Nej\",    IF(AD$13=\"Nm3\",(AE$12*1000*1000/((AC$242+AD$242+AC$243+AD$243)*1000*  $J122 * Data!$B$6)),  (AE$12*1000*1000/(((AC$242+AD$242+AC$243+AD$243)/Denscalc($J122))*1000*  $J122 * Data!$B$6)) ), 0     ),  0)","v":0},99,null,null,{"$f":"IF(AND($A122<>\"\",(AG122+AH122)>0), IF($F122=\"Nej\",    IF(AH$13=\"Nm3\",(AI$12*1000*1000/((AG$242+AH$242+AG$243+AH$243)*1000*  $J122 * Data!$B$6)),  (AI$12*1000*1000/(((AG$242+AH$242+AG$243+AH$243)/Denscalc($J122))*1000*  $J122 * Data!$B$6)) ), 0     ),  0)","v":0},99,null,null,{"$f":"IF(AND($A122<>\"\",(AK122+AL122)>0), IF($F122=\"Nej\",    IF(AL$13=\"Nm3\",(AM$12*1000*1000/((AK$242+AL$242+AK$243+AL$243)*1000*  $J122 * Data!$B$6)),  (AM$12*1000*1000/(((AK$242+AL$242+AK$243+AL$243)/Denscalc($J122))*1000*  $J122 * Data!$B$6)) ), 0     ),  0)","v":0},99,null,null,{"$f":"IF(AND($A122<>\"\",(AO122+AP122)>0), IF($F122=\"Nej\",    IF(AP$13=\"Nm3\",(AQ$12*1000*1000/((AO$242+AP$242+AO$243+AP$243)*1000*  $J122 * Data!$B$6)),  (AQ$12*1000*1000/(((AO$242+AP$242+AO$243+AP$243)/Denscalc($J122))*1000*  $J122 * Data!$B$6)) ), 0     ),  0)","v":0},99,null,null,{"$f":"IF(AND($A122<>\"\",(AS122+AT122)>0), IF($F122=\"Nej\",    IF(AT$13=\"Nm3\",(AU$12*1000*1000/((AS$242+AT$242+AS$243+AT$243)*1000*  $J122 * Data!$B$6)),  (AU$12*1000*1000/(((AS$242+AT$242+AS$243+AT$243)/Denscalc($J122))*1000*  $J122 * Data!$B$6)) ), 0     ),  0)","v":0},99,null,null,{"$f":"IF(AND($A122<>\"\",(AW122+AX122)>0), IF($F122=\"Nej\",\nIF(AX$13=\"Nm3\",(AY$12*1000*1000/((AW$242+AX$242+AW$243+AX$243-AW$240-AX$240)*1000*  $J122 * Data!$B$6))+(AY$6*1000*1000/((AW$242+AX$242+AW$243+AX$243)*1000*  $J122 * Data!$B$6)),\n (AY$12*1000*1000/(((AW$242+AX$242+AW$243+AX$243-AW$240-AX$240)/Denscalc($J122))*1000*  $J122 * Data!$B$6))  +  (AY$6*1000*1000/(((AW$242+AX$242+AW$243+AX$243)/Denscalc($J122))*1000*  $J122 * Data!$B$6)) ), 0     ),  0)","v":0},99,null,null,{"$f":"IF(AND($A122<>\"\",(BA122+BB122)>0), IF($F122=\"Nej\",\n (BC$12*1000*1000/((BA$244+BB$244-BA$240-BB$240)*1000* Data!$B$7))+ (BC$6*1000*1000/((BA$244+BB$244)*1000* Data!$B$7)),0 ),  0)","v":0},99,"",{"$f":"IF(A122<>\"\",IF(F122=\"Nej\", (Data!$B$129*Data!$B$5*1000*Data!$B$3)/Data!$B$6,  0 ),\"\")","v":""},"","",{"$f":"IF(A122<>\"\",IF(BH122>0,  IF(BE122=\"Nej\",    (Data!$B$8-BH122)/Data!$B$8,  ROUND( (Data!$B$8-BH122)/Data!$B$8,2)),      \"\"),\"\")","v":""},"","","","",{"$f":"IF(A122<>\"\", IF(H122=\"Flytande\",   IF(BM122>0,  IF(BE122=\"Nej\",  (Data!$B$8-BM122)/Data!$B$8,  ROUND( (Data!$B$8-BM122)/Data!$B$8,2)   ), \"\"), \"\"),\"\")","v":""},"",99,"","","",null,""]
[null,100,null,"",null,null,null,null,null,null,null,null,null,null,{"$f":"IF(AND($A123<>\"\",(M123+N123)>0), IF($F123=\"Nej\",    IF(N$13=\"Nm3\",(O$12*1000*1000/((M$242+N$242+M$243+N$243)*1000*  $J123 * Data!$B$6)),  (O$12*1000*1000/(((M$242+N$242+M$243+N$243)/Denscalc($J123))*1000*  $J123 * Data!$B$6)) ), 0     ),  0)","v":0},100,null,null,{"$f":"IF(AND($A123<>\"\",(Q123+R123)>0), IF($F123=\"Nej\",    IF(R$13=\"Nm3\",(S$12*1000*1000/((Q$242+R$242+Q$243+R$243)*1000*  $J123 * Data!$B$6)),  (S$12*1000*1000/(((Q$242+R$242+Q$243+R$243)/Denscalc($J123))*1000*  $J123 * Data!$B$6)) ), 0     ),  0)","v":0},100,null,null,{"$f":"IF(AND($A123<>\"\",(U123+V123)>0), IF($F123=\"Nej\",    IF(V$13=\"Nm3\",(W$12*1000*1000/((U$242+V$242+U$243+V$243)*1000*  $J123 * Data!$B$6)),  (W$12*1000*1000/(((U$242+V$242+U$243+V$243)/Denscalc($J123))*1000*  $J123 * Data!$B$6)) ), 0     ),  0)","v":0},100,null,null,{"$f":"IF(AND($A123<>\"\",(Y123+Z123)>0), IF($F123=\"Nej\",    IF(Z$13=\"Nm3\",(AA$12*1000*1000/((Y$242+Z$242+Y$243+Z$243)*1000*  $J123 * Data!$B$6)),  (AA$12*1000*1000/(((Y$242+Z$242+Y$243+Z$243)/Denscalc($J123))*1000*  $J123 * Data!$B$6)) ), 0     ),  0)","v":0},100,null,null,{"$f":"IF(AND($A123<>\"\",(AC123+AD123)>0), IF($F123=\"Nej\",    IF(AD$13=\"Nm3\",(AE$12*1000*1000/((AC$242+AD$242+AC$243+AD$243)*1000*  $J123 * Data!$B$6)),  (AE$12*1000*1000/(((AC$242+AD$242+AC$243+AD$243)/Denscalc($J123))*1000*  $J123 * Data!$B$6)) ), 0     ),  0)","v":0},100,null,null,{"$f":"IF(AND($A123<>\"\",(AG123+AH123)>0), IF($F123=\"Nej\",    IF(AH$13=\"Nm3\",(AI$12*1000*1000/((AG$242+AH$242+AG$243+AH$243)*1000*  $J123 * Data!$B$6)),  (AI$12*1000*1000/(((AG$242+AH$242+AG$243+AH$243)/Denscalc($J123))*1000*  $J123 * Data!$B$6)) ), 0     ),  0)","v":0},100,null,null,{"$f":"IF(AND($A123<>\"\",(AK123+AL123)>0), IF($F123=\"Nej\",    IF(AL$13=\"Nm3\",(AM$12*1000*1000/((AK$242+AL$242+AK$243+AL$243)*1000*  $J123 * Data!$B$6)),  (AM$12*1000*1000/(((AK$242+AL$242+AK$243+AL$243)/Denscalc($J123))*1000*  $J123 * Data!$B$6)) ), 0     ),  0)","v":0},100,null,null,{"$f":"IF(AND($A123<>\"\",(AO123+AP123)>0), IF($F123=\"Nej\",    IF(AP$13=\"Nm3\",(AQ$12*1000*1000/((AO$242+AP$242+AO$243+AP$243)*1000*  $J123 * Data!$B$6)),  (AQ$12*1000*1000/(((AO$242+AP$242+AO$243+AP$243)/Denscalc($J123))*1000*  $J123 * Data!$B$6)) ), 0     ),  0)","v":0},100,null,null,{"$f":"IF(AND($A123<>\"\",(AS123+AT123)>0), IF($F123=\"Nej\",    IF(AT$13=\"Nm3\",(AU$12*1000*1000/((AS$242+AT$242+AS$243+AT$243)*1000*  $J123 * Data!$B$6)),  (AU$12*1000*1000/(((AS$242+AT$242+AS$243+AT$243)/Denscalc($J123))*1000*  $J123 * Data!$B$6)) ), 0     ),  0)","v":0},100,null,null,{"$f":"IF(AND($A123<>\"\",(AW123+AX123)>0), IF($F123=\"Nej\",\nIF(AX$13=\"Nm3\",(AY$12*1000*1000/((AW$242+AX$242+AW$243+AX$243-AW$240-AX$240)*1000*  $J123 * Data!$B$6))+(AY$6*1000*1000/((AW$242+AX$242+AW$243+AX$243)*1000*  $J123 * Data!$B$6)),\n (AY$12*1000*1000/(((AW$242+AX$242+AW$243+AX$243-AW$240-AX$240)/Denscalc($J123))*1000*  $J123 * Data!$B$6))  +  (AY$6*1000*1000/(((AW$242+AX$242+AW$243+AX$243)/Denscalc($J123))*1000*  $J123 * Data!$B$6)) ), 0     ),  0)","v":0},100,null,null,{"$f":"IF(AND($A123<>\"\",(BA123+BB123)>0), IF($F123=\"Nej\",\n (BC$12*1000*1000/((BA$244+BB$244-BA$240-BB$240)*1000* Data!$B$7))+ (BC$6*1000*1000/((BA$244+BB$244)*1000* Data!$B$7)),0 ),  0)","v":0},100,"",{"$f":"IF(A123<>\"\",IF(F123=\"Nej\", (Data!$B$129*Data!$B$5*1000*Data!$B$3)/Data!$B$6,  0 ),\"\")","v":""},"","",{"$f":"IF(A123<>\"\",IF(BH123>0,  IF(BE123=\"Nej\",    (Data!$B$8-BH123)/Data!$B$8,  ROUND( (Data!$B$8-BH123)/Data!$B$8,2)),      \"\"),\"\")","v":""},"","","","",{"$f":"IF(A123<>\"\", IF(H123=\"Flytande\",   IF(BM123>0,  IF(BE123=\"Nej\",  (Data!$B$8-BM123)/Data!$B$8,  ROUND( (Data!$B$8-BM123)/Data!$B$8,2)   ), \"\"), \"\"),\"\")","v":""},"",100,"","","",null,""]
[null,101,null,"",null,null,null,null,null,null,null,null,null,null,{"$f":"IF(AND($A124<>\"\",(M124+N124)>0), IF($F124=\"Nej\",    IF(N$13=\"Nm3\",(O$12*1000*1000/((M$242+N$242+M$243+N$243)*1000*  $J124 * Data!$B$6)),  (O$12*1000*1000/(((M$242+N$242+M$243+N$243)/Denscalc($J124))*1000*  $J124 * Data!$B$6)) ), 0     ),  0)","v":0},101,null,null,{"$f":"IF(AND($A124<>\"\",(Q124+R124)>0), IF($F124=\"Nej\",    IF(R$13=\"Nm3\",(S$12*1000*1000/((Q$242+R$242+Q$243+R$243)*1000*  $J124 * Data!$B$6)),  (S$12*1000*1000/(((Q$242+R$242+Q$243+R$243)/Denscalc($J124))*1000*  $J124 * Data!$B$6)) ), 0     ),  0)","v":0},101,null,null,{"$f":"IF(AND($A124<>\"\",(U124+V124)>0), IF($F124=\"Nej\",    IF(V$13=\"Nm3\",(W$12*1000*1000/((U$242+V$242+U$243+V$243)*1000*  $J124 * Data!$B$6)),  (W$12*1000*1000/(((U$242+V$242+U$243+V$243)/Denscalc($J124))*1000*  $J124 * Data!$B$6)) ), 0     ),  0)","v":0},101,null,null,{"$f":"IF(AND($A124<>\"\",(Y124+Z124)>0), IF($F124=\"Nej\",    IF(Z$13=\"Nm3\",(AA$12*1000*1000/((Y$242+Z$242+Y$243+Z$243)*1000*  $J124 * Data!$B$6)),  (AA$12*1000*1000/(((Y$242+Z$242+Y$243+Z$243)/Denscalc($J124))*1000*  $J124 * Data!$B$6)) ), 0     ),  0)","v":0},101,null,null,{"$f":"IF(AND($A124<>\"\",(AC124+AD124)>0), IF($F124=\"Nej\",    IF(AD$13=\"Nm3\",(AE$12*1000*1000/((AC$242+AD$242+AC$243+AD$243)*1000*  $J124 * Data!$B$6)),  (AE$12*1000*1000/(((AC$242+AD$242+AC$243+AD$243)/Denscalc($J124))*1000*  $J124 * Data!$B$6)) ), 0     ),  0)","v":0},101,null,null,{"$f":"IF(AND($A124<>\"\",(AG124+AH124)>0), IF($F124=\"Nej\",    IF(AH$13=\"Nm3\",(AI$12*1000*1000/((AG$242+AH$242+AG$243+AH$243)*1000*  $J124 * Data!$B$6)),  (AI$12*1000*1000/(((AG$242+AH$242+AG$243+AH$243)/Denscalc($J124))*1000*  $J124 * Data!$B$6)) ), 0     ),  0)","v":0},101,null,null,{"$f":"IF(AND($A124<>\"\",(AK124+AL124)>0), IF($F124=\"Nej\",    IF(AL$13=\"Nm3\",(AM$12*1000*1000/((AK$242+AL$242+AK$243+AL$243)*1000*  $J124 * Data!$B$6)),  (AM$12*1000*1000/(((AK$242+AL$242+AK$243+AL$243)/Denscalc($J124))*1000*  $J124 * Data!$B$6)) ), 0     ),  0)","v":0},101,null,null,{"$f":"IF(AND($A124<>\"\",(AO124+AP124)>0), IF($F124=\"Nej\",    IF(AP$13=\"Nm3\",(AQ$12*1000*1000/((AO$242+AP$242+AO$243+AP$243)*1000*  $J124 * Data!$B$6)),  (AQ$12*1000*1000/(((AO$242+AP$242+AO$243+AP$243)/Denscalc($J124))*1000*  $J124 * Data!$B$6)) ), 0     ),  0)","v":0},101,null,null,{"$f":"IF(AND($A124<>\"\",(AS124+AT124)>0), IF($F124=\"Nej\",    IF(AT$13=\"Nm3\",(AU$12*1000*1000/((AS$242+AT$242+AS$243+AT$243)*1000*  $J124 * Data!$B$6)),  (AU$12*1000*1000/(((AS$242+AT$242+AS$243+AT$243)/Denscalc($J124))*1000*  $J124 * Data!$B$6)) ), 0     ),  0)","v":0},101,null,null,{"$f":"IF(AND($A124<>\"\",(AW124+AX124)>0), IF($F124=\"Nej\",\nIF(AX$13=\"Nm3\",(AY$12*1000*1000/((AW$242+AX$242+AW$243+AX$243-AW$240-AX$240)*1000*  $J124 * Data!$B$6))+(AY$6*1000*1000/((AW$242+AX$242+AW$243+AX$243)*1000*  $J124 * Data!$B$6)),\n (AY$12*1000*1000/(((AW$242+AX$242+AW$243+AX$243-AW$240-AX$240)/Denscalc($J124))*1000*  $J124 * Data!$B$6))  +  (AY$6*1000*1000/(((AW$242+AX$242+AW$243+AX$243)/Denscalc($J124))*1000*  $J124 * Data!$B$6)) ), 0     ),  0)","v":0},101,null,null,{"$f":"IF(AND($A124<>\"\",(BA124+BB124)>0), IF($F124=\"Nej\",\n (BC$12*1000*1000/((BA$244+BB$244-BA$240-BB$240)*1000* Data!$B$7))+ (BC$6*1000*1000/((BA$244+BB$244)*1000* Data!$B$7)),0 ),  0)","v":0},101,"",{"$f":"IF(A124<>\"\",IF(F124=\"Nej\", (Data!$B$129*Data!$B$5*1000*Data!$B$3)/Data!$B$6,  0 ),\"\")","v":""},"","",{"$f":"IF(A124<>\"\",IF(BH124>0,  IF(BE124=\"Nej\",    (Data!$B$8-BH124)/Data!$B$8,  ROUND( (Data!$B$8-BH124)/Data!$B$8,2)),      \"\"),\"\")","v":""},"","","","",{"$f":"IF(A124<>\"\", IF(H124=\"Flytande\",   IF(BM124>0,  IF(BE124=\"Nej\",  (Data!$B$8-BM124)/Data!$B$8,  ROUND( (Data!$B$8-BM124)/Data!$B$8,2)   ), \"\"), \"\"),\"\")","v":""},"",101,"","","",null,""]
[null,102,null,"",null,null,null,null,null,null,null,null,null,null,{"$f":"IF(AND($A125<>\"\",(M125+N125)>0), IF($F125=\"Nej\",    IF(N$13=\"Nm3\",(O$12*1000*1000/((M$242+N$242+M$243+N$243)*1000*  $J125 * Data!$B$6)),  (O$12*1000*1000/(((M$242+N$242+M$243+N$243)/Denscalc($J125))*1000*  $J125 * Data!$B$6)) ), 0     ),  0)","v":0},102,null,null,{"$f":"IF(AND($A125<>\"\",(Q125+R125)>0), IF($F125=\"Nej\",    IF(R$13=\"Nm3\",(S$12*1000*1000/((Q$242+R$242+Q$243+R$243)*1000*  $J125 * Data!$B$6)),  (S$12*1000*1000/(((Q$242+R$242+Q$243+R$243)/Denscalc($J125))*1000*  $J125 * Data!$B$6)) ), 0     ),  0)","v":0},102,null,null,{"$f":"IF(AND($A125<>\"\",(U125+V125)>0), IF($F125=\"Nej\",    IF(V$13=\"Nm3\",(W$12*1000*1000/((U$242+V$242+U$243+V$243)*1000*  $J125 * Data!$B$6)),  (W$12*1000*1000/(((U$242+V$242+U$243+V$243)/Denscalc($J125))*1000*  $J125 * Data!$B$6)) ), 0     ),  0)","v":0},102,null,null,{"$f":"IF(AND($A125<>\"\",(Y125+Z125)>0), IF($F125=\"Nej\",    IF(Z$13=\"Nm3\",(AA$12*1000*1000/((Y$242+Z$242+Y$243+Z$243)*1000*  $J125 * Data!$B$6)),  (AA$12*1000*1000/(((Y$242+Z$242+Y$243+Z$243)/Denscalc($J125))*1000*  $J125 * Data!$B$6)) ), 0     ),  0)","v":0},102,null,null,{"$f":"IF(AND($A125<>\"\",(AC125+AD125)>0), IF($F125=\"Nej\",    IF(AD$13=\"Nm3\",(AE$12*1000*1000/((AC$242+AD$242+AC$243+AD$243)*1000*  $J125 * Data!$B$6)),  (AE$12*1000*1000/(((AC$242+AD$242+AC$243+AD$243)/Denscalc($J125))*1000*  $J125 * Data!$B$6)) ), 0     ),  0)","v":0},102,null,null,{"$f":"IF(AND($A125<>\"\",(AG125+AH125)>0), IF($F125=\"Nej\",    IF(AH$13=\"Nm3\",(AI$12*1000*1000/((AG$242+AH$242+AG$243+AH$243)*1000*  $J125 * Data!$B$6)),  (AI$12*1000*1000/(((AG$242+AH$242+AG$243+AH$243)/Denscalc($J125))*1000*  $J125 * Data!$B$6)) ), 0     ),  0)","v":0},102,null,null,{"$f":"IF(AND($A125<>\"\",(AK125+AL125)>0), IF($F125=\"Nej\",    IF(AL$13=\"Nm3\",(AM$12*1000*1000/((AK$242+AL$242+AK$243+AL$243)*1000*  $J125 * Data!$B$6)),  (AM$12*1000*1000/(((AK$242+AL$242+AK$243+AL$243)/Denscalc($J125))*1000*  $J125 * Data!$B$6)) ), 0     ),  0)","v":0},102,null,null,{"$f":"IF(AND($A125<>\"\",(AO125+AP125)>0), IF($F125=\"Nej\",    IF(AP$13=\"Nm3\",(AQ$12*1000*1000/((AO$242+AP$242+AO$243+AP$243)*1000*  $J125 * Data!$B$6)),  (AQ$12*1000*1000/(((AO$242+AP$242+AO$243+AP$243)/Denscalc($J125))*1000*  $J125 * Data!$B$6)) ), 0     ),  0)","v":0},102,null,null,{"$f":"IF(AND($A125<>\"\",(AS125+AT125)>0), IF($F125=\"Nej\",    IF(AT$13=\"Nm3\",(AU$12*1000*1000/((AS$242+AT$242+AS$243+AT$243)*1000*  $J125 * Data!$B$6)),  (AU$12*1000*1000/(((AS$242+AT$242+AS$243+AT$243)/Denscalc($J125))*1000*  $J125 * Data!$B$6)) ), 0     ),  0)","v":0},102,null,null,{"$f":"IF(AND($A125<>\"\",(AW125+AX125)>0), IF($F125=\"Nej\",\nIF(AX$13=\"Nm3\",(AY$12*1000*1000/((AW$242+AX$242+AW$243+AX$243-AW$240-AX$240)*1000*  $J125 * Data!$B$6))+(AY$6*1000*1000/((AW$242+AX$242+AW$243+AX$243)*1000*  $J125 * Data!$B$6)),\n (AY$12*1000*1000/(((AW$242+AX$242+AW$243+AX$243-AW$240-AX$240)/Denscalc($J125))*1000*  $J125 * Data!$B$6))  +  (AY$6*1000*1000/(((AW$242+AX$242+AW$243+AX$243)/Denscalc($J125))*1000*  $J125 * Data!$B$6)) ), 0     ),  0)","v":0},102,null,null,{"$f":"IF(AND($A125<>\"\",(BA125+BB125)>0), IF($F125=\"Nej\",\n (BC$12*1000*1000/((BA$244+BB$244-BA$240-BB$240)*1000* Data!$B$7))+ (BC$6*1000*1000/((BA$244+BB$244)*1000* Data!$B$7)),0 ),  0)","v":0},102,"",{"$f":"IF(A125<>\"\",IF(F125=\"Nej\", (Data!$B$129*Data!$B$5*1000*Data!$B$3)/Data!$B$6,  0 ),\"\")","v":""},"","",{"$f":"IF(A125<>\"\",IF(BH125>0,  IF(BE125=\"Nej\",    (Data!$B$8-BH125)/Data!$B$8,  ROUND( (Data!$B$8-BH125)/Data!$B$8,2)),      \"\"),\"\")","v":""},"","","","",{"$f":"IF(A125<>\"\", IF(H125=\"Flytande\",   IF(BM125>0,  IF(BE125=\"Nej\",  (Data!$B$8-BM125)/Data!$B$8,  ROUND( (Data!$B$8-BM125)/Data!$B$8,2)   ), \"\"), \"\"),\"\")","v":""},"",102,"","","",null,""]
[null,103,null,"",null,null,null,null,null,null,null,null,null,null,{"$f":"IF(AND($A126<>\"\",(M126+N126)>0), IF($F126=\"Nej\",    IF(N$13=\"Nm3\",(O$12*1000*1000/((M$242+N$242+M$243+N$243)*1000*  $J126 * Data!$B$6)),  (O$12*1000*1000/(((M$242+N$242+M$243+N$243)/Denscalc($J126))*1000*  $J126 * Data!$B$6)) ), 0     ),  0)","v":0},103,null,null,{"$f":"IF(AND($A126<>\"\",(Q126+R126)>0), IF($F126=\"Nej\",    IF(R$13=\"Nm3\",(S$12*1000*1000/((Q$242+R$242+Q$243+R$243)*1000*  $J126 * Data!$B$6)),  (S$12*1000*1000/(((Q$242+R$242+Q$243+R$243)/Denscalc($J126))*1000*  $J126 * Data!$B$6)) ), 0     ),  0)","v":0},103,null,null,{"$f":"IF(AND($A126<>\"\",(U126+V126)>0), IF($F126=\"Nej\",    IF(V$13=\"Nm3\",(W$12*1000*1000/((U$242+V$242+U$243+V$243)*1000*  $J126 * Data!$B$6)),  (W$12*1000*1000/(((U$242+V$242+U$243+V$243)/Denscalc($J126))*1000*  $J126 * Data!$B$6)) ), 0     ),  0)","v":0},103,null,null,{"$f":"IF(AND($A126<>\"\",(Y126+Z126)>0), IF($F126=\"Nej\",    IF(Z$13=\"Nm3\",(AA$12*1000*1000/((Y$242+Z$242+Y$243+Z$243)*1000*  $J126 * Data!$B$6)),  (AA$12*1000*1000/(((Y$242+Z$242+Y$243+Z$243)/Denscalc($J126))*1000*  $J126 * Data!$B$6)) ), 0     ),  0)","v":0},103,null,null,{"$f":"IF(AND($A126<>\"\",(AC126+AD126)>0), IF($F126=\"Nej\",    IF(AD$13=\"Nm3\",(AE$12*1000*1000/((AC$242+AD$242+AC$243+AD$243)*1000*  $J126 * Data!$B$6)),  (AE$12*1000*1000/(((AC$242+AD$242+AC$243+AD$243)/Denscalc($J126))*1000*  $J126 * Data!$B$6)) ), 0     ),  0)","v":0},103,null,null,{"$f":"IF(AND($A126<>\"\",(AG126+AH126)>0), IF($F126=\"Nej\",    IF(AH$13=\"Nm3\",(AI$12*1000*1000/((AG$242+AH$242+AG$243+AH$243)*1000*  $J126 * Data!$B$6)),  (AI$12*1000*1000/(((AG$242+AH$242+AG$243+AH$243)/Denscalc($J126))*1000*  $J126 * Data!$B$6)) ), 0     ),  0)","v":0},103,null,null,{"$f":"IF(AND($A126<>\"\",(AK126+AL126)>0), IF($F126=\"Nej\",    IF(AL$13=\"Nm3\",(AM$12*1000*1000/((AK$242+AL$242+AK$243+AL$243)*1000*  $J126 * Data!$B$6)),  (AM$12*1000*1000/(((AK$242+AL$242+AK$243+AL$243)/Denscalc($J126))*1000*  $J126 * Data!$B$6)) ), 0     ),  0)","v":0},103,null,null,{"$f":"IF(AND($A126<>\"\",(AO126+AP126)>0), IF($F126=\"Nej\",    IF(AP$13=\"Nm3\",(AQ$12*1000*1000/((AO$242+AP$242+AO$243+AP$243)*1000*  $J126 * Data!$B$6)),  (AQ$12*1000*1000/(((AO$242+AP$242+AO$243+AP$243)/Denscalc($J126))*1000*  $J126 * Data!$B$6)) ), 0     ),  0)","v":0},103,null,null,{"$f":"IF(AND($A126<>\"\",(AS126+AT126)>0), IF($F126=\"Nej\",    IF(AT$13=\"Nm3\",(AU$12*1000*1000/((AS$242+AT$242+AS$243+AT$243)*1000*  $J126 * Data!$B$6)),  (AU$12*1000*1000/(((AS$242+AT$242+AS$243+AT$243)/Denscalc($J126))*1000*  $J126 * Data!$B$6)) ), 0     ),  0)","v":0},103,null,null,{"$f":"IF(AND($A126<>\"\",(AW126+AX126)>0), IF($F126=\"Nej\",\nIF(AX$13=\"Nm3\",(AY$12*1000*1000/((AW$242+AX$242+AW$243+AX$243-AW$240-AX$240)*1000*  $J126 * Data!$B$6))+(AY$6*1000*1000/((AW$242+AX$242+AW$243+AX$243)*1000*  $J126 * Data!$B$6)),\n (AY$12*1000*1000/(((AW$242+AX$242+AW$243+AX$243-AW$240-AX$240)/Denscalc($J126))*1000*  $J126 * Data!$B$6))  +  (AY$6*1000*1000/(((AW$242+AX$242+AW$243+AX$243)/Denscalc($J126))*1000*  $J126 * Data!$B$6)) ), 0     ),  0)","v":0},103,null,null,{"$f":"IF(AND($A126<>\"\",(BA126+BB126)>0), IF($F126=\"Nej\",\n (BC$12*1000*1000/((BA$244+BB$244-BA$240-BB$240)*1000* Data!$B$7))+ (BC$6*1000*1000/((BA$244+BB$244)*1000* Data!$B$7)),0 ),  0)","v":0},103,"",{"$f":"IF(A126<>\"\",IF(F126=\"Nej\", (Data!$B$129*Data!$B$5*1000*Data!$B$3)/Data!$B$6,  0 ),\"\")","v":""},"","",{"$f":"IF(A126<>\"\",IF(BH126>0,  IF(BE126=\"Nej\",    (Data!$B$8-BH126)/Data!$B$8,  ROUND( (Data!$B$8-BH126)/Data!$B$8,2)),      \"\"),\"\")","v":""},"","","","",{"$f":"IF(A126<>\"\", IF(H126=\"Flytande\",   IF(BM126>0,  IF(BE126=\"Nej\",  (Data!$B$8-BM126)/Data!$B$8,  ROUND( (Data!$B$8-BM126)/Data!$B$8,2)   ), \"\"), \"\"),\"\")","v":""},"",103,"","","",null,""]
[null,104,null,"",null,null,null,null,null,null,null,null,null,null,{"$f":"IF(AND($A127<>\"\",(M127+N127)>0), IF($F127=\"Nej\",    IF(N$13=\"Nm3\",(O$12*1000*1000/((M$242+N$242+M$243+N$243)*1000*  $J127 * Data!$B$6)),  (O$12*1000*1000/(((M$242+N$242+M$243+N$243)/Denscalc($J127))*1000*  $J127 * Data!$B$6)) ), 0     ),  0)","v":0},104,null,null,{"$f":"IF(AND($A127<>\"\",(Q127+R127)>0), IF($F127=\"Nej\",    IF(R$13=\"Nm3\",(S$12*1000*1000/((Q$242+R$242+Q$243+R$243)*1000*  $J127 * Data!$B$6)),  (S$12*1000*1000/(((Q$242+R$242+Q$243+R$243)/Denscalc($J127))*1000*  $J127 * Data!$B$6)) ), 0     ),  0)","v":0},104,null,null,{"$f":"IF(AND($A127<>\"\",(U127+V127)>0), IF($F127=\"Nej\",    IF(V$13=\"Nm3\",(W$12*1000*1000/((U$242+V$242+U$243+V$243)*1000*  $J127 * Data!$B$6)),  (W$12*1000*1000/(((U$242+V$242+U$243+V$243)/Denscalc($J127))*1000*  $J127 * Data!$B$6)) ), 0     ),  0)","v":0},104,null,null,{"$f":"IF(AND($A127<>\"\",(Y127+Z127)>0), IF($F127=\"Nej\",    IF(Z$13=\"Nm3\",(AA$12*1000*1000/((Y$242+Z$242+Y$243+Z$243)*1000*  $J127 * Data!$B$6)),  (AA$12*1000*1000/(((Y$242+Z$242+Y$243+Z$243)/Denscalc($J127))*1000*  $J127 * Data!$B$6)) ), 0     ),  0)","v":0},104,null,null,{"$f":"IF(AND($A127<>\"\",(AC127+AD127)>0), IF($F127=\"Nej\",    IF(AD$13=\"Nm3\",(AE$12*1000*1000/((AC$242+AD$242+AC$243+AD$243)*1000*  $J127 * Data!$B$6)),  (AE$12*1000*1000/(((AC$242+AD$242+AC$243+AD$243)/Denscalc($J127))*1000*  $J127 * Data!$B$6)) ), 0     ),  0)","v":0},104,null,null,{"$f":"IF(AND($A127<>\"\",(AG127+AH127)>0), IF($F127=\"Nej\",    IF(AH$13=\"Nm3\",(AI$12*1000*1000/((AG$242+AH$242+AG$243+AH$243)*1000*  $J127 * Data!$B$6)),  (AI$12*1000*1000/(((AG$242+AH$242+AG$243+AH$243)/Denscalc($J127))*1000*  $J127 * Data!$B$6)) ), 0     ),  0)","v":0},104,null,null,{"$f":"IF(AND($A127<>\"\",(AK127+AL127)>0), IF($F127=\"Nej\",    IF(AL$13=\"Nm3\",(AM$12*1000*1000/((AK$242+AL$242+AK$243+AL$243)*1000*  $J127 * Data!$B$6)),  (AM$12*1000*1000/(((AK$242+AL$242+AK$243+AL$243)/Denscalc($J127))*1000*  $J127 * Data!$B$6)) ), 0     ),  0)","v":0},104,null,null,{"$f":"IF(AND($A127<>\"\",(AO127+AP127)>0), IF($F127=\"Nej\",    IF(AP$13=\"Nm3\",(AQ$12*1000*1000/((AO$242+AP$242+AO$243+AP$243)*1000*  $J127 * Data!$B$6)),  (AQ$12*1000*1000/(((AO$242+AP$242+AO$243+AP$243)/Denscalc($J127))*1000*  $J127 * Data!$B$6)) ), 0     ),  0)","v":0},104,null,null,{"$f":"IF(AND($A127<>\"\",(AS127+AT127)>0), IF($F127=\"Nej\",    IF(AT$13=\"Nm3\",(AU$12*1000*1000/((AS$242+AT$242+AS$243+AT$243)*1000*  $J127 * Data!$B$6)),  (AU$12*1000*1000/(((AS$242+AT$242+AS$243+AT$243)/Denscalc($J127))*1000*  $J127 * Data!$B$6)) ), 0     ),  0)","v":0},104,null,null,{"$f":"IF(AND($A127<>\"\",(AW127+AX127)>0), IF($F127=\"Nej\",\nIF(AX$13=\"Nm3\",(AY$12*1000*1000/((AW$242+AX$242+AW$243+AX$243-AW$240-AX$240)*1000*  $J127 * Data!$B$6))+(AY$6*1000*1000/((AW$242+AX$242+AW$243+AX$243)*1000*  $J127 * Data!$B$6)),\n (AY$12*1000*1000/(((AW$242+AX$242+AW$243+AX$243-AW$240-AX$240)/Denscalc($J127))*1000*  $J127 * Data!$B$6))  +  (AY$6*1000*1000/(((AW$242+AX$242+AW$243+AX$243)/Denscalc($J127))*1000*  $J127 * Data!$B$6)) ), 0     ),  0)","v":0},104,null,null,{"$f":"IF(AND($A127<>\"\",(BA127+BB127)>0), IF($F127=\"Nej\",\n (BC$12*1000*1000/((BA$244+BB$244-BA$240-BB$240)*1000* Data!$B$7))+ (BC$6*1000*1000/((BA$244+BB$244)*1000* Data!$B$7)),0 ),  0)","v":0},104,"",{"$f":"IF(A127<>\"\",IF(F127=\"Nej\", (Data!$B$129*Data!$B$5*1000*Data!$B$3)/Data!$B$6,  0 ),\"\")","v":""},"","",{"$f":"IF(A127<>\"\",IF(BH127>0,  IF(BE127=\"Nej\",    (Data!$B$8-BH127)/Data!$B$8,  ROUND( (Data!$B$8-BH127)/Data!$B$8,2)),      \"\"),\"\")","v":""},"","","","",{"$f":"IF(A127<>\"\", IF(H127=\"Flytande\",   IF(BM127>0,  IF(BE127=\"Nej\",  (Data!$B$8-BM127)/Data!$B$8,  ROUND( (Data!$B$8-BM127)/Data!$B$8,2)   ), \"\"), \"\"),\"\")","v":""},"",104,"","","",null,""]
[null,105,null,"",null,null,null,null,null,null,null,null,null,null,{"$f":"IF(AND($A128<>\"\",(M128+N128)>0), IF($F128=\"Nej\",    IF(N$13=\"Nm3\",(O$12*1000*1000/((M$242+N$242+M$243+N$243)*1000*  $J128 * Data!$B$6)),  (O$12*1000*1000/(((M$242+N$242+M$243+N$243)/Denscalc($J128))*1000*  $J128 * Data!$B$6)) ), 0     ),  0)","v":0},105,null,null,{"$f":"IF(AND($A128<>\"\",(Q128+R128)>0), IF($F128=\"Nej\",    IF(R$13=\"Nm3\",(S$12*1000*1000/((Q$242+R$242+Q$243+R$243)*1000*  $J128 * Data!$B$6)),  (S$12*1000*1000/(((Q$242+R$242+Q$243+R$243)/Denscalc($J128))*1000*  $J128 * Data!$B$6)) ), 0     ),  0)","v":0},105,null,null,{"$f":"IF(AND($A128<>\"\",(U128+V128)>0), IF($F128=\"Nej\",    IF(V$13=\"Nm3\",(W$12*1000*1000/((U$242+V$242+U$243+V$243)*1000*  $J128 * Data!$B$6)),  (W$12*1000*1000/(((U$242+V$242+U$243+V$243)/Denscalc($J128))*1000*  $J128 * Data!$B$6)) ), 0     ),  0)","v":0},105,null,null,{"$f":"IF(AND($A128<>\"\",(Y128+Z128)>0), IF($F128=\"Nej\",    IF(Z$13=\"Nm3\",(AA$12*1000*1000/((Y$242+Z$242+Y$243+Z$243)*1000*  $J128 * Data!$B$6)),  (AA$12*1000*1000/(((Y$242+Z$242+Y$243+Z$243)/Denscalc($J128))*1000*  $J128 * Data!$B$6)) ), 0     ),  0)","v":0},105,null,null,{"$f":"IF(AND($A128<>\"\",(AC128+AD128)>0), IF($F128=\"Nej\",    IF(AD$13=\"Nm3\",(AE$12*1000*1000/((AC$242+AD$242+AC$243+AD$243)*1000*  $J128 * Data!$B$6)),  (AE$12*1000*1000/(((AC$242+AD$242+AC$243+AD$243)/Denscalc($J128))*1000*  $J128 * Data!$B$6)) ), 0     ),  0)","v":0},105,null,null,{"$f":"IF(AND($A128<>\"\",(AG128+AH128)>0), IF($F128=\"Nej\",    IF(AH$13=\"Nm3\",(AI$12*1000*1000/((AG$242+AH$242+AG$243+AH$243)*1000*  $J128 * Data!$B$6)),  (AI$12*1000*1000/(((AG$242+AH$242+AG$243+AH$243)/Denscalc($J128))*1000*  $J128 * Data!$B$6)) ), 0     ),  0)","v":0},105,null,null,{"$f":"IF(AND($A128<>\"\",(AK128+AL128)>0), IF($F128=\"Nej\",    IF(AL$13=\"Nm3\",(AM$12*1000*1000/((AK$242+AL$242+AK$243+AL$243)*1000*  $J128 * Data!$B$6)),  (AM$12*1000*1000/(((AK$242+AL$242+AK$243+AL$243)/Denscalc($J128))*1000*  $J128 * Data!$B$6)) ), 0     ),  0)","v":0},105,null,null,{"$f":"IF(AND($A128<>\"\",(AO128+AP128)>0), IF($F128=\"Nej\",    IF(AP$13=\"Nm3\",(AQ$12*1000*1000/((AO$242+AP$242+AO$243+AP$243)*1000*  $J128 * Data!$B$6)),  (AQ$12*1000*1000/(((AO$242+AP$242+AO$243+AP$243)/Denscalc($J128))*1000*  $J128 * Data!$B$6)) ), 0     ),  0)","v":0},105,null,null,{"$f":"IF(AND($A128<>\"\",(AS128+AT128)>0), IF($F128=\"Nej\",    IF(AT$13=\"Nm3\",(AU$12*1000*1000/((AS$242+AT$242+AS$243+AT$243)*1000*  $J128 * Data!$B$6)),  (AU$12*1000*1000/(((AS$242+AT$242+AS$243+AT$243)/Denscalc($J128))*1000*  $J128 * Data!$B$6)) ), 0     ),  0)","v":0},105,null,null,{"$f":"IF(AND($A128<>\"\",(AW128+AX128)>0), IF($F128=\"Nej\",\nIF(AX$13=\"Nm3\",(AY$12*1000*1000/((AW$242+AX$242+AW$243+AX$243-AW$240-AX$240)*1000*  $J128 * Data!$B$6))+(AY$6*1000*1000/((AW$242+AX$242+AW$243+AX$243)*1000*  $J128 * Data!$B$6)),\n (AY$12*1000*1000/(((AW$242+AX$242+AW$243+AX$243-AW$240-AX$240)/Denscalc($J128))*1000*  $J128 * Data!$B$6))  +  (AY$6*1000*1000/(((AW$242+AX$242+AW$243+AX$243)/Denscalc($J128))*1000*  $J128 * Data!$B$6)) ), 0     ),  0)","v":0},105,null,null,{"$f":"IF(AND($A128<>\"\",(BA128+BB128)>0), IF($F128=\"Nej\",\n (BC$12*1000*1000/((BA$244+BB$244-BA$240-BB$240)*1000* Data!$B$7))+ (BC$6*1000*1000/((BA$244+BB$244)*1000* Data!$B$7)),0 ),  0)","v":0},105,"",{"$f":"IF(A128<>\"\",IF(F128=\"Nej\", (Data!$B$129*Data!$B$5*1000*Data!$B$3)/Data!$B$6,  0 ),\"\")","v":""},"","",{"$f":"IF(A128<>\"\",IF(BH128>0,  IF(BE128=\"Nej\",    (Data!$B$8-BH128)/Data!$B$8,  ROUND( (Data!$B$8-BH128)/Data!$B$8,2)),      \"\"),\"\")","v":""},"","","","",{"$f":"IF(A128<>\"\", IF(H128=\"Flytande\",   IF(BM128>0,  IF(BE128=\"Nej\",  (Data!$B$8-BM128)/Data!$B$8,  ROUND( (Data!$B$8-BM128)/Data!$B$8,2)   ), \"\"), \"\"),\"\")","v":""},"",105,"","","",null,""]
[null,106,null,"",null,null,null,null,null,null,null,null,null,null,{"$f":"IF(AND($A129<>\"\",(M129+N129)>0), IF($F129=\"Nej\",    IF(N$13=\"Nm3\",(O$12*1000*1000/((M$242+N$242+M$243+N$243)*1000*  $J129 * Data!$B$6)),  (O$12*1000*1000/(((M$242+N$242+M$243+N$243)/Denscalc($J129))*1000*  $J129 * Data!$B$6)) ), 0     ),  0)","v":0},106,null,null,{"$f":"IF(AND($A129<>\"\",(Q129+R129)>0), IF($F129=\"Nej\",    IF(R$13=\"Nm3\",(S$12*1000*1000/((Q$242+R$242+Q$243+R$243)*1000*  $J129 * Data!$B$6)),  (S$12*1000*1000/(((Q$242+R$242+Q$243+R$243)/Denscalc($J129))*1000*  $J129 * Data!$B$6)) ), 0     ),  0)","v":0},106,null,null,{"$f":"IF(AND($A129<>\"\",(U129+V129)>0), IF($F129=\"Nej\",    IF(V$13=\"Nm3\",(W$12*1000*1000/((U$242+V$242+U$243+V$243)*1000*  $J129 * Data!$B$6)),  (W$12*1000*1000/(((U$242+V$242+U$243+V$243)/Denscalc($J129))*1000*  $J129 * Data!$B$6)) ), 0     ),  0)","v":0},106,null,null,{"$f":"IF(AND($A129<>\"\",(Y129+Z129)>0), IF($F129=\"Nej\",    IF(Z$13=\"Nm3\",(AA$12*1000*1000/((Y$242+Z$242+Y$243+Z$243)*1000*  $J129 * Data!$B$6)),  (AA$12*1000*1000/(((Y$242+Z$242+Y$243+Z$243)/Denscalc($J129))*1000*  $J129 * Data!$B$6)) ), 0     ),  0)","v":0},106,null,null,{"$f":"IF(AND($A129<>\"\",(AC129+AD129)>0), IF($F129=\"Nej\",    IF(AD$13=\"Nm3\",(AE$12*1000*1000/((AC$242+AD$242+AC$243+AD$243)*1000*  $J129 * Data!$B$6)),  (AE$12*1000*1000/(((AC$242+AD$242+AC$243+AD$243)/Denscalc($J129))*1000*  $J129 * Data!$B$6)) ), 0     ),  0)","v":0},106,null,null,{"$f":"IF(AND($A129<>\"\",(AG129+AH129)>0), IF($F129=\"Nej\",    IF(AH$13=\"Nm3\",(AI$12*1000*1000/((AG$242+AH$242+AG$243+AH$243)*1000*  $J129 * Data!$B$6)),  (AI$12*1000*1000/(((AG$242+AH$242+AG$243+AH$243)/Denscalc($J129))*1000*  $J129 * Data!$B$6)) ), 0     ),  0)","v":0},106,null,null,{"$f":"IF(AND($A129<>\"\",(AK129+AL129)>0), IF($F129=\"Nej\",    IF(AL$13=\"Nm3\",(AM$12*1000*1000/((AK$242+AL$242+AK$243+AL$243)*1000*  $J129 * Data!$B$6)),  (AM$12*1000*1000/(((AK$242+AL$242+AK$243+AL$243)/Denscalc($J129))*1000*  $J129 * Data!$B$6)) ), 0     ),  0)","v":0},106,null,null,{"$f":"IF(AND($A129<>\"\",(AO129+AP129)>0), IF($F129=\"Nej\",    IF(AP$13=\"Nm3\",(AQ$12*1000*1000/((AO$242+AP$242+AO$243+AP$243)*1000*  $J129 * Data!$B$6)),  (AQ$12*1000*1000/(((AO$242+AP$242+AO$243+AP$243)/Denscalc($J129))*1000*  $J129 * Data!$B$6)) ), 0     ),  0)","v":0},106,null,null,{"$f":"IF(AND($A129<>\"\",(AS129+AT129)>0), IF($F129=\"Nej\",    IF(AT$13=\"Nm3\",(AU$12*1000*1000/((AS$242+AT$242+AS$243+AT$243)*1000*  $J129 * Data!$B$6)),  (AU$12*1000*1000/(((AS$242+AT$242+AS$243+AT$243)/Denscalc($J129))*1000*  $J129 * Data!$B$6)) ), 0     ),  0)","v":0},106,null,null,{"$f":"IF(AND($A129<>\"\",(AW129+AX129)>0), IF($F129=\"Nej\",\nIF(AX$13=\"Nm3\",(AY$12*1000*1000/((AW$242+AX$242+AW$243+AX$243-AW$240-AX$240)*1000*  $J129 * Data!$B$6))+(AY$6*1000*1000/((AW$242+AX$242+AW$243+AX$243)*1000*  $J129 * Data!$B$6)),\n (AY$12*1000*1000/(((AW$242+AX$242+AW$243+AX$243-AW$240-AX$240)/Denscalc($J129))*1000*  $J129 * Data!$B$6))  +  (AY$6*1000*1000/(((AW$242+AX$242+AW$243+AX$243)/Denscalc($J129))*1000*  $J129 * Data!$B$6)) ), 0     ),  0)","v":0},106,null,null,{"$f":"IF(AND($A129<>\"\",(BA129+BB129)>0), IF($F129=\"Nej\",\n (BC$12*1000*1000/((BA$244+BB$244-BA$240-BB$240)*1000* Data!$B$7))+ (BC$6*1000*1000/((BA$244+BB$244)*1000* Data!$B$7)),0 ),  0)","v":0},106,"",{"$f":"IF(A129<>\"\",IF(F129=\"Nej\", (Data!$B$129*Data!$B$5*1000*Data!$B$3)/Data!$B$6,  0 ),\"\")","v":""},"","",{"$f":"IF(A129<>\"\",IF(BH129>0,  IF(BE129=\"Nej\",    (Data!$B$8-BH129)/Data!$B$8,  ROUND( (Data!$B$8-BH129)/Data!$B$8,2)),      \"\"),\"\")","v":""},"","","","",{"$f":"IF(A129<>\"\", IF(H129=\"Flytande\",   IF(BM129>0,  IF(BE129=\"Nej\",  (Data!$B$8-BM129)/Data!$B$8,  ROUND( (Data!$B$8-BM129)/Data!$B$8,2)   ), \"\"), \"\"),\"\")","v":""},"",106,"","","",null,""]
[null,107,null,"",null,null,null,null,null,null,null,null,null,null,{"$f":"IF(AND($A130<>\"\",(M130+N130)>0), IF($F130=\"Nej\",    IF(N$13=\"Nm3\",(O$12*1000*1000/((M$242+N$242+M$243+N$243)*1000*  $J130 * Data!$B$6)),  (O$12*1000*1000/(((M$242+N$242+M$243+N$243)/Denscalc($J130))*1000*  $J130 * Data!$B$6)) ), 0     ),  0)","v":0},107,null,null,{"$f":"IF(AND($A130<>\"\",(Q130+R130)>0), IF($F130=\"Nej\",    IF(R$13=\"Nm3\",(S$12*1000*1000/((Q$242+R$242+Q$243+R$243)*1000*  $J130 * Data!$B$6)),  (S$12*1000*1000/(((Q$242+R$242+Q$243+R$243)/Denscalc($J130))*1000*  $J130 * Data!$B$6)) ), 0     ),  0)","v":0},107,null,null,{"$f":"IF(AND($A130<>\"\",(U130+V130)>0), IF($F130=\"Nej\",    IF(V$13=\"Nm3\",(W$12*1000*1000/((U$242+V$242+U$243+V$243)*1000*  $J130 * Data!$B$6)),  (W$12*1000*1000/(((U$242+V$242+U$243+V$243)/Denscalc($J130))*1000*  $J130 * Data!$B$6)) ), 0     ),  0)","v":0},107,null,null,{"$f":"IF(AND($A130<>\"\",(Y130+Z130)>0), IF($F130=\"Nej\",    IF(Z$13=\"Nm3\",(AA$12*1000*1000/((Y$242+Z$242+Y$243+Z$243)*1000*  $J130 * Data!$B$6)),  (AA$12*1000*1000/(((Y$242+Z$242+Y$243+Z$243)/Denscalc($J130))*1000*  $J130 * Data!$B$6)) ), 0     ),  0)","v":0},107,null,null,{"$f":"IF(AND($A130<>\"\",(AC130+AD130)>0), IF($F130=\"Nej\",    IF(AD$13=\"Nm3\",(AE$12*1000*1000/((AC$242+AD$242+AC$243+AD$243)*1000*  $J130 * Data!$B$6)),  (AE$12*1000*1000/(((AC$242+AD$242+AC$243+AD$243)/Denscalc($J130))*1000*  $J130 * Data!$B$6)) ), 0     ),  0)","v":0},107,null,null,{"$f":"IF(AND($A130<>\"\",(AG130+AH130)>0), IF($F130=\"Nej\",    IF(AH$13=\"Nm3\",(AI$12*1000*1000/((AG$242+AH$242+AG$243+AH$243)*1000*  $J130 * Data!$B$6)),  (AI$12*1000*1000/(((AG$242+AH$242+AG$243+AH$243)/Denscalc($J130))*1000*  $J130 * Data!$B$6)) ), 0     ),  0)","v":0},107,null,null,{"$f":"IF(AND($A130<>\"\",(AK130+AL130)>0), IF($F130=\"Nej\",    IF(AL$13=\"Nm3\",(AM$12*1000*1000/((AK$242+AL$242+AK$243+AL$243)*1000*  $J130 * Data!$B$6)),  (AM$12*1000*1000/(((AK$242+AL$242+AK$243+AL$243)/Denscalc($J130))*1000*  $J130 * Data!$B$6)) ), 0     ),  0)","v":0},107,null,null,{"$f":"IF(AND($A130<>\"\",(AO130+AP130)>0), IF($F130=\"Nej\",    IF(AP$13=\"Nm3\",(AQ$12*1000*1000/((AO$242+AP$242+AO$243+AP$243)*1000*  $J130 * Data!$B$6)),  (AQ$12*1000*1000/(((AO$242+AP$242+AO$243+AP$243)/Denscalc($J130))*1000*  $J130 * Data!$B$6)) ), 0     ),  0)","v":0},107,null,null,{"$f":"IF(AND($A130<>\"\",(AS130+AT130)>0), IF($F130=\"Nej\",    IF(AT$13=\"Nm3\",(AU$12*1000*1000/((AS$242+AT$242+AS$243+AT$243)*1000*  $J130 * Data!$B$6)),  (AU$12*1000*1000/(((AS$242+AT$242+AS$243+AT$243)/Denscalc($J130))*1000*  $J130 * Data!$B$6)) ), 0     ),  0)","v":0},107,null,null,{"$f":"IF(AND($A130<>\"\",(AW130+AX130)>0), IF($F130=\"Nej\",\nIF(AX$13=\"Nm3\",(AY$12*1000*1000/((AW$242+AX$242+AW$243+AX$243-AW$240-AX$240)*1000*  $J130 * Data!$B$6))+(AY$6*1000*1000/((AW$242+AX$242+AW$243+AX$243)*1000*  $J130 * Data!$B$6)),\n (AY$12*1000*1000/(((AW$242+AX$242+AW$243+AX$243-AW$240-AX$240)/Denscalc($J130))*1000*  $J130 * Data!$B$6))  +  (AY$6*1000*1000/(((AW$242+AX$242+AW$243+AX$243)/Denscalc($J130))*1000*  $J130 * Data!$B$6)) ), 0     ),  0)","v":0},107,null,null,{"$f":"IF(AND($A130<>\"\",(BA130+BB130)>0), IF($F130=\"Nej\",\n (BC$12*1000*1000/((BA$244+BB$244-BA$240-BB$240)*1000* Data!$B$7))+ (BC$6*1000*1000/((BA$244+BB$244)*1000* Data!$B$7)),0 ),  0)","v":0},107,"",{"$f":"IF(A130<>\"\",IF(F130=\"Nej\", (Data!$B$129*Data!$B$5*1000*Data!$B$3)/Data!$B$6,  0 ),\"\")","v":""},"","",{"$f":"IF(A130<>\"\",IF(BH130>0,  IF(BE130=\"Nej\",    (Data!$B$8-BH130)/Data!$B$8,  ROUND( (Data!$B$8-BH130)/Data!$B$8,2)),      \"\"),\"\")","v":""},"","","","",{"$f":"IF(A130<>\"\", IF(H130=\"Flytande\",   IF(BM130>0,  IF(BE130=\"Nej\",  (Data!$B$8-BM130)/Data!$B$8,  ROUND( (Data!$B$8-BM130)/Data!$B$8,2)   ), \"\"), \"\"),\"\")","v":""},"",107,"","","",null,""]
[null,108,null,"",null,null,null,null,null,null,null,null,null,null,{"$f":"IF(AND($A131<>\"\",(M131+N131)>0), IF($F131=\"Nej\",    IF(N$13=\"Nm3\",(O$12*1000*1000/((M$242+N$242+M$243+N$243)*1000*  $J131 * Data!$B$6)),  (O$12*1000*1000/(((M$242+N$242+M$243+N$243)/Denscalc($J131))*1000*  $J131 * Data!$B$6)) ), 0     ),  0)","v":0},108,null,null,{"$f":"IF(AND($A131<>\"\",(Q131+R131)>0), IF($F131=\"Nej\",    IF(R$13=\"Nm3\",(S$12*1000*1000/((Q$242+R$242+Q$243+R$243)*1000*  $J131 * Data!$B$6)),  (S$12*1000*1000/(((Q$242+R$242+Q$243+R$243)/Denscalc($J131))*1000*  $J131 * Data!$B$6)) ), 0     ),  0)","v":0},108,null,null,{"$f":"IF(AND($A131<>\"\",(U131+V131)>0), IF($F131=\"Nej\",    IF(V$13=\"Nm3\",(W$12*1000*1000/((U$242+V$242+U$243+V$243)*1000*  $J131 * Data!$B$6)),  (W$12*1000*1000/(((U$242+V$242+U$243+V$243)/Denscalc($J131))*1000*  $J131 * Data!$B$6)) ), 0     ),  0)","v":0},108,null,null,{"$f":"IF(AND($A131<>\"\",(Y131+Z131)>0), IF($F131=\"Nej\",    IF(Z$13=\"Nm3\",(AA$12*1000*1000/((Y$242+Z$242+Y$243+Z$243)*1000*  $J131 * Data!$B$6)),  (AA$12*1000*1000/(((Y$242+Z$242+Y$243+Z$243)/Denscalc($J131))*1000*  $J131 * Data!$B$6)) ), 0     ),  0)","v":0},108,null,null,{"$f":"IF(AND($A131<>\"\",(AC131+AD131)>0), IF($F131=\"Nej\",    IF(AD$13=\"Nm3\",(AE$12*1000*1000/((AC$242+AD$242+AC$243+AD$243)*1000*  $J131 * Data!$B$6)),  (AE$12*1000*1000/(((AC$242+AD$242+AC$243+AD$243)/Denscalc($J131))*1000*  $J131 * Data!$B$6)) ), 0     ),  0)","v":0},108,null,null,{"$f":"IF(AND($A131<>\"\",(AG131+AH131)>0), IF($F131=\"Nej\",    IF(AH$13=\"Nm3\",(AI$12*1000*1000/((AG$242+AH$242+AG$243+AH$243)*1000*  $J131 * Data!$B$6)),  (AI$12*1000*1000/(((AG$242+AH$242+AG$243+AH$243)/Denscalc($J131))*1000*  $J131 * Data!$B$6)) ), 0     ),  0)","v":0},108,null,null,{"$f":"IF(AND($A131<>\"\",(AK131+AL131)>0), IF($F131=\"Nej\",    IF(AL$13=\"Nm3\",(AM$12*1000*1000/((AK$242+AL$242+AK$243+AL$243)*1000*  $J131 * Data!$B$6)),  (AM$12*1000*1000/(((AK$242+AL$242+AK$243+AL$243)/Denscalc($J131))*1000*  $J131 * Data!$B$6)) ), 0     ),  0)","v":0},108,null,null,{"$f":"IF(AND($A131<>\"\",(AO131+AP131)>0), IF($F131=\"Nej\",    IF(AP$13=\"Nm3\",(AQ$12*1000*1000/((AO$242+AP$242+AO$243+AP$243)*1000*  $J131 * Data!$B$6)),  (AQ$12*1000*1000/(((AO$242+AP$242+AO$243+AP$243)/Denscalc($J131))*1000*  $J131 * Data!$B$6)) ), 0     ),  0)","v":0},108,null,null,{"$f":"IF(AND($A131<>\"\",(AS131+AT131)>0), IF($F131=\"Nej\",    IF(AT$13=\"Nm3\",(AU$12*1000*1000/((AS$242+AT$242+AS$243+AT$243)*1000*  $J131 * Data!$B$6)),  (AU$12*1000*1000/(((AS$242+AT$242+AS$243+AT$243)/Denscalc($J131))*1000*  $J131 * Data!$B$6)) ), 0     ),  0)","v":0},108,null,null,{"$f":"IF(AND($A131<>\"\",(AW131+AX131)>0), IF($F131=\"Nej\",\nIF(AX$13=\"Nm3\",(AY$12*1000*1000/((AW$242+AX$242+AW$243+AX$243-AW$240-AX$240)*1000*  $J131 * Data!$B$6))+(AY$6*1000*1000/((AW$242+AX$242+AW$243+AX$243)*1000*  $J131 * Data!$B$6)),\n (AY$12*1000*1000/(((AW$242+AX$242+AW$243+AX$243-AW$240-AX$240)/Denscalc($J131))*1000*  $J131 * Data!$B$6))  +  (AY$6*1000*1000/(((AW$242+AX$242+AW$243+AX$243)/Denscalc($J131))*1000*  $J131 * Data!$B$6)) ), 0     ),  0)","v":0},108,null,null,{"$f":"IF(AND($A131<>\"\",(BA131+BB131)>0), IF($F131=\"Nej\",\n (BC$12*1000*1000/((BA$244+BB$244-BA$240-BB$240)*1000* Data!$B$7))+ (BC$6*1000*1000/((BA$244+BB$244)*1000* Data!$B$7)),0 ),  0)","v":0},108,"",{"$f":"IF(A131<>\"\",IF(F131=\"Nej\", (Data!$B$129*Data!$B$5*1000*Data!$B$3)/Data!$B$6,  0 ),\"\")","v":""},"","",{"$f":"IF(A131<>\"\",IF(BH131>0,  IF(BE131=\"Nej\",    (Data!$B$8-BH131)/Data!$B$8,  ROUND( (Data!$B$8-BH131)/Data!$B$8,2)),      \"\"),\"\")","v":""},"","","","",{"$f":"IF(A131<>\"\", IF(H131=\"Flytande\",   IF(BM131>0,  IF(BE131=\"Nej\",  (Data!$B$8-BM131)/Data!$B$8,  ROUND( (Data!$B$8-BM131)/Data!$B$8,2)   ), \"\"), \"\"),\"\")","v":""},"",108,"","","",null,""]
[null,109,null,"",null,null,null,null,null,null,null,null,null,null,{"$f":"IF(AND($A132<>\"\",(M132+N132)>0), IF($F132=\"Nej\",    IF(N$13=\"Nm3\",(O$12*1000*1000/((M$242+N$242+M$243+N$243)*1000*  $J132 * Data!$B$6)),  (O$12*1000*1000/(((M$242+N$242+M$243+N$243)/Denscalc($J132))*1000*  $J132 * Data!$B$6)) ), 0     ),  0)","v":0},109,null,null,{"$f":"IF(AND($A132<>\"\",(Q132+R132)>0), IF($F132=\"Nej\",    IF(R$13=\"Nm3\",(S$12*1000*1000/((Q$242+R$242+Q$243+R$243)*1000*  $J132 * Data!$B$6)),  (S$12*1000*1000/(((Q$242+R$242+Q$243+R$243)/Denscalc($J132))*1000*  $J132 * Data!$B$6)) ), 0     ),  0)","v":0},109,null,null,{"$f":"IF(AND($A132<>\"\",(U132+V132)>0), IF($F132=\"Nej\",    IF(V$13=\"Nm3\",(W$12*1000*1000/((U$242+V$242+U$243+V$243)*1000*  $J132 * Data!$B$6)),  (W$12*1000*1000/(((U$242+V$242+U$243+V$243)/Denscalc($J132))*1000*  $J132 * Data!$B$6)) ), 0     ),  0)","v":0},109,null,null,{"$f":"IF(AND($A132<>\"\",(Y132+Z132)>0), IF($F132=\"Nej\",    IF(Z$13=\"Nm3\",(AA$12*1000*1000/((Y$242+Z$242+Y$243+Z$243)*1000*  $J132 * Data!$B$6)),  (AA$12*1000*1000/(((Y$242+Z$242+Y$243+Z$243)/Denscalc($J132))*1000*  $J132 * Data!$B$6)) ), 0     ),  0)","v":0},109,null,null,{"$f":"IF(AND($A132<>\"\",(AC132+AD132)>0), IF($F132=\"Nej\",    IF(AD$13=\"Nm3\",(AE$12*1000*1000/((AC$242+AD$242+AC$243+AD$243)*1000*  $J132 * Data!$B$6)),  (AE$12*1000*1000/(((AC$242+AD$242+AC$243+AD$243)/Denscalc($J132))*1000*  $J132 * Data!$B$6)) ), 0     ),  0)","v":0},109,null,null,{"$f":"IF(AND($A132<>\"\",(AG132+AH132)>0), IF($F132=\"Nej\",    IF(AH$13=\"Nm3\",(AI$12*1000*1000/((AG$242+AH$242+AG$243+AH$243)*1000*  $J132 * Data!$B$6)),  (AI$12*1000*1000/(((AG$242+AH$242+AG$243+AH$243)/Denscalc($J132))*1000*  $J132 * Data!$B$6)) ), 0     ),  0)","v":0},109,null,null,{"$f":"IF(AND($A132<>\"\",(AK132+AL132)>0), IF($F132=\"Nej\",    IF(AL$13=\"Nm3\",(AM$12*1000*1000/((AK$242+AL$242+AK$243+AL$243)*1000*  $J132 * Data!$B$6)),  (AM$12*1000*1000/(((AK$242+AL$242+AK$243+AL$243)/Denscalc($J132))*1000*  $J132 * Data!$B$6)) ), 0     ),  0)","v":0},109,null,null,{"$f":"IF(AND($A132<>\"\",(AO132+AP132)>0), IF($F132=\"Nej\",    IF(AP$13=\"Nm3\",(AQ$12*1000*1000/((AO$242+AP$242+AO$243+AP$243)*1000*  $J132 * Data!$B$6)),  (AQ$12*1000*1000/(((AO$242+AP$242+AO$243+AP$243)/Denscalc($J132))*1000*  $J132 * Data!$B$6)) ), 0     ),  0)","v":0},109,null,null,{"$f":"IF(AND($A132<>\"\",(AS132+AT132)>0), IF($F132=\"Nej\",    IF(AT$13=\"Nm3\",(AU$12*1000*1000/((AS$242+AT$242+AS$243+AT$243)*1000*  $J132 * Data!$B$6)),  (AU$12*1000*1000/(((AS$242+AT$242+AS$243+AT$243)/Denscalc($J132))*1000*  $J132 * Data!$B$6)) ), 0     ),  0)","v":0},109,null,null,{"$f":"IF(AND($A132<>\"\",(AW132+AX132)>0), IF($F132=\"Nej\",\nIF(AX$13=\"Nm3\",(AY$12*1000*1000/((AW$242+AX$242+AW$243+AX$243-AW$240-AX$240)*1000*  $J132 * Data!$B$6))+(AY$6*1000*1000/((AW$242+AX$242+AW$243+AX$243)*1000*  $J132 * Data!$B$6)),\n (AY$12*1000*1000/(((AW$242+AX$242+AW$243+AX$243-AW$240-AX$240)/Denscalc($J132))*1000*  $J132 * Data!$B$6))  +  (AY$6*1000*1000/(((AW$242+AX$242+AW$243+AX$243)/Denscalc($J132))*1000*  $J132 * Data!$B$6)) ), 0     ),  0)","v":0},109,null,null,{"$f":"IF(AND($A132<>\"\",(BA132+BB132)>0), IF($F132=\"Nej\",\n (BC$12*1000*1000/((BA$244+BB$244-BA$240-BB$240)*1000* Data!$B$7))+ (BC$6*1000*1000/((BA$244+BB$244)*1000* Data!$B$7)),0 ),  0)","v":0},109,"",{"$f":"IF(A132<>\"\",IF(F132=\"Nej\", (Data!$B$129*Data!$B$5*1000*Data!$B$3)/Data!$B$6,  0 ),\"\")","v":""},"","",{"$f":"IF(A132<>\"\",IF(BH132>0,  IF(BE132=\"Nej\",    (Data!$B$8-BH132)/Data!$B$8,  ROUND( (Data!$B$8-BH132)/Data!$B$8,2)),      \"\"),\"\")","v":""},"","","","",{"$f":"IF(A132<>\"\", IF(H132=\"Flytande\",   IF(BM132>0,  IF(BE132=\"Nej\",  (Data!$B$8-BM132)/Data!$B$8,  ROUND( (Data!$B$8-BM132)/Data!$B$8,2)   ), \"\"), \"\"),\"\")","v":""},"",109,"","","",null,""]
[null,110,null,"",null,null,null,null,null,null,null,null,null,null,{"$f":"IF(AND($A133<>\"\",(M133+N133)>0), IF($F133=\"Nej\",    IF(N$13=\"Nm3\",(O$12*1000*1000/((M$242+N$242+M$243+N$243)*1000*  $J133 * Data!$B$6)),  (O$12*1000*1000/(((M$242+N$242+M$243+N$243)/Denscalc($J133))*1000*  $J133 * Data!$B$6)) ), 0     ),  0)","v":0},110,null,null,{"$f":"IF(AND($A133<>\"\",(Q133+R133)>0), IF($F133=\"Nej\",    IF(R$13=\"Nm3\",(S$12*1000*1000/((Q$242+R$242+Q$243+R$243)*1000*  $J133 * Data!$B$6)),  (S$12*1000*1000/(((Q$242+R$242+Q$243+R$243)/Denscalc($J133))*1000*  $J133 * Data!$B$6)) ), 0     ),  0)","v":0},110,null,null,{"$f":"IF(AND($A133<>\"\",(U133+V133)>0), IF($F133=\"Nej\",    IF(V$13=\"Nm3\",(W$12*1000*1000/((U$242+V$242+U$243+V$243)*1000*  $J133 * Data!$B$6)),  (W$12*1000*1000/(((U$242+V$242+U$243+V$243)/Denscalc($J133))*1000*  $J133 * Data!$B$6)) ), 0     ),  0)","v":0},110,null,null,{"$f":"IF(AND($A133<>\"\",(Y133+Z133)>0), IF($F133=\"Nej\",    IF(Z$13=\"Nm3\",(AA$12*1000*1000/((Y$242+Z$242+Y$243+Z$243)*1000*  $J133 * Data!$B$6)),  (AA$12*1000*1000/(((Y$242+Z$242+Y$243+Z$243)/Denscalc($J133))*1000*  $J133 * Data!$B$6)) ), 0     ),  0)","v":0},110,null,null,{"$f":"IF(AND($A133<>\"\",(AC133+AD133)>0), IF($F133=\"Nej\",    IF(AD$13=\"Nm3\",(AE$12*1000*1000/((AC$242+AD$242+AC$243+AD$243)*1000*  $J133 * Data!$B$6)),  (AE$12*1000*1000/(((AC$242+AD$242+AC$243+AD$243)/Denscalc($J133))*1000*  $J133 * Data!$B$6)) ), 0     ),  0)","v":0},110,null,null,{"$f":"IF(AND($A133<>\"\",(AG133+AH133)>0), IF($F133=\"Nej\",    IF(AH$13=\"Nm3\",(AI$12*1000*1000/((AG$242+AH$242+AG$243+AH$243)*1000*  $J133 * Data!$B$6)),  (AI$12*1000*1000/(((AG$242+AH$242+AG$243+AH$243)/Denscalc($J133))*1000*  $J133 * Data!$B$6)) ), 0     ),  0)","v":0},110,null,null,{"$f":"IF(AND($A133<>\"\",(AK133+AL133)>0), IF($F133=\"Nej\",    IF(AL$13=\"Nm3\",(AM$12*1000*1000/((AK$242+AL$242+AK$243+AL$243)*1000*  $J133 * Data!$B$6)),  (AM$12*1000*1000/(((AK$242+AL$242+AK$243+AL$243)/Denscalc($J133))*1000*  $J133 * Data!$B$6)) ), 0     ),  0)","v":0},110,null,null,{"$f":"IF(AND($A133<>\"\",(AO133+AP133)>0), IF($F133=\"Nej\",    IF(AP$13=\"Nm3\",(AQ$12*1000*1000/((AO$242+AP$242+AO$243+AP$243)*1000*  $J133 * Data!$B$6)),  (AQ$12*1000*1000/(((AO$242+AP$242+AO$243+AP$243)/Denscalc($J133))*1000*  $J133 * Data!$B$6)) ), 0     ),  0)","v":0},110,null,null,{"$f":"IF(AND($A133<>\"\",(AS133+AT133)>0), IF($F133=\"Nej\",    IF(AT$13=\"Nm3\",(AU$12*1000*1000/((AS$242+AT$242+AS$243+AT$243)*1000*  $J133 * Data!$B$6)),  (AU$12*1000*1000/(((AS$242+AT$242+AS$243+AT$243)/Denscalc($J133))*1000*  $J133 * Data!$B$6)) ), 0     ),  0)","v":0},110,null,null,{"$f":"IF(AND($A133<>\"\",(AW133+AX133)>0), IF($F133=\"Nej\",\nIF(AX$13=\"Nm3\",(AY$12*1000*1000/((AW$242+AX$242+AW$243+AX$243-AW$240-AX$240)*1000*  $J133 * Data!$B$6))+(AY$6*1000*1000/((AW$242+AX$242+AW$243+AX$243)*1000*  $J133 * Data!$B$6)),\n (AY$12*1000*1000/(((AW$242+AX$242+AW$243+AX$243-AW$240-AX$240)/Denscalc($J133))*1000*  $J133 * Data!$B$6))  +  (AY$6*1000*1000/(((AW$242+AX$242+AW$243+AX$243)/Denscalc($J133))*1000*  $J133 * Data!$B$6)) ), 0     ),  0)","v":0},110,null,null,{"$f":"IF(AND($A133<>\"\",(BA133+BB133)>0), IF($F133=\"Nej\",\n (BC$12*1000*1000/((BA$244+BB$244-BA$240-BB$240)*1000* Data!$B$7))+ (BC$6*1000*1000/((BA$244+BB$244)*1000* Data!$B$7)),0 ),  0)","v":0},110,"",{"$f":"IF(A133<>\"\",IF(F133=\"Nej\", (Data!$B$129*Data!$B$5*1000*Data!$B$3)/Data!$B$6,  0 ),\"\")","v":""},"","",{"$f":"IF(A133<>\"\",IF(BH133>0,  IF(BE133=\"Nej\",    (Data!$B$8-BH133)/Data!$B$8,  ROUND( (Data!$B$8-BH133)/Data!$B$8,2)),      \"\"),\"\")","v":""},"","","","",{"$f":"IF(A133<>\"\", IF(H133=\"Flytande\",   IF(BM133>0,  IF(BE133=\"Nej\",  (Data!$B$8-BM133)/Data!$B$8,  ROUND( (Data!$B$8-BM133)/Data!$B$8,2)   ), \"\"), \"\"),\"\")","v":""},"",110,"","","",null,""]
[null,111,null,"",null,null,null,null,null,null,null,null,null,null,{"$f":"IF(AND($A134<>\"\",(M134+N134)>0), IF($F134=\"Nej\",    IF(N$13=\"Nm3\",(O$12*1000*1000/((M$242+N$242+M$243+N$243)*1000*  $J134 * Data!$B$6)),  (O$12*1000*1000/(((M$242+N$242+M$243+N$243)/Denscalc($J134))*1000*  $J134 * Data!$B$6)) ), 0     ),  0)","v":0},111,null,null,{"$f":"IF(AND($A134<>\"\",(Q134+R134)>0), IF($F134=\"Nej\",    IF(R$13=\"Nm3\",(S$12*1000*1000/((Q$242+R$242+Q$243+R$243)*1000*  $J134 * Data!$B$6)),  (S$12*1000*1000/(((Q$242+R$242+Q$243+R$243)/Denscalc($J134))*1000*  $J134 * Data!$B$6)) ), 0     ),  0)","v":0},111,null,null,{"$f":"IF(AND($A134<>\"\",(U134+V134)>0), IF($F134=\"Nej\",    IF(V$13=\"Nm3\",(W$12*1000*1000/((U$242+V$242+U$243+V$243)*1000*  $J134 * Data!$B$6)),  (W$12*1000*1000/(((U$242+V$242+U$243+V$243)/Denscalc($J134))*1000*  $J134 * Data!$B$6)) ), 0     ),  0)","v":0},111,null,null,{"$f":"IF(AND($A134<>\"\",(Y134+Z134)>0), IF($F134=\"Nej\",    IF(Z$13=\"Nm3\",(AA$12*1000*1000/((Y$242+Z$242+Y$243+Z$243)*1000*  $J134 * Data!$B$6)),  (AA$12*1000*1000/(((Y$242+Z$242+Y$243+Z$243)/Denscalc($J134))*1000*  $J134 * Data!$B$6)) ), 0     ),  0)","v":0},111,null,null,{"$f":"IF(AND($A134<>\"\",(AC134+AD134)>0), IF($F134=\"Nej\",    IF(AD$13=\"Nm3\",(AE$12*1000*1000/((AC$242+AD$242+AC$243+AD$243)*1000*  $J134 * Data!$B$6)),  (AE$12*1000*1000/(((AC$242+AD$242+AC$243+AD$243)/Denscalc($J134))*1000*  $J134 * Data!$B$6)) ), 0     ),  0)","v":0},111,null,null,{"$f":"IF(AND($A134<>\"\",(AG134+AH134)>0), IF($F134=\"Nej\",    IF(AH$13=\"Nm3\",(AI$12*1000*1000/((AG$242+AH$242+AG$243+AH$243)*1000*  $J134 * Data!$B$6)),  (AI$12*1000*1000/(((AG$242+AH$242+AG$243+AH$243)/Denscalc($J134))*1000*  $J134 * Data!$B$6)) ), 0     ),  0)","v":0},111,null,null,{"$f":"IF(AND($A134<>\"\",(AK134+AL134)>0), IF($F134=\"Nej\",    IF(AL$13=\"Nm3\",(AM$12*1000*1000/((AK$242+AL$242+AK$243+AL$243)*1000*  $J134 * Data!$B$6)),  (AM$12*1000*1000/(((AK$242+AL$242+AK$243+AL$243)/Denscalc($J134))*1000*  $J134 * Data!$B$6)) ), 0     ),  0)","v":0},111,null,null,{"$f":"IF(AND($A134<>\"\",(AO134+AP134)>0), IF($F134=\"Nej\",    IF(AP$13=\"Nm3\",(AQ$12*1000*1000/((AO$242+AP$242+AO$243+AP$243)*1000*  $J134 * Data!$B$6)),  (AQ$12*1000*1000/(((AO$242+AP$242+AO$243+AP$243)/Denscalc($J134))*1000*  $J134 * Data!$B$6)) ), 0     ),  0)","v":0},111,null,null,{"$f":"IF(AND($A134<>\"\",(AS134+AT134)>0), IF($F134=\"Nej\",    IF(AT$13=\"Nm3\",(AU$12*1000*1000/((AS$242+AT$242+AS$243+AT$243)*1000*  $J134 * Data!$B$6)),  (AU$12*1000*1000/(((AS$242+AT$242+AS$243+AT$243)/Denscalc($J134))*1000*  $J134 * Data!$B$6)) ), 0     ),  0)","v":0},111,null,null,{"$f":"IF(AND($A134<>\"\",(AW134+AX134)>0), IF($F134=\"Nej\",\nIF(AX$13=\"Nm3\",(AY$12*1000*1000/((AW$242+AX$242+AW$243+AX$243-AW$240-AX$240)*1000*  $J134 * Data!$B$6))+(AY$6*1000*1000/((AW$242+AX$242+AW$243+AX$243)*1000*  $J134 * Data!$B$6)),\n (AY$12*1000*1000/(((AW$242+AX$242+AW$243+AX$243-AW$240-AX$240)/Denscalc($J134))*1000*  $J134 * Data!$B$6))  +  (AY$6*1000*1000/(((AW$242+AX$242+AW$243+AX$243)/Denscalc($J134))*1000*  $J134 * Data!$B$6)) ), 0     ),  0)","v":0},111,null,null,{"$f":"IF(AND($A134<>\"\",(BA134+BB134)>0), IF($F134=\"Nej\",\n (BC$12*1000*1000/((BA$244+BB$244-BA$240-BB$240)*1000* Data!$B$7))+ (BC$6*1000*1000/((BA$244+BB$244)*1000* Data!$B$7)),0 ),  0)","v":0},111,"",{"$f":"IF(A134<>\"\",IF(F134=\"Nej\", (Data!$B$129*Data!$B$5*1000*Data!$B$3)/Data!$B$6,  0 ),\"\")","v":""},"","",{"$f":"IF(A134<>\"\",IF(BH134>0,  IF(BE134=\"Nej\",    (Data!$B$8-BH134)/Data!$B$8,  ROUND( (Data!$B$8-BH134)/Data!$B$8,2)),      \"\"),\"\")","v":""},"","","","",{"$f":"IF(A134<>\"\", IF(H134=\"Flytande\",   IF(BM134>0,  IF(BE134=\"Nej\",  (Data!$B$8-BM134)/Data!$B$8,  ROUND( (Data!$B$8-BM134)/Data!$B$8,2)   ), \"\"), \"\"),\"\")","v":""},"",111,"","","",null,""]
[null,112,null,"",null,null,null,null,null,null,null,null,null,null,{"$f":"IF(AND($A135<>\"\",(M135+N135)>0), IF($F135=\"Nej\",    IF(N$13=\"Nm3\",(O$12*1000*1000/((M$242+N$242+M$243+N$243)*1000*  $J135 * Data!$B$6)),  (O$12*1000*1000/(((M$242+N$242+M$243+N$243)/Denscalc($J135))*1000*  $J135 * Data!$B$6)) ), 0     ),  0)","v":0},112,null,null,{"$f":"IF(AND($A135<>\"\",(Q135+R135)>0), IF($F135=\"Nej\",    IF(R$13=\"Nm3\",(S$12*1000*1000/((Q$242+R$242+Q$243+R$243)*1000*  $J135 * Data!$B$6)),  (S$12*1000*1000/(((Q$242+R$242+Q$243+R$243)/Denscalc($J135))*1000*  $J135 * Data!$B$6)) ), 0     ),  0)","v":0},112,null,null,{"$f":"IF(AND($A135<>\"\",(U135+V135)>0), IF($F135=\"Nej\",    IF(V$13=\"Nm3\",(W$12*1000*1000/((U$242+V$242+U$243+V$243)*1000*  $J135 * Data!$B$6)),  (W$12*1000*1000/(((U$242+V$242+U$243+V$243)/Denscalc($J135))*1000*  $J135 * Data!$B$6)) ), 0     ),  0)","v":0},112,null,null,{"$f":"IF(AND($A135<>\"\",(Y135+Z135)>0), IF($F135=\"Nej\",    IF(Z$13=\"Nm3\",(AA$12*1000*1000/((Y$242+Z$242+Y$243+Z$243)*1000*  $J135 * Data!$B$6)),  (AA$12*1000*1000/(((Y$242+Z$242+Y$243+Z$243)/Denscalc($J135))*1000*  $J135 * Data!$B$6)) ), 0     ),  0)","v":0},112,null,null,{"$f":"IF(AND($A135<>\"\",(AC135+AD135)>0), IF($F135=\"Nej\",    IF(AD$13=\"Nm3\",(AE$12*1000*1000/((AC$242+AD$242+AC$243+AD$243)*1000*  $J135 * Data!$B$6)),  (AE$12*1000*1000/(((AC$242+AD$242+AC$243+AD$243)/Denscalc($J135))*1000*  $J135 * Data!$B$6)) ), 0     ),  0)","v":0},112,null,null,{"$f":"IF(AND($A135<>\"\",(AG135+AH135)>0), IF($F135=\"Nej\",    IF(AH$13=\"Nm3\",(AI$12*1000*1000/((AG$242+AH$242+AG$243+AH$243)*1000*  $J135 * Data!$B$6)),  (AI$12*1000*1000/(((AG$242+AH$242+AG$243+AH$243)/Denscalc($J135))*1000*  $J135 * Data!$B$6)) ), 0     ),  0)","v":0},112,null,null,{"$f":"IF(AND($A135<>\"\",(AK135+AL135)>0), IF($F135=\"Nej\",    IF(AL$13=\"Nm3\",(AM$12*1000*1000/((AK$242+AL$242+AK$243+AL$243)*1000*  $J135 * Data!$B$6)),  (AM$12*1000*1000/(((AK$242+AL$242+AK$243+AL$243)/Denscalc($J135))*1000*  $J135 * Data!$B$6)) ), 0     ),  0)","v":0},112,null,null,{"$f":"IF(AND($A135<>\"\",(AO135+AP135)>0), IF($F135=\"Nej\",    IF(AP$13=\"Nm3\",(AQ$12*1000*1000/((AO$242+AP$242+AO$243+AP$243)*1000*  $J135 * Data!$B$6)),  (AQ$12*1000*1000/(((AO$242+AP$242+AO$243+AP$243)/Denscalc($J135))*1000*  $J135 * Data!$B$6)) ), 0     ),  0)","v":0},112,null,null,{"$f":"IF(AND($A135<>\"\",(AS135+AT135)>0), IF($F135=\"Nej\",    IF(AT$13=\"Nm3\",(AU$12*1000*1000/((AS$242+AT$242+AS$243+AT$243)*1000*  $J135 * Data!$B$6)),  (AU$12*1000*1000/(((AS$242+AT$242+AS$243+AT$243)/Denscalc($J135))*1000*  $J135 * Data!$B$6)) ), 0     ),  0)","v":0},112,null,null,{"$f":"IF(AND($A135<>\"\",(AW135+AX135)>0), IF($F135=\"Nej\",\nIF(AX$13=\"Nm3\",(AY$12*1000*1000/((AW$242+AX$242+AW$243+AX$243-AW$240-AX$240)*1000*  $J135 * Data!$B$6))+(AY$6*1000*1000/((AW$242+AX$242+AW$243+AX$243)*1000*  $J135 * Data!$B$6)),\n (AY$12*1000*1000/(((AW$242+AX$242+AW$243+AX$243-AW$240-AX$240)/Denscalc($J135))*1000*  $J135 * Data!$B$6))  +  (AY$6*1000*1000/(((AW$242+AX$242+AW$243+AX$243)/Denscalc($J135))*1000*  $J135 * Data!$B$6)) ), 0     ),  0)","v":0},112,null,null,{"$f":"IF(AND($A135<>\"\",(BA135+BB135)>0), IF($F135=\"Nej\",\n (BC$12*1000*1000/((BA$244+BB$244-BA$240-BB$240)*1000* Data!$B$7))+ (BC$6*1000*1000/((BA$244+BB$244)*1000* Data!$B$7)),0 ),  0)","v":0},112,"",{"$f":"IF(A135<>\"\",IF(F135=\"Nej\", (Data!$B$129*Data!$B$5*1000*Data!$B$3)/Data!$B$6,  0 ),\"\")","v":""},"","",{"$f":"IF(A135<>\"\",IF(BH135>0,  IF(BE135=\"Nej\",    (Data!$B$8-BH135)/Data!$B$8,  ROUND( (Data!$B$8-BH135)/Data!$B$8,2)),      \"\"),\"\")","v":""},"","","","",{"$f":"IF(A135<>\"\", IF(H135=\"Flytande\",   IF(BM135>0,  IF(BE135=\"Nej\",  (Data!$B$8-BM135)/Data!$B$8,  ROUND( (Data!$B$8-BM135)/Data!$B$8,2)   ), \"\"), \"\"),\"\")","v":""},"",112,"","","",null,""]
[null,113,null,"",null,null,null,null,null,null,null,null,null,null,{"$f":"IF(AND($A136<>\"\",(M136+N136)>0), IF($F136=\"Nej\",    IF(N$13=\"Nm3\",(O$12*1000*1000/((M$242+N$242+M$243+N$243)*1000*  $J136 * Data!$B$6)),  (O$12*1000*1000/(((M$242+N$242+M$243+N$243)/Denscalc($J136))*1000*  $J136 * Data!$B$6)) ), 0     ),  0)","v":0},113,null,null,{"$f":"IF(AND($A136<>\"\",(Q136+R136)>0), IF($F136=\"Nej\",    IF(R$13=\"Nm3\",(S$12*1000*1000/((Q$242+R$242+Q$243+R$243)*1000*  $J136 * Data!$B$6)),  (S$12*1000*1000/(((Q$242+R$242+Q$243+R$243)/Denscalc($J136))*1000*  $J136 * Data!$B$6)) ), 0     ),  0)","v":0},113,null,null,{"$f":"IF(AND($A136<>\"\",(U136+V136)>0), IF($F136=\"Nej\",    IF(V$13=\"Nm3\",(W$12*1000*1000/((U$242+V$242+U$243+V$243)*1000*  $J136 * Data!$B$6)),  (W$12*1000*1000/(((U$242+V$242+U$243+V$243)/Denscalc($J136))*1000*  $J136 * Data!$B$6)) ), 0     ),  0)","v":0},113,null,null,{"$f":"IF(AND($A136<>\"\",(Y136+Z136)>0), IF($F136=\"Nej\",    IF(Z$13=\"Nm3\",(AA$12*1000*1000/((Y$242+Z$242+Y$243+Z$243)*1000*  $J136 * Data!$B$6)),  (AA$12*1000*1000/(((Y$242+Z$242+Y$243+Z$243)/Denscalc($J136))*1000*  $J136 * Data!$B$6)) ), 0     ),  0)","v":0},113,null,null,{"$f":"IF(AND($A136<>\"\",(AC136+AD136)>0), IF($F136=\"Nej\",    IF(AD$13=\"Nm3\",(AE$12*1000*1000/((AC$242+AD$242+AC$243+AD$243)*1000*  $J136 * Data!$B$6)),  (AE$12*1000*1000/(((AC$242+AD$242+AC$243+AD$243)/Denscalc($J136))*1000*  $J136 * Data!$B$6)) ), 0     ),  0)","v":0},113,null,null,{"$f":"IF(AND($A136<>\"\",(AG136+AH136)>0), IF($F136=\"Nej\",    IF(AH$13=\"Nm3\",(AI$12*1000*1000/((AG$242+AH$242+AG$243+AH$243)*1000*  $J136 * Data!$B$6)),  (AI$12*1000*1000/(((AG$242+AH$242+AG$243+AH$243)/Denscalc($J136))*1000*  $J136 * Data!$B$6)) ), 0     ),  0)","v":0},113,null,null,{"$f":"IF(AND($A136<>\"\",(AK136+AL136)>0), IF($F136=\"Nej\",    IF(AL$13=\"Nm3\",(AM$12*1000*1000/((AK$242+AL$242+AK$243+AL$243)*1000*  $J136 * Data!$B$6)),  (AM$12*1000*1000/(((AK$242+AL$242+AK$243+AL$243)/Denscalc($J136))*1000*  $J136 * Data!$B$6)) ), 0     ),  0)","v":0},113,null,null,{"$f":"IF(AND($A136<>\"\",(AO136+AP136)>0), IF($F136=\"Nej\",    IF(AP$13=\"Nm3\",(AQ$12*1000*1000/((AO$242+AP$242+AO$243+AP$243)*1000*  $J136 * Data!$B$6)),  (AQ$12*1000*1000/(((AO$242+AP$242+AO$243+AP$243)/Denscalc($J136))*1000*  $J136 * Data!$B$6)) ), 0     ),  0)","v":0},113,null,null,{"$f":"IF(AND($A136<>\"\",(AS136+AT136)>0), IF($F136=\"Nej\",    IF(AT$13=\"Nm3\",(AU$12*1000*1000/((AS$242+AT$242+AS$243+AT$243)*1000*  $J136 * Data!$B$6)),  (AU$12*1000*1000/(((AS$242+AT$242+AS$243+AT$243)/Denscalc($J136))*1000*  $J136 * Data!$B$6)) ), 0     ),  0)","v":0},113,null,null,{"$f":"IF(AND($A136<>\"\",(AW136+AX136)>0), IF($F136=\"Nej\",\nIF(AX$13=\"Nm3\",(AY$12*1000*1000/((AW$242+AX$242+AW$243+AX$243-AW$240-AX$240)*1000*  $J136 * Data!$B$6))+(AY$6*1000*1000/((AW$242+AX$242+AW$243+AX$243)*1000*  $J136 * Data!$B$6)),\n (AY$12*1000*1000/(((AW$242+AX$242+AW$243+AX$243-AW$240-AX$240)/Denscalc($J136))*1000*  $J136 * Data!$B$6))  +  (AY$6*1000*1000/(((AW$242+AX$242+AW$243+AX$243)/Denscalc($J136))*1000*  $J136 * Data!$B$6)) ), 0     ),  0)","v":0},113,null,null,{"$f":"IF(AND($A136<>\"\",(BA136+BB136)>0), IF($F136=\"Nej\",\n (BC$12*1000*1000/((BA$244+BB$244-BA$240-BB$240)*1000* Data!$B$7))+ (BC$6*1000*1000/((BA$244+BB$244)*1000* Data!$B$7)),0 ),  0)","v":0},113,"",{"$f":"IF(A136<>\"\",IF(F136=\"Nej\", (Data!$B$129*Data!$B$5*1000*Data!$B$3)/Data!$B$6,  0 ),\"\")","v":""},"","",{"$f":"IF(A136<>\"\",IF(BH136>0,  IF(BE136=\"Nej\",    (Data!$B$8-BH136)/Data!$B$8,  ROUND( (Data!$B$8-BH136)/Data!$B$8,2)),      \"\"),\"\")","v":""},"","","","",{"$f":"IF(A136<>\"\", IF(H136=\"Flytande\",   IF(BM136>0,  IF(BE136=\"Nej\",  (Data!$B$8-BM136)/Data!$B$8,  ROUND( (Data!$B$8-BM136)/Data!$B$8,2)   ), \"\"), \"\"),\"\")","v":""},"",113,"","","",null,""]
[null,114,null,"",null,null,null,null,null,null,null,null,null,null,{"$f":"IF(AND($A137<>\"\",(M137+N137)>0), IF($F137=\"Nej\",    IF(N$13=\"Nm3\",(O$12*1000*1000/((M$242+N$242+M$243+N$243)*1000*  $J137 * Data!$B$6)),  (O$12*1000*1000/(((M$242+N$242+M$243+N$243)/Denscalc($J137))*1000*  $J137 * Data!$B$6)) ), 0     ),  0)","v":0},114,null,null,{"$f":"IF(AND($A137<>\"\",(Q137+R137)>0), IF($F137=\"Nej\",    IF(R$13=\"Nm3\",(S$12*1000*1000/((Q$242+R$242+Q$243+R$243)*1000*  $J137 * Data!$B$6)),  (S$12*1000*1000/(((Q$242+R$242+Q$243+R$243)/Denscalc($J137))*1000*  $J137 * Data!$B$6)) ), 0     ),  0)","v":0},114,null,null,{"$f":"IF(AND($A137<>\"\",(U137+V137)>0), IF($F137=\"Nej\",    IF(V$13=\"Nm3\",(W$12*1000*1000/((U$242+V$242+U$243+V$243)*1000*  $J137 * Data!$B$6)),  (W$12*1000*1000/(((U$242+V$242+U$243+V$243)/Denscalc($J137))*1000*  $J137 * Data!$B$6)) ), 0     ),  0)","v":0},114,null,null,{"$f":"IF(AND($A137<>\"\",(Y137+Z137)>0), IF($F137=\"Nej\",    IF(Z$13=\"Nm3\",(AA$12*1000*1000/((Y$242+Z$242+Y$243+Z$243)*1000*  $J137 * Data!$B$6)),  (AA$12*1000*1000/(((Y$242+Z$242+Y$243+Z$243)/Denscalc($J137))*1000*  $J137 * Data!$B$6)) ), 0     ),  0)","v":0},114,null,null,{"$f":"IF(AND($A137<>\"\",(AC137+AD137)>0), IF($F137=\"Nej\",    IF(AD$13=\"Nm3\",(AE$12*1000*1000/((AC$242+AD$242+AC$243+AD$243)*1000*  $J137 * Data!$B$6)),  (AE$12*1000*1000/(((AC$242+AD$242+AC$243+AD$243)/Denscalc($J137))*1000*  $J137 * Data!$B$6)) ), 0     ),  0)","v":0},114,null,null,{"$f":"IF(AND($A137<>\"\",(AG137+AH137)>0), IF($F137=\"Nej\",    IF(AH$13=\"Nm3\",(AI$12*1000*1000/((AG$242+AH$242+AG$243+AH$243)*1000*  $J137 * Data!$B$6)),  (AI$12*1000*1000/(((AG$242+AH$242+AG$243+AH$243)/Denscalc($J137))*1000*  $J137 * Data!$B$6)) ), 0     ),  0)","v":0},114,null,null,{"$f":"IF(AND($A137<>\"\",(AK137+AL137)>0), IF($F137=\"Nej\",    IF(AL$13=\"Nm3\",(AM$12*1000*1000/((AK$242+AL$242+AK$243+AL$243)*1000*  $J137 * Data!$B$6)),  (AM$12*1000*1000/(((AK$242+AL$242+AK$243+AL$243)/Denscalc($J137))*1000*  $J137 * Data!$B$6)) ), 0     ),  0)","v":0},114,null,null,{"$f":"IF(AND($A137<>\"\",(AO137+AP137)>0), IF($F137=\"Nej\",    IF(AP$13=\"Nm3\",(AQ$12*1000*1000/((AO$242+AP$242+AO$243+AP$243)*1000*  $J137 * Data!$B$6)),  (AQ$12*1000*1000/(((AO$242+AP$242+AO$243+AP$243)/Denscalc($J137))*1000*  $J137 * Data!$B$6)) ), 0     ),  0)","v":0},114,null,null,{"$f":"IF(AND($A137<>\"\",(AS137+AT137)>0), IF($F137=\"Nej\",    IF(AT$13=\"Nm3\",(AU$12*1000*1000/((AS$242+AT$242+AS$243+AT$243)*1000*  $J137 * Data!$B$6)),  (AU$12*1000*1000/(((AS$242+AT$242+AS$243+AT$243)/Denscalc($J137))*1000*  $J137 * Data!$B$6)) ), 0     ),  0)","v":0},114,null,null,{"$f":"IF(AND($A137<>\"\",(AW137+AX137)>0), IF($F137=\"Nej\",\nIF(AX$13=\"Nm3\",(AY$12*1000*1000/((AW$242+AX$242+AW$243+AX$243-AW$240-AX$240)*1000*  $J137 * Data!$B$6))+(AY$6*1000*1000/((AW$242+AX$242+AW$243+AX$243)*1000*  $J137 * Data!$B$6)),\n (AY$12*1000*1000/(((AW$242+AX$242+AW$243+AX$243-AW$240-AX$240)/Denscalc($J137))*1000*  $J137 * Data!$B$6))  +  (AY$6*1000*1000/(((AW$242+AX$242+AW$243+AX$243)/Denscalc($J137))*1000*  $J137 * Data!$B$6)) ), 0     ),  0)","v":0},114,null,null,{"$f":"IF(AND($A137<>\"\",(BA137+BB137)>0), IF($F137=\"Nej\",\n (BC$12*1000*1000/((BA$244+BB$244-BA$240-BB$240)*1000* Data!$B$7))+ (BC$6*1000*1000/((BA$244+BB$244)*1000* Data!$B$7)),0 ),  0)","v":0},114,"",{"$f":"IF(A137<>\"\",IF(F137=\"Nej\", (Data!$B$129*Data!$B$5*1000*Data!$B$3)/Data!$B$6,  0 ),\"\")","v":""},"","",{"$f":"IF(A137<>\"\",IF(BH137>0,  IF(BE137=\"Nej\",    (Data!$B$8-BH137)/Data!$B$8,  ROUND( (Data!$B$8-BH137)/Data!$B$8,2)),      \"\"),\"\")","v":""},"","","","",{"$f":"IF(A137<>\"\", IF(H137=\"Flytande\",   IF(BM137>0,  IF(BE137=\"Nej\",  (Data!$B$8-BM137)/Data!$B$8,  ROUND( (Data!$B$8-BM137)/Data!$B$8,2)   ), \"\"), \"\"),\"\")","v":""},"",114,"","","",null,""]
[null,115,null,"",null,null,null,null,null,null,null,null,null,null,{"$f":"IF(AND($A138<>\"\",(M138+N138)>0), IF($F138=\"Nej\",    IF(N$13=\"Nm3\",(O$12*1000*1000/((M$242+N$242+M$243+N$243)*1000*  $J138 * Data!$B$6)),  (O$12*1000*1000/(((M$242+N$242+M$243+N$243)/Denscalc($J138))*1000*  $J138 * Data!$B$6)) ), 0     ),  0)","v":0},115,null,null,{"$f":"IF(AND($A138<>\"\",(Q138+R138)>0), IF($F138=\"Nej\",    IF(R$13=\"Nm3\",(S$12*1000*1000/((Q$242+R$242+Q$243+R$243)*1000*  $J138 * Data!$B$6)),  (S$12*1000*1000/(((Q$242+R$242+Q$243+R$243)/Denscalc($J138))*1000*  $J138 * Data!$B$6)) ), 0     ),  0)","v":0},115,null,null,{"$f":"IF(AND($A138<>\"\",(U138+V138)>0), IF($F138=\"Nej\",    IF(V$13=\"Nm3\",(W$12*1000*1000/((U$242+V$242+U$243+V$243)*1000*  $J138 * Data!$B$6)),  (W$12*1000*1000/(((U$242+V$242+U$243+V$243)/Denscalc($J138))*1000*  $J138 * Data!$B$6)) ), 0     ),  0)","v":0},115,null,null,{"$f":"IF(AND($A138<>\"\",(Y138+Z138)>0), IF($F138=\"Nej\",    IF(Z$13=\"Nm3\",(AA$12*1000*1000/((Y$242+Z$242+Y$243+Z$243)*1000*  $J138 * Data!$B$6)),  (AA$12*1000*1000/(((Y$242+Z$242+Y$243+Z$243)/Denscalc($J138))*1000*  $J138 * Data!$B$6)) ), 0     ),  0)","v":0},115,null,null,{"$f":"IF(AND($A138<>\"\",(AC138+AD138)>0), IF($F138=\"Nej\",    IF(AD$13=\"Nm3\",(AE$12*1000*1000/((AC$242+AD$242+AC$243+AD$243)*1000*  $J138 * Data!$B$6)),  (AE$12*1000*1000/(((AC$242+AD$242+AC$243+AD$243)/Denscalc($J138))*1000*  $J138 * Data!$B$6)) ), 0     ),  0)","v":0},115,null,null,{"$f":"IF(AND($A138<>\"\",(AG138+AH138)>0), IF($F138=\"Nej\",    IF(AH$13=\"Nm3\",(AI$12*1000*1000/((AG$242+AH$242+AG$243+AH$243)*1000*  $J138 * Data!$B$6)),  (AI$12*1000*1000/(((AG$242+AH$242+AG$243+AH$243)/Denscalc($J138))*1000*  $J138 * Data!$B$6)) ), 0     ),  0)","v":0},115,null,null,{"$f":"IF(AND($A138<>\"\",(AK138+AL138)>0), IF($F138=\"Nej\",    IF(AL$13=\"Nm3\",(AM$12*1000*1000/((AK$242+AL$242+AK$243+AL$243)*1000*  $J138 * Data!$B$6)),  (AM$12*1000*1000/(((AK$242+AL$242+AK$243+AL$243)/Denscalc($J138))*1000*  $J138 * Data!$B$6)) ), 0     ),  0)","v":0},115,null,null,{"$f":"IF(AND($A138<>\"\",(AO138+AP138)>0), IF($F138=\"Nej\",    IF(AP$13=\"Nm3\",(AQ$12*1000*1000/((AO$242+AP$242+AO$243+AP$243)*1000*  $J138 * Data!$B$6)),  (AQ$12*1000*1000/(((AO$242+AP$242+AO$243+AP$243)/Denscalc($J138))*1000*  $J138 * Data!$B$6)) ), 0     ),  0)","v":0},115,null,null,{"$f":"IF(AND($A138<>\"\",(AS138+AT138)>0), IF($F138=\"Nej\",    IF(AT$13=\"Nm3\",(AU$12*1000*1000/((AS$242+AT$242+AS$243+AT$243)*1000*  $J138 * Data!$B$6)),  (AU$12*1000*1000/(((AS$242+AT$242+AS$243+AT$243)/Denscalc($J138))*1000*  $J138 * Data!$B$6)) ), 0     ),  0)","v":0},115,null,null,{"$f":"IF(AND($A138<>\"\",(AW138+AX138)>0), IF($F138=\"Nej\",\nIF(AX$13=\"Nm3\",(AY$12*1000*1000/((AW$242+AX$242+AW$243+AX$243-AW$240-AX$240)*1000*  $J138 * Data!$B$6))+(AY$6*1000*1000/((AW$242+AX$242+AW$243+AX$243)*1000*  $J138 * Data!$B$6)),\n (AY$12*1000*1000/(((AW$242+AX$242+AW$243+AX$243-AW$240-AX$240)/Denscalc($J138))*1000*  $J138 * Data!$B$6))  +  (AY$6*1000*1000/(((AW$242+AX$242+AW$243+AX$243)/Denscalc($J138))*1000*  $J138 * Data!$B$6)) ), 0     ),  0)","v":0},115,null,null,{"$f":"IF(AND($A138<>\"\",(BA138+BB138)>0), IF($F138=\"Nej\",\n (BC$12*1000*1000/((BA$244+BB$244-BA$240-BB$240)*1000* Data!$B$7))+ (BC$6*1000*1000/((BA$244+BB$244)*1000* Data!$B$7)),0 ),  0)","v":0},115,"",{"$f":"IF(A138<>\"\",IF(F138=\"Nej\", (Data!$B$129*Data!$B$5*1000*Data!$B$3)/Data!$B$6,  0 ),\"\")","v":""},"","",{"$f":"IF(A138<>\"\",IF(BH138>0,  IF(BE138=\"Nej\",    (Data!$B$8-BH138)/Data!$B$8,  ROUND( (Data!$B$8-BH138)/Data!$B$8,2)),      \"\"),\"\")","v":""},"","","","",{"$f":"IF(A138<>\"\", IF(H138=\"Flytande\",   IF(BM138>0,  IF(BE138=\"Nej\",  (Data!$B$8-BM138)/Data!$B$8,  ROUND( (Data!$B$8-BM138)/Data!$B$8,2)   ), \"\"), \"\"),\"\")","v":""},"",115,"","","",null,""]
[null,116,null,"",null,null,null,null,null,null,null,null,null,null,{"$f":"IF(AND($A139<>\"\",(M139+N139)>0), IF($F139=\"Nej\",    IF(N$13=\"Nm3\",(O$12*1000*1000/((M$242+N$242+M$243+N$243)*1000*  $J139 * Data!$B$6)),  (O$12*1000*1000/(((M$242+N$242+M$243+N$243)/Denscalc($J139))*1000*  $J139 * Data!$B$6)) ), 0     ),  0)","v":0},116,null,null,{"$f":"IF(AND($A139<>\"\",(Q139+R139)>0), IF($F139=\"Nej\",    IF(R$13=\"Nm3\",(S$12*1000*1000/((Q$242+R$242+Q$243+R$243)*1000*  $J139 * Data!$B$6)),  (S$12*1000*1000/(((Q$242+R$242+Q$243+R$243)/Denscalc($J139))*1000*  $J139 * Data!$B$6)) ), 0     ),  0)","v":0},116,null,null,{"$f":"IF(AND($A139<>\"\",(U139+V139)>0), IF($F139=\"Nej\",    IF(V$13=\"Nm3\",(W$12*1000*1000/((U$242+V$242+U$243+V$243)*1000*  $J139 * Data!$B$6)),  (W$12*1000*1000/(((U$242+V$242+U$243+V$243)/Denscalc($J139))*1000*  $J139 * Data!$B$6)) ), 0     ),  0)","v":0},116,null,null,{"$f":"IF(AND($A139<>\"\",(Y139+Z139)>0), IF($F139=\"Nej\",    IF(Z$13=\"Nm3\",(AA$12*1000*1000/((Y$242+Z$242+Y$243+Z$243)*1000*  $J139 * Data!$B$6)),  (AA$12*1000*1000/(((Y$242+Z$242+Y$243+Z$243)/Denscalc($J139))*1000*  $J139 * Data!$B$6)) ), 0     ),  0)","v":0},116,null,null,{"$f":"IF(AND($A139<>\"\",(AC139+AD139)>0), IF($F139=\"Nej\",    IF(AD$13=\"Nm3\",(AE$12*1000*1000/((AC$242+AD$242+AC$243+AD$243)*1000*  $J139 * Data!$B$6)),  (AE$12*1000*1000/(((AC$242+AD$242+AC$243+AD$243)/Denscalc($J139))*1000*  $J139 * Data!$B$6)) ), 0     ),  0)","v":0},116,null,null,{"$f":"IF(AND($A139<>\"\",(AG139+AH139)>0), IF($F139=\"Nej\",    IF(AH$13=\"Nm3\",(AI$12*1000*1000/((AG$242+AH$242+AG$243+AH$243)*1000*  $J139 * Data!$B$6)),  (AI$12*1000*1000/(((AG$242+AH$242+AG$243+AH$243)/Denscalc($J139))*1000*  $J139 * Data!$B$6)) ), 0     ),  0)","v":0},116,null,null,{"$f":"IF(AND($A139<>\"\",(AK139+AL139)>0), IF($F139=\"Nej\",    IF(AL$13=\"Nm3\",(AM$12*1000*1000/((AK$242+AL$242+AK$243+AL$243)*1000*  $J139 * Data!$B$6)),  (AM$12*1000*1000/(((AK$242+AL$242+AK$243+AL$243)/Denscalc($J139))*1000*  $J139 * Data!$B$6)) ), 0     ),  0)","v":0},116,null,null,{"$f":"IF(AND($A139<>\"\",(AO139+AP139)>0), IF($F139=\"Nej\",    IF(AP$13=\"Nm3\",(AQ$12*1000*1000/((AO$242+AP$242+AO$243+AP$243)*1000*  $J139 * Data!$B$6)),  (AQ$12*1000*1000/(((AO$242+AP$242+AO$243+AP$243)/Denscalc($J139))*1000*  $J139 * Data!$B$6)) ), 0     ),  0)","v":0},116,null,null,{"$f":"IF(AND($A139<>\"\",(AS139+AT139)>0), IF($F139=\"Nej\",    IF(AT$13=\"Nm3\",(AU$12*1000*1000/((AS$242+AT$242+AS$243+AT$243)*1000*  $J139 * Data!$B$6)),  (AU$12*1000*1000/(((AS$242+AT$242+AS$243+AT$243)/Denscalc($J139))*1000*  $J139 * Data!$B$6)) ), 0     ),  0)","v":0},116,null,null,{"$f":"IF(AND($A139<>\"\",(AW139+AX139)>0), IF($F139=\"Nej\",\nIF(AX$13=\"Nm3\",(AY$12*1000*1000/((AW$242+AX$242+AW$243+AX$243-AW$240-AX$240)*1000*  $J139 * Data!$B$6))+(AY$6*1000*1000/((AW$242+AX$242+AW$243+AX$243)*1000*  $J139 * Data!$B$6)),\n (AY$12*1000*1000/(((AW$242+AX$242+AW$243+AX$243-AW$240-AX$240)/Denscalc($J139))*1000*  $J139 * Data!$B$6))  +  (AY$6*1000*1000/(((AW$242+AX$242+AW$243+AX$243)/Denscalc($J139))*1000*  $J139 * Data!$B$6)) ), 0     ),  0)","v":0},116,null,null,{"$f":"IF(AND($A139<>\"\",(BA139+BB139)>0), IF($F139=\"Nej\",\n (BC$12*1000*1000/((BA$244+BB$244-BA$240-BB$240)*1000* Data!$B$7))+ (BC$6*1000*1000/((BA$244+BB$244)*1000* Data!$B$7)),0 ),  0)","v":0},116,"",{"$f":"IF(A139<>\"\",IF(F139=\"Nej\", (Data!$B$129*Data!$B$5*1000*Data!$B$3)/Data!$B$6,  0 ),\"\")","v":""},"","",{"$f":"IF(A139<>\"\",IF(BH139>0,  IF(BE139=\"Nej\",    (Data!$B$8-BH139)/Data!$B$8,  ROUND( (Data!$B$8-BH139)/Data!$B$8,2)),      \"\"),\"\")","v":""},"","","","",{"$f":"IF(A139<>\"\", IF(H139=\"Flytande\",   IF(BM139>0,  IF(BE139=\"Nej\",  (Data!$B$8-BM139)/Data!$B$8,  ROUND( (Data!$B$8-BM139)/Data!$B$8,2)   ), \"\"), \"\"),\"\")","v":""},"",116,"","","",null,""]
[null,117,null,"",null,null,null,null,null,null,null,null,null,null,{"$f":"IF(AND($A140<>\"\",(M140+N140)>0), IF($F140=\"Nej\",    IF(N$13=\"Nm3\",(O$12*1000*1000/((M$242+N$242+M$243+N$243)*1000*  $J140 * Data!$B$6)),  (O$12*1000*1000/(((M$242+N$242+M$243+N$243)/Denscalc($J140))*1000*  $J140 * Data!$B$6)) ), 0     ),  0)","v":0},117,null,null,{"$f":"IF(AND($A140<>\"\",(Q140+R140)>0), IF($F140=\"Nej\",    IF(R$13=\"Nm3\",(S$12*1000*1000/((Q$242+R$242+Q$243+R$243)*1000*  $J140 * Data!$B$6)),  (S$12*1000*1000/(((Q$242+R$242+Q$243+R$243)/Denscalc($J140))*1000*  $J140 * Data!$B$6)) ), 0     ),  0)","v":0},117,null,null,{"$f":"IF(AND($A140<>\"\",(U140+V140)>0), IF($F140=\"Nej\",    IF(V$13=\"Nm3\",(W$12*1000*1000/((U$242+V$242+U$243+V$243)*1000*  $J140 * Data!$B$6)),  (W$12*1000*1000/(((U$242+V$242+U$243+V$243)/Denscalc($J140))*1000*  $J140 * Data!$B$6)) ), 0     ),  0)","v":0},117,null,null,{"$f":"IF(AND($A140<>\"\",(Y140+Z140)>0), IF($F140=\"Nej\",    IF(Z$13=\"Nm3\",(AA$12*1000*1000/((Y$242+Z$242+Y$243+Z$243)*1000*  $J140 * Data!$B$6)),  (AA$12*1000*1000/(((Y$242+Z$242+Y$243+Z$243)/Denscalc($J140))*1000*  $J140 * Data!$B$6)) ), 0     ),  0)","v":0},117,null,null,{"$f":"IF(AND($A140<>\"\",(AC140+AD140)>0), IF($F140=\"Nej\",    IF(AD$13=\"Nm3\",(AE$12*1000*1000/((AC$242+AD$242+AC$243+AD$243)*1000*  $J140 * Data!$B$6)),  (AE$12*1000*1000/(((AC$242+AD$242+AC$243+AD$243)/Denscalc($J140))*1000*  $J140 * Data!$B$6)) ), 0     ),  0)","v":0},117,null,null,{"$f":"IF(AND($A140<>\"\",(AG140+AH140)>0), IF($F140=\"Nej\",    IF(AH$13=\"Nm3\",(AI$12*1000*1000/((AG$242+AH$242+AG$243+AH$243)*1000*  $J140 * Data!$B$6)),  (AI$12*1000*1000/(((AG$242+AH$242+AG$243+AH$243)/Denscalc($J140))*1000*  $J140 * Data!$B$6)) ), 0     ),  0)","v":0},117,null,null,{"$f":"IF(AND($A140<>\"\",(AK140+AL140)>0), IF($F140=\"Nej\",    IF(AL$13=\"Nm3\",(AM$12*1000*1000/((AK$242+AL$242+AK$243+AL$243)*1000*  $J140 * Data!$B$6)),  (AM$12*1000*1000/(((AK$242+AL$242+AK$243+AL$243)/Denscalc($J140))*1000*  $J140 * Data!$B$6)) ), 0     ),  0)","v":0},117,null,null,{"$f":"IF(AND($A140<>\"\",(AO140+AP140)>0), IF($F140=\"Nej\",    IF(AP$13=\"Nm3\",(AQ$12*1000*1000/((AO$242+AP$242+AO$243+AP$243)*1000*  $J140 * Data!$B$6)),  (AQ$12*1000*1000/(((AO$242+AP$242+AO$243+AP$243)/Denscalc($J140))*1000*  $J140 * Data!$B$6)) ), 0     ),  0)","v":0},117,null,null,{"$f":"IF(AND($A140<>\"\",(AS140+AT140)>0), IF($F140=\"Nej\",    IF(AT$13=\"Nm3\",(AU$12*1000*1000/((AS$242+AT$242+AS$243+AT$243)*1000*  $J140 * Data!$B$6)),  (AU$12*1000*1000/(((AS$242+AT$242+AS$243+AT$243)/Denscalc($J140))*1000*  $J140 * Data!$B$6)) ), 0     ),  0)","v":0},117,null,null,{"$f":"IF(AND($A140<>\"\",(AW140+AX140)>0), IF($F140=\"Nej\",\nIF(AX$13=\"Nm3\",(AY$12*1000*1000/((AW$242+AX$242+AW$243+AX$243-AW$240-AX$240)*1000*  $J140 * Data!$B$6))+(AY$6*1000*1000/((AW$242+AX$242+AW$243+AX$243)*1000*  $J140 * Data!$B$6)),\n (AY$12*1000*1000/(((AW$242+AX$242+AW$243+AX$243-AW$240-AX$240)/Denscalc($J140))*1000*  $J140 * Data!$B$6))  +  (AY$6*1000*1000/(((AW$242+AX$242+AW$243+AX$243)/Denscalc($J140))*1000*  $J140 * Data!$B$6)) ), 0     ),  0)","v":0},117,null,null,{"$f":"IF(AND($A140<>\"\",(BA140+BB140)>0), IF($F140=\"Nej\",\n (BC$12*1000*1000/((BA$244+BB$244-BA$240-BB$240)*1000* Data!$B$7))+ (BC$6*1000*1000/((BA$244+BB$244)*1000* Data!$B$7)),0 ),  0)","v":0},117,"",{"$f":"IF(A140<>\"\",IF(F140=\"Nej\", (Data!$B$129*Data!$B$5*1000*Data!$B$3)/Data!$B$6,  0 ),\"\")","v":""},"","",{"$f":"IF(A140<>\"\",IF(BH140>0,  IF(BE140=\"Nej\",    (Data!$B$8-BH140)/Data!$B$8,  ROUND( (Data!$B$8-BH140)/Data!$B$8,2)),      \"\"),\"\")","v":""},"","","","",{"$f":"IF(A140<>\"\", IF(H140=\"Flytande\",   IF(BM140>0,  IF(BE140=\"Nej\",  (Data!$B$8-BM140)/Data!$B$8,  ROUND( (Data!$B$8-BM140)/Data!$B$8,2)   ), \"\"), \"\"),\"\")","v":""},"",117,"","","",null,""]
[null,118,null,"",null,null,null,null,null,null,null,null,null,null,{"$f":"IF(AND($A141<>\"\",(M141+N141)>0), IF($F141=\"Nej\",    IF(N$13=\"Nm3\",(O$12*1000*1000/((M$242+N$242+M$243+N$243)*1000*  $J141 * Data!$B$6)),  (O$12*1000*1000/(((M$242+N$242+M$243+N$243)/Denscalc($J141))*1000*  $J141 * Data!$B$6)) ), 0     ),  0)","v":0},118,null,null,{"$f":"IF(AND($A141<>\"\",(Q141+R141)>0), IF($F141=\"Nej\",    IF(R$13=\"Nm3\",(S$12*1000*1000/((Q$242+R$242+Q$243+R$243)*1000*  $J141 * Data!$B$6)),  (S$12*1000*1000/(((Q$242+R$242+Q$243+R$243)/Denscalc($J141))*1000*  $J141 * Data!$B$6)) ), 0     ),  0)","v":0},118,null,null,{"$f":"IF(AND($A141<>\"\",(U141+V141)>0), IF($F141=\"Nej\",    IF(V$13=\"Nm3\",(W$12*1000*1000/((U$242+V$242+U$243+V$243)*1000*  $J141 * Data!$B$6)),  (W$12*1000*1000/(((U$242+V$242+U$243+V$243)/Denscalc($J141))*1000*  $J141 * Data!$B$6)) ), 0     ),  0)","v":0},118,null,null,{"$f":"IF(AND($A141<>\"\",(Y141+Z141)>0), IF($F141=\"Nej\",    IF(Z$13=\"Nm3\",(AA$12*1000*1000/((Y$242+Z$242+Y$243+Z$243)*1000*  $J141 * Data!$B$6)),  (AA$12*1000*1000/(((Y$242+Z$242+Y$243+Z$243)/Denscalc($J141))*1000*  $J141 * Data!$B$6)) ), 0     ),  0)","v":0},118,null,null,{"$f":"IF(AND($A141<>\"\",(AC141+AD141)>0), IF($F141=\"Nej\",    IF(AD$13=\"Nm3\",(AE$12*1000*1000/((AC$242+AD$242+AC$243+AD$243)*1000*  $J141 * Data!$B$6)),  (AE$12*1000*1000/(((AC$242+AD$242+AC$243+AD$243)/Denscalc($J141))*1000*  $J141 * Data!$B$6)) ), 0     ),  0)","v":0},118,null,null,{"$f":"IF(AND($A141<>\"\",(AG141+AH141)>0), IF($F141=\"Nej\",    IF(AH$13=\"Nm3\",(AI$12*1000*1000/((AG$242+AH$242+AG$243+AH$243)*1000*  $J141 * Data!$B$6)),  (AI$12*1000*1000/(((AG$242+AH$242+AG$243+AH$243)/Denscalc($J141))*1000*  $J141 * Data!$B$6)) ), 0     ),  0)","v":0},118,null,null,{"$f":"IF(AND($A141<>\"\",(AK141+AL141)>0), IF($F141=\"Nej\",    IF(AL$13=\"Nm3\",(AM$12*1000*1000/((AK$242+AL$242+AK$243+AL$243)*1000*  $J141 * Data!$B$6)),  (AM$12*1000*1000/(((AK$242+AL$242+AK$243+AL$243)/Denscalc($J141))*1000*  $J141 * Data!$B$6)) ), 0     ),  0)","v":0},118,null,null,{"$f":"IF(AND($A141<>\"\",(AO141+AP141)>0), IF($F141=\"Nej\",    IF(AP$13=\"Nm3\",(AQ$12*1000*1000/((AO$242+AP$242+AO$243+AP$243)*1000*  $J141 * Data!$B$6)),  (AQ$12*1000*1000/(((AO$242+AP$242+AO$243+AP$243)/Denscalc($J141))*1000*  $J141 * Data!$B$6)) ), 0     ),  0)","v":0},118,null,null,{"$f":"IF(AND($A141<>\"\",(AS141+AT141)>0), IF($F141=\"Nej\",    IF(AT$13=\"Nm3\",(AU$12*1000*1000/((AS$242+AT$242+AS$243+AT$243)*1000*  $J141 * Data!$B$6)),  (AU$12*1000*1000/(((AS$242+AT$242+AS$243+AT$243)/Denscalc($J141))*1000*  $J141 * Data!$B$6)) ), 0     ),  0)","v":0},118,null,null,{"$f":"IF(AND($A141<>\"\",(AW141+AX141)>0), IF($F141=\"Nej\",\nIF(AX$13=\"Nm3\",(AY$12*1000*1000/((AW$242+AX$242+AW$243+AX$243-AW$240-AX$240)*1000*  $J141 * Data!$B$6))+(AY$6*1000*1000/((AW$242+AX$242+AW$243+AX$243)*1000*  $J141 * Data!$B$6)),\n (AY$12*1000*1000/(((AW$242+AX$242+AW$243+AX$243-AW$240-AX$240)/Denscalc($J141))*1000*  $J141 * Data!$B$6))  +  (AY$6*1000*1000/(((AW$242+AX$242+AW$243+AX$243)/Denscalc($J141))*1000*  $J141 * Data!$B$6)) ), 0     ),  0)","v":0},118,null,null,{"$f":"IF(AND($A141<>\"\",(BA141+BB141)>0), IF($F141=\"Nej\",\n (BC$12*1000*1000/((BA$244+BB$244-BA$240-BB$240)*1000* Data!$B$7))+ (BC$6*1000*1000/((BA$244+BB$244)*1000* Data!$B$7)),0 ),  0)","v":0},118,"",{"$f":"IF(A141<>\"\",IF(F141=\"Nej\", (Data!$B$129*Data!$B$5*1000*Data!$B$3)/Data!$B$6,  0 ),\"\")","v":""},"","",{"$f":"IF(A141<>\"\",IF(BH141>0,  IF(BE141=\"Nej\",    (Data!$B$8-BH141)/Data!$B$8,  ROUND( (Data!$B$8-BH141)/Data!$B$8,2)),      \"\"),\"\")","v":""},"","","","",{"$f":"IF(A141<>\"\", IF(H141=\"Flytande\",   IF(BM141>0,  IF(BE141=\"Nej\",  (Data!$B$8-BM141)/Data!$B$8,  ROUND( (Data!$B$8-BM141)/Data!$B$8,2)   ), \"\"), \"\"),\"\")","v":""},"",118,"","","",null,""]
[null,119,null,"",null,null,null,null,null,null,null,null,null,null,{"$f":"IF(AND($A142<>\"\",(M142+N142)>0), IF($F142=\"Nej\",    IF(N$13=\"Nm3\",(O$12*1000*1000/((M$242+N$242+M$243+N$243)*1000*  $J142 * Data!$B$6)),  (O$12*1000*1000/(((M$242+N$242+M$243+N$243)/Denscalc($J142))*1000*  $J142 * Data!$B$6)) ), 0     ),  0)","v":0},119,null,null,{"$f":"IF(AND($A142<>\"\",(Q142+R142)>0), IF($F142=\"Nej\",    IF(R$13=\"Nm3\",(S$12*1000*1000/((Q$242+R$242+Q$243+R$243)*1000*  $J142 * Data!$B$6)),  (S$12*1000*1000/(((Q$242+R$242+Q$243+R$243)/Denscalc($J142))*1000*  $J142 * Data!$B$6)) ), 0     ),  0)","v":0},119,null,null,{"$f":"IF(AND($A142<>\"\",(U142+V142)>0), IF($F142=\"Nej\",    IF(V$13=\"Nm3\",(W$12*1000*1000/((U$242+V$242+U$243+V$243)*1000*  $J142 * Data!$B$6)),  (W$12*1000*1000/(((U$242+V$242+U$243+V$243)/Denscalc($J142))*1000*  $J142 * Data!$B$6)) ), 0     ),  0)","v":0},119,null,null,{"$f":"IF(AND($A142<>\"\",(Y142+Z142)>0), IF($F142=\"Nej\",    IF(Z$13=\"Nm3\",(AA$12*1000*1000/((Y$242+Z$242+Y$243+Z$243)*1000*  $J142 * Data!$B$6)),  (AA$12*1000*1000/(((Y$242+Z$242+Y$243+Z$243)/Denscalc($J142))*1000*  $J142 * Data!$B$6)) ), 0     ),  0)","v":0},119,null,null,{"$f":"IF(AND($A142<>\"\",(AC142+AD142)>0), IF($F142=\"Nej\",    IF(AD$13=\"Nm3\",(AE$12*1000*1000/((AC$242+AD$242+AC$243+AD$243)*1000*  $J142 * Data!$B$6)),  (AE$12*1000*1000/(((AC$242+AD$242+AC$243+AD$243)/Denscalc($J142))*1000*  $J142 * Data!$B$6)) ), 0     ),  0)","v":0},119,null,null,{"$f":"IF(AND($A142<>\"\",(AG142+AH142)>0), IF($F142=\"Nej\",    IF(AH$13=\"Nm3\",(AI$12*1000*1000/((AG$242+AH$242+AG$243+AH$243)*1000*  $J142 * Data!$B$6)),  (AI$12*1000*1000/(((AG$242+AH$242+AG$243+AH$243)/Denscalc($J142))*1000*  $J142 * Data!$B$6)) ), 0     ),  0)","v":0},119,null,null,{"$f":"IF(AND($A142<>\"\",(AK142+AL142)>0), IF($F142=\"Nej\",    IF(AL$13=\"Nm3\",(AM$12*1000*1000/((AK$242+AL$242+AK$243+AL$243)*1000*  $J142 * Data!$B$6)),  (AM$12*1000*1000/(((AK$242+AL$242+AK$243+AL$243)/Denscalc($J142))*1000*  $J142 * Data!$B$6)) ), 0     ),  0)","v":0},119,null,null,{"$f":"IF(AND($A142<>\"\",(AO142+AP142)>0), IF($F142=\"Nej\",    IF(AP$13=\"Nm3\",(AQ$12*1000*1000/((AO$242+AP$242+AO$243+AP$243)*1000*  $J142 * Data!$B$6)),  (AQ$12*1000*1000/(((AO$242+AP$242+AO$243+AP$243)/Denscalc($J142))*1000*  $J142 * Data!$B$6)) ), 0     ),  0)","v":0},119,null,null,{"$f":"IF(AND($A142<>\"\",(AS142+AT142)>0), IF($F142=\"Nej\",    IF(AT$13=\"Nm3\",(AU$12*1000*1000/((AS$242+AT$242+AS$243+AT$243)*1000*  $J142 * Data!$B$6)),  (AU$12*1000*1000/(((AS$242+AT$242+AS$243+AT$243)/Denscalc($J142))*1000*  $J142 * Data!$B$6)) ), 0     ),  0)","v":0},119,null,null,{"$f":"IF(AND($A142<>\"\",(AW142+AX142)>0), IF($F142=\"Nej\",\nIF(AX$13=\"Nm3\",(AY$12*1000*1000/((AW$242+AX$242+AW$243+AX$243-AW$240-AX$240)*1000*  $J142 * Data!$B$6))+(AY$6*1000*1000/((AW$242+AX$242+AW$243+AX$243)*1000*  $J142 * Data!$B$6)),\n (AY$12*1000*1000/(((AW$242+AX$242+AW$243+AX$243-AW$240-AX$240)/Denscalc($J142))*1000*  $J142 * Data!$B$6))  +  (AY$6*1000*1000/(((AW$242+AX$242+AW$243+AX$243)/Denscalc($J142))*1000*  $J142 * Data!$B$6)) ), 0     ),  0)","v":0},119,null,null,{"$f":"IF(AND($A142<>\"\",(BA142+BB142)>0), IF($F142=\"Nej\",\n (BC$12*1000*1000/((BA$244+BB$244-BA$240-BB$240)*1000* Data!$B$7))+ (BC$6*1000*1000/((BA$244+BB$244)*1000* Data!$B$7)),0 ),  0)","v":0},119,"",{"$f":"IF(A142<>\"\",IF(F142=\"Nej\", (Data!$B$129*Data!$B$5*1000*Data!$B$3)/Data!$B$6,  0 ),\"\")","v":""},"","",{"$f":"IF(A142<>\"\",IF(BH142>0,  IF(BE142=\"Nej\",    (Data!$B$8-BH142)/Data!$B$8,  ROUND( (Data!$B$8-BH142)/Data!$B$8,2)),      \"\"),\"\")","v":""},"","","","",{"$f":"IF(A142<>\"\", IF(H142=\"Flytande\",   IF(BM142>0,  IF(BE142=\"Nej\",  (Data!$B$8-BM142)/Data!$B$8,  ROUND( (Data!$B$8-BM142)/Data!$B$8,2)   ), \"\"), \"\"),\"\")","v":""},"",119,"","","",null,""]
[null,120,null,"",null,null,null,null,null,null,null,null,null,null,{"$f":"IF(AND($A143<>\"\",(M143+N143)>0), IF($F143=\"Nej\",    IF(N$13=\"Nm3\",(O$12*1000*1000/((M$242+N$242+M$243+N$243)*1000*  $J143 * Data!$B$6)),  (O$12*1000*1000/(((M$242+N$242+M$243+N$243)/Denscalc($J143))*1000*  $J143 * Data!$B$6)) ), 0     ),  0)","v":0},120,null,null,{"$f":"IF(AND($A143<>\"\",(Q143+R143)>0), IF($F143=\"Nej\",    IF(R$13=\"Nm3\",(S$12*1000*1000/((Q$242+R$242+Q$243+R$243)*1000*  $J143 * Data!$B$6)),  (S$12*1000*1000/(((Q$242+R$242+Q$243+R$243)/Denscalc($J143))*1000*  $J143 * Data!$B$6)) ), 0     ),  0)","v":0},120,null,null,{"$f":"IF(AND($A143<>\"\",(U143+V143)>0), IF($F143=\"Nej\",    IF(V$13=\"Nm3\",(W$12*1000*1000/((U$242+V$242+U$243+V$243)*1000*  $J143 * Data!$B$6)),  (W$12*1000*1000/(((U$242+V$242+U$243+V$243)/Denscalc($J143))*1000*  $J143 * Data!$B$6)) ), 0     ),  0)","v":0},120,null,null,{"$f":"IF(AND($A143<>\"\",(Y143+Z143)>0), IF($F143=\"Nej\",    IF(Z$13=\"Nm3\",(AA$12*1000*1000/((Y$242+Z$242+Y$243+Z$243)*1000*  $J143 * Data!$B$6)),  (AA$12*1000*1000/(((Y$242+Z$242+Y$243+Z$243)/Denscalc($J143))*1000*  $J143 * Data!$B$6)) ), 0     ),  0)","v":0},120,null,null,{"$f":"IF(AND($A143<>\"\",(AC143+AD143)>0), IF($F143=\"Nej\",    IF(AD$13=\"Nm3\",(AE$12*1000*1000/((AC$242+AD$242+AC$243+AD$243)*1000*  $J143 * Data!$B$6)),  (AE$12*1000*1000/(((AC$242+AD$242+AC$243+AD$243)/Denscalc($J143))*1000*  $J143 * Data!$B$6)) ), 0     ),  0)","v":0},120,null,null,{"$f":"IF(AND($A143<>\"\",(AG143+AH143)>0), IF($F143=\"Nej\",    IF(AH$13=\"Nm3\",(AI$12*1000*1000/((AG$242+AH$242+AG$243+AH$243)*1000*  $J143 * Data!$B$6)),  (AI$12*1000*1000/(((AG$242+AH$242+AG$243+AH$243)/Denscalc($J143))*1000*  $J143 * Data!$B$6)) ), 0     ),  0)","v":0},120,null,null,{"$f":"IF(AND($A143<>\"\",(AK143+AL143)>0), IF($F143=\"Nej\",    IF(AL$13=\"Nm3\",(AM$12*1000*1000/((AK$242+AL$242+AK$243+AL$243)*1000*  $J143 * Data!$B$6)),  (AM$12*1000*1000/(((AK$242+AL$242+AK$243+AL$243)/Denscalc($J143))*1000*  $J143 * Data!$B$6)) ), 0     ),  0)","v":0},120,null,null,{"$f":"IF(AND($A143<>\"\",(AO143+AP143)>0), IF($F143=\"Nej\",    IF(AP$13=\"Nm3\",(AQ$12*1000*1000/((AO$242+AP$242+AO$243+AP$243)*1000*  $J143 * Data!$B$6)),  (AQ$12*1000*1000/(((AO$242+AP$242+AO$243+AP$243)/Denscalc($J143))*1000*  $J143 * Data!$B$6)) ), 0     ),  0)","v":0},120,null,null,{"$f":"IF(AND($A143<>\"\",(AS143+AT143)>0), IF($F143=\"Nej\",    IF(AT$13=\"Nm3\",(AU$12*1000*1000/((AS$242+AT$242+AS$243+AT$243)*1000*  $J143 * Data!$B$6)),  (AU$12*1000*1000/(((AS$242+AT$242+AS$243+AT$243)/Denscalc($J143))*1000*  $J143 * Data!$B$6)) ), 0     ),  0)","v":0},120,null,null,{"$f":"IF(AND($A143<>\"\",(AW143+AX143)>0), IF($F143=\"Nej\",\nIF(AX$13=\"Nm3\",(AY$12*1000*1000/((AW$242+AX$242+AW$243+AX$243-AW$240-AX$240)*1000*  $J143 * Data!$B$6))+(AY$6*1000*1000/((AW$242+AX$242+AW$243+AX$243)*1000*  $J143 * Data!$B$6)),\n (AY$12*1000*1000/(((AW$242+AX$242+AW$243+AX$243-AW$240-AX$240)/Denscalc($J143))*1000*  $J143 * Data!$B$6))  +  (AY$6*1000*1000/(((AW$242+AX$242+AW$243+AX$243)/Denscalc($J143))*1000*  $J143 * Data!$B$6)) ), 0     ),  0)","v":0},120,null,null,{"$f":"IF(AND($A143<>\"\",(BA143+BB143)>0), IF($F143=\"Nej\",\n (BC$12*1000*1000/((BA$244+BB$244-BA$240-BB$240)*1000* Data!$B$7))+ (BC$6*1000*1000/((BA$244+BB$244)*1000* Data!$B$7)),0 ),  0)","v":0},120,"",{"$f":"IF(A143<>\"\",IF(F143=\"Nej\", (Data!$B$129*Data!$B$5*1000*Data!$B$3)/Data!$B$6,  0 ),\"\")","v":""},"","",{"$f":"IF(A143<>\"\",IF(BH143>0,  IF(BE143=\"Nej\",    (Data!$B$8-BH143)/Data!$B$8,  ROUND( (Data!$B$8-BH143)/Data!$B$8,2)),      \"\"),\"\")","v":""},"","","","",{"$f":"IF(A143<>\"\", IF(H143=\"Flytande\",   IF(BM143>0,  IF(BE143=\"Nej\",  (Data!$B$8-BM143)/Data!$B$8,  ROUND( (Data!$B$8-BM143)/Data!$B$8,2)   ), \"\"), \"\"),\"\")","v":""},"",120,"","","",null,""]
[null,121,null,"",null,null,null,null,null,null,null,null,null,null,{"$f":"IF(AND($A144<>\"\",(M144+N144)>0), IF($F144=\"Nej\",    IF(N$13=\"Nm3\",(O$12*1000*1000/((M$242+N$242+M$243+N$243)*1000*  $J144 * Data!$B$6)),  (O$12*1000*1000/(((M$242+N$242+M$243+N$243)/Denscalc($J144))*1000*  $J144 * Data!$B$6)) ), 0     ),  0)","v":0},121,null,null,{"$f":"IF(AND($A144<>\"\",(Q144+R144)>0), IF($F144=\"Nej\",    IF(R$13=\"Nm3\",(S$12*1000*1000/((Q$242+R$242+Q$243+R$243)*1000*  $J144 * Data!$B$6)),  (S$12*1000*1000/(((Q$242+R$242+Q$243+R$243)/Denscalc($J144))*1000*  $J144 * Data!$B$6)) ), 0     ),  0)","v":0},121,null,null,{"$f":"IF(AND($A144<>\"\",(U144+V144)>0), IF($F144=\"Nej\",    IF(V$13=\"Nm3\",(W$12*1000*1000/((U$242+V$242+U$243+V$243)*1000*  $J144 * Data!$B$6)),  (W$12*1000*1000/(((U$242+V$242+U$243+V$243)/Denscalc($J144))*1000*  $J144 * Data!$B$6)) ), 0     ),  0)","v":0},121,null,null,{"$f":"IF(AND($A144<>\"\",(Y144+Z144)>0), IF($F144=\"Nej\",    IF(Z$13=\"Nm3\",(AA$12*1000*1000/((Y$242+Z$242+Y$243+Z$243)*1000*  $J144 * Data!$B$6)),  (AA$12*1000*1000/(((Y$242+Z$242+Y$243+Z$243)/Denscalc($J144))*1000*  $J144 * Data!$B$6)) ), 0     ),  0)","v":0},121,null,null,{"$f":"IF(AND($A144<>\"\",(AC144+AD144)>0), IF($F144=\"Nej\",    IF(AD$13=\"Nm3\",(AE$12*1000*1000/((AC$242+AD$242+AC$243+AD$243)*1000*  $J144 * Data!$B$6)),  (AE$12*1000*1000/(((AC$242+AD$242+AC$243+AD$243)/Denscalc($J144))*1000*  $J144 * Data!$B$6)) ), 0     ),  0)","v":0},121,null,null,{"$f":"IF(AND($A144<>\"\",(AG144+AH144)>0), IF($F144=\"Nej\",    IF(AH$13=\"Nm3\",(AI$12*1000*1000/((AG$242+AH$242+AG$243+AH$243)*1000*  $J144 * Data!$B$6)),  (AI$12*1000*1000/(((AG$242+AH$242+AG$243+AH$243)/Denscalc($J144))*1000*  $J144 * Data!$B$6)) ), 0     ),  0)","v":0},121,null,null,{"$f":"IF(AND($A144<>\"\",(AK144+AL144)>0), IF($F144=\"Nej\",    IF(AL$13=\"Nm3\",(AM$12*1000*1000/((AK$242+AL$242+AK$243+AL$243)*1000*  $J144 * Data!$B$6)),  (AM$12*1000*1000/(((AK$242+AL$242+AK$243+AL$243)/Denscalc($J144))*1000*  $J144 * Data!$B$6)) ), 0     ),  0)","v":0},121,null,null,{"$f":"IF(AND($A144<>\"\",(AO144+AP144)>0), IF($F144=\"Nej\",    IF(AP$13=\"Nm3\",(AQ$12*1000*1000/((AO$242+AP$242+AO$243+AP$243)*1000*  $J144 * Data!$B$6)),  (AQ$12*1000*1000/(((AO$242+AP$242+AO$243+AP$243)/Denscalc($J144))*1000*  $J144 * Data!$B$6)) ), 0     ),  0)","v":0},121,null,null,{"$f":"IF(AND($A144<>\"\",(AS144+AT144)>0), IF($F144=\"Nej\",    IF(AT$13=\"Nm3\",(AU$12*1000*1000/((AS$242+AT$242+AS$243+AT$243)*1000*  $J144 * Data!$B$6)),  (AU$12*1000*1000/(((AS$242+AT$242+AS$243+AT$243)/Denscalc($J144))*1000*  $J144 * Data!$B$6)) ), 0     ),  0)","v":0},121,null,null,{"$f":"IF(AND($A144<>\"\",(AW144+AX144)>0), IF($F144=\"Nej\",\nIF(AX$13=\"Nm3\",(AY$12*1000*1000/((AW$242+AX$242+AW$243+AX$243-AW$240-AX$240)*1000*  $J144 * Data!$B$6))+(AY$6*1000*1000/((AW$242+AX$242+AW$243+AX$243)*1000*  $J144 * Data!$B$6)),\n (AY$12*1000*1000/(((AW$242+AX$242+AW$243+AX$243-AW$240-AX$240)/Denscalc($J144))*1000*  $J144 * Data!$B$6))  +  (AY$6*1000*1000/(((AW$242+AX$242+AW$243+AX$243)/Denscalc($J144))*1000*  $J144 * Data!$B$6)) ), 0     ),  0)","v":0},121,null,null,{"$f":"IF(AND($A144<>\"\",(BA144+BB144)>0), IF($F144=\"Nej\",\n (BC$12*1000*1000/((BA$244+BB$244-BA$240-BB$240)*1000* Data!$B$7))+ (BC$6*1000*1000/((BA$244+BB$244)*1000* Data!$B$7)),0 ),  0)","v":0},121,"",{"$f":"IF(A144<>\"\",IF(F144=\"Nej\", (Data!$B$129*Data!$B$5*1000*Data!$B$3)/Data!$B$6,  0 ),\"\")","v":""},"","",{"$f":"IF(A144<>\"\",IF(BH144>0,  IF(BE144=\"Nej\",    (Data!$B$8-BH144)/Data!$B$8,  ROUND( (Data!$B$8-BH144)/Data!$B$8,2)),      \"\"),\"\")","v":""},"","","","",{"$f":"IF(A144<>\"\", IF(H144=\"Flytande\",   IF(BM144>0,  IF(BE144=\"Nej\",  (Data!$B$8-BM144)/Data!$B$8,  ROUND( (Data!$B$8-BM144)/Data!$B$8,2)   ), \"\"), \"\"),\"\")","v":""},"",121,"","","",null,""]
[null,122,null,"",null,null,null,null,null,null,null,null,null,null,{"$f":"IF(AND($A145<>\"\",(M145+N145)>0), IF($F145=\"Nej\",    IF(N$13=\"Nm3\",(O$12*1000*1000/((M$242+N$242+M$243+N$243)*1000*  $J145 * Data!$B$6)),  (O$12*1000*1000/(((M$242+N$242+M$243+N$243)/Denscalc($J145))*1000*  $J145 * Data!$B$6)) ), 0     ),  0)","v":0},122,null,null,{"$f":"IF(AND($A145<>\"\",(Q145+R145)>0), IF($F145=\"Nej\",    IF(R$13=\"Nm3\",(S$12*1000*1000/((Q$242+R$242+Q$243+R$243)*1000*  $J145 * Data!$B$6)),  (S$12*1000*1000/(((Q$242+R$242+Q$243+R$243)/Denscalc($J145))*1000*  $J145 * Data!$B$6)) ), 0     ),  0)","v":0},122,null,null,{"$f":"IF(AND($A145<>\"\",(U145+V145)>0), IF($F145=\"Nej\",    IF(V$13=\"Nm3\",(W$12*1000*1000/((U$242+V$242+U$243+V$243)*1000*  $J145 * Data!$B$6)),  (W$12*1000*1000/(((U$242+V$242+U$243+V$243)/Denscalc($J145))*1000*  $J145 * Data!$B$6)) ), 0     ),  0)","v":0},122,null,null,{"$f":"IF(AND($A145<>\"\",(Y145+Z145)>0), IF($F145=\"Nej\",    IF(Z$13=\"Nm3\",(AA$12*1000*1000/((Y$242+Z$242+Y$243+Z$243)*1000*  $J145 * Data!$B$6)),  (AA$12*1000*1000/(((Y$242+Z$242+Y$243+Z$243)/Denscalc($J145))*1000*  $J145 * Data!$B$6)) ), 0     ),  0)","v":0},122,null,null,{"$f":"IF(AND($A145<>\"\",(AC145+AD145)>0), IF($F145=\"Nej\",    IF(AD$13=\"Nm3\",(AE$12*1000*1000/((AC$242+AD$242+AC$243+AD$243)*1000*  $J145 * Data!$B$6)),  (AE$12*1000*1000/(((AC$242+AD$242+AC$243+AD$243)/Denscalc($J145))*1000*  $J145 * Data!$B$6)) ), 0     ),  0)","v":0},122,null,null,{"$f":"IF(AND($A145<>\"\",(AG145+AH145)>0), IF($F145=\"Nej\",    IF(AH$13=\"Nm3\",(AI$12*1000*1000/((AG$242+AH$242+AG$243+AH$243)*1000*  $J145 * Data!$B$6)),  (AI$12*1000*1000/(((AG$242+AH$242+AG$243+AH$243)/Denscalc($J145))*1000*  $J145 * Data!$B$6)) ), 0     ),  0)","v":0},122,null,null,{"$f":"IF(AND($A145<>\"\",(AK145+AL145)>0), IF($F145=\"Nej\",    IF(AL$13=\"Nm3\",(AM$12*1000*1000/((AK$242+AL$242+AK$243+AL$243)*1000*  $J145 * Data!$B$6)),  (AM$12*1000*1000/(((AK$242+AL$242+AK$243+AL$243)/Denscalc($J145))*1000*  $J145 * Data!$B$6)) ), 0     ),  0)","v":0},122,null,null,{"$f":"IF(AND($A145<>\"\",(AO145+AP145)>0), IF($F145=\"Nej\",    IF(AP$13=\"Nm3\",(AQ$12*1000*1000/((AO$242+AP$242+AO$243+AP$243)*1000*  $J145 * Data!$B$6)),  (AQ$12*1000*1000/(((AO$242+AP$242+AO$243+AP$243)/Denscalc($J145))*1000*  $J145 * Data!$B$6)) ), 0     ),  0)","v":0},122,null,null,{"$f":"IF(AND($A145<>\"\",(AS145+AT145)>0), IF($F145=\"Nej\",    IF(AT$13=\"Nm3\",(AU$12*1000*1000/((AS$242+AT$242+AS$243+AT$243)*1000*  $J145 * Data!$B$6)),  (AU$12*1000*1000/(((AS$242+AT$242+AS$243+AT$243)/Denscalc($J145))*1000*  $J145 * Data!$B$6)) ), 0     ),  0)","v":0},122,null,null,{"$f":"IF(AND($A145<>\"\",(AW145+AX145)>0), IF($F145=\"Nej\",\nIF(AX$13=\"Nm3\",(AY$12*1000*1000/((AW$242+AX$242+AW$243+AX$243-AW$240-AX$240)*1000*  $J145 * Data!$B$6))+(AY$6*1000*1000/((AW$242+AX$242+AW$243+AX$243)*1000*  $J145 * Data!$B$6)),\n (AY$12*1000*1000/(((AW$242+AX$242+AW$243+AX$243-AW$240-AX$240)/Denscalc($J145))*1000*  $J145 * Data!$B$6))  +  (AY$6*1000*1000/(((AW$242+AX$242+AW$243+AX$243)/Denscalc($J145))*1000*  $J145 * Data!$B$6)) ), 0     ),  0)","v":0},122,null,null,{"$f":"IF(AND($A145<>\"\",(BA145+BB145)>0), IF($F145=\"Nej\",\n (BC$12*1000*1000/((BA$244+BB$244-BA$240-BB$240)*1000* Data!$B$7))+ (BC$6*1000*1000/((BA$244+BB$244)*1000* Data!$B$7)),0 ),  0)","v":0},122,"",{"$f":"IF(A145<>\"\",IF(F145=\"Nej\", (Data!$B$129*Data!$B$5*1000*Data!$B$3)/Data!$B$6,  0 ),\"\")","v":""},"","",{"$f":"IF(A145<>\"\",IF(BH145>0,  IF(BE145=\"Nej\",    (Data!$B$8-BH145)/Data!$B$8,  ROUND( (Data!$B$8-BH145)/Data!$B$8,2)),      \"\"),\"\")","v":""},"","","","",{"$f":"IF(A145<>\"\", IF(H145=\"Flytande\",   IF(BM145>0,  IF(BE145=\"Nej\",  (Data!$B$8-BM145)/Data!$B$8,  ROUND( (Data!$B$8-BM145)/Data!$B$8,2)   ), \"\"), \"\"),\"\")","v":""},"",122,"","","",null,""]
[null,123,null,"",null,null,null,null,null,null,null,null,null,null,{"$f":"IF(AND($A146<>\"\",(M146+N146)>0), IF($F146=\"Nej\",    IF(N$13=\"Nm3\",(O$12*1000*1000/((M$242+N$242+M$243+N$243)*1000*  $J146 * Data!$B$6)),  (O$12*1000*1000/(((M$242+N$242+M$243+N$243)/Denscalc($J146))*1000*  $J146 * Data!$B$6)) ), 0     ),  0)","v":0},123,null,null,{"$f":"IF(AND($A146<>\"\",(Q146+R146)>0), IF($F146=\"Nej\",    IF(R$13=\"Nm3\",(S$12*1000*1000/((Q$242+R$242+Q$243+R$243)*1000*  $J146 * Data!$B$6)),  (S$12*1000*1000/(((Q$242+R$242+Q$243+R$243)/Denscalc($J146))*1000*  $J146 * Data!$B$6)) ), 0     ),  0)","v":0},123,null,null,{"$f":"IF(AND($A146<>\"\",(U146+V146)>0), IF($F146=\"Nej\",    IF(V$13=\"Nm3\",(W$12*1000*1000/((U$242+V$242+U$243+V$243)*1000*  $J146 * Data!$B$6)),  (W$12*1000*1000/(((U$242+V$242+U$243+V$243)/Denscalc($J146))*1000*  $J146 * Data!$B$6)) ), 0     ),  0)","v":0},123,null,null,{"$f":"IF(AND($A146<>\"\",(Y146+Z146)>0), IF($F146=\"Nej\",    IF(Z$13=\"Nm3\",(AA$12*1000*1000/((Y$242+Z$242+Y$243+Z$243)*1000*  $J146 * Data!$B$6)),  (AA$12*1000*1000/(((Y$242+Z$242+Y$243+Z$243)/Denscalc($J146))*1000*  $J146 * Data!$B$6)) ), 0     ),  0)","v":0},123,null,null,{"$f":"IF(AND($A146<>\"\",(AC146+AD146)>0), IF($F146=\"Nej\",    IF(AD$13=\"Nm3\",(AE$12*1000*1000/((AC$242+AD$242+AC$243+AD$243)*1000*  $J146 * Data!$B$6)),  (AE$12*1000*1000/(((AC$242+AD$242+AC$243+AD$243)/Denscalc($J146))*1000*  $J146 * Data!$B$6)) ), 0     ),  0)","v":0},123,null,null,{"$f":"IF(AND($A146<>\"\",(AG146+AH146)>0), IF($F146=\"Nej\",    IF(AH$13=\"Nm3\",(AI$12*1000*1000/((AG$242+AH$242+AG$243+AH$243)*1000*  $J146 * Data!$B$6)),  (AI$12*1000*1000/(((AG$242+AH$242+AG$243+AH$243)/Denscalc($J146))*1000*  $J146 * Data!$B$6)) ), 0     ),  0)","v":0},123,null,null,{"$f":"IF(AND($A146<>\"\",(AK146+AL146)>0), IF($F146=\"Nej\",    IF(AL$13=\"Nm3\",(AM$12*1000*1000/((AK$242+AL$242+AK$243+AL$243)*1000*  $J146 * Data!$B$6)),  (AM$12*1000*1000/(((AK$242+AL$242+AK$243+AL$243)/Denscalc($J146))*1000*  $J146 * Data!$B$6)) ), 0     ),  0)","v":0},123,null,null,{"$f":"IF(AND($A146<>\"\",(AO146+AP146)>0), IF($F146=\"Nej\",    IF(AP$13=\"Nm3\",(AQ$12*1000*1000/((AO$242+AP$242+AO$243+AP$243)*1000*  $J146 * Data!$B$6)),  (AQ$12*1000*1000/(((AO$242+AP$242+AO$243+AP$243)/Denscalc($J146))*1000*  $J146 * Data!$B$6)) ), 0     ),  0)","v":0},123,null,null,{"$f":"IF(AND($A146<>\"\",(AS146+AT146)>0), IF($F146=\"Nej\",    IF(AT$13=\"Nm3\",(AU$12*1000*1000/((AS$242+AT$242+AS$243+AT$243)*1000*  $J146 * Data!$B$6)),  (AU$12*1000*1000/(((AS$242+AT$242+AS$243+AT$243)/Denscalc($J146))*1000*  $J146 * Data!$B$6)) ), 0     ),  0)","v":0},123,null,null,{"$f":"IF(AND($A146<>\"\",(AW146+AX146)>0), IF($F146=\"Nej\",\nIF(AX$13=\"Nm3\",(AY$12*1000*1000/((AW$242+AX$242+AW$243+AX$243-AW$240-AX$240)*1000*  $J146 * Data!$B$6))+(AY$6*1000*1000/((AW$242+AX$242+AW$243+AX$243)*1000*  $J146 * Data!$B$6)),\n (AY$12*1000*1000/(((AW$242+AX$242+AW$243+AX$243-AW$240-AX$240)/Denscalc($J146))*1000*  $J146 * Data!$B$6))  +  (AY$6*1000*1000/(((AW$242+AX$242+AW$243+AX$243)/Denscalc($J146))*1000*  $J146 * Data!$B$6)) ), 0     ),  0)","v":0},123,null,null,{"$f":"IF(AND($A146<>\"\",(BA146+BB146)>0), IF($F146=\"Nej\",\n (BC$12*1000*1000/((BA$244+BB$244-BA$240-BB$240)*1000* Data!$B$7))+ (BC$6*1000*1000/((BA$244+BB$244)*1000* Data!$B$7)),0 ),  0)","v":0},123,"",{"$f":"IF(A146<>\"\",IF(F146=\"Nej\", (Data!$B$129*Data!$B$5*1000*Data!$B$3)/Data!$B$6,  0 ),\"\")","v":""},"","",{"$f":"IF(A146<>\"\",IF(BH146>0,  IF(BE146=\"Nej\",    (Data!$B$8-BH146)/Data!$B$8,  ROUND( (Data!$B$8-BH146)/Data!$B$8,2)),      \"\"),\"\")","v":""},"","","","",{"$f":"IF(A146<>\"\", IF(H146=\"Flytande\",   IF(BM146>0,  IF(BE146=\"Nej\",  (Data!$B$8-BM146)/Data!$B$8,  ROUND( (Data!$B$8-BM146)/Data!$B$8,2)   ), \"\"), \"\"),\"\")","v":""},"",123,"","","",null,""]
[null,124,null,"",null,null,null,null,null,null,null,null,null,null,{"$f":"IF(AND($A147<>\"\",(M147+N147)>0), IF($F147=\"Nej\",    IF(N$13=\"Nm3\",(O$12*1000*1000/((M$242+N$242+M$243+N$243)*1000*  $J147 * Data!$B$6)),  (O$12*1000*1000/(((M$242+N$242+M$243+N$243)/Denscalc($J147))*1000*  $J147 * Data!$B$6)) ), 0     ),  0)","v":0},124,null,null,{"$f":"IF(AND($A147<>\"\",(Q147+R147)>0), IF($F147=\"Nej\",    IF(R$13=\"Nm3\",(S$12*1000*1000/((Q$242+R$242+Q$243+R$243)*1000*  $J147 * Data!$B$6)),  (S$12*1000*1000/(((Q$242+R$242+Q$243+R$243)/Denscalc($J147))*1000*  $J147 * Data!$B$6)) ), 0     ),  0)","v":0},124,null,null,{"$f":"IF(AND($A147<>\"\",(U147+V147)>0), IF($F147=\"Nej\",    IF(V$13=\"Nm3\",(W$12*1000*1000/((U$242+V$242+U$243+V$243)*1000*  $J147 * Data!$B$6)),  (W$12*1000*1000/(((U$242+V$242+U$243+V$243)/Denscalc($J147))*1000*  $J147 * Data!$B$6)) ), 0     ),  0)","v":0},124,null,null,{"$f":"IF(AND($A147<>\"\",(Y147+Z147)>0), IF($F147=\"Nej\",    IF(Z$13=\"Nm3\",(AA$12*1000*1000/((Y$242+Z$242+Y$243+Z$243)*1000*  $J147 * Data!$B$6)),  (AA$12*1000*1000/(((Y$242+Z$242+Y$243+Z$243)/Denscalc($J147))*1000*  $J147 * Data!$B$6)) ), 0     ),  0)","v":0},124,null,null,{"$f":"IF(AND($A147<>\"\",(AC147+AD147)>0), IF($F147=\"Nej\",    IF(AD$13=\"Nm3\",(AE$12*1000*1000/((AC$242+AD$242+AC$243+AD$243)*1000*  $J147 * Data!$B$6)),  (AE$12*1000*1000/(((AC$242+AD$242+AC$243+AD$243)/Denscalc($J147))*1000*  $J147 * Data!$B$6)) ), 0     ),  0)","v":0},124,null,null,{"$f":"IF(AND($A147<>\"\",(AG147+AH147)>0), IF($F147=\"Nej\",    IF(AH$13=\"Nm3\",(AI$12*1000*1000/((AG$242+AH$242+AG$243+AH$243)*1000*  $J147 * Data!$B$6)),  (AI$12*1000*1000/(((AG$242+AH$242+AG$243+AH$243)/Denscalc($J147))*1000*  $J147 * Data!$B$6)) ), 0     ),  0)","v":0},124,null,null,{"$f":"IF(AND($A147<>\"\",(AK147+AL147)>0), IF($F147=\"Nej\",    IF(AL$13=\"Nm3\",(AM$12*1000*1000/((AK$242+AL$242+AK$243+AL$243)*1000*  $J147 * Data!$B$6)),  (AM$12*1000*1000/(((AK$242+AL$242+AK$243+AL$243)/Denscalc($J147))*1000*  $J147 * Data!$B$6)) ), 0     ),  0)","v":0},124,null,null,{"$f":"IF(AND($A147<>\"\",(AO147+AP147)>0), IF($F147=\"Nej\",    IF(AP$13=\"Nm3\",(AQ$12*1000*1000/((AO$242+AP$242+AO$243+AP$243)*1000*  $J147 * Data!$B$6)),  (AQ$12*1000*1000/(((AO$242+AP$242+AO$243+AP$243)/Denscalc($J147))*1000*  $J147 * Data!$B$6)) ), 0     ),  0)","v":0},124,null,null,{"$f":"IF(AND($A147<>\"\",(AS147+AT147)>0), IF($F147=\"Nej\",    IF(AT$13=\"Nm3\",(AU$12*1000*1000/((AS$242+AT$242+AS$243+AT$243)*1000*  $J147 * Data!$B$6)),  (AU$12*1000*1000/(((AS$242+AT$242+AS$243+AT$243)/Denscalc($J147))*1000*  $J147 * Data!$B$6)) ), 0     ),  0)","v":0},124,null,null,{"$f":"IF(AND($A147<>\"\",(AW147+AX147)>0), IF($F147=\"Nej\",\nIF(AX$13=\"Nm3\",(AY$12*1000*1000/((AW$242+AX$242+AW$243+AX$243-AW$240-AX$240)*1000*  $J147 * Data!$B$6))+(AY$6*1000*1000/((AW$242+AX$242+AW$243+AX$243)*1000*  $J147 * Data!$B$6)),\n (AY$12*1000*1000/(((AW$242+AX$242+AW$243+AX$243-AW$240-AX$240)/Denscalc($J147))*1000*  $J147 * Data!$B$6))  +  (AY$6*1000*1000/(((AW$242+AX$242+AW$243+AX$243)/Denscalc($J147))*1000*  $J147 * Data!$B$6)) ), 0     ),  0)","v":0},124,null,null,{"$f":"IF(AND($A147<>\"\",(BA147+BB147)>0), IF($F147=\"Nej\",\n (BC$12*1000*1000/((BA$244+BB$244-BA$240-BB$240)*1000* Data!$B$7))+ (BC$6*1000*1000/((BA$244+BB$244)*1000* Data!$B$7)),0 ),  0)","v":0},124,"",{"$f":"IF(A147<>\"\",IF(F147=\"Nej\", (Data!$B$129*Data!$B$5*1000*Data!$B$3)/Data!$B$6,  0 ),\"\")","v":""},"","",{"$f":"IF(A147<>\"\",IF(BH147>0,  IF(BE147=\"Nej\",    (Data!$B$8-BH147)/Data!$B$8,  ROUND( (Data!$B$8-BH147)/Data!$B$8,2)),      \"\"),\"\")","v":""},"","","","",{"$f":"IF(A147<>\"\", IF(H147=\"Flytande\",   IF(BM147>0,  IF(BE147=\"Nej\",  (Data!$B$8-BM147)/Data!$B$8,  ROUND( (Data!$B$8-BM147)/Data!$B$8,2)   ), \"\"), \"\"),\"\")","v":""},"",124,"","","",null,""]
[null,125,null,"",null,null,null,null,null,null,null,null,null,null,{"$f":"IF(AND($A148<>\"\",(M148+N148)>0), IF($F148=\"Nej\",    IF(N$13=\"Nm3\",(O$12*1000*1000/((M$242+N$242+M$243+N$243)*1000*  $J148 * Data!$B$6)),  (O$12*1000*1000/(((M$242+N$242+M$243+N$243)/Denscalc($J148))*1000*  $J148 * Data!$B$6)) ), 0     ),  0)","v":0},125,null,null,{"$f":"IF(AND($A148<>\"\",(Q148+R148)>0), IF($F148=\"Nej\",    IF(R$13=\"Nm3\",(S$12*1000*1000/((Q$242+R$242+Q$243+R$243)*1000*  $J148 * Data!$B$6)),  (S$12*1000*1000/(((Q$242+R$242+Q$243+R$243)/Denscalc($J148))*1000*  $J148 * Data!$B$6)) ), 0     ),  0)","v":0},125,null,null,{"$f":"IF(AND($A148<>\"\",(U148+V148)>0), IF($F148=\"Nej\",    IF(V$13=\"Nm3\",(W$12*1000*1000/((U$242+V$242+U$243+V$243)*1000*  $J148 * Data!$B$6)),  (W$12*1000*1000/(((U$242+V$242+U$243+V$243)/Denscalc($J148))*1000*  $J148 * Data!$B$6)) ), 0     ),  0)","v":0},125,null,null,{"$f":"IF(AND($A148<>\"\",(Y148+Z148)>0), IF($F148=\"Nej\",    IF(Z$13=\"Nm3\",(AA$12*1000*1000/((Y$242+Z$242+Y$243+Z$243)*1000*  $J148 * Data!$B$6)),  (AA$12*1000*1000/(((Y$242+Z$242+Y$243+Z$243)/Denscalc($J148))*1000*  $J148 * Data!$B$6)) ), 0     ),  0)","v":0},125,null,null,{"$f":"IF(AND($A148<>\"\",(AC148+AD148)>0), IF($F148=\"Nej\",    IF(AD$13=\"Nm3\",(AE$12*1000*1000/((AC$242+AD$242+AC$243+AD$243)*1000*  $J148 * Data!$B$6)),  (AE$12*1000*1000/(((AC$242+AD$242+AC$243+AD$243)/Denscalc($J148))*1000*  $J148 * Data!$B$6)) ), 0     ),  0)","v":0},125,null,null,{"$f":"IF(AND($A148<>\"\",(AG148+AH148)>0), IF($F148=\"Nej\",    IF(AH$13=\"Nm3\",(AI$12*1000*1000/((AG$242+AH$242+AG$243+AH$243)*1000*  $J148 * Data!$B$6)),  (AI$12*1000*1000/(((AG$242+AH$242+AG$243+AH$243)/Denscalc($J148))*1000*  $J148 * Data!$B$6)) ), 0     ),  0)","v":0},125,null,null,{"$f":"IF(AND($A148<>\"\",(AK148+AL148)>0), IF($F148=\"Nej\",    IF(AL$13=\"Nm3\",(AM$12*1000*1000/((AK$242+AL$242+AK$243+AL$243)*1000*  $J148 * Data!$B$6)),  (AM$12*1000*1000/(((AK$242+AL$242+AK$243+AL$243)/Denscalc($J148))*1000*  $J148 * Data!$B$6)) ), 0     ),  0)","v":0},125,null,null,{"$f":"IF(AND($A148<>\"\",(AO148+AP148)>0), IF($F148=\"Nej\",    IF(AP$13=\"Nm3\",(AQ$12*1000*1000/((AO$242+AP$242+AO$243+AP$243)*1000*  $J148 * Data!$B$6)),  (AQ$12*1000*1000/(((AO$242+AP$242+AO$243+AP$243)/Denscalc($J148))*1000*  $J148 * Data!$B$6)) ), 0     ),  0)","v":0},125,null,null,{"$f":"IF(AND($A148<>\"\",(AS148+AT148)>0), IF($F148=\"Nej\",    IF(AT$13=\"Nm3\",(AU$12*1000*1000/((AS$242+AT$242+AS$243+AT$243)*1000*  $J148 * Data!$B$6)),  (AU$12*1000*1000/(((AS$242+AT$242+AS$243+AT$243)/Denscalc($J148))*1000*  $J148 * Data!$B$6)) ), 0     ),  0)","v":0},125,null,null,{"$f":"IF(AND($A148<>\"\",(AW148+AX148)>0), IF($F148=\"Nej\",\nIF(AX$13=\"Nm3\",(AY$12*1000*1000/((AW$242+AX$242+AW$243+AX$243-AW$240-AX$240)*1000*  $J148 * Data!$B$6))+(AY$6*1000*1000/((AW$242+AX$242+AW$243+AX$243)*1000*  $J148 * Data!$B$6)),\n (AY$12*1000*1000/(((AW$242+AX$242+AW$243+AX$243-AW$240-AX$240)/Denscalc($J148))*1000*  $J148 * Data!$B$6))  +  (AY$6*1000*1000/(((AW$242+AX$242+AW$243+AX$243)/Denscalc($J148))*1000*  $J148 * Data!$B$6)) ), 0     ),  0)","v":0},125,null,null,{"$f":"IF(AND($A148<>\"\",(BA148+BB148)>0), IF($F148=\"Nej\",\n (BC$12*1000*1000/((BA$244+BB$244-BA$240-BB$240)*1000* Data!$B$7))+ (BC$6*1000*1000/((BA$244+BB$244)*1000* Data!$B$7)),0 ),  0)","v":0},125,"",{"$f":"IF(A148<>\"\",IF(F148=\"Nej\", (Data!$B$129*Data!$B$5*1000*Data!$B$3)/Data!$B$6,  0 ),\"\")","v":""},"",{"$f":"IF(A148<>\"\", IF(BE148=\"Nej\",  (K148+BG148), BE148),\"\")","v":""},{"$f":"IF(A148<>\"\",IF(BH148>0,  IF(BE148=\"Nej\",    (Data!$B$8-BH148)/Data!$B$8,  ROUND( (Data!$B$8-BH148)/Data!$B$8,2)),      \"\"),\"\")","v":""},"",{"$f":"IF(A148<>\"\", SUM(  IF(R$13=\"kg\",Q148,0),  IF(V$13=\"kg\",U148,0),  IF(Z$13=\"kg\",Y148,0),  IF(AD$13=\"kg\",AC148,0), IF(AH$13=\"kg\",AG148,0),  IF(AL$13=\"kg\",AK148,0),  IF(AP$13=\"kg\",AO148,0),  IF(AT$13=\"kg\",AS148,0), IF(AX$13=\"kg\",AW148,0),  ),\"\")","v":""},"","",{"$f":"IF(A148<>\"\", IF(H148=\"Flytande\",   IF(BM148>0,  IF(BE148=\"Nej\",  (Data!$B$8-BM148)/Data!$B$8,  ROUND( (Data!$B$8-BM148)/Data!$B$8,2)   ), \"\"), \"\"),\"\")","v":""},"",125,{"$f":"IF(A148<>\"\", SUM(IF(N$13=\"Nm3\",N148,0),  IF(R$13=\"Nm3\",R148,0),  IF(V$13=\"Nm3\",V148,0),  IF(Z$13=\"Nm3\",Z148,0),  IF(AD$13=\"Nm3\",AD148,0), IF(AH$13=\"Nm3\",AH148,0),  IF(AL$13=\"Nm3\",AL148,0),  IF(AP$13=\"Nm3\",AP148,0),  IF(AT$13=\"Nm3\",AT148,0), IF(AX$13=\"Nm3\",AX148,0),  ),\"\")","v":""},{"$f":"IF(A148<>\"\", SUM(IF(N$13=\"kg\",N148,0),  IF(R$13=\"kg\",R148,0),  IF(V$13=\"kg\",V148,0),  IF(Z$13=\"kg\",Z148,0),  IF(AD$13=\"kg\",AD148,0), IF(AH$13=\"kg\",AH148,0),  IF(AL$13=\"kg\",AL148,0),  IF(AP$13=\"kg\",AP148,0),  IF(AT$13=\"kg\",AT148,0), IF(AX$13=\"kg\",AX148,0),  ),\"\")","v":""},{"$f":"IF(A148<>\"\",BB148,\"\")","v":""},null,{"$f":"IF(A148<>\"\",    IF(H148=\"Gas\", IF(I148=\"kg\", ((BJ148*Denscalc(J148) +BK148+BQ148*Denscalc(J148)+BR148)-G148), ( (BJ148+BK148/Denscalc(J148) + BQ148+BR148/Denscalc(J148))-G148)), ( (   BJ148*Denscalc(J148)+BK148+BO148+BQ148*Denscalc(J148)+BR148+BS148)-G148)  ), \"\")","v":""}]
[null,126,null,"",null,null,null,null,null,null,null,null,null,null,{"$f":"IF(AND($A149<>\"\",(M149+N149)>0), IF($F149=\"Nej\",    IF(N$13=\"Nm3\",(O$12*1000*1000/((M$242+N$242+M$243+N$243)*1000*  $J149 * Data!$B$6)),  (O$12*1000*1000/(((M$242+N$242+M$243+N$243)/Denscalc($J149))*1000*  $J149 * Data!$B$6)) ), 0     ),  0)","v":0},126,null,null,{"$f":"IF(AND($A149<>\"\",(Q149+R149)>0), IF($F149=\"Nej\",    IF(R$13=\"Nm3\",(S$12*1000*1000/((Q$242+R$242+Q$243+R$243)*1000*  $J149 * Data!$B$6)),  (S$12*1000*1000/(((Q$242+R$242+Q$243+R$243)/Denscalc($J149))*1000*  $J149 * Data!$B$6)) ), 0     ),  0)","v":0},126,null,null,{"$f":"IF(AND($A149<>\"\",(U149+V149)>0), IF($F149=\"Nej\",    IF(V$13=\"Nm3\",(W$12*1000*1000/((U$242+V$242+U$243+V$243)*1000*  $J149 * Data!$B$6)),  (W$12*1000*1000/(((U$242+V$242+U$243+V$243)/Denscalc($J149))*1000*  $J149 * Data!$B$6)) ), 0     ),  0)","v":0},126,null,null,{"$f":"IF(AND($A149<>\"\",(Y149+Z149)>0), IF($F149=\"Nej\",    IF(Z$13=\"Nm3\",(AA$12*1000*1000/((Y$242+Z$242+Y$243+Z$243)*1000*  $J149 * Data!$B$6)),  (AA$12*1000*1000/(((Y$242+Z$242+Y$243+Z$243)/Denscalc($J149))*1000*  $J149 * Data!$B$6)) ), 0     ),  0)","v":0},126,null,null,{"$f":"IF(AND($A149<>\"\",(AC149+AD149)>0), IF($F149=\"Nej\",    IF(AD$13=\"Nm3\",(AE$12*1000*1000/((AC$242+AD$242+AC$243+AD$243)*1000*  $J149 * Data!$B$6)),  (AE$12*1000*1000/(((AC$242+AD$242+AC$243+AD$243)/Denscalc($J149))*1000*  $J149 * Data!$B$6)) ), 0     ),  0)","v":0},126,null,null,{"$f":"IF(AND($A149<>\"\",(AG149+AH149)>0), IF($F149=\"Nej\",    IF(AH$13=\"Nm3\",(AI$12*1000*1000/((AG$242+AH$242+AG$243+AH$243)*1000*  $J149 * Data!$B$6)),  (AI$12*1000*1000/(((AG$242+AH$242+AG$243+AH$243)/Denscalc($J149))*1000*  $J149 * Data!$B$6)) ), 0     ),  0)","v":0},126,null,null,{"$f":"IF(AND($A149<>\"\",(AK149+AL149)>0), IF($F149=\"Nej\",    IF(AL$13=\"Nm3\",(AM$12*1000*1000/((AK$242+AL$242+AK$243+AL$243)*1000*  $J149 * Data!$B$6)),  (AM$12*1000*1000/(((AK$242+AL$242+AK$243+AL$243)/Denscalc($J149))*1000*  $J149 * Data!$B$6)) ), 0     ),  0)","v":0},126,null,null,{"$f":"IF(AND($A149<>\"\",(AO149+AP149)>0), IF($F149=\"Nej\",    IF(AP$13=\"Nm3\",(AQ$12*1000*1000/((AO$242+AP$242+AO$243+AP$243)*1000*  $J149 * Data!$B$6)),  (AQ$12*1000*1000/(((AO$242+AP$242+AO$243+AP$243)/Denscalc($J149))*1000*  $J149 * Data!$B$6)) ), 0     ),  0)","v":0},126,null,null,{"$f":"IF(AND($A149<>\"\",(AS149+AT149)>0), IF($F149=\"Nej\",    IF(AT$13=\"Nm3\",(AU$12*1000*1000/((AS$242+AT$242+AS$243+AT$243)*1000*  $J149 * Data!$B$6)),  (AU$12*1000*1000/(((AS$242+AT$242+AS$243+AT$243)/Denscalc($J149))*1000*  $J149 * Data!$B$6)) ), 0     ),  0)","v":0},126,null,null,{"$f":"IF(AND($A149<>\"\",(AW149+AX149)>0), IF($F149=\"Nej\",\nIF(AX$13=\"Nm3\",(AY$12*1000*1000/((AW$242+AX$242+AW$243+AX$243-AW$240-AX$240)*1000*  $J149 * Data!$B$6))+(AY$6*1000*1000/((AW$242+AX$242+AW$243+AX$243)*1000*  $J149 * Data!$B$6)),\n (AY$12*1000*1000/(((AW$242+AX$242+AW$243+AX$243-AW$240-AX$240)/Denscalc($J149))*1000*  $J149 * Data!$B$6))  +  (AY$6*1000*1000/(((AW$242+AX$242+AW$243+AX$243)/Denscalc($J149))*1000*  $J149 * Data!$B$6)) ), 0     ),  0)","v":0},126,null,null,{"$f":"IF(AND($A149<>\"\",(BA149+BB149)>0), IF($F149=\"Nej\",\n (BC$12*1000*1000/((BA$244+BB$244-BA$240-BB$240)*1000* Data!$B$7))+ (BC$6*1000*1000/((BA$244+BB$244)*1000* Data!$B$7)),0 ),  0)","v":0},126,{"$f":"IF(F149<>0,F149,\"\")","v":""},{"$f":"IF(A149<>\"\",IF(F149=\"Nej\", (Data!$B$129*Data!$B$5*1000*Data!$B$3)/Data!$B$6,  0 ),\"\")","v":""},{"$f":"IF(A149<>\"\",   IF(H149=\"Gas\",\n( ((O149*(M149+N149) + S149*(Q149+R149) + W149*(U149+V149) + AA149*(Y149+Z149) + AE149*(AC149+AD149) + AI149*(AG149+AH149) + AM149*(AK149+AL149) + AQ149*(AO149+AP149) + AU149*(AS149+AT149)  )) /\n( M149+N149+Q149+R149+U149+V149+Y149+Z149+AC149+AD149+AG149+AH149+AK149+AL149+AO149+AP149+AS149+AT149)+BF149),\nAY149+BF149 ),  \"\")","v":""},"",{"$f":"IF(A149<>\"\",IF(BH149>0,  IF(BE149=\"Nej\",    (Data!$B$8-BH149)/Data!$B$8,  ROUND( (Data!$B$8-BH149)/Data!$B$8,2)),      \"\"),\"\")","v":""},{"$f":"IF(A149<>\"\", SUM( IF(R$13=\"Nm3\",Q149,0),  IF(V$13=\"Nm3\",U149,0),  IF(Z$13=\"Nm3\",Y149,0),  IF(AD$13=\"Nm3\",AC149,0), IF(AH$13=\"Nm3\",AG149,0),  IF(AL$13=\"Nm3\",AK149,0),  IF(AP$13=\"Nm3\",AO149,0),  IF(AT$13=\"Nm3\",AS149,0), IF(AX$13=\"Nm3\",AW149,0),  ),\"\")","v":""},"",{"$f":"IF(A149<>\"\",   IF(H149=\"Flytande\", BC149+BF149, \"\"    ), \"\")","v":""},{"$f":"IF(A149<>\"\", IF(H149=\"Flytande\", IF(BE149=\"Nej\",    (K149+BL149),  BE149),\"\"), \"\")","v":""},{"$f":"IF(A149<>\"\", IF(H149=\"Flytande\",   IF(BM149>0,  IF(BE149=\"Nej\",  (Data!$B$8-BM149)/Data!$B$8,  ROUND( (Data!$B$8-BM149)/Data!$B$8,2)   ), \"\"), \"\"),\"\")","v":""},{"$f":"IF(A149<>\"\",BA149,\"\")","v":""},126,"","","",null,""]
[null,127,null,"",null,null,null,null,null,null,null,null,null,null,{"$f":"IF(AND($A150<>\"\",(M150+N150)>0), IF($F150=\"Nej\",    IF(N$13=\"Nm3\",(O$12*1000*1000/((M$242+N$242+M$243+N$243)*1000*  $J150 * Data!$B$6)),  (O$12*1000*1000/(((M$242+N$242+M$243+N$243)/Denscalc($J150))*1000*  $J150 * Data!$B$6)) ), 0     ),  0)","v":0},127,null,null,{"$f":"IF(AND($A150<>\"\",(Q150+R150)>0), IF($F150=\"Nej\",    IF(R$13=\"Nm3\",(S$12*1000*1000/((Q$242+R$242+Q$243+R$243)*1000*  $J150 * Data!$B$6)),  (S$12*1000*1000/(((Q$242+R$242+Q$243+R$243)/Denscalc($J150))*1000*  $J150 * Data!$B$6)) ), 0     ),  0)","v":0},127,null,null,{"$f":"IF(AND($A150<>\"\",(U150+V150)>0), IF($F150=\"Nej\",    IF(V$13=\"Nm3\",(W$12*1000*1000/((U$242+V$242+U$243+V$243)*1000*  $J150 * Data!$B$6)),  (W$12*1000*1000/(((U$242+V$242+U$243+V$243)/Denscalc($J150))*1000*  $J150 * Data!$B$6)) ), 0     ),  0)","v":0},127,null,null,{"$f":"IF(AND($A150<>\"\",(Y150+Z150)>0), IF($F150=\"Nej\",    IF(Z$13=\"Nm3\",(AA$12*1000*1000/((Y$242+Z$242+Y$243+Z$243)*1000*  $J150 * Data!$B$6)),  (AA$12*1000*1000/(((Y$242+Z$242+Y$243+Z$243)/Denscalc($J150))*1000*  $J150 * Data!$B$6)) ), 0     ),  0)","v":0},127,null,null,{"$f":"IF(AND($A150<>\"\",(AC150+AD150)>0), IF($F150=\"Nej\",    IF(AD$13=\"Nm3\",(AE$12*1000*1000/((AC$242+AD$242+AC$243+AD$243)*1000*  $J150 * Data!$B$6)),  (AE$12*1000*1000/(((AC$242+AD$242+AC$243+AD$243)/Denscalc($J150))*1000*  $J150 * Data!$B$6)) ), 0     ),  0)","v":0},127,null,null,{"$f":"IF(AND($A150<>\"\",(AG150+AH150)>0), IF($F150=\"Nej\",    IF(AH$13=\"Nm3\",(AI$12*1000*1000/((AG$242+AH$242+AG$243+AH$243)*1000*  $J150 * Data!$B$6)),  (AI$12*1000*1000/(((AG$242+AH$242+AG$243+AH$243)/Denscalc($J150))*1000*  $J150 * Data!$B$6)) ), 0     ),  0)","v":0},127,null,null,{"$f":"IF(AND($A150<>\"\",(AK150+AL150)>0), IF($F150=\"Nej\",    IF(AL$13=\"Nm3\",(AM$12*1000*1000/((AK$242+AL$242+AK$243+AL$243)*1000*  $J150 * Data!$B$6)),  (AM$12*1000*1000/(((AK$242+AL$242+AK$243+AL$243)/Denscalc($J150))*1000*  $J150 * Data!$B$6)) ), 0     ),  0)","v":0},127,null,null,{"$f":"IF(AND($A150<>\"\",(AO150+AP150)>0), IF($F150=\"Nej\",    IF(AP$13=\"Nm3\",(AQ$12*1000*1000/((AO$242+AP$242+AO$243+AP$243)*1000*  $J150 * Data!$B$6)),  (AQ$12*1000*1000/(((AO$242+AP$242+AO$243+AP$243)/Denscalc($J150))*1000*  $J150 * Data!$B$6)) ), 0     ),  0)","v":0},127,null,null,{"$f":"IF(AND($A150<>\"\",(AS150+AT150)>0), IF($F150=\"Nej\",    IF(AT$13=\"Nm3\",(AU$12*1000*1000/((AS$242+AT$242+AS$243+AT$243)*1000*  $J150 * Data!$B$6)),  (AU$12*1000*1000/(((AS$242+AT$242+AS$243+AT$243)/Denscalc($J150))*1000*  $J150 * Data!$B$6)) ), 0     ),  0)","v":0},127,null,null,{"$f":"IF(AND($A150<>\"\",(AW150+AX150)>0), IF($F150=\"Nej\",\nIF(AX$13=\"Nm3\",(AY$12*1000*1000/((AW$242+AX$242+AW$243+AX$243-AW$240-AX$240)*1000*  $J150 * Data!$B$6))+(AY$6*1000*1000/((AW$242+AX$242+AW$243+AX$243)*1000*  $J150 * Data!$B$6)),\n (AY$12*1000*1000/(((AW$242+AX$242+AW$243+AX$243-AW$240-AX$240)/Denscalc($J150))*1000*  $J150 * Data!$B$6))  +  (AY$6*1000*1000/(((AW$242+AX$242+AW$243+AX$243)/Denscalc($J150))*1000*  $J150 * Data!$B$6)) ), 0     ),  0)","v":0},127,null,null,{"$f":"IF(AND($A150<>\"\",(BA150+BB150)>0), IF($F150=\"Nej\",\n (BC$12*1000*1000/((BA$244+BB$244-BA$240-BB$240)*1000* Data!$B$7))+ (BC$6*1000*1000/((BA$244+BB$244)*1000* Data!$B$7)),0 ),  0)","v":0},127,"",{"$f":"IF(A150<>\"\",IF(F150=\"Nej\", (Data!$B$129*Data!$B$5*1000*Data!$B$3)/Data!$B$6,  0 ),\"\")","v":""},"","",{"$f":"IF(A150<>\"\",IF(BH150>0,  IF(BE150=\"Nej\",    (Data!$B$8-BH150)/Data!$B$8,  ROUND( (Data!$B$8-BH150)/Data!$B$8,2)),      \"\"),\"\")","v":""},"","","","",{"$f":"IF(A150<>\"\", IF(H150=\"Flytande\",   IF(BM150>0,  IF(BE150=\"Nej\",  (Data!$B$8-BM150)/Data!$B$8,  ROUND( (Data!$B$8-BM150)/Data!$B$8,2)   ), \"\"), \"\"),\"\")","v":""},"",127,"","","",null,""]
[null,128,null,"",null,null,null,null,null,null,null,null,null,null,{"$f":"IF(AND($A151<>\"\",(M151+N151)>0), IF($F151=\"Nej\",    IF(N$13=\"Nm3\",(O$12*1000*1000/((M$242+N$242+M$243+N$243)*1000*  $J151 * Data!$B$6)),  (O$12*1000*1000/(((M$242+N$242+M$243+N$243)/Denscalc($J151))*1000*  $J151 * Data!$B$6)) ), 0     ),  0)","v":0},128,null,null,{"$f":"IF(AND($A151<>\"\",(Q151+R151)>0), IF($F151=\"Nej\",    IF(R$13=\"Nm3\",(S$12*1000*1000/((Q$242+R$242+Q$243+R$243)*1000*  $J151 * Data!$B$6)),  (S$12*1000*1000/(((Q$242+R$242+Q$243+R$243)/Denscalc($J151))*1000*  $J151 * Data!$B$6)) ), 0     ),  0)","v":0},128,null,null,{"$f":"IF(AND($A151<>\"\",(U151+V151)>0), IF($F151=\"Nej\",    IF(V$13=\"Nm3\",(W$12*1000*1000/((U$242+V$242+U$243+V$243)*1000*  $J151 * Data!$B$6)),  (W$12*1000*1000/(((U$242+V$242+U$243+V$243)/Denscalc($J151))*1000*  $J151 * Data!$B$6)) ), 0     ),  0)","v":0},128,null,null,{"$f":"IF(AND($A151<>\"\",(Y151+Z151)>0), IF($F151=\"Nej\",    IF(Z$13=\"Nm3\",(AA$12*1000*1000/((Y$242+Z$242+Y$243+Z$243)*1000*  $J151 * Data!$B$6)),  (AA$12*1000*1000/(((Y$242+Z$242+Y$243+Z$243)/Denscalc($J151))*1000*  $J151 * Data!$B$6)) ), 0     ),  0)","v":0},128,null,null,{"$f":"IF(AND($A151<>\"\",(AC151+AD151)>0), IF($F151=\"Nej\",    IF(AD$13=\"Nm3\",(AE$12*1000*1000/((AC$242+AD$242+AC$243+AD$243)*1000*  $J151 * Data!$B$6)),  (AE$12*1000*1000/(((AC$242+AD$242+AC$243+AD$243)/Denscalc($J151))*1000*  $J151 * Data!$B$6)) ), 0     ),  0)","v":0},128,null,null,{"$f":"IF(AND($A151<>\"\",(AG151+AH151)>0), IF($F151=\"Nej\",    IF(AH$13=\"Nm3\",(AI$12*1000*1000/((AG$242+AH$242+AG$243+AH$243)*1000*  $J151 * Data!$B$6)),  (AI$12*1000*1000/(((AG$242+AH$242+AG$243+AH$243)/Denscalc($J151))*1000*  $J151 * Data!$B$6)) ), 0     ),  0)","v":0},128,null,null,{"$f":"IF(AND($A151<>\"\",(AK151+AL151)>0), IF($F151=\"Nej\",    IF(AL$13=\"Nm3\",(AM$12*1000*1000/((AK$242+AL$242+AK$243+AL$243)*1000*  $J151 * Data!$B$6)),  (AM$12*1000*1000/(((AK$242+AL$242+AK$243+AL$243)/Denscalc($J151))*1000*  $J151 * Data!$B$6)) ), 0     ),  0)","v":0},128,null,null,{"$f":"IF(AND($A151<>\"\",(AO151+AP151)>0), IF($F151=\"Nej\",    IF(AP$13=\"Nm3\",(AQ$12*1000*1000/((AO$242+AP$242+AO$243+AP$243)*1000*  $J151 * Data!$B$6)),  (AQ$12*1000*1000/(((AO$242+AP$242+AO$243+AP$243)/Denscalc($J151))*1000*  $J151 * Data!$B$6)) ), 0     ),  0)","v":0},128,null,null,{"$f":"IF(AND($A151<>\"\",(AS151+AT151)>0), IF($F151=\"Nej\",    IF(AT$13=\"Nm3\",(AU$12*1000*1000/((AS$242+AT$242+AS$243+AT$243)*1000*  $J151 * Data!$B$6)),  (AU$12*1000*1000/(((AS$242+AT$242+AS$243+AT$243)/Denscalc($J151))*1000*  $J151 * Data!$B$6)) ), 0     ),  0)","v":0},128,null,null,{"$f":"IF(AND($A151<>\"\",(AW151+AX151)>0), IF($F151=\"Nej\",\nIF(AX$13=\"Nm3\",(AY$12*1000*1000/((AW$242+AX$242+AW$243+AX$243-AW$240-AX$240)*1000*  $J151 * Data!$B$6))+(AY$6*1000*1000/((AW$242+AX$242+AW$243+AX$243)*1000*  $J151 * Data!$B$6)),\n (AY$12*1000*1000/(((AW$242+AX$242+AW$243+AX$243-AW$240-AX$240)/Denscalc($J151))*1000*  $J151 * Data!$B$6))  +  (AY$6*1000*1000/(((AW$242+AX$242+AW$243+AX$243)/Denscalc($J151))*1000*  $J151 * Data!$B$6)) ), 0     ),  0)","v":0},128,null,null,{"$f":"IF(AND($A151<>\"\",(BA151+BB151)>0), IF($F151=\"Nej\",\n (BC$12*1000*1000/((BA$244+BB$244-BA$240-BB$240)*1000* Data!$B$7))+ (BC$6*1000*1000/((BA$244+BB$244)*1000* Data!$B$7)),0 ),  0)","v":0},128,"",{"$f":"IF(A151<>\"\",IF(F151=\"Nej\", (Data!$B$129*Data!$B$5*1000*Data!$B$3)/Data!$B$6,  0 ),\"\")","v":""},"","",{"$f":"IF(A151<>\"\",IF(BH151>0,  IF(BE151=\"Nej\",    (Data!$B$8-BH151)/Data!$B$8,  ROUND( (Data!$B$8-BH151)/Data!$B$8,2)),      \"\"),\"\")","v":""},"","","","",{"$f":"IF(A151<>\"\", IF(H151=\"Flytande\",   IF(BM151>0,  IF(BE151=\"Nej\",  (Data!$B$8-BM151)/Data!$B$8,  ROUND( (Data!$B$8-BM151)/Data!$B$8,2)   ), \"\"), \"\"),\"\")","v":""},"",128,"","","",null,""]
[null,129,null,"",null,null,null,null,null,null,null,null,null,null,{"$f":"IF(AND($A152<>\"\",(M152+N152)>0), IF($F152=\"Nej\",    IF(N$13=\"Nm3\",(O$12*1000*1000/((M$242+N$242+M$243+N$243)*1000*  $J152 * Data!$B$6)),  (O$12*1000*1000/(((M$242+N$242+M$243+N$243)/Denscalc($J152))*1000*  $J152 * Data!$B$6)) ), 0     ),  0)","v":0},129,null,null,{"$f":"IF(AND($A152<>\"\",(Q152+R152)>0), IF($F152=\"Nej\",    IF(R$13=\"Nm3\",(S$12*1000*1000/((Q$242+R$242+Q$243+R$243)*1000*  $J152 * Data!$B$6)),  (S$12*1000*1000/(((Q$242+R$242+Q$243+R$243)/Denscalc($J152))*1000*  $J152 * Data!$B$6)) ), 0     ),  0)","v":0},129,null,null,{"$f":"IF(AND($A152<>\"\",(U152+V152)>0), IF($F152=\"Nej\",    IF(V$13=\"Nm3\",(W$12*1000*1000/((U$242+V$242+U$243+V$243)*1000*  $J152 * Data!$B$6)),  (W$12*1000*1000/(((U$242+V$242+U$243+V$243)/Denscalc($J152))*1000*  $J152 * Data!$B$6)) ), 0     ),  0)","v":0},129,null,null,{"$f":"IF(AND($A152<>\"\",(Y152+Z152)>0), IF($F152=\"Nej\",    IF(Z$13=\"Nm3\",(AA$12*1000*1000/((Y$242+Z$242+Y$243+Z$243)*1000*  $J152 * Data!$B$6)),  (AA$12*1000*1000/(((Y$242+Z$242+Y$243+Z$243)/Denscalc($J152))*1000*  $J152 * Data!$B$6)) ), 0     ),  0)","v":0},129,null,null,{"$f":"IF(AND($A152<>\"\",(AC152+AD152)>0), IF($F152=\"Nej\",    IF(AD$13=\"Nm3\",(AE$12*1000*1000/((AC$242+AD$242+AC$243+AD$243)*1000*  $J152 * Data!$B$6)),  (AE$12*1000*1000/(((AC$242+AD$242+AC$243+AD$243)/Denscalc($J152))*1000*  $J152 * Data!$B$6)) ), 0     ),  0)","v":0},129,null,null,{"$f":"IF(AND($A152<>\"\",(AG152+AH152)>0), IF($F152=\"Nej\",    IF(AH$13=\"Nm3\",(AI$12*1000*1000/((AG$242+AH$242+AG$243+AH$243)*1000*  $J152 * Data!$B$6)),  (AI$12*1000*1000/(((AG$242+AH$242+AG$243+AH$243)/Denscalc($J152))*1000*  $J152 * Data!$B$6)) ), 0     ),  0)","v":0},129,null,null,{"$f":"IF(AND($A152<>\"\",(AK152+AL152)>0), IF($F152=\"Nej\",    IF(AL$13=\"Nm3\",(AM$12*1000*1000/((AK$242+AL$242+AK$243+AL$243)*1000*  $J152 * Data!$B$6)),  (AM$12*1000*1000/(((AK$242+AL$242+AK$243+AL$243)/Denscalc($J152))*1000*  $J152 * Data!$B$6)) ), 0     ),  0)","v":0},129,null,null,{"$f":"IF(AND($A152<>\"\",(AO152+AP152)>0), IF($F152=\"Nej\",    IF(AP$13=\"Nm3\",(AQ$12*1000*1000/((AO$242+AP$242+AO$243+AP$243)*1000*  $J152 * Data!$B$6)),  (AQ$12*1000*1000/(((AO$242+AP$242+AO$243+AP$243)/Denscalc($J152))*1000*  $J152 * Data!$B$6)) ), 0     ),  0)","v":0},129,null,null,{"$f":"IF(AND($A152<>\"\",(AS152+AT152)>0), IF($F152=\"Nej\",    IF(AT$13=\"Nm3\",(AU$12*1000*1000/((AS$242+AT$242+AS$243+AT$243)*1000*  $J152 * Data!$B$6)),  (AU$12*1000*1000/(((AS$242+AT$242+AS$243+AT$243)/Denscalc($J152))*1000*  $J152 * Data!$B$6)) ), 0     ),  0)","v":0},129,null,null,{"$f":"IF(AND($A152<>\"\",(AW152+AX152)>0), IF($F152=\"Nej\",\nIF(AX$13=\"Nm3\",(AY$12*1000*1000/((AW$242+AX$242+AW$243+AX$243-AW$240-AX$240)*1000*  $J152 * Data!$B$6))+(AY$6*1000*1000/((AW$242+AX$242+AW$243+AX$243)*1000*  $J152 * Data!$B$6)),\n (AY$12*1000*1000/(((AW$242+AX$242+AW$243+AX$243-AW$240-AX$240)/Denscalc($J152))*1000*  $J152 * Data!$B$6))  +  (AY$6*1000*1000/(((AW$242+AX$242+AW$243+AX$243)/Denscalc($J152))*1000*  $J152 * Data!$B$6)) ), 0     ),  0)","v":0},129,null,null,{"$f":"IF(AND($A152<>\"\",(BA152+BB152)>0), IF($F152=\"Nej\",\n (BC$12*1000*1000/((BA$244+BB$244-BA$240-BB$240)*1000* Data!$B$7))+ (BC$6*1000*1000/((BA$244+BB$244)*1000* Data!$B$7)),0 ),  0)","v":0},129,"",{"$f":"IF(A152<>\"\",IF(F152=\"Nej\", (Data!$B$129*Data!$B$5*1000*Data!$B$3)/Data!$B$6,  0 ),\"\")","v":""},"","",{"$f":"IF(A152<>\"\",IF(BH152>0,  IF(BE152=\"Nej\",    (Data!$B$8-BH152)/Data!$B$8,  ROUND( (Data!$B$8-BH152)/Data!$B$8,2)),      \"\"),\"\")","v":""},"","","","",{"$f":"IF(A152<>\"\", IF(H152=\"Flytande\",   IF(BM152>0,  IF(BE152=\"Nej\",  (Data!$B$8-BM152)/Data!$B$8,  ROUND( (Data!$B$8-BM152)/Data!$B$8,2)   ), \"\"), \"\"),\"\")","v":""},"",129,"","","",null,""]
[null,130,null,"",null,null,null,null,null,null,null,null,null,null,{"$f":"IF(AND($A153<>\"\",(M153+N153)>0), IF($F153=\"Nej\",    IF(N$13=\"Nm3\",(O$12*1000*1000/((M$242+N$242+M$243+N$243)*1000*  $J153 * Data!$B$6)),  (O$12*1000*1000/(((M$242+N$242+M$243+N$243)/Denscalc($J153))*1000*  $J153 * Data!$B$6)) ), 0     ),  0)","v":0},130,null,null,{"$f":"IF(AND($A153<>\"\",(Q153+R153)>0), IF($F153=\"Nej\",    IF(R$13=\"Nm3\",(S$12*1000*1000/((Q$242+R$242+Q$243+R$243)*1000*  $J153 * Data!$B$6)),  (S$12*1000*1000/(((Q$242+R$242+Q$243+R$243)/Denscalc($J153))*1000*  $J153 * Data!$B$6)) ), 0     ),  0)","v":0},130,null,null,{"$f":"IF(AND($A153<>\"\",(U153+V153)>0), IF($F153=\"Nej\",    IF(V$13=\"Nm3\",(W$12*1000*1000/((U$242+V$242+U$243+V$243)*1000*  $J153 * Data!$B$6)),  (W$12*1000*1000/(((U$242+V$242+U$243+V$243)/Denscalc($J153))*1000*  $J153 * Data!$B$6)) ), 0     ),  0)","v":0},130,null,null,{"$f":"IF(AND($A153<>\"\",(Y153+Z153)>0), IF($F153=\"Nej\",    IF(Z$13=\"Nm3\",(AA$12*1000*1000/((Y$242+Z$242+Y$243+Z$243)*1000*  $J153 * Data!$B$6)),  (AA$12*1000*1000/(((Y$242+Z$242+Y$243+Z$243)/Denscalc($J153))*1000*  $J153 * Data!$B$6)) ), 0     ),  0)","v":0},130,null,null,{"$f":"IF(AND($A153<>\"\",(AC153+AD153)>0), IF($F153=\"Nej\",    IF(AD$13=\"Nm3\",(AE$12*1000*1000/((AC$242+AD$242+AC$243+AD$243)*1000*  $J153 * Data!$B$6)),  (AE$12*1000*1000/(((AC$242+AD$242+AC$243+AD$243)/Denscalc($J153))*1000*  $J153 * Data!$B$6)) ), 0     ),  0)","v":0},130,null,null,{"$f":"IF(AND($A153<>\"\",(AG153+AH153)>0), IF($F153=\"Nej\",    IF(AH$13=\"Nm3\",(AI$12*1000*1000/((AG$242+AH$242+AG$243+AH$243)*1000*  $J153 * Data!$B$6)),  (AI$12*1000*1000/(((AG$242+AH$242+AG$243+AH$243)/Denscalc($J153))*1000*  $J153 * Data!$B$6)) ), 0     ),  0)","v":0},130,null,null,{"$f":"IF(AND($A153<>\"\",(AK153+AL153)>0), IF($F153=\"Nej\",    IF(AL$13=\"Nm3\",(AM$12*1000*1000/((AK$242+AL$242+AK$243+AL$243)*1000*  $J153 * Data!$B$6)),  (AM$12*1000*1000/(((AK$242+AL$242+AK$243+AL$243)/Denscalc($J153))*1000*  $J153 * Data!$B$6)) ), 0     ),  0)","v":0},130,null,null,{"$f":"IF(AND($A153<>\"\",(AO153+AP153)>0), IF($F153=\"Nej\",    IF(AP$13=\"Nm3\",(AQ$12*1000*1000/((AO$242+AP$242+AO$243+AP$243)*1000*  $J153 * Data!$B$6)),  (AQ$12*1000*1000/(((AO$242+AP$242+AO$243+AP$243)/Denscalc($J153))*1000*  $J153 * Data!$B$6)) ), 0     ),  0)","v":0},130,null,null,{"$f":"IF(AND($A153<>\"\",(AS153+AT153)>0), IF($F153=\"Nej\",    IF(AT$13=\"Nm3\",(AU$12*1000*1000/((AS$242+AT$242+AS$243+AT$243)*1000*  $J153 * Data!$B$6)),  (AU$12*1000*1000/(((AS$242+AT$242+AS$243+AT$243)/Denscalc($J153))*1000*  $J153 * Data!$B$6)) ), 0     ),  0)","v":0},130,null,null,{"$f":"IF(AND($A153<>\"\",(AW153+AX153)>0), IF($F153=\"Nej\",\nIF(AX$13=\"Nm3\",(AY$12*1000*1000/((AW$242+AX$242+AW$243+AX$243-AW$240-AX$240)*1000*  $J153 * Data!$B$6))+(AY$6*1000*1000/((AW$242+AX$242+AW$243+AX$243)*1000*  $J153 * Data!$B$6)),\n (AY$12*1000*1000/(((AW$242+AX$242+AW$243+AX$243-AW$240-AX$240)/Denscalc($J153))*1000*  $J153 * Data!$B$6))  +  (AY$6*1000*1000/(((AW$242+AX$242+AW$243+AX$243)/Denscalc($J153))*1000*  $J153 * Data!$B$6)) ), 0     ),  0)","v":0},130,null,null,{"$f":"IF(AND($A153<>\"\",(BA153+BB153)>0), IF($F153=\"Nej\",\n (BC$12*1000*1000/((BA$244+BB$244-BA$240-BB$240)*1000* Data!$B$7))+ (BC$6*1000*1000/((BA$244+BB$244)*1000* Data!$B$7)),0 ),  0)","v":0},130,"",{"$f":"IF(A153<>\"\",IF(F153=\"Nej\", (Data!$B$129*Data!$B$5*1000*Data!$B$3)/Data!$B$6,  0 ),\"\")","v":""},"","",{"$f":"IF(A153<>\"\",IF(BH153>0,  IF(BE153=\"Nej\",    (Data!$B$8-BH153)/Data!$B$8,  ROUND( (Data!$B$8-BH153)/Data!$B$8,2)),      \"\"),\"\")","v":""},"","","","",{"$f":"IF(A153<>\"\", IF(H153=\"Flytande\",   IF(BM153>0,  IF(BE153=\"Nej\",  (Data!$B$8-BM153)/Data!$B$8,  ROUND( (Data!$B$8-BM153)/Data!$B$8,2)   ), \"\"), \"\"),\"\")","v":""},"",130,"","","",null,""]
[null,131,null,"",null,null,null,null,null,null,null,null,null,null,{"$f":"IF(AND($A154<>\"\",(M154+N154)>0), IF($F154=\"Nej\",    IF(N$13=\"Nm3\",(O$12*1000*1000/((M$242+N$242+M$243+N$243)*1000*  $J154 * Data!$B$6)),  (O$12*1000*1000/(((M$242+N$242+M$243+N$243)/Denscalc($J154))*1000*  $J154 * Data!$B$6)) ), 0     ),  0)","v":0},131,null,null,{"$f":"IF(AND($A154<>\"\",(Q154+R154)>0), IF($F154=\"Nej\",    IF(R$13=\"Nm3\",(S$12*1000*1000/((Q$242+R$242+Q$243+R$243)*1000*  $J154 * Data!$B$6)),  (S$12*1000*1000/(((Q$242+R$242+Q$243+R$243)/Denscalc($J154))*1000*  $J154 * Data!$B$6)) ), 0     ),  0)","v":0},131,null,null,{"$f":"IF(AND($A154<>\"\",(U154+V154)>0), IF($F154=\"Nej\",    IF(V$13=\"Nm3\",(W$12*1000*1000/((U$242+V$242+U$243+V$243)*1000*  $J154 * Data!$B$6)),  (W$12*1000*1000/(((U$242+V$242+U$243+V$243)/Denscalc($J154))*1000*  $J154 * Data!$B$6)) ), 0     ),  0)","v":0},131,null,null,{"$f":"IF(AND($A154<>\"\",(Y154+Z154)>0), IF($F154=\"Nej\",    IF(Z$13=\"Nm3\",(AA$12*1000*1000/((Y$242+Z$242+Y$243+Z$243)*1000*  $J154 * Data!$B$6)),  (AA$12*1000*1000/(((Y$242+Z$242+Y$243+Z$243)/Denscalc($J154))*1000*  $J154 * Data!$B$6)) ), 0     ),  0)","v":0},131,null,null,{"$f":"IF(AND($A154<>\"\",(AC154+AD154)>0), IF($F154=\"Nej\",    IF(AD$13=\"Nm3\",(AE$12*1000*1000/((AC$242+AD$242+AC$243+AD$243)*1000*  $J154 * Data!$B$6)),  (AE$12*1000*1000/(((AC$242+AD$242+AC$243+AD$243)/Denscalc($J154))*1000*  $J154 * Data!$B$6)) ), 0     ),  0)","v":0},131,null,null,{"$f":"IF(AND($A154<>\"\",(AG154+AH154)>0), IF($F154=\"Nej\",    IF(AH$13=\"Nm3\",(AI$12*1000*1000/((AG$242+AH$242+AG$243+AH$243)*1000*  $J154 * Data!$B$6)),  (AI$12*1000*1000/(((AG$242+AH$242+AG$243+AH$243)/Denscalc($J154))*1000*  $J154 * Data!$B$6)) ), 0     ),  0)","v":0},131,null,null,{"$f":"IF(AND($A154<>\"\",(AK154+AL154)>0), IF($F154=\"Nej\",    IF(AL$13=\"Nm3\",(AM$12*1000*1000/((AK$242+AL$242+AK$243+AL$243)*1000*  $J154 * Data!$B$6)),  (AM$12*1000*1000/(((AK$242+AL$242+AK$243+AL$243)/Denscalc($J154))*1000*  $J154 * Data!$B$6)) ), 0     ),  0)","v":0},131,null,null,{"$f":"IF(AND($A154<>\"\",(AO154+AP154)>0), IF($F154=\"Nej\",    IF(AP$13=\"Nm3\",(AQ$12*1000*1000/((AO$242+AP$242+AO$243+AP$243)*1000*  $J154 * Data!$B$6)),  (AQ$12*1000*1000/(((AO$242+AP$242+AO$243+AP$243)/Denscalc($J154))*1000*  $J154 * Data!$B$6)) ), 0     ),  0)","v":0},131,null,null,{"$f":"IF(AND($A154<>\"\",(AS154+AT154)>0), IF($F154=\"Nej\",    IF(AT$13=\"Nm3\",(AU$12*1000*1000/((AS$242+AT$242+AS$243+AT$243)*1000*  $J154 * Data!$B$6)),  (AU$12*1000*1000/(((AS$242+AT$242+AS$243+AT$243)/Denscalc($J154))*1000*  $J154 * Data!$B$6)) ), 0     ),  0)","v":0},131,null,null,{"$f":"IF(AND($A154<>\"\",(AW154+AX154)>0), IF($F154=\"Nej\",\nIF(AX$13=\"Nm3\",(AY$12*1000*1000/((AW$242+AX$242+AW$243+AX$243-AW$240-AX$240)*1000*  $J154 * Data!$B$6))+(AY$6*1000*1000/((AW$242+AX$242+AW$243+AX$243)*1000*  $J154 * Data!$B$6)),\n (AY$12*1000*1000/(((AW$242+AX$242+AW$243+AX$243-AW$240-AX$240)/Denscalc($J154))*1000*  $J154 * Data!$B$6))  +  (AY$6*1000*1000/(((AW$242+AX$242+AW$243+AX$243)/Denscalc($J154))*1000*  $J154 * Data!$B$6)) ), 0     ),  0)","v":0},131,null,null,{"$f":"IF(AND($A154<>\"\",(BA154+BB154)>0), IF($F154=\"Nej\",\n (BC$12*1000*1000/((BA$244+BB$244-BA$240-BB$240)*1000* Data!$B$7))+ (BC$6*1000*1000/((BA$244+BB$244)*1000* Data!$B$7)),0 ),  0)","v":0},131,"",{"$f":"IF(A154<>\"\",IF(F154=\"Nej\", (Data!$B$129*Data!$B$5*1000*Data!$B$3)/Data!$B$6,  0 ),\"\")","v":""},"","",{"$f":"IF(A154<>\"\",IF(BH154>0,  IF(BE154=\"Nej\",    (Data!$B$8-BH154)/Data!$B$8,  ROUND( (Data!$B$8-BH154)/Data!$B$8,2)),      \"\"),\"\")","v":""},"","","","",{"$f":"IF(A154<>\"\", IF(H154=\"Flytande\",   IF(BM154>0,  IF(BE154=\"Nej\",  (Data!$B$8-BM154)/Data!$B$8,  ROUND( (Data!$B$8-BM154)/Data!$B$8,2)   ), \"\"), \"\"),\"\")","v":""},"",131,"","","",null,""]
[null,132,null,"",null,null,null,null,null,null,null,null,null,null,{"$f":"IF(AND($A155<>\"\",(M155+N155)>0), IF($F155=\"Nej\",    IF(N$13=\"Nm3\",(O$12*1000*1000/((M$242+N$242+M$243+N$243)*1000*  $J155 * Data!$B$6)),  (O$12*1000*1000/(((M$242+N$242+M$243+N$243)/Denscalc($J155))*1000*  $J155 * Data!$B$6)) ), 0     ),  0)","v":0},132,null,null,{"$f":"IF(AND($A155<>\"\",(Q155+R155)>0), IF($F155=\"Nej\",    IF(R$13=\"Nm3\",(S$12*1000*1000/((Q$242+R$242+Q$243+R$243)*1000*  $J155 * Data!$B$6)),  (S$12*1000*1000/(((Q$242+R$242+Q$243+R$243)/Denscalc($J155))*1000*  $J155 * Data!$B$6)) ), 0     ),  0)","v":0},132,null,null,{"$f":"IF(AND($A155<>\"\",(U155+V155)>0), IF($F155=\"Nej\",    IF(V$13=\"Nm3\",(W$12*1000*1000/((U$242+V$242+U$243+V$243)*1000*  $J155 * Data!$B$6)),  (W$12*1000*1000/(((U$242+V$242+U$243+V$243)/Denscalc($J155))*1000*  $J155 * Data!$B$6)) ), 0     ),  0)","v":0},132,null,null,{"$f":"IF(AND($A155<>\"\",(Y155+Z155)>0), IF($F155=\"Nej\",    IF(Z$13=\"Nm3\",(AA$12*1000*1000/((Y$242+Z$242+Y$243+Z$243)*1000*  $J155 * Data!$B$6)),  (AA$12*1000*1000/(((Y$242+Z$242+Y$243+Z$243)/Denscalc($J155))*1000*  $J155 * Data!$B$6)) ), 0     ),  0)","v":0},132,null,null,{"$f":"IF(AND($A155<>\"\",(AC155+AD155)>0), IF($F155=\"Nej\",    IF(AD$13=\"Nm3\",(AE$12*1000*1000/((AC$242+AD$242+AC$243+AD$243)*1000*  $J155 * Data!$B$6)),  (AE$12*1000*1000/(((AC$242+AD$242+AC$243+AD$243)/Denscalc($J155))*1000*  $J155 * Data!$B$6)) ), 0     ),  0)","v":0},132,null,null,{"$f":"IF(AND($A155<>\"\",(AG155+AH155)>0), IF($F155=\"Nej\",    IF(AH$13=\"Nm3\",(AI$12*1000*1000/((AG$242+AH$242+AG$243+AH$243)*1000*  $J155 * Data!$B$6)),  (AI$12*1000*1000/(((AG$242+AH$242+AG$243+AH$243)/Denscalc($J155))*1000*  $J155 * Data!$B$6)) ), 0     ),  0)","v":0},132,null,null,{"$f":"IF(AND($A155<>\"\",(AK155+AL155)>0), IF($F155=\"Nej\",    IF(AL$13=\"Nm3\",(AM$12*1000*1000/((AK$242+AL$242+AK$243+AL$243)*1000*  $J155 * Data!$B$6)),  (AM$12*1000*1000/(((AK$242+AL$242+AK$243+AL$243)/Denscalc($J155))*1000*  $J155 * Data!$B$6)) ), 0     ),  0)","v":0},132,null,null,{"$f":"IF(AND($A155<>\"\",(AO155+AP155)>0), IF($F155=\"Nej\",    IF(AP$13=\"Nm3\",(AQ$12*1000*1000/((AO$242+AP$242+AO$243+AP$243)*1000*  $J155 * Data!$B$6)),  (AQ$12*1000*1000/(((AO$242+AP$242+AO$243+AP$243)/Denscalc($J155))*1000*  $J155 * Data!$B$6)) ), 0     ),  0)","v":0},132,null,null,{"$f":"IF(AND($A155<>\"\",(AS155+AT155)>0), IF($F155=\"Nej\",    IF(AT$13=\"Nm3\",(AU$12*1000*1000/((AS$242+AT$242+AS$243+AT$243)*1000*  $J155 * Data!$B$6)),  (AU$12*1000*1000/(((AS$242+AT$242+AS$243+AT$243)/Denscalc($J155))*1000*  $J155 * Data!$B$6)) ), 0     ),  0)","v":0},132,null,null,{"$f":"IF(AND($A155<>\"\",(AW155+AX155)>0), IF($F155=\"Nej\",\nIF(AX$13=\"Nm3\",(AY$12*1000*1000/((AW$242+AX$242+AW$243+AX$243-AW$240-AX$240)*1000*  $J155 * Data!$B$6))+(AY$6*1000*1000/((AW$242+AX$242+AW$243+AX$243)*1000*  $J155 * Data!$B$6)),\n (AY$12*1000*1000/(((AW$242+AX$242+AW$243+AX$243-AW$240-AX$240)/Denscalc($J155))*1000*  $J155 * Data!$B$6))  +  (AY$6*1000*1000/(((AW$242+AX$242+AW$243+AX$243)/Denscalc($J155))*1000*  $J155 * Data!$B$6)) ), 0     ),  0)","v":0},132,null,null,{"$f":"IF(AND($A155<>\"\",(BA155+BB155)>0), IF($F155=\"Nej\",\n (BC$12*1000*1000/((BA$244+BB$244-BA$240-BB$240)*1000* Data!$B$7))+ (BC$6*1000*1000/((BA$244+BB$244)*1000* Data!$B$7)),0 ),  0)","v":0},132,"",{"$f":"IF(A155<>\"\",IF(F155=\"Nej\", (Data!$B$129*Data!$B$5*1000*Data!$B$3)/Data!$B$6,  0 ),\"\")","v":""},"","",{"$f":"IF(A155<>\"\",IF(BH155>0,  IF(BE155=\"Nej\",    (Data!$B$8-BH155)/Data!$B$8,  ROUND( (Data!$B$8-BH155)/Data!$B$8,2)),      \"\"),\"\")","v":""},"","","","",{"$f":"IF(A155<>\"\", IF(H155=\"Flytande\",   IF(BM155>0,  IF(BE155=\"Nej\",  (Data!$B$8-BM155)/Data!$B$8,  ROUND( (Data!$B$8-BM155)/Data!$B$8,2)   ), \"\"), \"\"),\"\")","v":""},"",132,"","","",null,""]
[null,133,null,"",null,null,null,null,null,null,null,null,null,null,{"$f":"IF(AND($A156<>\"\",(M156+N156)>0), IF($F156=\"Nej\",    IF(N$13=\"Nm3\",(O$12*1000*1000/((M$242+N$242+M$243+N$243)*1000*  $J156 * Data!$B$6)),  (O$12*1000*1000/(((M$242+N$242+M$243+N$243)/Denscalc($J156))*1000*  $J156 * Data!$B$6)) ), 0     ),  0)","v":0},133,null,null,{"$f":"IF(AND($A156<>\"\",(Q156+R156)>0), IF($F156=\"Nej\",    IF(R$13=\"Nm3\",(S$12*1000*1000/((Q$242+R$242+Q$243+R$243)*1000*  $J156 * Data!$B$6)),  (S$12*1000*1000/(((Q$242+R$242+Q$243+R$243)/Denscalc($J156))*1000*  $J156 * Data!$B$6)) ), 0     ),  0)","v":0},133,null,null,{"$f":"IF(AND($A156<>\"\",(U156+V156)>0), IF($F156=\"Nej\",    IF(V$13=\"Nm3\",(W$12*1000*1000/((U$242+V$242+U$243+V$243)*1000*  $J156 * Data!$B$6)),  (W$12*1000*1000/(((U$242+V$242+U$243+V$243)/Denscalc($J156))*1000*  $J156 * Data!$B$6)) ), 0     ),  0)","v":0},133,null,null,{"$f":"IF(AND($A156<>\"\",(Y156+Z156)>0), IF($F156=\"Nej\",    IF(Z$13=\"Nm3\",(AA$12*1000*1000/((Y$242+Z$242+Y$243+Z$243)*1000*  $J156 * Data!$B$6)),  (AA$12*1000*1000/(((Y$242+Z$242+Y$243+Z$243)/Denscalc($J156))*1000*  $J156 * Data!$B$6)) ), 0     ),  0)","v":0},133,null,null,{"$f":"IF(AND($A156<>\"\",(AC156+AD156)>0), IF($F156=\"Nej\",    IF(AD$13=\"Nm3\",(AE$12*1000*1000/((AC$242+AD$242+AC$243+AD$243)*1000*  $J156 * Data!$B$6)),  (AE$12*1000*1000/(((AC$242+AD$242+AC$243+AD$243)/Denscalc($J156))*1000*  $J156 * Data!$B$6)) ), 0     ),  0)","v":0},133,null,null,{"$f":"IF(AND($A156<>\"\",(AG156+AH156)>0), IF($F156=\"Nej\",    IF(AH$13=\"Nm3\",(AI$12*1000*1000/((AG$242+AH$242+AG$243+AH$243)*1000*  $J156 * Data!$B$6)),  (AI$12*1000*1000/(((AG$242+AH$242+AG$243+AH$243)/Denscalc($J156))*1000*  $J156 * Data!$B$6)) ), 0     ),  0)","v":0},133,null,null,{"$f":"IF(AND($A156<>\"\",(AK156+AL156)>0), IF($F156=\"Nej\",    IF(AL$13=\"Nm3\",(AM$12*1000*1000/((AK$242+AL$242+AK$243+AL$243)*1000*  $J156 * Data!$B$6)),  (AM$12*1000*1000/(((AK$242+AL$242+AK$243+AL$243)/Denscalc($J156))*1000*  $J156 * Data!$B$6)) ), 0     ),  0)","v":0},133,null,null,{"$f":"IF(AND($A156<>\"\",(AO156+AP156)>0), IF($F156=\"Nej\",    IF(AP$13=\"Nm3\",(AQ$12*1000*1000/((AO$242+AP$242+AO$243+AP$243)*1000*  $J156 * Data!$B$6)),  (AQ$12*1000*1000/(((AO$242+AP$242+AO$243+AP$243)/Denscalc($J156))*1000*  $J156 * Data!$B$6)) ), 0     ),  0)","v":0},133,null,null,{"$f":"IF(AND($A156<>\"\",(AS156+AT156)>0), IF($F156=\"Nej\",    IF(AT$13=\"Nm3\",(AU$12*1000*1000/((AS$242+AT$242+AS$243+AT$243)*1000*  $J156 * Data!$B$6)),  (AU$12*1000*1000/(((AS$242+AT$242+AS$243+AT$243)/Denscalc($J156))*1000*  $J156 * Data!$B$6)) ), 0     ),  0)","v":0},133,null,null,{"$f":"IF(AND($A156<>\"\",(AW156+AX156)>0), IF($F156=\"Nej\",\nIF(AX$13=\"Nm3\",(AY$12*1000*1000/((AW$242+AX$242+AW$243+AX$243-AW$240-AX$240)*1000*  $J156 * Data!$B$6))+(AY$6*1000*1000/((AW$242+AX$242+AW$243+AX$243)*1000*  $J156 * Data!$B$6)),\n (AY$12*1000*1000/(((AW$242+AX$242+AW$243+AX$243-AW$240-AX$240)/Denscalc($J156))*1000*  $J156 * Data!$B$6))  +  (AY$6*1000*1000/(((AW$242+AX$242+AW$243+AX$243)/Denscalc($J156))*1000*  $J156 * Data!$B$6)) ), 0     ),  0)","v":0},133,null,null,{"$f":"IF(AND($A156<>\"\",(BA156+BB156)>0), IF($F156=\"Nej\",\n (BC$12*1000*1000/((BA$244+BB$244-BA$240-BB$240)*1000* Data!$B$7))+ (BC$6*1000*1000/((BA$244+BB$244)*1000* Data!$B$7)),0 ),  0)","v":0},133,"",{"$f":"IF(A156<>\"\",IF(F156=\"Nej\", (Data!$B$129*Data!$B$5*1000*Data!$B$3)/Data!$B$6,  0 ),\"\")","v":""},"","",{"$f":"IF(A156<>\"\",IF(BH156>0,  IF(BE156=\"Nej\",    (Data!$B$8-BH156)/Data!$B$8,  ROUND( (Data!$B$8-BH156)/Data!$B$8,2)),      \"\"),\"\")","v":""},"","","","",{"$f":"IF(A156<>\"\", IF(H156=\"Flytande\",   IF(BM156>0,  IF(BE156=\"Nej\",  (Data!$B$8-BM156)/Data!$B$8,  ROUND( (Data!$B$8-BM156)/Data!$B$8,2)   ), \"\"), \"\"),\"\")","v":""},"",133,"","","",null,""]
[null,134,null,"",null,null,null,null,null,null,null,null,null,null,{"$f":"IF(AND($A157<>\"\",(M157+N157)>0), IF($F157=\"Nej\",    IF(N$13=\"Nm3\",(O$12*1000*1000/((M$242+N$242+M$243+N$243)*1000*  $J157 * Data!$B$6)),  (O$12*1000*1000/(((M$242+N$242+M$243+N$243)/Denscalc($J157))*1000*  $J157 * Data!$B$6)) ), 0     ),  0)","v":0},134,null,null,{"$f":"IF(AND($A157<>\"\",(Q157+R157)>0), IF($F157=\"Nej\",    IF(R$13=\"Nm3\",(S$12*1000*1000/((Q$242+R$242+Q$243+R$243)*1000*  $J157 * Data!$B$6)),  (S$12*1000*1000/(((Q$242+R$242+Q$243+R$243)/Denscalc($J157))*1000*  $J157 * Data!$B$6)) ), 0     ),  0)","v":0},134,null,null,{"$f":"IF(AND($A157<>\"\",(U157+V157)>0), IF($F157=\"Nej\",    IF(V$13=\"Nm3\",(W$12*1000*1000/((U$242+V$242+U$243+V$243)*1000*  $J157 * Data!$B$6)),  (W$12*1000*1000/(((U$242+V$242+U$243+V$243)/Denscalc($J157))*1000*  $J157 * Data!$B$6)) ), 0     ),  0)","v":0},134,null,null,{"$f":"IF(AND($A157<>\"\",(Y157+Z157)>0), IF($F157=\"Nej\",    IF(Z$13=\"Nm3\",(AA$12*1000*1000/((Y$242+Z$242+Y$243+Z$243)*1000*  $J157 * Data!$B$6)),  (AA$12*1000*1000/(((Y$242+Z$242+Y$243+Z$243)/Denscalc($J157))*1000*  $J157 * Data!$B$6)) ), 0     ),  0)","v":0},134,null,null,{"$f":"IF(AND($A157<>\"\",(AC157+AD157)>0), IF($F157=\"Nej\",    IF(AD$13=\"Nm3\",(AE$12*1000*1000/((AC$242+AD$242+AC$243+AD$243)*1000*  $J157 * Data!$B$6)),  (AE$12*1000*1000/(((AC$242+AD$242+AC$243+AD$243)/Denscalc($J157))*1000*  $J157 * Data!$B$6)) ), 0     ),  0)","v":0},134,null,null,{"$f":"IF(AND($A157<>\"\",(AG157+AH157)>0), IF($F157=\"Nej\",    IF(AH$13=\"Nm3\",(AI$12*1000*1000/((AG$242+AH$242+AG$243+AH$243)*1000*  $J157 * Data!$B$6)),  (AI$12*1000*1000/(((AG$242+AH$242+AG$243+AH$243)/Denscalc($J157))*1000*  $J157 * Data!$B$6)) ), 0     ),  0)","v":0},134,null,null,{"$f":"IF(AND($A157<>\"\",(AK157+AL157)>0), IF($F157=\"Nej\",    IF(AL$13=\"Nm3\",(AM$12*1000*1000/((AK$242+AL$242+AK$243+AL$243)*1000*  $J157 * Data!$B$6)),  (AM$12*1000*1000/(((AK$242+AL$242+AK$243+AL$243)/Denscalc($J157))*1000*  $J157 * Data!$B$6)) ), 0     ),  0)","v":0},134,null,null,{"$f":"IF(AND($A157<>\"\",(AO157+AP157)>0), IF($F157=\"Nej\",    IF(AP$13=\"Nm3\",(AQ$12*1000*1000/((AO$242+AP$242+AO$243+AP$243)*1000*  $J157 * Data!$B$6)),  (AQ$12*1000*1000/(((AO$242+AP$242+AO$243+AP$243)/Denscalc($J157))*1000*  $J157 * Data!$B$6)) ), 0     ),  0)","v":0},134,null,null,{"$f":"IF(AND($A157<>\"\",(AS157+AT157)>0), IF($F157=\"Nej\",    IF(AT$13=\"Nm3\",(AU$12*1000*1000/((AS$242+AT$242+AS$243+AT$243)*1000*  $J157 * Data!$B$6)),  (AU$12*1000*1000/(((AS$242+AT$242+AS$243+AT$243)/Denscalc($J157))*1000*  $J157 * Data!$B$6)) ), 0     ),  0)","v":0},134,null,null,{"$f":"IF(AND($A157<>\"\",(AW157+AX157)>0), IF($F157=\"Nej\",\nIF(AX$13=\"Nm3\",(AY$12*1000*1000/((AW$242+AX$242+AW$243+AX$243-AW$240-AX$240)*1000*  $J157 * Data!$B$6))+(AY$6*1000*1000/((AW$242+AX$242+AW$243+AX$243)*1000*  $J157 * Data!$B$6)),\n (AY$12*1000*1000/(((AW$242+AX$242+AW$243+AX$243-AW$240-AX$240)/Denscalc($J157))*1000*  $J157 * Data!$B$6))  +  (AY$6*1000*1000/(((AW$242+AX$242+AW$243+AX$243)/Denscalc($J157))*1000*  $J157 * Data!$B$6)) ), 0     ),  0)","v":0},134,null,null,{"$f":"IF(AND($A157<>\"\",(BA157+BB157)>0), IF($F157=\"Nej\",\n (BC$12*1000*1000/((BA$244+BB$244-BA$240-BB$240)*1000* Data!$B$7))+ (BC$6*1000*1000/((BA$244+BB$244)*1000* Data!$B$7)),0 ),  0)","v":0},134,"",{"$f":"IF(A157<>\"\",IF(F157=\"Nej\", (Data!$B$129*Data!$B$5*1000*Data!$B$3)/Data!$B$6,  0 ),\"\")","v":""},"","",{"$f":"IF(A157<>\"\",IF(BH157>0,  IF(BE157=\"Nej\",    (Data!$B$8-BH157)/Data!$B$8,  ROUND( (Data!$B$8-BH157)/Data!$B$8,2)),      \"\"),\"\")","v":""},"","","","",{"$f":"IF(A157<>\"\", IF(H157=\"Flytande\",   IF(BM157>0,  IF(BE157=\"Nej\",  (Data!$B$8-BM157)/Data!$B$8,  ROUND( (Data!$B$8-BM157)/Data!$B$8,2)   ), \"\"), \"\"),\"\")","v":""},"",134,"","","",null,""]
[null,135,null,"",null,null,null,null,null,null,null,null,null,null,{"$f":"IF(AND($A158<>\"\",(M158+N158)>0), IF($F158=\"Nej\",    IF(N$13=\"Nm3\",(O$12*1000*1000/((M$242+N$242+M$243+N$243)*1000*  $J158 * Data!$B$6)),  (O$12*1000*1000/(((M$242+N$242+M$243+N$243)/Denscalc($J158))*1000*  $J158 * Data!$B$6)) ), 0     ),  0)","v":0},135,null,null,{"$f":"IF(AND($A158<>\"\",(Q158+R158)>0), IF($F158=\"Nej\",    IF(R$13=\"Nm3\",(S$12*1000*1000/((Q$242+R$242+Q$243+R$243)*1000*  $J158 * Data!$B$6)),  (S$12*1000*1000/(((Q$242+R$242+Q$243+R$243)/Denscalc($J158))*1000*  $J158 * Data!$B$6)) ), 0     ),  0)","v":0},135,null,null,{"$f":"IF(AND($A158<>\"\",(U158+V158)>0), IF($F158=\"Nej\",    IF(V$13=\"Nm3\",(W$12*1000*1000/((U$242+V$242+U$243+V$243)*1000*  $J158 * Data!$B$6)),  (W$12*1000*1000/(((U$242+V$242+U$243+V$243)/Denscalc($J158))*1000*  $J158 * Data!$B$6)) ), 0     ),  0)","v":0},135,null,null,{"$f":"IF(AND($A158<>\"\",(Y158+Z158)>0), IF($F158=\"Nej\",    IF(Z$13=\"Nm3\",(AA$12*1000*1000/((Y$242+Z$242+Y$243+Z$243)*1000*  $J158 * Data!$B$6)),  (AA$12*1000*1000/(((Y$242+Z$242+Y$243+Z$243)/Denscalc($J158))*1000*  $J158 * Data!$B$6)) ), 0     ),  0)","v":0},135,null,null,{"$f":"IF(AND($A158<>\"\",(AC158+AD158)>0), IF($F158=\"Nej\",    IF(AD$13=\"Nm3\",(AE$12*1000*1000/((AC$242+AD$242+AC$243+AD$243)*1000*  $J158 * Data!$B$6)),  (AE$12*1000*1000/(((AC$242+AD$242+AC$243+AD$243)/Denscalc($J158))*1000*  $J158 * Data!$B$6)) ), 0     ),  0)","v":0},135,null,null,{"$f":"IF(AND($A158<>\"\",(AG158+AH158)>0), IF($F158=\"Nej\",    IF(AH$13=\"Nm3\",(AI$12*1000*1000/((AG$242+AH$242+AG$243+AH$243)*1000*  $J158 * Data!$B$6)),  (AI$12*1000*1000/(((AG$242+AH$242+AG$243+AH$243)/Denscalc($J158))*1000*  $J158 * Data!$B$6)) ), 0     ),  0)","v":0},135,null,null,{"$f":"IF(AND($A158<>\"\",(AK158+AL158)>0), IF($F158=\"Nej\",    IF(AL$13=\"Nm3\",(AM$12*1000*1000/((AK$242+AL$242+AK$243+AL$243)*1000*  $J158 * Data!$B$6)),  (AM$12*1000*1000/(((AK$242+AL$242+AK$243+AL$243)/Denscalc($J158))*1000*  $J158 * Data!$B$6)) ), 0     ),  0)","v":0},135,null,null,{"$f":"IF(AND($A158<>\"\",(AO158+AP158)>0), IF($F158=\"Nej\",    IF(AP$13=\"Nm3\",(AQ$12*1000*1000/((AO$242+AP$242+AO$243+AP$243)*1000*  $J158 * Data!$B$6)),  (AQ$12*1000*1000/(((AO$242+AP$242+AO$243+AP$243)/Denscalc($J158))*1000*  $J158 * Data!$B$6)) ), 0     ),  0)","v":0},135,null,null,{"$f":"IF(AND($A158<>\"\",(AS158+AT158)>0), IF($F158=\"Nej\",    IF(AT$13=\"Nm3\",(AU$12*1000*1000/((AS$242+AT$242+AS$243+AT$243)*1000*  $J158 * Data!$B$6)),  (AU$12*1000*1000/(((AS$242+AT$242+AS$243+AT$243)/Denscalc($J158))*1000*  $J158 * Data!$B$6)) ), 0     ),  0)","v":0},135,null,null,{"$f":"IF(AND($A158<>\"\",(AW158+AX158)>0), IF($F158=\"Nej\",\nIF(AX$13=\"Nm3\",(AY$12*1000*1000/((AW$242+AX$242+AW$243+AX$243-AW$240-AX$240)*1000*  $J158 * Data!$B$6))+(AY$6*1000*1000/((AW$242+AX$242+AW$243+AX$243)*1000*  $J158 * Data!$B$6)),\n (AY$12*1000*1000/(((AW$242+AX$242+AW$243+AX$243-AW$240-AX$240)/Denscalc($J158))*1000*  $J158 * Data!$B$6))  +  (AY$6*1000*1000/(((AW$242+AX$242+AW$243+AX$243)/Denscalc($J158))*1000*  $J158 * Data!$B$6)) ), 0     ),  0)","v":0},135,null,null,{"$f":"IF(AND($A158<>\"\",(BA158+BB158)>0), IF($F158=\"Nej\",\n (BC$12*1000*1000/((BA$244+BB$244-BA$240-BB$240)*1000* Data!$B$7))+ (BC$6*1000*1000/((BA$244+BB$244)*1000* Data!$B$7)),0 ),  0)","v":0},135,"",{"$f":"IF(A158<>\"\",IF(F158=\"Nej\", (Data!$B$129*Data!$B$5*1000*Data!$B$3)/Data!$B$6,  0 ),\"\")","v":""},"","",{"$f":"IF(A158<>\"\",IF(BH158>0,  IF(BE158=\"Nej\",    (Data!$B$8-BH158)/Data!$B$8,  ROUND( (Data!$B$8-BH158)/Data!$B$8,2)),      \"\"),\"\")","v":""},"","","","",{"$f":"IF(A158<>\"\", IF(H158=\"Flytande\",   IF(BM158>0,  IF(BE158=\"Nej\",  (Data!$B$8-BM158)/Data!$B$8,  ROUND( (Data!$B$8-BM158)/Data!$B$8,2)   ), \"\"), \"\"),\"\")","v":""},"",135,"","","",null,""]
[null,136,null,"",null,null,null,null,null,null,null,null,null,null,{"$f":"IF(AND($A159<>\"\",(M159+N159)>0), IF($F159=\"Nej\",    IF(N$13=\"Nm3\",(O$12*1000*1000/((M$242+N$242+M$243+N$243)*1000*  $J159 * Data!$B$6)),  (O$12*1000*1000/(((M$242+N$242+M$243+N$243)/Denscalc($J159))*1000*  $J159 * Data!$B$6)) ), 0     ),  0)","v":0},136,null,null,{"$f":"IF(AND($A159<>\"\",(Q159+R159)>0), IF($F159=\"Nej\",    IF(R$13=\"Nm3\",(S$12*1000*1000/((Q$242+R$242+Q$243+R$243)*1000*  $J159 * Data!$B$6)),  (S$12*1000*1000/(((Q$242+R$242+Q$243+R$243)/Denscalc($J159))*1000*  $J159 * Data!$B$6)) ), 0     ),  0)","v":0},136,null,null,{"$f":"IF(AND($A159<>\"\",(U159+V159)>0), IF($F159=\"Nej\",    IF(V$13=\"Nm3\",(W$12*1000*1000/((U$242+V$242+U$243+V$243)*1000*  $J159 * Data!$B$6)),  (W$12*1000*1000/(((U$242+V$242+U$243+V$243)/Denscalc($J159))*1000*  $J159 * Data!$B$6)) ), 0     ),  0)","v":0},136,null,null,{"$f":"IF(AND($A159<>\"\",(Y159+Z159)>0), IF($F159=\"Nej\",    IF(Z$13=\"Nm3\",(AA$12*1000*1000/((Y$242+Z$242+Y$243+Z$243)*1000*  $J159 * Data!$B$6)),  (AA$12*1000*1000/(((Y$242+Z$242+Y$243+Z$243)/Denscalc($J159))*1000*  $J159 * Data!$B$6)) ), 0     ),  0)","v":0},136,null,null,{"$f":"IF(AND($A159<>\"\",(AC159+AD159)>0), IF($F159=\"Nej\",    IF(AD$13=\"Nm3\",(AE$12*1000*1000/((AC$242+AD$242+AC$243+AD$243)*1000*  $J159 * Data!$B$6)),  (AE$12*1000*1000/(((AC$242+AD$242+AC$243+AD$243)/Denscalc($J159))*1000*  $J159 * Data!$B$6)) ), 0     ),  0)","v":0},136,null,null,{"$f":"IF(AND($A159<>\"\",(AG159+AH159)>0), IF($F159=\"Nej\",    IF(AH$13=\"Nm3\",(AI$12*1000*1000/((AG$242+AH$242+AG$243+AH$243)*1000*  $J159 * Data!$B$6)),  (AI$12*1000*1000/(((AG$242+AH$242+AG$243+AH$243)/Denscalc($J159))*1000*  $J159 * Data!$B$6)) ), 0     ),  0)","v":0},136,null,null,{"$f":"IF(AND($A159<>\"\",(AK159+AL159)>0), IF($F159=\"Nej\",    IF(AL$13=\"Nm3\",(AM$12*1000*1000/((AK$242+AL$242+AK$243+AL$243)*1000*  $J159 * Data!$B$6)),  (AM$12*1000*1000/(((AK$242+AL$242+AK$243+AL$243)/Denscalc($J159))*1000*  $J159 * Data!$B$6)) ), 0     ),  0)","v":0},136,null,null,{"$f":"IF(AND($A159<>\"\",(AO159+AP159)>0), IF($F159=\"Nej\",    IF(AP$13=\"Nm3\",(AQ$12*1000*1000/((AO$242+AP$242+AO$243+AP$243)*1000*  $J159 * Data!$B$6)),  (AQ$12*1000*1000/(((AO$242+AP$242+AO$243+AP$243)/Denscalc($J159))*1000*  $J159 * Data!$B$6)) ), 0     ),  0)","v":0},136,null,null,{"$f":"IF(AND($A159<>\"\",(AS159+AT159)>0), IF($F159=\"Nej\",    IF(AT$13=\"Nm3\",(AU$12*1000*1000/((AS$242+AT$242+AS$243+AT$243)*1000*  $J159 * Data!$B$6)),  (AU$12*1000*1000/(((AS$242+AT$242+AS$243+AT$243)/Denscalc($J159))*1000*  $J159 * Data!$B$6)) ), 0     ),  0)","v":0},136,null,null,{"$f":"IF(AND($A159<>\"\",(AW159+AX159)>0), IF($F159=\"Nej\",\nIF(AX$13=\"Nm3\",(AY$12*1000*1000/((AW$242+AX$242+AW$243+AX$243-AW$240-AX$240)*1000*  $J159 * Data!$B$6))+(AY$6*1000*1000/((AW$242+AX$242+AW$243+AX$243)*1000*  $J159 * Data!$B$6)),\n (AY$12*1000*1000/(((AW$242+AX$242+AW$243+AX$243-AW$240-AX$240)/Denscalc($J159))*1000*  $J159 * Data!$B$6))  +  (AY$6*1000*1000/(((AW$242+AX$242+AW$243+AX$243)/Denscalc($J159))*1000*  $J159 * Data!$B$6)) ), 0     ),  0)","v":0},136,null,null,{"$f":"IF(AND($A159<>\"\",(BA159+BB159)>0), IF($F159=\"Nej\",\n (BC$12*1000*1000/((BA$244+BB$244-BA$240-BB$240)*1000* Data!$B$7))+ (BC$6*1000*1000/((BA$244+BB$244)*1000* Data!$B$7)),0 ),  0)","v":0},136,"",{"$f":"IF(A159<>\"\",IF(F159=\"Nej\", (Data!$B$129*Data!$B$5*1000*Data!$B$3)/Data!$B$6,  0 ),\"\")","v":""},"","",{"$f":"IF(A159<>\"\",IF(BH159>0,  IF(BE159=\"Nej\",    (Data!$B$8-BH159)/Data!$B$8,  ROUND( (Data!$B$8-BH159)/Data!$B$8,2)),      \"\"),\"\")","v":""},"","","","",{"$f":"IF(A159<>\"\", IF(H159=\"Flytande\",   IF(BM159>0,  IF(BE159=\"Nej\",  (Data!$B$8-BM159)/Data!$B$8,  ROUND( (Data!$B$8-BM159)/Data!$B$8,2)   ), \"\"), \"\"),\"\")","v":""},"",136,"","","",null,""]
[null,137,null,"",null,null,null,null,null,null,null,null,null,null,{"$f":"IF(AND($A160<>\"\",(M160+N160)>0), IF($F160=\"Nej\",    IF(N$13=\"Nm3\",(O$12*1000*1000/((M$242+N$242+M$243+N$243)*1000*  $J160 * Data!$B$6)),  (O$12*1000*1000/(((M$242+N$242+M$243+N$243)/Denscalc($J160))*1000*  $J160 * Data!$B$6)) ), 0     ),  0)","v":0},137,null,null,{"$f":"IF(AND($A160<>\"\",(Q160+R160)>0), IF($F160=\"Nej\",    IF(R$13=\"Nm3\",(S$12*1000*1000/((Q$242+R$242+Q$243+R$243)*1000*  $J160 * Data!$B$6)),  (S$12*1000*1000/(((Q$242+R$242+Q$243+R$243)/Denscalc($J160))*1000*  $J160 * Data!$B$6)) ), 0     ),  0)","v":0},137,null,null,{"$f":"IF(AND($A160<>\"\",(U160+V160)>0), IF($F160=\"Nej\",    IF(V$13=\"Nm3\",(W$12*1000*1000/((U$242+V$242+U$243+V$243)*1000*  $J160 * Data!$B$6)),  (W$12*1000*1000/(((U$242+V$242+U$243+V$243)/Denscalc($J160))*1000*  $J160 * Data!$B$6)) ), 0     ),  0)","v":0},137,null,null,{"$f":"IF(AND($A160<>\"\",(Y160+Z160)>0), IF($F160=\"Nej\",    IF(Z$13=\"Nm3\",(AA$12*1000*1000/((Y$242+Z$242+Y$243+Z$243)*1000*  $J160 * Data!$B$6)),  (AA$12*1000*1000/(((Y$242+Z$242+Y$243+Z$243)/Denscalc($J160))*1000*  $J160 * Data!$B$6)) ), 0     ),  0)","v":0},137,null,null,{"$f":"IF(AND($A160<>\"\",(AC160+AD160)>0), IF($F160=\"Nej\",    IF(AD$13=\"Nm3\",(AE$12*1000*1000/((AC$242+AD$242+AC$243+AD$243)*1000*  $J160 * Data!$B$6)),  (AE$12*1000*1000/(((AC$242+AD$242+AC$243+AD$243)/Denscalc($J160))*1000*  $J160 * Data!$B$6)) ), 0     ),  0)","v":0},137,null,null,{"$f":"IF(AND($A160<>\"\",(AG160+AH160)>0), IF($F160=\"Nej\",    IF(AH$13=\"Nm3\",(AI$12*1000*1000/((AG$242+AH$242+AG$243+AH$243)*1000*  $J160 * Data!$B$6)),  (AI$12*1000*1000/(((AG$242+AH$242+AG$243+AH$243)/Denscalc($J160))*1000*  $J160 * Data!$B$6)) ), 0     ),  0)","v":0},137,null,null,{"$f":"IF(AND($A160<>\"\",(AK160+AL160)>0), IF($F160=\"Nej\",    IF(AL$13=\"Nm3\",(AM$12*1000*1000/((AK$242+AL$242+AK$243+AL$243)*1000*  $J160 * Data!$B$6)),  (AM$12*1000*1000/(((AK$242+AL$242+AK$243+AL$243)/Denscalc($J160))*1000*  $J160 * Data!$B$6)) ), 0     ),  0)","v":0},137,null,null,{"$f":"IF(AND($A160<>\"\",(AO160+AP160)>0), IF($F160=\"Nej\",    IF(AP$13=\"Nm3\",(AQ$12*1000*1000/((AO$242+AP$242+AO$243+AP$243)*1000*  $J160 * Data!$B$6)),  (AQ$12*1000*1000/(((AO$242+AP$242+AO$243+AP$243)/Denscalc($J160))*1000*  $J160 * Data!$B$6)) ), 0     ),  0)","v":0},137,null,null,{"$f":"IF(AND($A160<>\"\",(AS160+AT160)>0), IF($F160=\"Nej\",    IF(AT$13=\"Nm3\",(AU$12*1000*1000/((AS$242+AT$242+AS$243+AT$243)*1000*  $J160 * Data!$B$6)),  (AU$12*1000*1000/(((AS$242+AT$242+AS$243+AT$243)/Denscalc($J160))*1000*  $J160 * Data!$B$6)) ), 0     ),  0)","v":0},137,null,null,{"$f":"IF(AND($A160<>\"\",(AW160+AX160)>0), IF($F160=\"Nej\",\nIF(AX$13=\"Nm3\",(AY$12*1000*1000/((AW$242+AX$242+AW$243+AX$243-AW$240-AX$240)*1000*  $J160 * Data!$B$6))+(AY$6*1000*1000/((AW$242+AX$242+AW$243+AX$243)*1000*  $J160 * Data!$B$6)),\n (AY$12*1000*1000/(((AW$242+AX$242+AW$243+AX$243-AW$240-AX$240)/Denscalc($J160))*1000*  $J160 * Data!$B$6))  +  (AY$6*1000*1000/(((AW$242+AX$242+AW$243+AX$243)/Denscalc($J160))*1000*  $J160 * Data!$B$6)) ), 0     ),  0)","v":0},137,null,null,{"$f":"IF(AND($A160<>\"\",(BA160+BB160)>0), IF($F160=\"Nej\",\n (BC$12*1000*1000/((BA$244+BB$244-BA$240-BB$240)*1000* Data!$B$7))+ (BC$6*1000*1000/((BA$244+BB$244)*1000* Data!$B$7)),0 ),  0)","v":0},137,"",{"$f":"IF(A160<>\"\",IF(F160=\"Nej\", (Data!$B$129*Data!$B$5*1000*Data!$B$3)/Data!$B$6,  0 ),\"\")","v":""},"","",{"$f":"IF(A160<>\"\",IF(BH160>0,  IF(BE160=\"Nej\",    (Data!$B$8-BH160)/Data!$B$8,  ROUND( (Data!$B$8-BH160)/Data!$B$8,2)),      \"\"),\"\")","v":""},"","","","",{"$f":"IF(A160<>\"\", IF(H160=\"Flytande\",   IF(BM160>0,  IF(BE160=\"Nej\",  (Data!$B$8-BM160)/Data!$B$8,  ROUND( (Data!$B$8-BM160)/Data!$B$8,2)   ), \"\"), \"\"),\"\")","v":""},"",137,"","","",null,""]
[null,138,null,"",null,null,null,null,null,null,null,null,null,null,{"$f":"IF(AND($A161<>\"\",(M161+N161)>0), IF($F161=\"Nej\",    IF(N$13=\"Nm3\",(O$12*1000*1000/((M$242+N$242+M$243+N$243)*1000*  $J161 * Data!$B$6)),  (O$12*1000*1000/(((M$242+N$242+M$243+N$243)/Denscalc($J161))*1000*  $J161 * Data!$B$6)) ), 0     ),  0)","v":0},138,null,null,{"$f":"IF(AND($A161<>\"\",(Q161+R161)>0), IF($F161=\"Nej\",    IF(R$13=\"Nm3\",(S$12*1000*1000/((Q$242+R$242+Q$243+R$243)*1000*  $J161 * Data!$B$6)),  (S$12*1000*1000/(((Q$242+R$242+Q$243+R$243)/Denscalc($J161))*1000*  $J161 * Data!$B$6)) ), 0     ),  0)","v":0},138,null,null,{"$f":"IF(AND($A161<>\"\",(U161+V161)>0), IF($F161=\"Nej\",    IF(V$13=\"Nm3\",(W$12*1000*1000/((U$242+V$242+U$243+V$243)*1000*  $J161 * Data!$B$6)),  (W$12*1000*1000/(((U$242+V$242+U$243+V$243)/Denscalc($J161))*1000*  $J161 * Data!$B$6)) ), 0     ),  0)","v":0},138,null,null,{"$f":"IF(AND($A161<>\"\",(Y161+Z161)>0), IF($F161=\"Nej\",    IF(Z$13=\"Nm3\",(AA$12*1000*1000/((Y$242+Z$242+Y$243+Z$243)*1000*  $J161 * Data!$B$6)),  (AA$12*1000*1000/(((Y$242+Z$242+Y$243+Z$243)/Denscalc($J161))*1000*  $J161 * Data!$B$6)) ), 0     ),  0)","v":0},138,null,null,{"$f":"IF(AND($A161<>\"\",(AC161+AD161)>0), IF($F161=\"Nej\",    IF(AD$13=\"Nm3\",(AE$12*1000*1000/((AC$242+AD$242+AC$243+AD$243)*1000*  $J161 * Data!$B$6)),  (AE$12*1000*1000/(((AC$242+AD$242+AC$243+AD$243)/Denscalc($J161))*1000*  $J161 * Data!$B$6)) ), 0     ),  0)","v":0},138,null,null,{"$f":"IF(AND($A161<>\"\",(AG161+AH161)>0), IF($F161=\"Nej\",    IF(AH$13=\"Nm3\",(AI$12*1000*1000/((AG$242+AH$242+AG$243+AH$243)*1000*  $J161 * Data!$B$6)),  (AI$12*1000*1000/(((AG$242+AH$242+AG$243+AH$243)/Denscalc($J161))*1000*  $J161 * Data!$B$6)) ), 0     ),  0)","v":0},138,null,null,{"$f":"IF(AND($A161<>\"\",(AK161+AL161)>0), IF($F161=\"Nej\",    IF(AL$13=\"Nm3\",(AM$12*1000*1000/((AK$242+AL$242+AK$243+AL$243)*1000*  $J161 * Data!$B$6)),  (AM$12*1000*1000/(((AK$242+AL$242+AK$243+AL$243)/Denscalc($J161))*1000*  $J161 * Data!$B$6)) ), 0     ),  0)","v":0},138,null,null,{"$f":"IF(AND($A161<>\"\",(AO161+AP161)>0), IF($F161=\"Nej\",    IF(AP$13=\"Nm3\",(AQ$12*1000*1000/((AO$242+AP$242+AO$243+AP$243)*1000*  $J161 * Data!$B$6)),  (AQ$12*1000*1000/(((AO$242+AP$242+AO$243+AP$243)/Denscalc($J161))*1000*  $J161 * Data!$B$6)) ), 0     ),  0)","v":0},138,null,null,{"$f":"IF(AND($A161<>\"\",(AS161+AT161)>0), IF($F161=\"Nej\",    IF(AT$13=\"Nm3\",(AU$12*1000*1000/((AS$242+AT$242+AS$243+AT$243)*1000*  $J161 * Data!$B$6)),  (AU$12*1000*1000/(((AS$242+AT$242+AS$243+AT$243)/Denscalc($J161))*1000*  $J161 * Data!$B$6)) ), 0     ),  0)","v":0},138,null,null,{"$f":"IF(AND($A161<>\"\",(AW161+AX161)>0), IF($F161=\"Nej\",\nIF(AX$13=\"Nm3\",(AY$12*1000*1000/((AW$242+AX$242+AW$243+AX$243-AW$240-AX$240)*1000*  $J161 * Data!$B$6))+(AY$6*1000*1000/((AW$242+AX$242+AW$243+AX$243)*1000*  $J161 * Data!$B$6)),\n (AY$12*1000*1000/(((AW$242+AX$242+AW$243+AX$243-AW$240-AX$240)/Denscalc($J161))*1000*  $J161 * Data!$B$6))  +  (AY$6*1000*1000/(((AW$242+AX$242+AW$243+AX$243)/Denscalc($J161))*1000*  $J161 * Data!$B$6)) ), 0     ),  0)","v":0},138,null,null,{"$f":"IF(AND($A161<>\"\",(BA161+BB161)>0), IF($F161=\"Nej\",\n (BC$12*1000*1000/((BA$244+BB$244-BA$240-BB$240)*1000* Data!$B$7))+ (BC$6*1000*1000/((BA$244+BB$244)*1000* Data!$B$7)),0 ),  0)","v":0},138,"",{"$f":"IF(A161<>\"\",IF(F161=\"Nej\", (Data!$B$129*Data!$B$5*1000*Data!$B$3)/Data!$B$6,  0 ),\"\")","v":""},"","",{"$f":"IF(A161<>\"\",IF(BH161>0,  IF(BE161=\"Nej\",    (Data!$B$8-BH161)/Data!$B$8,  ROUND( (Data!$B$8-BH161)/Data!$B$8,2)),      \"\"),\"\")","v":""},"","","","",{"$f":"IF(A161<>\"\", IF(H161=\"Flytande\",   IF(BM161>0,  IF(BE161=\"Nej\",  (Data!$B$8-BM161)/Data!$B$8,  ROUND( (Data!$B$8-BM161)/Data!$B$8,2)   ), \"\"), \"\"),\"\")","v":""},"",138,"","","",null,""]
[null,139,null,"",null,null,null,null,null,null,null,null,null,null,{"$f":"IF(AND($A162<>\"\",(M162+N162)>0), IF($F162=\"Nej\",    IF(N$13=\"Nm3\",(O$12*1000*1000/((M$242+N$242+M$243+N$243)*1000*  $J162 * Data!$B$6)),  (O$12*1000*1000/(((M$242+N$242+M$243+N$243)/Denscalc($J162))*1000*  $J162 * Data!$B$6)) ), 0     ),  0)","v":0},139,null,null,{"$f":"IF(AND($A162<>\"\",(Q162+R162)>0), IF($F162=\"Nej\",    IF(R$13=\"Nm3\",(S$12*1000*1000/((Q$242+R$242+Q$243+R$243)*1000*  $J162 * Data!$B$6)),  (S$12*1000*1000/(((Q$242+R$242+Q$243+R$243)/Denscalc($J162))*1000*  $J162 * Data!$B$6)) ), 0     ),  0)","v":0},139,null,null,{"$f":"IF(AND($A162<>\"\",(U162+V162)>0), IF($F162=\"Nej\",    IF(V$13=\"Nm3\",(W$12*1000*1000/((U$242+V$242+U$243+V$243)*1000*  $J162 * Data!$B$6)),  (W$12*1000*1000/(((U$242+V$242+U$243+V$243)/Denscalc($J162))*1000*  $J162 * Data!$B$6)) ), 0     ),  0)","v":0},139,null,null,{"$f":"IF(AND($A162<>\"\",(Y162+Z162)>0), IF($F162=\"Nej\",    IF(Z$13=\"Nm3\",(AA$12*1000*1000/((Y$242+Z$242+Y$243+Z$243)*1000*  $J162 * Data!$B$6)),  (AA$12*1000*1000/(((Y$242+Z$242+Y$243+Z$243)/Denscalc($J162))*1000*  $J162 * Data!$B$6)) ), 0     ),  0)","v":0},139,null,null,{"$f":"IF(AND($A162<>\"\",(AC162+AD162)>0), IF($F162=\"Nej\",    IF(AD$13=\"Nm3\",(AE$12*1000*1000/((AC$242+AD$242+AC$243+AD$243)*1000*  $J162 * Data!$B$6)),  (AE$12*1000*1000/(((AC$242+AD$242+AC$243+AD$243)/Denscalc($J162))*1000*  $J162 * Data!$B$6)) ), 0     ),  0)","v":0},139,null,null,{"$f":"IF(AND($A162<>\"\",(AG162+AH162)>0), IF($F162=\"Nej\",    IF(AH$13=\"Nm3\",(AI$12*1000*1000/((AG$242+AH$242+AG$243+AH$243)*1000*  $J162 * Data!$B$6)),  (AI$12*1000*1000/(((AG$242+AH$242+AG$243+AH$243)/Denscalc($J162))*1000*  $J162 * Data!$B$6)) ), 0     ),  0)","v":0},139,null,null,{"$f":"IF(AND($A162<>\"\",(AK162+AL162)>0), IF($F162=\"Nej\",    IF(AL$13=\"Nm3\",(AM$12*1000*1000/((AK$242+AL$242+AK$243+AL$243)*1000*  $J162 * Data!$B$6)),  (AM$12*1000*1000/(((AK$242+AL$242+AK$243+AL$243)/Denscalc($J162))*1000*  $J162 * Data!$B$6)) ), 0     ),  0)","v":0},139,null,null,{"$f":"IF(AND($A162<>\"\",(AO162+AP162)>0), IF($F162=\"Nej\",    IF(AP$13=\"Nm3\",(AQ$12*1000*1000/((AO$242+AP$242+AO$243+AP$243)*1000*  $J162 * Data!$B$6)),  (AQ$12*1000*1000/(((AO$242+AP$242+AO$243+AP$243)/Denscalc($J162))*1000*  $J162 * Data!$B$6)) ), 0     ),  0)","v":0},139,null,null,{"$f":"IF(AND($A162<>\"\",(AS162+AT162)>0), IF($F162=\"Nej\",    IF(AT$13=\"Nm3\",(AU$12*1000*1000/((AS$242+AT$242+AS$243+AT$243)*1000*  $J162 * Data!$B$6)),  (AU$12*1000*1000/(((AS$242+AT$242+AS$243+AT$243)/Denscalc($J162))*1000*  $J162 * Data!$B$6)) ), 0     ),  0)","v":0},139,null,null,{"$f":"IF(AND($A162<>\"\",(AW162+AX162)>0), IF($F162=\"Nej\",\nIF(AX$13=\"Nm3\",(AY$12*1000*1000/((AW$242+AX$242+AW$243+AX$243-AW$240-AX$240)*1000*  $J162 * Data!$B$6))+(AY$6*1000*1000/((AW$242+AX$242+AW$243+AX$243)*1000*  $J162 * Data!$B$6)),\n (AY$12*1000*1000/(((AW$242+AX$242+AW$243+AX$243-AW$240-AX$240)/Denscalc($J162))*1000*  $J162 * Data!$B$6))  +  (AY$6*1000*1000/(((AW$242+AX$242+AW$243+AX$243)/Denscalc($J162))*1000*  $J162 * Data!$B$6)) ), 0     ),  0)","v":0},139,null,null,{"$f":"IF(AND($A162<>\"\",(BA162+BB162)>0), IF($F162=\"Nej\",\n (BC$12*1000*1000/((BA$244+BB$244-BA$240-BB$240)*1000* Data!$B$7))+ (BC$6*1000*1000/((BA$244+BB$244)*1000* Data!$B$7)),0 ),  0)","v":0},139,"",{"$f":"IF(A162<>\"\",IF(F162=\"Nej\", (Data!$B$129*Data!$B$5*1000*Data!$B$3)/Data!$B$6,  0 ),\"\")","v":""},"","",{"$f":"IF(A162<>\"\",IF(BH162>0,  IF(BE162=\"Nej\",    (Data!$B$8-BH162)/Data!$B$8,  ROUND( (Data!$B$8-BH162)/Data!$B$8,2)),      \"\"),\"\")","v":""},"","","","",{"$f":"IF(A162<>\"\", IF(H162=\"Flytande\",   IF(BM162>0,  IF(BE162=\"Nej\",  (Data!$B$8-BM162)/Data!$B$8,  ROUND( (Data!$B$8-BM162)/Data!$B$8,2)   ), \"\"), \"\"),\"\")","v":""},"",139,"","","",null,""]
[null,140,null,"",null,null,null,null,null,null,null,null,null,null,{"$f":"IF(AND($A163<>\"\",(M163+N163)>0), IF($F163=\"Nej\",    IF(N$13=\"Nm3\",(O$12*1000*1000/((M$242+N$242+M$243+N$243)*1000*  $J163 * Data!$B$6)),  (O$12*1000*1000/(((M$242+N$242+M$243+N$243)/Denscalc($J163))*1000*  $J163 * Data!$B$6)) ), 0     ),  0)","v":0},140,null,null,{"$f":"IF(AND($A163<>\"\",(Q163+R163)>0), IF($F163=\"Nej\",    IF(R$13=\"Nm3\",(S$12*1000*1000/((Q$242+R$242+Q$243+R$243)*1000*  $J163 * Data!$B$6)),  (S$12*1000*1000/(((Q$242+R$242+Q$243+R$243)/Denscalc($J163))*1000*  $J163 * Data!$B$6)) ), 0     ),  0)","v":0},140,null,null,{"$f":"IF(AND($A163<>\"\",(U163+V163)>0), IF($F163=\"Nej\",    IF(V$13=\"Nm3\",(W$12*1000*1000/((U$242+V$242+U$243+V$243)*1000*  $J163 * Data!$B$6)),  (W$12*1000*1000/(((U$242+V$242+U$243+V$243)/Denscalc($J163))*1000*  $J163 * Data!$B$6)) ), 0     ),  0)","v":0},140,null,null,{"$f":"IF(AND($A163<>\"\",(Y163+Z163)>0), IF($F163=\"Nej\",    IF(Z$13=\"Nm3\",(AA$12*1000*1000/((Y$242+Z$242+Y$243+Z$243)*1000*  $J163 * Data!$B$6)),  (AA$12*1000*1000/(((Y$242+Z$242+Y$243+Z$243)/Denscalc($J163))*1000*  $J163 * Data!$B$6)) ), 0     ),  0)","v":0},140,null,null,{"$f":"IF(AND($A163<>\"\",(AC163+AD163)>0), IF($F163=\"Nej\",    IF(AD$13=\"Nm3\",(AE$12*1000*1000/((AC$242+AD$242+AC$243+AD$243)*1000*  $J163 * Data!$B$6)),  (AE$12*1000*1000/(((AC$242+AD$242+AC$243+AD$243)/Denscalc($J163))*1000*  $J163 * Data!$B$6)) ), 0     ),  0)","v":0},140,null,null,{"$f":"IF(AND($A163<>\"\",(AG163+AH163)>0), IF($F163=\"Nej\",    IF(AH$13=\"Nm3\",(AI$12*1000*1000/((AG$242+AH$242+AG$243+AH$243)*1000*  $J163 * Data!$B$6)),  (AI$12*1000*1000/(((AG$242+AH$242+AG$243+AH$243)/Denscalc($J163))*1000*  $J163 * Data!$B$6)) ), 0     ),  0)","v":0},140,null,null,{"$f":"IF(AND($A163<>\"\",(AK163+AL163)>0), IF($F163=\"Nej\",    IF(AL$13=\"Nm3\",(AM$12*1000*1000/((AK$242+AL$242+AK$243+AL$243)*1000*  $J163 * Data!$B$6)),  (AM$12*1000*1000/(((AK$242+AL$242+AK$243+AL$243)/Denscalc($J163))*1000*  $J163 * Data!$B$6)) ), 0     ),  0)","v":0},140,null,null,{"$f":"IF(AND($A163<>\"\",(AO163+AP163)>0), IF($F163=\"Nej\",    IF(AP$13=\"Nm3\",(AQ$12*1000*1000/((AO$242+AP$242+AO$243+AP$243)*1000*  $J163 * Data!$B$6)),  (AQ$12*1000*1000/(((AO$242+AP$242+AO$243+AP$243)/Denscalc($J163))*1000*  $J163 * Data!$B$6)) ), 0     ),  0)","v":0},140,null,null,{"$f":"IF(AND($A163<>\"\",(AS163+AT163)>0), IF($F163=\"Nej\",    IF(AT$13=\"Nm3\",(AU$12*1000*1000/((AS$242+AT$242+AS$243+AT$243)*1000*  $J163 * Data!$B$6)),  (AU$12*1000*1000/(((AS$242+AT$242+AS$243+AT$243)/Denscalc($J163))*1000*  $J163 * Data!$B$6)) ), 0     ),  0)","v":0},140,null,null,{"$f":"IF(AND($A163<>\"\",(AW163+AX163)>0), IF($F163=\"Nej\",\nIF(AX$13=\"Nm3\",(AY$12*1000*1000/((AW$242+AX$242+AW$243+AX$243-AW$240-AX$240)*1000*  $J163 * Data!$B$6))+(AY$6*1000*1000/((AW$242+AX$242+AW$243+AX$243)*1000*  $J163 * Data!$B$6)),\n (AY$12*1000*1000/(((AW$242+AX$242+AW$243+AX$243-AW$240-AX$240)/Denscalc($J163))*1000*  $J163 * Data!$B$6))  +  (AY$6*1000*1000/(((AW$242+AX$242+AW$243+AX$243)/Denscalc($J163))*1000*  $J163 * Data!$B$6)) ), 0     ),  0)","v":0},140,null,null,{"$f":"IF(AND($A163<>\"\",(BA163+BB163)>0), IF($F163=\"Nej\",\n (BC$12*1000*1000/((BA$244+BB$244-BA$240-BB$240)*1000* Data!$B$7))+ (BC$6*1000*1000/((BA$244+BB$244)*1000* Data!$B$7)),0 ),  0)","v":0},140,"",{"$f":"IF(A163<>\"\",IF(F163=\"Nej\", (Data!$B$129*Data!$B$5*1000*Data!$B$3)/Data!$B$6,  0 ),\"\")","v":""},"","",{"$f":"IF(A163<>\"\",IF(BH163>0,  IF(BE163=\"Nej\",    (Data!$B$8-BH163)/Data!$B$8,  ROUND( (Data!$B$8-BH163)/Data!$B$8,2)),      \"\"),\"\")","v":""},"","","","",{"$f":"IF(A163<>\"\", IF(H163=\"Flytande\",   IF(BM163>0,  IF(BE163=\"Nej\",  (Data!$B$8-BM163)/Data!$B$8,  ROUND( (Data!$B$8-BM163)/Data!$B$8,2)   ), \"\"), \"\"),\"\")","v":""},"",140,"","","",null,""]
[null,141,null,"",null,null,null,null,null,null,null,null,null,null,{"$f":"IF(AND($A164<>\"\",(M164+N164)>0), IF($F164=\"Nej\",    IF(N$13=\"Nm3\",(O$12*1000*1000/((M$242+N$242+M$243+N$243)*1000*  $J164 * Data!$B$6)),  (O$12*1000*1000/(((M$242+N$242+M$243+N$243)/Denscalc($J164))*1000*  $J164 * Data!$B$6)) ), 0     ),  0)","v":0},141,null,null,{"$f":"IF(AND($A164<>\"\",(Q164+R164)>0), IF($F164=\"Nej\",    IF(R$13=\"Nm3\",(S$12*1000*1000/((Q$242+R$242+Q$243+R$243)*1000*  $J164 * Data!$B$6)),  (S$12*1000*1000/(((Q$242+R$242+Q$243+R$243)/Denscalc($J164))*1000*  $J164 * Data!$B$6)) ), 0     ),  0)","v":0},141,null,null,{"$f":"IF(AND($A164<>\"\",(U164+V164)>0), IF($F164=\"Nej\",    IF(V$13=\"Nm3\",(W$12*1000*1000/((U$242+V$242+U$243+V$243)*1000*  $J164 * Data!$B$6)),  (W$12*1000*1000/(((U$242+V$242+U$243+V$243)/Denscalc($J164))*1000*  $J164 * Data!$B$6)) ), 0     ),  0)","v":0},141,null,null,{"$f":"IF(AND($A164<>\"\",(Y164+Z164)>0), IF($F164=\"Nej\",    IF(Z$13=\"Nm3\",(AA$12*1000*1000/((Y$242+Z$242+Y$243+Z$243)*1000*  $J164 * Data!$B$6)),  (AA$12*1000*1000/(((Y$242+Z$242+Y$243+Z$243)/Denscalc($J164))*1000*  $J164 * Data!$B$6)) ), 0     ),  0)","v":0},141,null,null,{"$f":"IF(AND($A164<>\"\",(AC164+AD164)>0), IF($F164=\"Nej\",    IF(AD$13=\"Nm3\",(AE$12*1000*1000/((AC$242+AD$242+AC$243+AD$243)*1000*  $J164 * Data!$B$6)),  (AE$12*1000*1000/(((AC$242+AD$242+AC$243+AD$243)/Denscalc($J164))*1000*  $J164 * Data!$B$6)) ), 0     ),  0)","v":0},141,null,null,{"$f":"IF(AND($A164<>\"\",(AG164+AH164)>0), IF($F164=\"Nej\",    IF(AH$13=\"Nm3\",(AI$12*1000*1000/((AG$242+AH$242+AG$243+AH$243)*1000*  $J164 * Data!$B$6)),  (AI$12*1000*1000/(((AG$242+AH$242+AG$243+AH$243)/Denscalc($J164))*1000*  $J164 * Data!$B$6)) ), 0     ),  0)","v":0},141,null,null,{"$f":"IF(AND($A164<>\"\",(AK164+AL164)>0), IF($F164=\"Nej\",    IF(AL$13=\"Nm3\",(AM$12*1000*1000/((AK$242+AL$242+AK$243+AL$243)*1000*  $J164 * Data!$B$6)),  (AM$12*1000*1000/(((AK$242+AL$242+AK$243+AL$243)/Denscalc($J164))*1000*  $J164 * Data!$B$6)) ), 0     ),  0)","v":0},141,null,null,{"$f":"IF(AND($A164<>\"\",(AO164+AP164)>0), IF($F164=\"Nej\",    IF(AP$13=\"Nm3\",(AQ$12*1000*1000/((AO$242+AP$242+AO$243+AP$243)*1000*  $J164 * Data!$B$6)),  (AQ$12*1000*1000/(((AO$242+AP$242+AO$243+AP$243)/Denscalc($J164))*1000*  $J164 * Data!$B$6)) ), 0     ),  0)","v":0},141,null,null,{"$f":"IF(AND($A164<>\"\",(AS164+AT164)>0), IF($F164=\"Nej\",    IF(AT$13=\"Nm3\",(AU$12*1000*1000/((AS$242+AT$242+AS$243+AT$243)*1000*  $J164 * Data!$B$6)),  (AU$12*1000*1000/(((AS$242+AT$242+AS$243+AT$243)/Denscalc($J164))*1000*  $J164 * Data!$B$6)) ), 0     ),  0)","v":0},141,null,null,{"$f":"IF(AND($A164<>\"\",(AW164+AX164)>0), IF($F164=\"Nej\",\nIF(AX$13=\"Nm3\",(AY$12*1000*1000/((AW$242+AX$242+AW$243+AX$243-AW$240-AX$240)*1000*  $J164 * Data!$B$6))+(AY$6*1000*1000/((AW$242+AX$242+AW$243+AX$243)*1000*  $J164 * Data!$B$6)),\n (AY$12*1000*1000/(((AW$242+AX$242+AW$243+AX$243-AW$240-AX$240)/Denscalc($J164))*1000*  $J164 * Data!$B$6))  +  (AY$6*1000*1000/(((AW$242+AX$242+AW$243+AX$243)/Denscalc($J164))*1000*  $J164 * Data!$B$6)) ), 0     ),  0)","v":0},141,null,null,{"$f":"IF(AND($A164<>\"\",(BA164+BB164)>0), IF($F164=\"Nej\",\n (BC$12*1000*1000/((BA$244+BB$244-BA$240-BB$240)*1000* Data!$B$7))+ (BC$6*1000*1000/((BA$244+BB$244)*1000* Data!$B$7)),0 ),  0)","v":0},141,"",{"$f":"IF(A164<>\"\",IF(F164=\"Nej\", (Data!$B$129*Data!$B$5*1000*Data!$B$3)/Data!$B$6,  0 ),\"\")","v":""},"","",{"$f":"IF(A164<>\"\",IF(BH164>0,  IF(BE164=\"Nej\",    (Data!$B$8-BH164)/Data!$B$8,  ROUND( (Data!$B$8-BH164)/Data!$B$8,2)),      \"\"),\"\")","v":""},"","","","",{"$f":"IF(A164<>\"\", IF(H164=\"Flytande\",   IF(BM164>0,  IF(BE164=\"Nej\",  (Data!$B$8-BM164)/Data!$B$8,  ROUND( (Data!$B$8-BM164)/Data!$B$8,2)   ), \"\"), \"\"),\"\")","v":""},"",141,"","","",null,""]
[null,142,null,"",null,null,null,null,null,null,null,null,null,null,{"$f":"IF(AND($A165<>\"\",(M165+N165)>0), IF($F165=\"Nej\",    IF(N$13=\"Nm3\",(O$12*1000*1000/((M$242+N$242+M$243+N$243)*1000*  $J165 * Data!$B$6)),  (O$12*1000*1000/(((M$242+N$242+M$243+N$243)/Denscalc($J165))*1000*  $J165 * Data!$B$6)) ), 0     ),  0)","v":0},142,null,null,{"$f":"IF(AND($A165<>\"\",(Q165+R165)>0), IF($F165=\"Nej\",    IF(R$13=\"Nm3\",(S$12*1000*1000/((Q$242+R$242+Q$243+R$243)*1000*  $J165 * Data!$B$6)),  (S$12*1000*1000/(((Q$242+R$242+Q$243+R$243)/Denscalc($J165))*1000*  $J165 * Data!$B$6)) ), 0     ),  0)","v":0},142,null,null,{"$f":"IF(AND($A165<>\"\",(U165+V165)>0), IF($F165=\"Nej\",    IF(V$13=\"Nm3\",(W$12*1000*1000/((U$242+V$242+U$243+V$243)*1000*  $J165 * Data!$B$6)),  (W$12*1000*1000/(((U$242+V$242+U$243+V$243)/Denscalc($J165))*1000*  $J165 * Data!$B$6)) ), 0     ),  0)","v":0},142,null,null,{"$f":"IF(AND($A165<>\"\",(Y165+Z165)>0), IF($F165=\"Nej\",    IF(Z$13=\"Nm3\",(AA$12*1000*1000/((Y$242+Z$242+Y$243+Z$243)*1000*  $J165 * Data!$B$6)),  (AA$12*1000*1000/(((Y$242+Z$242+Y$243+Z$243)/Denscalc($J165))*1000*  $J165 * Data!$B$6)) ), 0     ),  0)","v":0},142,null,null,{"$f":"IF(AND($A165<>\"\",(AC165+AD165)>0), IF($F165=\"Nej\",    IF(AD$13=\"Nm3\",(AE$12*1000*1000/((AC$242+AD$242+AC$243+AD$243)*1000*  $J165 * Data!$B$6)),  (AE$12*1000*1000/(((AC$242+AD$242+AC$243+AD$243)/Denscalc($J165))*1000*  $J165 * Data!$B$6)) ), 0     ),  0)","v":0},142,null,null,{"$f":"IF(AND($A165<>\"\",(AG165+AH165)>0), IF($F165=\"Nej\",    IF(AH$13=\"Nm3\",(AI$12*1000*1000/((AG$242+AH$242+AG$243+AH$243)*1000*  $J165 * Data!$B$6)),  (AI$12*1000*1000/(((AG$242+AH$242+AG$243+AH$243)/Denscalc($J165))*1000*  $J165 * Data!$B$6)) ), 0     ),  0)","v":0},142,null,null,{"$f":"IF(AND($A165<>\"\",(AK165+AL165)>0), IF($F165=\"Nej\",    IF(AL$13=\"Nm3\",(AM$12*1000*1000/((AK$242+AL$242+AK$243+AL$243)*1000*  $J165 * Data!$B$6)),  (AM$12*1000*1000/(((AK$242+AL$242+AK$243+AL$243)/Denscalc($J165))*1000*  $J165 * Data!$B$6)) ), 0     ),  0)","v":0},142,null,null,{"$f":"IF(AND($A165<>\"\",(AO165+AP165)>0), IF($F165=\"Nej\",    IF(AP$13=\"Nm3\",(AQ$12*1000*1000/((AO$242+AP$242+AO$243+AP$243)*1000*  $J165 * Data!$B$6)),  (AQ$12*1000*1000/(((AO$242+AP$242+AO$243+AP$243)/Denscalc($J165))*1000*  $J165 * Data!$B$6)) ), 0     ),  0)","v":0},142,null,null,{"$f":"IF(AND($A165<>\"\",(AS165+AT165)>0), IF($F165=\"Nej\",    IF(AT$13=\"Nm3\",(AU$12*1000*1000/((AS$242+AT$242+AS$243+AT$243)*1000*  $J165 * Data!$B$6)),  (AU$12*1000*1000/(((AS$242+AT$242+AS$243+AT$243)/Denscalc($J165))*1000*  $J165 * Data!$B$6)) ), 0     ),  0)","v":0},142,null,null,{"$f":"IF(AND($A165<>\"\",(AW165+AX165)>0), IF($F165=\"Nej\",\nIF(AX$13=\"Nm3\",(AY$12*1000*1000/((AW$242+AX$242+AW$243+AX$243-AW$240-AX$240)*1000*  $J165 * Data!$B$6))+(AY$6*1000*1000/((AW$242+AX$242+AW$243+AX$243)*1000*  $J165 * Data!$B$6)),\n (AY$12*1000*1000/(((AW$242+AX$242+AW$243+AX$243-AW$240-AX$240)/Denscalc($J165))*1000*  $J165 * Data!$B$6))  +  (AY$6*1000*1000/(((AW$242+AX$242+AW$243+AX$243)/Denscalc($J165))*1000*  $J165 * Data!$B$6)) ), 0     ),  0)","v":0},142,null,null,{"$f":"IF(AND($A165<>\"\",(BA165+BB165)>0), IF($F165=\"Nej\",\n (BC$12*1000*1000/((BA$244+BB$244-BA$240-BB$240)*1000* Data!$B$7))+ (BC$6*1000*1000/((BA$244+BB$244)*1000* Data!$B$7)),0 ),  0)","v":0},142,"",{"$f":"IF(A165<>\"\",IF(F165=\"Nej\", (Data!$B$129*Data!$B$5*1000*Data!$B$3)/Data!$B$6,  0 ),\"\")","v":""},"","",{"$f":"IF(A165<>\"\",IF(BH165>0,  IF(BE165=\"Nej\",    (Data!$B$8-BH165)/Data!$B$8,  ROUND( (Data!$B$8-BH165)/Data!$B$8,2)),      \"\"),\"\")","v":""},"","","","",{"$f":"IF(A165<>\"\", IF(H165=\"Flytande\",   IF(BM165>0,  IF(BE165=\"Nej\",  (Data!$B$8-BM165)/Data!$B$8,  ROUND( (Data!$B$8-BM165)/Data!$B$8,2)   ), \"\"), \"\"),\"\")","v":""},"",142,"","","",null,""]
[null,143,null,"",null,null,null,null,null,null,null,null,null,null,{"$f":"IF(AND($A166<>\"\",(M166+N166)>0), IF($F166=\"Nej\",    IF(N$13=\"Nm3\",(O$12*1000*1000/((M$242+N$242+M$243+N$243)*1000*  $J166 * Data!$B$6)),  (O$12*1000*1000/(((M$242+N$242+M$243+N$243)/Denscalc($J166))*1000*  $J166 * Data!$B$6)) ), 0     ),  0)","v":0},143,null,null,{"$f":"IF(AND($A166<>\"\",(Q166+R166)>0), IF($F166=\"Nej\",    IF(R$13=\"Nm3\",(S$12*1000*1000/((Q$242+R$242+Q$243+R$243)*1000*  $J166 * Data!$B$6)),  (S$12*1000*1000/(((Q$242+R$242+Q$243+R$243)/Denscalc($J166))*1000*  $J166 * Data!$B$6)) ), 0     ),  0)","v":0},143,null,null,{"$f":"IF(AND($A166<>\"\",(U166+V166)>0), IF($F166=\"Nej\",    IF(V$13=\"Nm3\",(W$12*1000*1000/((U$242+V$242+U$243+V$243)*1000*  $J166 * Data!$B$6)),  (W$12*1000*1000/(((U$242+V$242+U$243+V$243)/Denscalc($J166))*1000*  $J166 * Data!$B$6)) ), 0     ),  0)","v":0},143,null,null,{"$f":"IF(AND($A166<>\"\",(Y166+Z166)>0), IF($F166=\"Nej\",    IF(Z$13=\"Nm3\",(AA$12*1000*1000/((Y$242+Z$242+Y$243+Z$243)*1000*  $J166 * Data!$B$6)),  (AA$12*1000*1000/(((Y$242+Z$242+Y$243+Z$243)/Denscalc($J166))*1000*  $J166 * Data!$B$6)) ), 0     ),  0)","v":0},143,null,null,{"$f":"IF(AND($A166<>\"\",(AC166+AD166)>0), IF($F166=\"Nej\",    IF(AD$13=\"Nm3\",(AE$12*1000*1000/((AC$242+AD$242+AC$243+AD$243)*1000*  $J166 * Data!$B$6)),  (AE$12*1000*1000/(((AC$242+AD$242+AC$243+AD$243)/Denscalc($J166))*1000*  $J166 * Data!$B$6)) ), 0     ),  0)","v":0},143,null,null,{"$f":"IF(AND($A166<>\"\",(AG166+AH166)>0), IF($F166=\"Nej\",    IF(AH$13=\"Nm3\",(AI$12*1000*1000/((AG$242+AH$242+AG$243+AH$243)*1000*  $J166 * Data!$B$6)),  (AI$12*1000*1000/(((AG$242+AH$242+AG$243+AH$243)/Denscalc($J166))*1000*  $J166 * Data!$B$6)) ), 0     ),  0)","v":0},143,null,null,{"$f":"IF(AND($A166<>\"\",(AK166+AL166)>0), IF($F166=\"Nej\",    IF(AL$13=\"Nm3\",(AM$12*1000*1000/((AK$242+AL$242+AK$243+AL$243)*1000*  $J166 * Data!$B$6)),  (AM$12*1000*1000/(((AK$242+AL$242+AK$243+AL$243)/Denscalc($J166))*1000*  $J166 * Data!$B$6)) ), 0     ),  0)","v":0},143,null,null,{"$f":"IF(AND($A166<>\"\",(AO166+AP166)>0), IF($F166=\"Nej\",    IF(AP$13=\"Nm3\",(AQ$12*1000*1000/((AO$242+AP$242+AO$243+AP$243)*1000*  $J166 * Data!$B$6)),  (AQ$12*1000*1000/(((AO$242+AP$242+AO$243+AP$243)/Denscalc($J166))*1000*  $J166 * Data!$B$6)) ), 0     ),  0)","v":0},143,null,null,{"$f":"IF(AND($A166<>\"\",(AS166+AT166)>0), IF($F166=\"Nej\",    IF(AT$13=\"Nm3\",(AU$12*1000*1000/((AS$242+AT$242+AS$243+AT$243)*1000*  $J166 * Data!$B$6)),  (AU$12*1000*1000/(((AS$242+AT$242+AS$243+AT$243)/Denscalc($J166))*1000*  $J166 * Data!$B$6)) ), 0     ),  0)","v":0},143,null,null,{"$f":"IF(AND($A166<>\"\",(AW166+AX166)>0), IF($F166=\"Nej\",\nIF(AX$13=\"Nm3\",(AY$12*1000*1000/((AW$242+AX$242+AW$243+AX$243-AW$240-AX$240)*1000*  $J166 * Data!$B$6))+(AY$6*1000*1000/((AW$242+AX$242+AW$243+AX$243)*1000*  $J166 * Data!$B$6)),\n (AY$12*1000*1000/(((AW$242+AX$242+AW$243+AX$243-AW$240-AX$240)/Denscalc($J166))*1000*  $J166 * Data!$B$6))  +  (AY$6*1000*1000/(((AW$242+AX$242+AW$243+AX$243)/Denscalc($J166))*1000*  $J166 * Data!$B$6)) ), 0     ),  0)","v":0},143,null,null,{"$f":"IF(AND($A166<>\"\",(BA166+BB166)>0), IF($F166=\"Nej\",\n (BC$12*1000*1000/((BA$244+BB$244-BA$240-BB$240)*1000* Data!$B$7))+ (BC$6*1000*1000/((BA$244+BB$244)*1000* Data!$B$7)),0 ),  0)","v":0},143,"",{"$f":"IF(A166<>\"\",IF(F166=\"Nej\", (Data!$B$129*Data!$B$5*1000*Data!$B$3)/Data!$B$6,  0 ),\"\")","v":""},"","",{"$f":"IF(A166<>\"\",IF(BH166>0,  IF(BE166=\"Nej\",    (Data!$B$8-BH166)/Data!$B$8,  ROUND( (Data!$B$8-BH166)/Data!$B$8,2)),      \"\"),\"\")","v":""},"","","","",{"$f":"IF(A166<>\"\", IF(H166=\"Flytande\",   IF(BM166>0,  IF(BE166=\"Nej\",  (Data!$B$8-BM166)/Data!$B$8,  ROUND( (Data!$B$8-BM166)/Data!$B$8,2)   ), \"\"), \"\"),\"\")","v":""},"",143,"","","",null,""]
[null,144,null,"",null,null,null,null,null,null,null,null,null,null,{"$f":"IF(AND($A167<>\"\",(M167+N167)>0), IF($F167=\"Nej\",    IF(N$13=\"Nm3\",(O$12*1000*1000/((M$242+N$242+M$243+N$243)*1000*  $J167 * Data!$B$6)),  (O$12*1000*1000/(((M$242+N$242+M$243+N$243)/Denscalc($J167))*1000*  $J167 * Data!$B$6)) ), 0     ),  0)","v":0},144,null,null,{"$f":"IF(AND($A167<>\"\",(Q167+R167)>0), IF($F167=\"Nej\",    IF(R$13=\"Nm3\",(S$12*1000*1000/((Q$242+R$242+Q$243+R$243)*1000*  $J167 * Data!$B$6)),  (S$12*1000*1000/(((Q$242+R$242+Q$243+R$243)/Denscalc($J167))*1000*  $J167 * Data!$B$6)) ), 0     ),  0)","v":0},144,null,null,{"$f":"IF(AND($A167<>\"\",(U167+V167)>0), IF($F167=\"Nej\",    IF(V$13=\"Nm3\",(W$12*1000*1000/((U$242+V$242+U$243+V$243)*1000*  $J167 * Data!$B$6)),  (W$12*1000*1000/(((U$242+V$242+U$243+V$243)/Denscalc($J167))*1000*  $J167 * Data!$B$6)) ), 0     ),  0)","v":0},144,null,null,{"$f":"IF(AND($A167<>\"\",(Y167+Z167)>0), IF($F167=\"Nej\",    IF(Z$13=\"Nm3\",(AA$12*1000*1000/((Y$242+Z$242+Y$243+Z$243)*1000*  $J167 * Data!$B$6)),  (AA$12*1000*1000/(((Y$242+Z$242+Y$243+Z$243)/Denscalc($J167))*1000*  $J167 * Data!$B$6)) ), 0     ),  0)","v":0},144,null,null,{"$f":"IF(AND($A167<>\"\",(AC167+AD167)>0), IF($F167=\"Nej\",    IF(AD$13=\"Nm3\",(AE$12*1000*1000/((AC$242+AD$242+AC$243+AD$243)*1000*  $J167 * Data!$B$6)),  (AE$12*1000*1000/(((AC$242+AD$242+AC$243+AD$243)/Denscalc($J167))*1000*  $J167 * Data!$B$6)) ), 0     ),  0)","v":0},144,null,null,{"$f":"IF(AND($A167<>\"\",(AG167+AH167)>0), IF($F167=\"Nej\",    IF(AH$13=\"Nm3\",(AI$12*1000*1000/((AG$242+AH$242+AG$243+AH$243)*1000*  $J167 * Data!$B$6)),  (AI$12*1000*1000/(((AG$242+AH$242+AG$243+AH$243)/Denscalc($J167))*1000*  $J167 * Data!$B$6)) ), 0     ),  0)","v":0},144,null,null,{"$f":"IF(AND($A167<>\"\",(AK167+AL167)>0), IF($F167=\"Nej\",    IF(AL$13=\"Nm3\",(AM$12*1000*1000/((AK$242+AL$242+AK$243+AL$243)*1000*  $J167 * Data!$B$6)),  (AM$12*1000*1000/(((AK$242+AL$242+AK$243+AL$243)/Denscalc($J167))*1000*  $J167 * Data!$B$6)) ), 0     ),  0)","v":0},144,null,null,{"$f":"IF(AND($A167<>\"\",(AO167+AP167)>0), IF($F167=\"Nej\",    IF(AP$13=\"Nm3\",(AQ$12*1000*1000/((AO$242+AP$242+AO$243+AP$243)*1000*  $J167 * Data!$B$6)),  (AQ$12*1000*1000/(((AO$242+AP$242+AO$243+AP$243)/Denscalc($J167))*1000*  $J167 * Data!$B$6)) ), 0     ),  0)","v":0},144,null,null,{"$f":"IF(AND($A167<>\"\",(AS167+AT167)>0), IF($F167=\"Nej\",    IF(AT$13=\"Nm3\",(AU$12*1000*1000/((AS$242+AT$242+AS$243+AT$243)*1000*  $J167 * Data!$B$6)),  (AU$12*1000*1000/(((AS$242+AT$242+AS$243+AT$243)/Denscalc($J167))*1000*  $J167 * Data!$B$6)) ), 0     ),  0)","v":0},144,null,null,{"$f":"IF(AND($A167<>\"\",(AW167+AX167)>0), IF($F167=\"Nej\",\nIF(AX$13=\"Nm3\",(AY$12*1000*1000/((AW$242+AX$242+AW$243+AX$243-AW$240-AX$240)*1000*  $J167 * Data!$B$6))+(AY$6*1000*1000/((AW$242+AX$242+AW$243+AX$243)*1000*  $J167 * Data!$B$6)),\n (AY$12*1000*1000/(((AW$242+AX$242+AW$243+AX$243-AW$240-AX$240)/Denscalc($J167))*1000*  $J167 * Data!$B$6))  +  (AY$6*1000*1000/(((AW$242+AX$242+AW$243+AX$243)/Denscalc($J167))*1000*  $J167 * Data!$B$6)) ), 0     ),  0)","v":0},144,null,null,{"$f":"IF(AND($A167<>\"\",(BA167+BB167)>0), IF($F167=\"Nej\",\n (BC$12*1000*1000/((BA$244+BB$244-BA$240-BB$240)*1000* Data!$B$7))+ (BC$6*1000*1000/((BA$244+BB$244)*1000* Data!$B$7)),0 ),  0)","v":0},144,"",{"$f":"IF(A167<>\"\",IF(F167=\"Nej\", (Data!$B$129*Data!$B$5*1000*Data!$B$3)/Data!$B$6,  0 ),\"\")","v":""},"","",{"$f":"IF(A167<>\"\",IF(BH167>0,  IF(BE167=\"Nej\",    (Data!$B$8-BH167)/Data!$B$8,  ROUND( (Data!$B$8-BH167)/Data!$B$8,2)),      \"\"),\"\")","v":""},"","","","",{"$f":"IF(A167<>\"\", IF(H167=\"Flytande\",   IF(BM167>0,  IF(BE167=\"Nej\",  (Data!$B$8-BM167)/Data!$B$8,  ROUND( (Data!$B$8-BM167)/Data!$B$8,2)   ), \"\"), \"\"),\"\")","v":""},"",144,"","","",null,""]
[null,145,null,"",null,null,null,null,null,null,null,null,null,null,{"$f":"IF(AND($A168<>\"\",(M168+N168)>0), IF($F168=\"Nej\",    IF(N$13=\"Nm3\",(O$12*1000*1000/((M$242+N$242+M$243+N$243)*1000*  $J168 * Data!$B$6)),  (O$12*1000*1000/(((M$242+N$242+M$243+N$243)/Denscalc($J168))*1000*  $J168 * Data!$B$6)) ), 0     ),  0)","v":0},145,null,null,{"$f":"IF(AND($A168<>\"\",(Q168+R168)>0), IF($F168=\"Nej\",    IF(R$13=\"Nm3\",(S$12*1000*1000/((Q$242+R$242+Q$243+R$243)*1000*  $J168 * Data!$B$6)),  (S$12*1000*1000/(((Q$242+R$242+Q$243+R$243)/Denscalc($J168))*1000*  $J168 * Data!$B$6)) ), 0     ),  0)","v":0},145,null,null,{"$f":"IF(AND($A168<>\"\",(U168+V168)>0), IF($F168=\"Nej\",    IF(V$13=\"Nm3\",(W$12*1000*1000/((U$242+V$242+U$243+V$243)*1000*  $J168 * Data!$B$6)),  (W$12*1000*1000/(((U$242+V$242+U$243+V$243)/Denscalc($J168))*1000*  $J168 * Data!$B$6)) ), 0     ),  0)","v":0},145,null,null,{"$f":"IF(AND($A168<>\"\",(Y168+Z168)>0), IF($F168=\"Nej\",    IF(Z$13=\"Nm3\",(AA$12*1000*1000/((Y$242+Z$242+Y$243+Z$243)*1000*  $J168 * Data!$B$6)),  (AA$12*1000*1000/(((Y$242+Z$242+Y$243+Z$243)/Denscalc($J168))*1000*  $J168 * Data!$B$6)) ), 0     ),  0)","v":0},145,null,null,{"$f":"IF(AND($A168<>\"\",(AC168+AD168)>0), IF($F168=\"Nej\",    IF(AD$13=\"Nm3\",(AE$12*1000*1000/((AC$242+AD$242+AC$243+AD$243)*1000*  $J168 * Data!$B$6)),  (AE$12*1000*1000/(((AC$242+AD$242+AC$243+AD$243)/Denscalc($J168))*1000*  $J168 * Data!$B$6)) ), 0     ),  0)","v":0},145,null,null,{"$f":"IF(AND($A168<>\"\",(AG168+AH168)>0), IF($F168=\"Nej\",    IF(AH$13=\"Nm3\",(AI$12*1000*1000/((AG$242+AH$242+AG$243+AH$243)*1000*  $J168 * Data!$B$6)),  (AI$12*1000*1000/(((AG$242+AH$242+AG$243+AH$243)/Denscalc($J168))*1000*  $J168 * Data!$B$6)) ), 0     ),  0)","v":0},145,null,null,{"$f":"IF(AND($A168<>\"\",(AK168+AL168)>0), IF($F168=\"Nej\",    IF(AL$13=\"Nm3\",(AM$12*1000*1000/((AK$242+AL$242+AK$243+AL$243)*1000*  $J168 * Data!$B$6)),  (AM$12*1000*1000/(((AK$242+AL$242+AK$243+AL$243)/Denscalc($J168))*1000*  $J168 * Data!$B$6)) ), 0     ),  0)","v":0},145,null,null,{"$f":"IF(AND($A168<>\"\",(AO168+AP168)>0), IF($F168=\"Nej\",    IF(AP$13=\"Nm3\",(AQ$12*1000*1000/((AO$242+AP$242+AO$243+AP$243)*1000*  $J168 * Data!$B$6)),  (AQ$12*1000*1000/(((AO$242+AP$242+AO$243+AP$243)/Denscalc($J168))*1000*  $J168 * Data!$B$6)) ), 0     ),  0)","v":0},145,null,null,{"$f":"IF(AND($A168<>\"\",(AS168+AT168)>0), IF($F168=\"Nej\",    IF(AT$13=\"Nm3\",(AU$12*1000*1000/((AS$242+AT$242+AS$243+AT$243)*1000*  $J168 * Data!$B$6)),  (AU$12*1000*1000/(((AS$242+AT$242+AS$243+AT$243)/Denscalc($J168))*1000*  $J168 * Data!$B$6)) ), 0     ),  0)","v":0},145,null,null,{"$f":"IF(AND($A168<>\"\",(AW168+AX168)>0), IF($F168=\"Nej\",\nIF(AX$13=\"Nm3\",(AY$12*1000*1000/((AW$242+AX$242+AW$243+AX$243-AW$240-AX$240)*1000*  $J168 * Data!$B$6))+(AY$6*1000*1000/((AW$242+AX$242+AW$243+AX$243)*1000*  $J168 * Data!$B$6)),\n (AY$12*1000*1000/(((AW$242+AX$242+AW$243+AX$243-AW$240-AX$240)/Denscalc($J168))*1000*  $J168 * Data!$B$6))  +  (AY$6*1000*1000/(((AW$242+AX$242+AW$243+AX$243)/Denscalc($J168))*1000*  $J168 * Data!$B$6)) ), 0     ),  0)","v":0},145,null,null,{"$f":"IF(AND($A168<>\"\",(BA168+BB168)>0), IF($F168=\"Nej\",\n (BC$12*1000*1000/((BA$244+BB$244-BA$240-BB$240)*1000* Data!$B$7))+ (BC$6*1000*1000/((BA$244+BB$244)*1000* Data!$B$7)),0 ),  0)","v":0},145,"",{"$f":"IF(A168<>\"\",IF(F168=\"Nej\", (Data!$B$129*Data!$B$5*1000*Data!$B$3)/Data!$B$6,  0 ),\"\")","v":""},"","",{"$f":"IF(A168<>\"\",IF(BH168>0,  IF(BE168=\"Nej\",    (Data!$B$8-BH168)/Data!$B$8,  ROUND( (Data!$B$8-BH168)/Data!$B$8,2)),      \"\"),\"\")","v":""},"","","","",{"$f":"IF(A168<>\"\", IF(H168=\"Flytande\",   IF(BM168>0,  IF(BE168=\"Nej\",  (Data!$B$8-BM168)/Data!$B$8,  ROUND( (Data!$B$8-BM168)/Data!$B$8,2)   ), \"\"), \"\"),\"\")","v":""},"",145,"","","",null,""]
[null,146,null,"",null,null,null,null,null,null,null,null,null,null,{"$f":"IF(AND($A169<>\"\",(M169+N169)>0), IF($F169=\"Nej\",    IF(N$13=\"Nm3\",(O$12*1000*1000/((M$242+N$242+M$243+N$243)*1000*  $J169 * Data!$B$6)),  (O$12*1000*1000/(((M$242+N$242+M$243+N$243)/Denscalc($J169))*1000*  $J169 * Data!$B$6)) ), 0     ),  0)","v":0},146,null,null,{"$f":"IF(AND($A169<>\"\",(Q169+R169)>0), IF($F169=\"Nej\",    IF(R$13=\"Nm3\",(S$12*1000*1000/((Q$242+R$242+Q$243+R$243)*1000*  $J169 * Data!$B$6)),  (S$12*1000*1000/(((Q$242+R$242+Q$243+R$243)/Denscalc($J169))*1000*  $J169 * Data!$B$6)) ), 0     ),  0)","v":0},146,null,null,{"$f":"IF(AND($A169<>\"\",(U169+V169)>0), IF($F169=\"Nej\",    IF(V$13=\"Nm3\",(W$12*1000*1000/((U$242+V$242+U$243+V$243)*1000*  $J169 * Data!$B$6)),  (W$12*1000*1000/(((U$242+V$242+U$243+V$243)/Denscalc($J169))*1000*  $J169 * Data!$B$6)) ), 0     ),  0)","v":0},146,null,null,{"$f":"IF(AND($A169<>\"\",(Y169+Z169)>0), IF($F169=\"Nej\",    IF(Z$13=\"Nm3\",(AA$12*1000*1000/((Y$242+Z$242+Y$243+Z$243)*1000*  $J169 * Data!$B$6)),  (AA$12*1000*1000/(((Y$242+Z$242+Y$243+Z$243)/Denscalc($J169))*1000*  $J169 * Data!$B$6)) ), 0     ),  0)","v":0},146,null,null,{"$f":"IF(AND($A169<>\"\",(AC169+AD169)>0), IF($F169=\"Nej\",    IF(AD$13=\"Nm3\",(AE$12*1000*1000/((AC$242+AD$242+AC$243+AD$243)*1000*  $J169 * Data!$B$6)),  (AE$12*1000*1000/(((AC$242+AD$242+AC$243+AD$243)/Denscalc($J169))*1000*  $J169 * Data!$B$6)) ), 0     ),  0)","v":0},146,null,null,{"$f":"IF(AND($A169<>\"\",(AG169+AH169)>0), IF($F169=\"Nej\",    IF(AH$13=\"Nm3\",(AI$12*1000*1000/((AG$242+AH$242+AG$243+AH$243)*1000*  $J169 * Data!$B$6)),  (AI$12*1000*1000/(((AG$242+AH$242+AG$243+AH$243)/Denscalc($J169))*1000*  $J169 * Data!$B$6)) ), 0     ),  0)","v":0},146,null,null,{"$f":"IF(AND($A169<>\"\",(AK169+AL169)>0), IF($F169=\"Nej\",    IF(AL$13=\"Nm3\",(AM$12*1000*1000/((AK$242+AL$242+AK$243+AL$243)*1000*  $J169 * Data!$B$6)),  (AM$12*1000*1000/(((AK$242+AL$242+AK$243+AL$243)/Denscalc($J169))*1000*  $J169 * Data!$B$6)) ), 0     ),  0)","v":0},146,null,null,{"$f":"IF(AND($A169<>\"\",(AO169+AP169)>0), IF($F169=\"Nej\",    IF(AP$13=\"Nm3\",(AQ$12*1000*1000/((AO$242+AP$242+AO$243+AP$243)*1000*  $J169 * Data!$B$6)),  (AQ$12*1000*1000/(((AO$242+AP$242+AO$243+AP$243)/Denscalc($J169))*1000*  $J169 * Data!$B$6)) ), 0     ),  0)","v":0},146,null,null,{"$f":"IF(AND($A169<>\"\",(AS169+AT169)>0), IF($F169=\"Nej\",    IF(AT$13=\"Nm3\",(AU$12*1000*1000/((AS$242+AT$242+AS$243+AT$243)*1000*  $J169 * Data!$B$6)),  (AU$12*1000*1000/(((AS$242+AT$242+AS$243+AT$243)/Denscalc($J169))*1000*  $J169 * Data!$B$6)) ), 0     ),  0)","v":0},146,null,null,{"$f":"IF(AND($A169<>\"\",(AW169+AX169)>0), IF($F169=\"Nej\",\nIF(AX$13=\"Nm3\",(AY$12*1000*1000/((AW$242+AX$242+AW$243+AX$243-AW$240-AX$240)*1000*  $J169 * Data!$B$6))+(AY$6*1000*1000/((AW$242+AX$242+AW$243+AX$243)*1000*  $J169 * Data!$B$6)),\n (AY$12*1000*1000/(((AW$242+AX$242+AW$243+AX$243-AW$240-AX$240)/Denscalc($J169))*1000*  $J169 * Data!$B$6))  +  (AY$6*1000*1000/(((AW$242+AX$242+AW$243+AX$243)/Denscalc($J169))*1000*  $J169 * Data!$B$6)) ), 0     ),  0)","v":0},146,null,null,{"$f":"IF(AND($A169<>\"\",(BA169+BB169)>0), IF($F169=\"Nej\",\n (BC$12*1000*1000/((BA$244+BB$244-BA$240-BB$240)*1000* Data!$B$7))+ (BC$6*1000*1000/((BA$244+BB$244)*1000* Data!$B$7)),0 ),  0)","v":0},146,"",{"$f":"IF(A169<>\"\",IF(F169=\"Nej\", (Data!$B$129*Data!$B$5*1000*Data!$B$3)/Data!$B$6,  0 ),\"\")","v":""},"","",{"$f":"IF(A169<>\"\",IF(BH169>0,  IF(BE169=\"Nej\",    (Data!$B$8-BH169)/Data!$B$8,  ROUND( (Data!$B$8-BH169)/Data!$B$8,2)),      \"\"),\"\")","v":""},"","","","",{"$f":"IF(A169<>\"\", IF(H169=\"Flytande\",   IF(BM169>0,  IF(BE169=\"Nej\",  (Data!$B$8-BM169)/Data!$B$8,  ROUND( (Data!$B$8-BM169)/Data!$B$8,2)   ), \"\"), \"\"),\"\")","v":""},"",146,"","","",null,""]
[null,147,null,"",null,null,null,null,null,null,null,null,null,null,{"$f":"IF(AND($A170<>\"\",(M170+N170)>0), IF($F170=\"Nej\",    IF(N$13=\"Nm3\",(O$12*1000*1000/((M$242+N$242+M$243+N$243)*1000*  $J170 * Data!$B$6)),  (O$12*1000*1000/(((M$242+N$242+M$243+N$243)/Denscalc($J170))*1000*  $J170 * Data!$B$6)) ), 0     ),  0)","v":0},147,null,null,{"$f":"IF(AND($A170<>\"\",(Q170+R170)>0), IF($F170=\"Nej\",    IF(R$13=\"Nm3\",(S$12*1000*1000/((Q$242+R$242+Q$243+R$243)*1000*  $J170 * Data!$B$6)),  (S$12*1000*1000/(((Q$242+R$242+Q$243+R$243)/Denscalc($J170))*1000*  $J170 * Data!$B$6)) ), 0     ),  0)","v":0},147,null,null,{"$f":"IF(AND($A170<>\"\",(U170+V170)>0), IF($F170=\"Nej\",    IF(V$13=\"Nm3\",(W$12*1000*1000/((U$242+V$242+U$243+V$243)*1000*  $J170 * Data!$B$6)),  (W$12*1000*1000/(((U$242+V$242+U$243+V$243)/Denscalc($J170))*1000*  $J170 * Data!$B$6)) ), 0     ),  0)","v":0},147,null,null,{"$f":"IF(AND($A170<>\"\",(Y170+Z170)>0), IF($F170=\"Nej\",    IF(Z$13=\"Nm3\",(AA$12*1000*1000/((Y$242+Z$242+Y$243+Z$243)*1000*  $J170 * Data!$B$6)),  (AA$12*1000*1000/(((Y$242+Z$242+Y$243+Z$243)/Denscalc($J170))*1000*  $J170 * Data!$B$6)) ), 0     ),  0)","v":0},147,null,null,{"$f":"IF(AND($A170<>\"\",(AC170+AD170)>0), IF($F170=\"Nej\",    IF(AD$13=\"Nm3\",(AE$12*1000*1000/((AC$242+AD$242+AC$243+AD$243)*1000*  $J170 * Data!$B$6)),  (AE$12*1000*1000/(((AC$242+AD$242+AC$243+AD$243)/Denscalc($J170))*1000*  $J170 * Data!$B$6)) ), 0     ),  0)","v":0},147,null,null,{"$f":"IF(AND($A170<>\"\",(AG170+AH170)>0), IF($F170=\"Nej\",    IF(AH$13=\"Nm3\",(AI$12*1000*1000/((AG$242+AH$242+AG$243+AH$243)*1000*  $J170 * Data!$B$6)),  (AI$12*1000*1000/(((AG$242+AH$242+AG$243+AH$243)/Denscalc($J170))*1000*  $J170 * Data!$B$6)) ), 0     ),  0)","v":0},147,null,null,{"$f":"IF(AND($A170<>\"\",(AK170+AL170)>0), IF($F170=\"Nej\",    IF(AL$13=\"Nm3\",(AM$12*1000*1000/((AK$242+AL$242+AK$243+AL$243)*1000*  $J170 * Data!$B$6)),  (AM$12*1000*1000/(((AK$242+AL$242+AK$243+AL$243)/Denscalc($J170))*1000*  $J170 * Data!$B$6)) ), 0     ),  0)","v":0},147,null,null,{"$f":"IF(AND($A170<>\"\",(AO170+AP170)>0), IF($F170=\"Nej\",    IF(AP$13=\"Nm3\",(AQ$12*1000*1000/((AO$242+AP$242+AO$243+AP$243)*1000*  $J170 * Data!$B$6)),  (AQ$12*1000*1000/(((AO$242+AP$242+AO$243+AP$243)/Denscalc($J170))*1000*  $J170 * Data!$B$6)) ), 0     ),  0)","v":0},147,null,null,{"$f":"IF(AND($A170<>\"\",(AS170+AT170)>0), IF($F170=\"Nej\",    IF(AT$13=\"Nm3\",(AU$12*1000*1000/((AS$242+AT$242+AS$243+AT$243)*1000*  $J170 * Data!$B$6)),  (AU$12*1000*1000/(((AS$242+AT$242+AS$243+AT$243)/Denscalc($J170))*1000*  $J170 * Data!$B$6)) ), 0     ),  0)","v":0},147,null,null,{"$f":"IF(AND($A170<>\"\",(AW170+AX170)>0), IF($F170=\"Nej\",\nIF(AX$13=\"Nm3\",(AY$12*1000*1000/((AW$242+AX$242+AW$243+AX$243-AW$240-AX$240)*1000*  $J170 * Data!$B$6))+(AY$6*1000*1000/((AW$242+AX$242+AW$243+AX$243)*1000*  $J170 * Data!$B$6)),\n (AY$12*1000*1000/(((AW$242+AX$242+AW$243+AX$243-AW$240-AX$240)/Denscalc($J170))*1000*  $J170 * Data!$B$6))  +  (AY$6*1000*1000/(((AW$242+AX$242+AW$243+AX$243)/Denscalc($J170))*1000*  $J170 * Data!$B$6)) ), 0     ),  0)","v":0},147,null,null,{"$f":"IF(AND($A170<>\"\",(BA170+BB170)>0), IF($F170=\"Nej\",\n (BC$12*1000*1000/((BA$244+BB$244-BA$240-BB$240)*1000* Data!$B$7))+ (BC$6*1000*1000/((BA$244+BB$244)*1000* Data!$B$7)),0 ),  0)","v":0},147,"",{"$f":"IF(A170<>\"\",IF(F170=\"Nej\", (Data!$B$129*Data!$B$5*1000*Data!$B$3)/Data!$B$6,  0 ),\"\")","v":""},"","",{"$f":"IF(A170<>\"\",IF(BH170>0,  IF(BE170=\"Nej\",    (Data!$B$8-BH170)/Data!$B$8,  ROUND( (Data!$B$8-BH170)/Data!$B$8,2)),      \"\"),\"\")","v":""},"","","","",{"$f":"IF(A170<>\"\", IF(H170=\"Flytande\",   IF(BM170>0,  IF(BE170=\"Nej\",  (Data!$B$8-BM170)/Data!$B$8,  ROUND( (Data!$B$8-BM170)/Data!$B$8,2)   ), \"\"), \"\"),\"\")","v":""},"",147,"","","",null,""]
[null,148,null,"",null,null,null,null,null,null,null,null,null,null,{"$f":"IF(AND($A171<>\"\",(M171+N171)>0), IF($F171=\"Nej\",    IF(N$13=\"Nm3\",(O$12*1000*1000/((M$242+N$242+M$243+N$243)*1000*  $J171 * Data!$B$6)),  (O$12*1000*1000/(((M$242+N$242+M$243+N$243)/Denscalc($J171))*1000*  $J171 * Data!$B$6)) ), 0     ),  0)","v":0},148,null,null,{"$f":"IF(AND($A171<>\"\",(Q171+R171)>0), IF($F171=\"Nej\",    IF(R$13=\"Nm3\",(S$12*1000*1000/((Q$242+R$242+Q$243+R$243)*1000*  $J171 * Data!$B$6)),  (S$12*1000*1000/(((Q$242+R$242+Q$243+R$243)/Denscalc($J171))*1000*  $J171 * Data!$B$6)) ), 0     ),  0)","v":0},148,null,null,{"$f":"IF(AND($A171<>\"\",(U171+V171)>0), IF($F171=\"Nej\",    IF(V$13=\"Nm3\",(W$12*1000*1000/((U$242+V$242+U$243+V$243)*1000*  $J171 * Data!$B$6)),  (W$12*1000*1000/(((U$242+V$242+U$243+V$243)/Denscalc($J171))*1000*  $J171 * Data!$B$6)) ), 0     ),  0)","v":0},148,null,null,{"$f":"IF(AND($A171<>\"\",(Y171+Z171)>0), IF($F171=\"Nej\",    IF(Z$13=\"Nm3\",(AA$12*1000*1000/((Y$242+Z$242+Y$243+Z$243)*1000*  $J171 * Data!$B$6)),  (AA$12*1000*1000/(((Y$242+Z$242+Y$243+Z$243)/Denscalc($J171))*1000*  $J171 * Data!$B$6)) ), 0     ),  0)","v":0},148,null,null,{"$f":"IF(AND($A171<>\"\",(AC171+AD171)>0), IF($F171=\"Nej\",    IF(AD$13=\"Nm3\",(AE$12*1000*1000/((AC$242+AD$242+AC$243+AD$243)*1000*  $J171 * Data!$B$6)),  (AE$12*1000*1000/(((AC$242+AD$242+AC$243+AD$243)/Denscalc($J171))*1000*  $J171 * Data!$B$6)) ), 0     ),  0)","v":0},148,null,null,{"$f":"IF(AND($A171<>\"\",(AG171+AH171)>0), IF($F171=\"Nej\",    IF(AH$13=\"Nm3\",(AI$12*1000*1000/((AG$242+AH$242+AG$243+AH$243)*1000*  $J171 * Data!$B$6)),  (AI$12*1000*1000/(((AG$242+AH$242+AG$243+AH$243)/Denscalc($J171))*1000*  $J171 * Data!$B$6)) ), 0     ),  0)","v":0},148,null,null,{"$f":"IF(AND($A171<>\"\",(AK171+AL171)>0), IF($F171=\"Nej\",    IF(AL$13=\"Nm3\",(AM$12*1000*1000/((AK$242+AL$242+AK$243+AL$243)*1000*  $J171 * Data!$B$6)),  (AM$12*1000*1000/(((AK$242+AL$242+AK$243+AL$243)/Denscalc($J171))*1000*  $J171 * Data!$B$6)) ), 0     ),  0)","v":0},148,null,null,{"$f":"IF(AND($A171<>\"\",(AO171+AP171)>0), IF($F171=\"Nej\",    IF(AP$13=\"Nm3\",(AQ$12*1000*1000/((AO$242+AP$242+AO$243+AP$243)*1000*  $J171 * Data!$B$6)),  (AQ$12*1000*1000/(((AO$242+AP$242+AO$243+AP$243)/Denscalc($J171))*1000*  $J171 * Data!$B$6)) ), 0     ),  0)","v":0},148,null,null,{"$f":"IF(AND($A171<>\"\",(AS171+AT171)>0), IF($F171=\"Nej\",    IF(AT$13=\"Nm3\",(AU$12*1000*1000/((AS$242+AT$242+AS$243+AT$243)*1000*  $J171 * Data!$B$6)),  (AU$12*1000*1000/(((AS$242+AT$242+AS$243+AT$243)/Denscalc($J171))*1000*  $J171 * Data!$B$6)) ), 0     ),  0)","v":0},148,null,null,{"$f":"IF(AND($A171<>\"\",(AW171+AX171)>0), IF($F171=\"Nej\",\nIF(AX$13=\"Nm3\",(AY$12*1000*1000/((AW$242+AX$242+AW$243+AX$243-AW$240-AX$240)*1000*  $J171 * Data!$B$6))+(AY$6*1000*1000/((AW$242+AX$242+AW$243+AX$243)*1000*  $J171 * Data!$B$6)),\n (AY$12*1000*1000/(((AW$242+AX$242+AW$243+AX$243-AW$240-AX$240)/Denscalc($J171))*1000*  $J171 * Data!$B$6))  +  (AY$6*1000*1000/(((AW$242+AX$242+AW$243+AX$243)/Denscalc($J171))*1000*  $J171 * Data!$B$6)) ), 0     ),  0)","v":0},148,null,null,{"$f":"IF(AND($A171<>\"\",(BA171+BB171)>0), IF($F171=\"Nej\",\n (BC$12*1000*1000/((BA$244+BB$244-BA$240-BB$240)*1000* Data!$B$7))+ (BC$6*1000*1000/((BA$244+BB$244)*1000* Data!$B$7)),0 ),  0)","v":0},148,"",{"$f":"IF(A171<>\"\",IF(F171=\"Nej\", (Data!$B$129*Data!$B$5*1000*Data!$B$3)/Data!$B$6,  0 ),\"\")","v":""},"","",{"$f":"IF(A171<>\"\",IF(BH171>0,  IF(BE171=\"Nej\",    (Data!$B$8-BH171)/Data!$B$8,  ROUND( (Data!$B$8-BH171)/Data!$B$8,2)),      \"\"),\"\")","v":""},"","","","",{"$f":"IF(A171<>\"\", IF(H171=\"Flytande\",   IF(BM171>0,  IF(BE171=\"Nej\",  (Data!$B$8-BM171)/Data!$B$8,  ROUND( (Data!$B$8-BM171)/Data!$B$8,2)   ), \"\"), \"\"),\"\")","v":""},"",148,"","","",null,""]
[null,149,null,"",null,null,null,null,null,null,null,null,null,null,{"$f":"IF(AND($A172<>\"\",(M172+N172)>0), IF($F172=\"Nej\",    IF(N$13=\"Nm3\",(O$12*1000*1000/((M$242+N$242+M$243+N$243)*1000*  $J172 * Data!$B$6)),  (O$12*1000*1000/(((M$242+N$242+M$243+N$243)/Denscalc($J172))*1000*  $J172 * Data!$B$6)) ), 0     ),  0)","v":0},149,null,null,{"$f":"IF(AND($A172<>\"\",(Q172+R172)>0), IF($F172=\"Nej\",    IF(R$13=\"Nm3\",(S$12*1000*1000/((Q$242+R$242+Q$243+R$243)*1000*  $J172 * Data!$B$6)),  (S$12*1000*1000/(((Q$242+R$242+Q$243+R$243)/Denscalc($J172))*1000*  $J172 * Data!$B$6)) ), 0     ),  0)","v":0},149,null,null,{"$f":"IF(AND($A172<>\"\",(U172+V172)>0), IF($F172=\"Nej\",    IF(V$13=\"Nm3\",(W$12*1000*1000/((U$242+V$242+U$243+V$243)*1000*  $J172 * Data!$B$6)),  (W$12*1000*1000/(((U$242+V$242+U$243+V$243)/Denscalc($J172))*1000*  $J172 * Data!$B$6)) ), 0     ),  0)","v":0},149,null,null,{"$f":"IF(AND($A172<>\"\",(Y172+Z172)>0), IF($F172=\"Nej\",    IF(Z$13=\"Nm3\",(AA$12*1000*1000/((Y$242+Z$242+Y$243+Z$243)*1000*  $J172 * Data!$B$6)),  (AA$12*1000*1000/(((Y$242+Z$242+Y$243+Z$243)/Denscalc($J172))*1000*  $J172 * Data!$B$6)) ), 0     ),  0)","v":0},149,null,null,{"$f":"IF(AND($A172<>\"\",(AC172+AD172)>0), IF($F172=\"Nej\",    IF(AD$13=\"Nm3\",(AE$12*1000*1000/((AC$242+AD$242+AC$243+AD$243)*1000*  $J172 * Data!$B$6)),  (AE$12*1000*1000/(((AC$242+AD$242+AC$243+AD$243)/Denscalc($J172))*1000*  $J172 * Data!$B$6)) ), 0     ),  0)","v":0},149,null,null,{"$f":"IF(AND($A172<>\"\",(AG172+AH172)>0), IF($F172=\"Nej\",    IF(AH$13=\"Nm3\",(AI$12*1000*1000/((AG$242+AH$242+AG$243+AH$243)*1000*  $J172 * Data!$B$6)),  (AI$12*1000*1000/(((AG$242+AH$242+AG$243+AH$243)/Denscalc($J172))*1000*  $J172 * Data!$B$6)) ), 0     ),  0)","v":0},149,null,null,{"$f":"IF(AND($A172<>\"\",(AK172+AL172)>0), IF($F172=\"Nej\",    IF(AL$13=\"Nm3\",(AM$12*1000*1000/((AK$242+AL$242+AK$243+AL$243)*1000*  $J172 * Data!$B$6)),  (AM$12*1000*1000/(((AK$242+AL$242+AK$243+AL$243)/Denscalc($J172))*1000*  $J172 * Data!$B$6)) ), 0     ),  0)","v":0},149,null,null,{"$f":"IF(AND($A172<>\"\",(AO172+AP172)>0), IF($F172=\"Nej\",    IF(AP$13=\"Nm3\",(AQ$12*1000*1000/((AO$242+AP$242+AO$243+AP$243)*1000*  $J172 * Data!$B$6)),  (AQ$12*1000*1000/(((AO$242+AP$242+AO$243+AP$243)/Denscalc($J172))*1000*  $J172 * Data!$B$6)) ), 0     ),  0)","v":0},149,null,null,{"$f":"IF(AND($A172<>\"\",(AS172+AT172)>0), IF($F172=\"Nej\",    IF(AT$13=\"Nm3\",(AU$12*1000*1000/((AS$242+AT$242+AS$243+AT$243)*1000*  $J172 * Data!$B$6)),  (AU$12*1000*1000/(((AS$242+AT$242+AS$243+AT$243)/Denscalc($J172))*1000*  $J172 * Data!$B$6)) ), 0     ),  0)","v":0},149,null,null,{"$f":"IF(AND($A172<>\"\",(AW172+AX172)>0), IF($F172=\"Nej\",\nIF(AX$13=\"Nm3\",(AY$12*1000*1000/((AW$242+AX$242+AW$243+AX$243-AW$240-AX$240)*1000*  $J172 * Data!$B$6))+(AY$6*1000*1000/((AW$242+AX$242+AW$243+AX$243)*1000*  $J172 * Data!$B$6)),\n (AY$12*1000*1000/(((AW$242+AX$242+AW$243+AX$243-AW$240-AX$240)/Denscalc($J172))*1000*  $J172 * Data!$B$6))  +  (AY$6*1000*1000/(((AW$242+AX$242+AW$243+AX$243)/Denscalc($J172))*1000*  $J172 * Data!$B$6)) ), 0     ),  0)","v":0},149,null,null,{"$f":"IF(AND($A172<>\"\",(BA172+BB172)>0), IF($F172=\"Nej\",\n (BC$12*1000*1000/((BA$244+BB$244-BA$240-BB$240)*1000* Data!$B$7))+ (BC$6*1000*1000/((BA$244+BB$244)*1000* Data!$B$7)),0 ),  0)","v":0},149,"",{"$f":"IF(A172<>\"\",IF(F172=\"Nej\", (Data!$B$129*Data!$B$5*1000*Data!$B$3)/Data!$B$6,  0 ),\"\")","v":""},"","",{"$f":"IF(A172<>\"\",IF(BH172>0,  IF(BE172=\"Nej\",    (Data!$B$8-BH172)/Data!$B$8,  ROUND( (Data!$B$8-BH172)/Data!$B$8,2)),      \"\"),\"\")","v":""},"","","","",{"$f":"IF(A172<>\"\", IF(H172=\"Flytande\",   IF(BM172>0,  IF(BE172=\"Nej\",  (Data!$B$8-BM172)/Data!$B$8,  ROUND( (Data!$B$8-BM172)/Data!$B$8,2)   ), \"\"), \"\"),\"\")","v":""},"",149,"","","",null,""]
[null,150,null,"",null,null,null,null,null,null,null,null,null,null,{"$f":"IF(AND($A173<>\"\",(M173+N173)>0), IF($F173=\"Nej\",    IF(N$13=\"Nm3\",(O$12*1000*1000/((M$242+N$242+M$243+N$243)*1000*  $J173 * Data!$B$6)),  (O$12*1000*1000/(((M$242+N$242+M$243+N$243)/Denscalc($J173))*1000*  $J173 * Data!$B$6)) ), 0     ),  0)","v":0},150,null,null,{"$f":"IF(AND($A173<>\"\",(Q173+R173)>0), IF($F173=\"Nej\",    IF(R$13=\"Nm3\",(S$12*1000*1000/((Q$242+R$242+Q$243+R$243)*1000*  $J173 * Data!$B$6)),  (S$12*1000*1000/(((Q$242+R$242+Q$243+R$243)/Denscalc($J173))*1000*  $J173 * Data!$B$6)) ), 0     ),  0)","v":0},150,null,null,{"$f":"IF(AND($A173<>\"\",(U173+V173)>0), IF($F173=\"Nej\",    IF(V$13=\"Nm3\",(W$12*1000*1000/((U$242+V$242+U$243+V$243)*1000*  $J173 * Data!$B$6)),  (W$12*1000*1000/(((U$242+V$242+U$243+V$243)/Denscalc($J173))*1000*  $J173 * Data!$B$6)) ), 0     ),  0)","v":0},150,null,null,{"$f":"IF(AND($A173<>\"\",(Y173+Z173)>0), IF($F173=\"Nej\",    IF(Z$13=\"Nm3\",(AA$12*1000*1000/((Y$242+Z$242+Y$243+Z$243)*1000*  $J173 * Data!$B$6)),  (AA$12*1000*1000/(((Y$242+Z$242+Y$243+Z$243)/Denscalc($J173))*1000*  $J173 * Data!$B$6)) ), 0     ),  0)","v":0},150,null,null,{"$f":"IF(AND($A173<>\"\",(AC173+AD173)>0), IF($F173=\"Nej\",    IF(AD$13=\"Nm3\",(AE$12*1000*1000/((AC$242+AD$242+AC$243+AD$243)*1000*  $J173 * Data!$B$6)),  (AE$12*1000*1000/(((AC$242+AD$242+AC$243+AD$243)/Denscalc($J173))*1000*  $J173 * Data!$B$6)) ), 0     ),  0)","v":0},150,null,null,{"$f":"IF(AND($A173<>\"\",(AG173+AH173)>0), IF($F173=\"Nej\",    IF(AH$13=\"Nm3\",(AI$12*1000*1000/((AG$242+AH$242+AG$243+AH$243)*1000*  $J173 * Data!$B$6)),  (AI$12*1000*1000/(((AG$242+AH$242+AG$243+AH$243)/Denscalc($J173))*1000*  $J173 * Data!$B$6)) ), 0     ),  0)","v":0},150,null,null,{"$f":"IF(AND($A173<>\"\",(AK173+AL173)>0), IF($F173=\"Nej\",    IF(AL$13=\"Nm3\",(AM$12*1000*1000/((AK$242+AL$242+AK$243+AL$243)*1000*  $J173 * Data!$B$6)),  (AM$12*1000*1000/(((AK$242+AL$242+AK$243+AL$243)/Denscalc($J173))*1000*  $J173 * Data!$B$6)) ), 0     ),  0)","v":0},150,null,null,{"$f":"IF(AND($A173<>\"\",(AO173+AP173)>0), IF($F173=\"Nej\",    IF(AP$13=\"Nm3\",(AQ$12*1000*1000/((AO$242+AP$242+AO$243+AP$243)*1000*  $J173 * Data!$B$6)),  (AQ$12*1000*1000/(((AO$242+AP$242+AO$243+AP$243)/Denscalc($J173))*1000*  $J173 * Data!$B$6)) ), 0     ),  0)","v":0},150,null,null,{"$f":"IF(AND($A173<>\"\",(AS173+AT173)>0), IF($F173=\"Nej\",    IF(AT$13=\"Nm3\",(AU$12*1000*1000/((AS$242+AT$242+AS$243+AT$243)*1000*  $J173 * Data!$B$6)),  (AU$12*1000*1000/(((AS$242+AT$242+AS$243+AT$243)/Denscalc($J173))*1000*  $J173 * Data!$B$6)) ), 0     ),  0)","v":0},150,null,null,{"$f":"IF(AND($A173<>\"\",(AW173+AX173)>0), IF($F173=\"Nej\",\nIF(AX$13=\"Nm3\",(AY$12*1000*1000/((AW$242+AX$242+AW$243+AX$243-AW$240-AX$240)*1000*  $J173 * Data!$B$6))+(AY$6*1000*1000/((AW$242+AX$242+AW$243+AX$243)*1000*  $J173 * Data!$B$6)),\n (AY$12*1000*1000/(((AW$242+AX$242+AW$243+AX$243-AW$240-AX$240)/Denscalc($J173))*1000*  $J173 * Data!$B$6))  +  (AY$6*1000*1000/(((AW$242+AX$242+AW$243+AX$243)/Denscalc($J173))*1000*  $J173 * Data!$B$6)) ), 0     ),  0)","v":0},150,null,null,{"$f":"IF(AND($A173<>\"\",(BA173+BB173)>0), IF($F173=\"Nej\",\n (BC$12*1000*1000/((BA$244+BB$244-BA$240-BB$240)*1000* Data!$B$7))+ (BC$6*1000*1000/((BA$244+BB$244)*1000* Data!$B$7)),0 ),  0)","v":0},150,"",{"$f":"IF(A173<>\"\",IF(F173=\"Nej\", (Data!$B$129*Data!$B$5*1000*Data!$B$3)/Data!$B$6,  0 ),\"\")","v":""},"","",{"$f":"IF(A173<>\"\",IF(BH173>0,  IF(BE173=\"Nej\",    (Data!$B$8-BH173)/Data!$B$8,  ROUND( (Data!$B$8-BH173)/Data!$B$8,2)),      \"\"),\"\")","v":""},"","","","",{"$f":"IF(A173<>\"\", IF(H173=\"Flytande\",   IF(BM173>0,  IF(BE173=\"Nej\",  (Data!$B$8-BM173)/Data!$B$8,  ROUND( (Data!$B$8-BM173)/Data!$B$8,2)   ), \"\"), \"\"),\"\")","v":""},"",150,"","","",null,""]
[null,151,null,null,null,null,null,null,null,null,null,null,null,null,{"$f":"IF(AND($A174<>\"\",(M174+N174)>0), IF($F174=\"Nej\",    IF(N$13=\"Nm3\",(O$12*1000*1000/((M$242+N$242+M$243+N$243)*1000*  $J174 * Data!$B$6)),  (O$12*1000*1000/(((M$242+N$242+M$243+N$243)/Denscalc($J174))*1000*  $J174 * Data!$B$6)) ), 0     ),  0)","v":0},151,null,null,{"$f":"IF(AND($A174<>\"\",(Q174+R174)>0), IF($F174=\"Nej\",    IF(R$13=\"Nm3\",(S$12*1000*1000/((Q$242+R$242+Q$243+R$243)*1000*  $J174 * Data!$B$6)),  (S$12*1000*1000/(((Q$242+R$242+Q$243+R$243)/Denscalc($J174))*1000*  $J174 * Data!$B$6)) ), 0     ),  0)","v":0},151,null,null,{"$f":"IF(AND($A174<>\"\",(U174+V174)>0), IF($F174=\"Nej\",    IF(V$13=\"Nm3\",(W$12*1000*1000/((U$242+V$242+U$243+V$243)*1000*  $J174 * Data!$B$6)),  (W$12*1000*1000/(((U$242+V$242+U$243+V$243)/Denscalc($J174))*1000*  $J174 * Data!$B$6)) ), 0     ),  0)","v":0},151,null,null,{"$f":"IF(AND($A174<>\"\",(Y174+Z174)>0), IF($F174=\"Nej\",    IF(Z$13=\"Nm3\",(AA$12*1000*1000/((Y$242+Z$242+Y$243+Z$243)*1000*  $J174 * Data!$B$6)),  (AA$12*1000*1000/(((Y$242+Z$242+Y$243+Z$243)/Denscalc($J174))*1000*  $J174 * Data!$B$6)) ), 0     ),  0)","v":0},151,null,null,{"$f":"IF(AND($A174<>\"\",(AC174+AD174)>0), IF($F174=\"Nej\",    IF(AD$13=\"Nm3\",(AE$12*1000*1000/((AC$242+AD$242+AC$243+AD$243)*1000*  $J174 * Data!$B$6)),  (AE$12*1000*1000/(((AC$242+AD$242+AC$243+AD$243)/Denscalc($J174))*1000*  $J174 * Data!$B$6)) ), 0     ),  0)","v":0},151,null,null,{"$f":"IF(AND($A174<>\"\",(AG174+AH174)>0), IF($F174=\"Nej\",    IF(AH$13=\"Nm3\",(AI$12*1000*1000/((AG$242+AH$242+AG$243+AH$243)*1000*  $J174 * Data!$B$6)),  (AI$12*1000*1000/(((AG$242+AH$242+AG$243+AH$243)/Denscalc($J174))*1000*  $J174 * Data!$B$6)) ), 0     ),  0)","v":0},151,null,null,{"$f":"IF(AND($A174<>\"\",(AK174+AL174)>0), IF($F174=\"Nej\",    IF(AL$13=\"Nm3\",(AM$12*1000*1000/((AK$242+AL$242+AK$243+AL$243)*1000*  $J174 * Data!$B$6)),  (AM$12*1000*1000/(((AK$242+AL$242+AK$243+AL$243)/Denscalc($J174))*1000*  $J174 * Data!$B$6)) ), 0     ),  0)","v":0},151,null,null,{"$f":"IF(AND($A174<>\"\",(AO174+AP174)>0), IF($F174=\"Nej\",    IF(AP$13=\"Nm3\",(AQ$12*1000*1000/((AO$242+AP$242+AO$243+AP$243)*1000*  $J174 * Data!$B$6)),  (AQ$12*1000*1000/(((AO$242+AP$242+AO$243+AP$243)/Denscalc($J174))*1000*  $J174 * Data!$B$6)) ), 0     ),  0)","v":0},151,null,null,{"$f":"IF(AND($A174<>\"\",(AS174+AT174)>0), IF($F174=\"Nej\",    IF(AT$13=\"Nm3\",(AU$12*1000*1000/((AS$242+AT$242+AS$243+AT$243)*1000*  $J174 * Data!$B$6)),  (AU$12*1000*1000/(((AS$242+AT$242+AS$243+AT$243)/Denscalc($J174))*1000*  $J174 * Data!$B$6)) ), 0     ),  0)","v":0},151,null,null,{"$f":"IF(AND($A174<>\"\",(AW174+AX174)>0), IF($F174=\"Nej\",\nIF(AX$13=\"Nm3\",(AY$12*1000*1000/((AW$242+AX$242+AW$243+AX$243-AW$240-AX$240)*1000*  $J174 * Data!$B$6))+(AY$6*1000*1000/((AW$242+AX$242+AW$243+AX$243)*1000*  $J174 * Data!$B$6)),\n (AY$12*1000*1000/(((AW$242+AX$242+AW$243+AX$243-AW$240-AX$240)/Denscalc($J174))*1000*  $J174 * Data!$B$6))  +  (AY$6*1000*1000/(((AW$242+AX$242+AW$243+AX$243)/Denscalc($J174))*1000*  $J174 * Data!$B$6)) ), 0     ),  0)","v":0},151,null,null,{"$f":"IF(AND($A174<>\"\",(BA174+BB174)>0), IF($F174=\"Nej\",\n (BC$12*1000*1000/((BA$244+BB$244-BA$240-BB$240)*1000* Data!$B$7))+ (BC$6*1000*1000/((BA$244+BB$244)*1000* Data!$B$7)),0 ),  0)","v":0},151,"",{"$f":"IF(A174<>\"\",IF(F174=\"Nej\", (Data!$B$129*Data!$B$5*1000*Data!$B$3)/Data!$B$6,  0 ),\"\")","v":""},"","",{"$f":"IF(A174<>\"\",IF(BH174>0,  IF(BE174=\"Nej\",    (Data!$B$8-BH174)/Data!$B$8,  ROUND( (Data!$B$8-BH174)/Data!$B$8,2)),      \"\"),\"\")","v":""},"","","","",{"$f":"IF(A174<>\"\", IF(H174=\"Flytande\",   IF(BM174>0,  IF(BE174=\"Nej\",  (Data!$B$8-BM174)/Data!$B$8,  ROUND( (Data!$B$8-BM174)/Data!$B$8,2)   ), \"\"), \"\"),\"\")","v":""},"",151,"","","",null,""]
[null,152,null,null,null,null,null,null,null,null,null,null,null,null,{"$f":"IF(AND($A175<>\"\",(M175+N175)>0), IF($F175=\"Nej\",    IF(N$13=\"Nm3\",(O$12*1000*1000/((M$242+N$242+M$243+N$243)*1000*  $J175 * Data!$B$6)),  (O$12*1000*1000/(((M$242+N$242+M$243+N$243)/Denscalc($J175))*1000*  $J175 * Data!$B$6)) ), 0     ),  0)","v":0},152,null,null,{"$f":"IF(AND($A175<>\"\",(Q175+R175)>0), IF($F175=\"Nej\",    IF(R$13=\"Nm3\",(S$12*1000*1000/((Q$242+R$242+Q$243+R$243)*1000*  $J175 * Data!$B$6)),  (S$12*1000*1000/(((Q$242+R$242+Q$243+R$243)/Denscalc($J175))*1000*  $J175 * Data!$B$6)) ), 0     ),  0)","v":0},152,null,null,{"$f":"IF(AND($A175<>\"\",(U175+V175)>0), IF($F175=\"Nej\",    IF(V$13=\"Nm3\",(W$12*1000*1000/((U$242+V$242+U$243+V$243)*1000*  $J175 * Data!$B$6)),  (W$12*1000*1000/(((U$242+V$242+U$243+V$243)/Denscalc($J175))*1000*  $J175 * Data!$B$6)) ), 0     ),  0)","v":0},152,null,null,{"$f":"IF(AND($A175<>\"\",(Y175+Z175)>0), IF($F175=\"Nej\",    IF(Z$13=\"Nm3\",(AA$12*1000*1000/((Y$242+Z$242+Y$243+Z$243)*1000*  $J175 * Data!$B$6)),  (AA$12*1000*1000/(((Y$242+Z$242+Y$243+Z$243)/Denscalc($J175))*1000*  $J175 * Data!$B$6)) ), 0     ),  0)","v":0},152,null,null,{"$f":"IF(AND($A175<>\"\",(AC175+AD175)>0), IF($F175=\"Nej\",    IF(AD$13=\"Nm3\",(AE$12*1000*1000/((AC$242+AD$242+AC$243+AD$243)*1000*  $J175 * Data!$B$6)),  (AE$12*1000*1000/(((AC$242+AD$242+AC$243+AD$243)/Denscalc($J175))*1000*  $J175 * Data!$B$6)) ), 0     ),  0)","v":0},152,null,null,{"$f":"IF(AND($A175<>\"\",(AG175+AH175)>0), IF($F175=\"Nej\",    IF(AH$13=\"Nm3\",(AI$12*1000*1000/((AG$242+AH$242+AG$243+AH$243)*1000*  $J175 * Data!$B$6)),  (AI$12*1000*1000/(((AG$242+AH$242+AG$243+AH$243)/Denscalc($J175))*1000*  $J175 * Data!$B$6)) ), 0     ),  0)","v":0},152,null,null,{"$f":"IF(AND($A175<>\"\",(AK175+AL175)>0), IF($F175=\"Nej\",    IF(AL$13=\"Nm3\",(AM$12*1000*1000/((AK$242+AL$242+AK$243+AL$243)*1000*  $J175 * Data!$B$6)),  (AM$12*1000*1000/(((AK$242+AL$242+AK$243+AL$243)/Denscalc($J175))*1000*  $J175 * Data!$B$6)) ), 0     ),  0)","v":0},152,null,null,{"$f":"IF(AND($A175<>\"\",(AO175+AP175)>0), IF($F175=\"Nej\",    IF(AP$13=\"Nm3\",(AQ$12*1000*1000/((AO$242+AP$242+AO$243+AP$243)*1000*  $J175 * Data!$B$6)),  (AQ$12*1000*1000/(((AO$242+AP$242+AO$243+AP$243)/Denscalc($J175))*1000*  $J175 * Data!$B$6)) ), 0     ),  0)","v":0},152,null,null,{"$f":"IF(AND($A175<>\"\",(AS175+AT175)>0), IF($F175=\"Nej\",    IF(AT$13=\"Nm3\",(AU$12*1000*1000/((AS$242+AT$242+AS$243+AT$243)*1000*  $J175 * Data!$B$6)),  (AU$12*1000*1000/(((AS$242+AT$242+AS$243+AT$243)/Denscalc($J175))*1000*  $J175 * Data!$B$6)) ), 0     ),  0)","v":0},152,null,null,{"$f":"IF(AND($A175<>\"\",(AW175+AX175)>0), IF($F175=\"Nej\",\nIF(AX$13=\"Nm3\",(AY$12*1000*1000/((AW$242+AX$242+AW$243+AX$243-AW$240-AX$240)*1000*  $J175 * Data!$B$6))+(AY$6*1000*1000/((AW$242+AX$242+AW$243+AX$243)*1000*  $J175 * Data!$B$6)),\n (AY$12*1000*1000/(((AW$242+AX$242+AW$243+AX$243-AW$240-AX$240)/Denscalc($J175))*1000*  $J175 * Data!$B$6))  +  (AY$6*1000*1000/(((AW$242+AX$242+AW$243+AX$243)/Denscalc($J175))*1000*  $J175 * Data!$B$6)) ), 0     ),  0)","v":0},152,null,null,{"$f":"IF(AND($A175<>\"\",(BA175+BB175)>0), IF($F175=\"Nej\",\n (BC$12*1000*1000/((BA$244+BB$244-BA$240-BB$240)*1000* Data!$B$7))+ (BC$6*1000*1000/((BA$244+BB$244)*1000* Data!$B$7)),0 ),  0)","v":0},152,"",{"$f":"IF(A175<>\"\",IF(F175=\"Nej\", (Data!$B$129*Data!$B$5*1000*Data!$B$3)/Data!$B$6,  0 ),\"\")","v":""},"","",{"$f":"IF(A175<>\"\",IF(BH175>0,  IF(BE175=\"Nej\",    (Data!$B$8-BH175)/Data!$B$8,  ROUND( (Data!$B$8-BH175)/Data!$B$8,2)),      \"\"),\"\")","v":""},"","","","",{"$f":"IF(A175<>\"\", IF(H175=\"Flytande\",   IF(BM175>0,  IF(BE175=\"Nej\",  (Data!$B$8-BM175)/Data!$B$8,  ROUND( (Data!$B$8-BM175)/Data!$B$8,2)   ), \"\"), \"\"),\"\")","v":""},"",152,"","","",null,""]
[null,153,null,null,null,null,null,null,null,null,null,null,null,null,{"$f":"IF(AND($A176<>\"\",(M176+N176)>0), IF($F176=\"Nej\",    IF(N$13=\"Nm3\",(O$12*1000*1000/((M$242+N$242+M$243+N$243)*1000*  $J176 * Data!$B$6)),  (O$12*1000*1000/(((M$242+N$242+M$243+N$243)/Denscalc($J176))*1000*  $J176 * Data!$B$6)) ), 0     ),  0)","v":0},153,null,null,{"$f":"IF(AND($A176<>\"\",(Q176+R176)>0), IF($F176=\"Nej\",    IF(R$13=\"Nm3\",(S$12*1000*1000/((Q$242+R$242+Q$243+R$243)*1000*  $J176 * Data!$B$6)),  (S$12*1000*1000/(((Q$242+R$242+Q$243+R$243)/Denscalc($J176))*1000*  $J176 * Data!$B$6)) ), 0     ),  0)","v":0},153,null,null,{"$f":"IF(AND($A176<>\"\",(U176+V176)>0), IF($F176=\"Nej\",    IF(V$13=\"Nm3\",(W$12*1000*1000/((U$242+V$242+U$243+V$243)*1000*  $J176 * Data!$B$6)),  (W$12*1000*1000/(((U$242+V$242+U$243+V$243)/Denscalc($J176))*1000*  $J176 * Data!$B$6)) ), 0     ),  0)","v":0},153,null,null,{"$f":"IF(AND($A176<>\"\",(Y176+Z176)>0), IF($F176=\"Nej\",    IF(Z$13=\"Nm3\",(AA$12*1000*1000/((Y$242+Z$242+Y$243+Z$243)*1000*  $J176 * Data!$B$6)),  (AA$12*1000*1000/(((Y$242+Z$242+Y$243+Z$243)/Denscalc($J176))*1000*  $J176 * Data!$B$6)) ), 0     ),  0)","v":0},153,null,null,{"$f":"IF(AND($A176<>\"\",(AC176+AD176)>0), IF($F176=\"Nej\",    IF(AD$13=\"Nm3\",(AE$12*1000*1000/((AC$242+AD$242+AC$243+AD$243)*1000*  $J176 * Data!$B$6)),  (AE$12*1000*1000/(((AC$242+AD$242+AC$243+AD$243)/Denscalc($J176))*1000*  $J176 * Data!$B$6)) ), 0     ),  0)","v":0},153,null,null,{"$f":"IF(AND($A176<>\"\",(AG176+AH176)>0), IF($F176=\"Nej\",    IF(AH$13=\"Nm3\",(AI$12*1000*1000/((AG$242+AH$242+AG$243+AH$243)*1000*  $J176 * Data!$B$6)),  (AI$12*1000*1000/(((AG$242+AH$242+AG$243+AH$243)/Denscalc($J176))*1000*  $J176 * Data!$B$6)) ), 0     ),  0)","v":0},153,null,null,{"$f":"IF(AND($A176<>\"\",(AK176+AL176)>0), IF($F176=\"Nej\",    IF(AL$13=\"Nm3\",(AM$12*1000*1000/((AK$242+AL$242+AK$243+AL$243)*1000*  $J176 * Data!$B$6)),  (AM$12*1000*1000/(((AK$242+AL$242+AK$243+AL$243)/Denscalc($J176))*1000*  $J176 * Data!$B$6)) ), 0     ),  0)","v":0},153,null,null,{"$f":"IF(AND($A176<>\"\",(AO176+AP176)>0), IF($F176=\"Nej\",    IF(AP$13=\"Nm3\",(AQ$12*1000*1000/((AO$242+AP$242+AO$243+AP$243)*1000*  $J176 * Data!$B$6)),  (AQ$12*1000*1000/(((AO$242+AP$242+AO$243+AP$243)/Denscalc($J176))*1000*  $J176 * Data!$B$6)) ), 0     ),  0)","v":0},153,null,null,{"$f":"IF(AND($A176<>\"\",(AS176+AT176)>0), IF($F176=\"Nej\",    IF(AT$13=\"Nm3\",(AU$12*1000*1000/((AS$242+AT$242+AS$243+AT$243)*1000*  $J176 * Data!$B$6)),  (AU$12*1000*1000/(((AS$242+AT$242+AS$243+AT$243)/Denscalc($J176))*1000*  $J176 * Data!$B$6)) ), 0     ),  0)","v":0},153,null,null,{"$f":"IF(AND($A176<>\"\",(AW176+AX176)>0), IF($F176=\"Nej\",\nIF(AX$13=\"Nm3\",(AY$12*1000*1000/((AW$242+AX$242+AW$243+AX$243-AW$240-AX$240)*1000*  $J176 * Data!$B$6))+(AY$6*1000*1000/((AW$242+AX$242+AW$243+AX$243)*1000*  $J176 * Data!$B$6)),\n (AY$12*1000*1000/(((AW$242+AX$242+AW$243+AX$243-AW$240-AX$240)/Denscalc($J176))*1000*  $J176 * Data!$B$6))  +  (AY$6*1000*1000/(((AW$242+AX$242+AW$243+AX$243)/Denscalc($J176))*1000*  $J176 * Data!$B$6)) ), 0     ),  0)","v":0},153,null,null,{"$f":"IF(AND($A176<>\"\",(BA176+BB176)>0), IF($F176=\"Nej\",\n (BC$12*1000*1000/((BA$244+BB$244-BA$240-BB$240)*1000* Data!$B$7))+ (BC$6*1000*1000/((BA$244+BB$244)*1000* Data!$B$7)),0 ),  0)","v":0},153,"",{"$f":"IF(A176<>\"\",IF(F176=\"Nej\", (Data!$B$129*Data!$B$5*1000*Data!$B$3)/Data!$B$6,  0 ),\"\")","v":""},"","",{"$f":"IF(A176<>\"\",IF(BH176>0,  IF(BE176=\"Nej\",    (Data!$B$8-BH176)/Data!$B$8,  ROUND( (Data!$B$8-BH176)/Data!$B$8,2)),      \"\"),\"\")","v":""},"","","","",{"$f":"IF(A176<>\"\", IF(H176=\"Flytande\",   IF(BM176>0,  IF(BE176=\"Nej\",  (Data!$B$8-BM176)/Data!$B$8,  ROUND( (Data!$B$8-BM176)/Data!$B$8,2)   ), \"\"), \"\"),\"\")","v":""},"",153,"","","",null,""]
[null,154,null,null,null,null,null,null,null,null,null,null,null,null,{"$f":"IF(AND($A177<>\"\",(M177+N177)>0), IF($F177=\"Nej\",    IF(N$13=\"Nm3\",(O$12*1000*1000/((M$242+N$242+M$243+N$243)*1000*  $J177 * Data!$B$6)),  (O$12*1000*1000/(((M$242+N$242+M$243+N$243)/Denscalc($J177))*1000*  $J177 * Data!$B$6)) ), 0     ),  0)","v":0},154,null,null,{"$f":"IF(AND($A177<>\"\",(Q177+R177)>0), IF($F177=\"Nej\",    IF(R$13=\"Nm3\",(S$12*1000*1000/((Q$242+R$242+Q$243+R$243)*1000*  $J177 * Data!$B$6)),  (S$12*1000*1000/(((Q$242+R$242+Q$243+R$243)/Denscalc($J177))*1000*  $J177 * Data!$B$6)) ), 0     ),  0)","v":0},154,null,null,{"$f":"IF(AND($A177<>\"\",(U177+V177)>0), IF($F177=\"Nej\",    IF(V$13=\"Nm3\",(W$12*1000*1000/((U$242+V$242+U$243+V$243)*1000*  $J177 * Data!$B$6)),  (W$12*1000*1000/(((U$242+V$242+U$243+V$243)/Denscalc($J177))*1000*  $J177 * Data!$B$6)) ), 0     ),  0)","v":0},154,null,null,{"$f":"IF(AND($A177<>\"\",(Y177+Z177)>0), IF($F177=\"Nej\",    IF(Z$13=\"Nm3\",(AA$12*1000*1000/((Y$242+Z$242+Y$243+Z$243)*1000*  $J177 * Data!$B$6)),  (AA$12*1000*1000/(((Y$242+Z$242+Y$243+Z$243)/Denscalc($J177))*1000*  $J177 * Data!$B$6)) ), 0     ),  0)","v":0},154,null,null,{"$f":"IF(AND($A177<>\"\",(AC177+AD177)>0), IF($F177=\"Nej\",    IF(AD$13=\"Nm3\",(AE$12*1000*1000/((AC$242+AD$242+AC$243+AD$243)*1000*  $J177 * Data!$B$6)),  (AE$12*1000*1000/(((AC$242+AD$242+AC$243+AD$243)/Denscalc($J177))*1000*  $J177 * Data!$B$6)) ), 0     ),  0)","v":0},154,null,null,{"$f":"IF(AND($A177<>\"\",(AG177+AH177)>0), IF($F177=\"Nej\",    IF(AH$13=\"Nm3\",(AI$12*1000*1000/((AG$242+AH$242+AG$243+AH$243)*1000*  $J177 * Data!$B$6)),  (AI$12*1000*1000/(((AG$242+AH$242+AG$243+AH$243)/Denscalc($J177))*1000*  $J177 * Data!$B$6)) ), 0     ),  0)","v":0},154,null,null,{"$f":"IF(AND($A177<>\"\",(AK177+AL177)>0), IF($F177=\"Nej\",    IF(AL$13=\"Nm3\",(AM$12*1000*1000/((AK$242+AL$242+AK$243+AL$243)*1000*  $J177 * Data!$B$6)),  (AM$12*1000*1000/(((AK$242+AL$242+AK$243+AL$243)/Denscalc($J177))*1000*  $J177 * Data!$B$6)) ), 0     ),  0)","v":0},154,null,null,{"$f":"IF(AND($A177<>\"\",(AO177+AP177)>0), IF($F177=\"Nej\",    IF(AP$13=\"Nm3\",(AQ$12*1000*1000/((AO$242+AP$242+AO$243+AP$243)*1000*  $J177 * Data!$B$6)),  (AQ$12*1000*1000/(((AO$242+AP$242+AO$243+AP$243)/Denscalc($J177))*1000*  $J177 * Data!$B$6)) ), 0     ),  0)","v":0},154,null,null,{"$f":"IF(AND($A177<>\"\",(AS177+AT177)>0), IF($F177=\"Nej\",    IF(AT$13=\"Nm3\",(AU$12*1000*1000/((AS$242+AT$242+AS$243+AT$243)*1000*  $J177 * Data!$B$6)),  (AU$12*1000*1000/(((AS$242+AT$242+AS$243+AT$243)/Denscalc($J177))*1000*  $J177 * Data!$B$6)) ), 0     ),  0)","v":0},154,null,null,{"$f":"IF(AND($A177<>\"\",(AW177+AX177)>0), IF($F177=\"Nej\",\nIF(AX$13=\"Nm3\",(AY$12*1000*1000/((AW$242+AX$242+AW$243+AX$243-AW$240-AX$240)*1000*  $J177 * Data!$B$6))+(AY$6*1000*1000/((AW$242+AX$242+AW$243+AX$243)*1000*  $J177 * Data!$B$6)),\n (AY$12*1000*1000/(((AW$242+AX$242+AW$243+AX$243-AW$240-AX$240)/Denscalc($J177))*1000*  $J177 * Data!$B$6))  +  (AY$6*1000*1000/(((AW$242+AX$242+AW$243+AX$243)/Denscalc($J177))*1000*  $J177 * Data!$B$6)) ), 0     ),  0)","v":0},154,null,null,{"$f":"IF(AND($A177<>\"\",(BA177+BB177)>0), IF($F177=\"Nej\",\n (BC$12*1000*1000/((BA$244+BB$244-BA$240-BB$240)*1000* Data!$B$7))+ (BC$6*1000*1000/((BA$244+BB$244)*1000* Data!$B$7)),0 ),  0)","v":0},154,"",{"$f":"IF(A177<>\"\",IF(F177=\"Nej\", (Data!$B$129*Data!$B$5*1000*Data!$B$3)/Data!$B$6,  0 ),\"\")","v":""},"","",{"$f":"IF(A177<>\"\",IF(BH177>0,  IF(BE177=\"Nej\",    (Data!$B$8-BH177)/Data!$B$8,  ROUND( (Data!$B$8-BH177)/Data!$B$8,2)),      \"\"),\"\")","v":""},"","","","",{"$f":"IF(A177<>\"\", IF(H177=\"Flytande\",   IF(BM177>0,  IF(BE177=\"Nej\",  (Data!$B$8-BM177)/Data!$B$8,  ROUND( (Data!$B$8-BM177)/Data!$B$8,2)   ), \"\"), \"\"),\"\")","v":""},"",154,"","","",null,""]
[null,155,null,null,null,null,null,null,null,null,null,null,null,null,{"$f":"IF(AND($A178<>\"\",(M178+N178)>0), IF($F178=\"Nej\",    IF(N$13=\"Nm3\",(O$12*1000*1000/((M$242+N$242+M$243+N$243)*1000*  $J178 * Data!$B$6)),  (O$12*1000*1000/(((M$242+N$242+M$243+N$243)/Denscalc($J178))*1000*  $J178 * Data!$B$6)) ), 0     ),  0)","v":0},155,null,null,{"$f":"IF(AND($A178<>\"\",(Q178+R178)>0), IF($F178=\"Nej\",    IF(R$13=\"Nm3\",(S$12*1000*1000/((Q$242+R$242+Q$243+R$243)*1000*  $J178 * Data!$B$6)),  (S$12*1000*1000/(((Q$242+R$242+Q$243+R$243)/Denscalc($J178))*1000*  $J178 * Data!$B$6)) ), 0     ),  0)","v":0},155,null,null,{"$f":"IF(AND($A178<>\"\",(U178+V178)>0), IF($F178=\"Nej\",    IF(V$13=\"Nm3\",(W$12*1000*1000/((U$242+V$242+U$243+V$243)*1000*  $J178 * Data!$B$6)),  (W$12*1000*1000/(((U$242+V$242+U$243+V$243)/Denscalc($J178))*1000*  $J178 * Data!$B$6)) ), 0     ),  0)","v":0},155,null,null,{"$f":"IF(AND($A178<>\"\",(Y178+Z178)>0), IF($F178=\"Nej\",    IF(Z$13=\"Nm3\",(AA$12*1000*1000/((Y$242+Z$242+Y$243+Z$243)*1000*  $J178 * Data!$B$6)),  (AA$12*1000*1000/(((Y$242+Z$242+Y$243+Z$243)/Denscalc($J178))*1000*  $J178 * Data!$B$6)) ), 0     ),  0)","v":0},155,null,null,{"$f":"IF(AND($A178<>\"\",(AC178+AD178)>0), IF($F178=\"Nej\",    IF(AD$13=\"Nm3\",(AE$12*1000*1000/((AC$242+AD$242+AC$243+AD$243)*1000*  $J178 * Data!$B$6)),  (AE$12*1000*1000/(((AC$242+AD$242+AC$243+AD$243)/Denscalc($J178))*1000*  $J178 * Data!$B$6)) ), 0     ),  0)","v":0},155,null,null,{"$f":"IF(AND($A178<>\"\",(AG178+AH178)>0), IF($F178=\"Nej\",    IF(AH$13=\"Nm3\",(AI$12*1000*1000/((AG$242+AH$242+AG$243+AH$243)*1000*  $J178 * Data!$B$6)),  (AI$12*1000*1000/(((AG$242+AH$242+AG$243+AH$243)/Denscalc($J178))*1000*  $J178 * Data!$B$6)) ), 0     ),  0)","v":0},155,null,null,{"$f":"IF(AND($A178<>\"\",(AK178+AL178)>0), IF($F178=\"Nej\",    IF(AL$13=\"Nm3\",(AM$12*1000*1000/((AK$242+AL$242+AK$243+AL$243)*1000*  $J178 * Data!$B$6)),  (AM$12*1000*1000/(((AK$242+AL$242+AK$243+AL$243)/Denscalc($J178))*1000*  $J178 * Data!$B$6)) ), 0     ),  0)","v":0},155,null,null,{"$f":"IF(AND($A178<>\"\",(AO178+AP178)>0), IF($F178=\"Nej\",    IF(AP$13=\"Nm3\",(AQ$12*1000*1000/((AO$242+AP$242+AO$243+AP$243)*1000*  $J178 * Data!$B$6)),  (AQ$12*1000*1000/(((AO$242+AP$242+AO$243+AP$243)/Denscalc($J178))*1000*  $J178 * Data!$B$6)) ), 0     ),  0)","v":0},155,null,null,{"$f":"IF(AND($A178<>\"\",(AS178+AT178)>0), IF($F178=\"Nej\",    IF(AT$13=\"Nm3\",(AU$12*1000*1000/((AS$242+AT$242+AS$243+AT$243)*1000*  $J178 * Data!$B$6)),  (AU$12*1000*1000/(((AS$242+AT$242+AS$243+AT$243)/Denscalc($J178))*1000*  $J178 * Data!$B$6)) ), 0     ),  0)","v":0},155,null,null,{"$f":"IF(AND($A178<>\"\",(AW178+AX178)>0), IF($F178=\"Nej\",\nIF(AX$13=\"Nm3\",(AY$12*1000*1000/((AW$242+AX$242+AW$243+AX$243-AW$240-AX$240)*1000*  $J178 * Data!$B$6))+(AY$6*1000*1000/((AW$242+AX$242+AW$243+AX$243)*1000*  $J178 * Data!$B$6)),\n (AY$12*1000*1000/(((AW$242+AX$242+AW$243+AX$243-AW$240-AX$240)/Denscalc($J178))*1000*  $J178 * Data!$B$6))  +  (AY$6*1000*1000/(((AW$242+AX$242+AW$243+AX$243)/Denscalc($J178))*1000*  $J178 * Data!$B$6)) ), 0     ),  0)","v":0},155,null,null,{"$f":"IF(AND($A178<>\"\",(BA178+BB178)>0), IF($F178=\"Nej\",\n (BC$12*1000*1000/((BA$244+BB$244-BA$240-BB$240)*1000* Data!$B$7))+ (BC$6*1000*1000/((BA$244+BB$244)*1000* Data!$B$7)),0 ),  0)","v":0},155,"",{"$f":"IF(A178<>\"\",IF(F178=\"Nej\", (Data!$B$129*Data!$B$5*1000*Data!$B$3)/Data!$B$6,  0 ),\"\")","v":""},"","",{"$f":"IF(A178<>\"\",IF(BH178>0,  IF(BE178=\"Nej\",    (Data!$B$8-BH178)/Data!$B$8,  ROUND( (Data!$B$8-BH178)/Data!$B$8,2)),      \"\"),\"\")","v":""},"","","","",{"$f":"IF(A178<>\"\", IF(H178=\"Flytande\",   IF(BM178>0,  IF(BE178=\"Nej\",  (Data!$B$8-BM178)/Data!$B$8,  ROUND( (Data!$B$8-BM178)/Data!$B$8,2)   ), \"\"), \"\"),\"\")","v":""},"",155,"","","",null,""]
[null,156,null,null,null,null,null,null,null,null,null,null,null,null,{"$f":"IF(AND($A179<>\"\",(M179+N179)>0), IF($F179=\"Nej\",    IF(N$13=\"Nm3\",(O$12*1000*1000/((M$242+N$242+M$243+N$243)*1000*  $J179 * Data!$B$6)),  (O$12*1000*1000/(((M$242+N$242+M$243+N$243)/Denscalc($J179))*1000*  $J179 * Data!$B$6)) ), 0     ),  0)","v":0},156,null,null,{"$f":"IF(AND($A179<>\"\",(Q179+R179)>0), IF($F179=\"Nej\",    IF(R$13=\"Nm3\",(S$12*1000*1000/((Q$242+R$242+Q$243+R$243)*1000*  $J179 * Data!$B$6)),  (S$12*1000*1000/(((Q$242+R$242+Q$243+R$243)/Denscalc($J179))*1000*  $J179 * Data!$B$6)) ), 0     ),  0)","v":0},156,null,null,{"$f":"IF(AND($A179<>\"\",(U179+V179)>0), IF($F179=\"Nej\",    IF(V$13=\"Nm3\",(W$12*1000*1000/((U$242+V$242+U$243+V$243)*1000*  $J179 * Data!$B$6)),  (W$12*1000*1000/(((U$242+V$242+U$243+V$243)/Denscalc($J179))*1000*  $J179 * Data!$B$6)) ), 0     ),  0)","v":0},156,null,null,{"$f":"IF(AND($A179<>\"\",(Y179+Z179)>0), IF($F179=\"Nej\",    IF(Z$13=\"Nm3\",(AA$12*1000*1000/((Y$242+Z$242+Y$243+Z$243)*1000*  $J179 * Data!$B$6)),  (AA$12*1000*1000/(((Y$242+Z$242+Y$243+Z$243)/Denscalc($J179))*1000*  $J179 * Data!$B$6)) ), 0     ),  0)","v":0},156,null,null,{"$f":"IF(AND($A179<>\"\",(AC179+AD179)>0), IF($F179=\"Nej\",    IF(AD$13=\"Nm3\",(AE$12*1000*1000/((AC$242+AD$242+AC$243+AD$243)*1000*  $J179 * Data!$B$6)),  (AE$12*1000*1000/(((AC$242+AD$242+AC$243+AD$243)/Denscalc($J179))*1000*  $J179 * Data!$B$6)) ), 0     ),  0)","v":0},156,null,null,{"$f":"IF(AND($A179<>\"\",(AG179+AH179)>0), IF($F179=\"Nej\",    IF(AH$13=\"Nm3\",(AI$12*1000*1000/((AG$242+AH$242+AG$243+AH$243)*1000*  $J179 * Data!$B$6)),  (AI$12*1000*1000/(((AG$242+AH$242+AG$243+AH$243)/Denscalc($J179))*1000*  $J179 * Data!$B$6)) ), 0     ),  0)","v":0},156,null,null,{"$f":"IF(AND($A179<>\"\",(AK179+AL179)>0), IF($F179=\"Nej\",    IF(AL$13=\"Nm3\",(AM$12*1000*1000/((AK$242+AL$242+AK$243+AL$243)*1000*  $J179 * Data!$B$6)),  (AM$12*1000*1000/(((AK$242+AL$242+AK$243+AL$243)/Denscalc($J179))*1000*  $J179 * Data!$B$6)) ), 0     ),  0)","v":0},156,null,null,{"$f":"IF(AND($A179<>\"\",(AO179+AP179)>0), IF($F179=\"Nej\",    IF(AP$13=\"Nm3\",(AQ$12*1000*1000/((AO$242+AP$242+AO$243+AP$243)*1000*  $J179 * Data!$B$6)),  (AQ$12*1000*1000/(((AO$242+AP$242+AO$243+AP$243)/Denscalc($J179))*1000*  $J179 * Data!$B$6)) ), 0     ),  0)","v":0},156,null,null,{"$f":"IF(AND($A179<>\"\",(AS179+AT179)>0), IF($F179=\"Nej\",    IF(AT$13=\"Nm3\",(AU$12*1000*1000/((AS$242+AT$242+AS$243+AT$243)*1000*  $J179 * Data!$B$6)),  (AU$12*1000*1000/(((AS$242+AT$242+AS$243+AT$243)/Denscalc($J179))*1000*  $J179 * Data!$B$6)) ), 0     ),  0)","v":0},156,null,null,{"$f":"IF(AND($A179<>\"\",(AW179+AX179)>0), IF($F179=\"Nej\",\nIF(AX$13=\"Nm3\",(AY$12*1000*1000/((AW$242+AX$242+AW$243+AX$243-AW$240-AX$240)*1000*  $J179 * Data!$B$6))+(AY$6*1000*1000/((AW$242+AX$242+AW$243+AX$243)*1000*  $J179 * Data!$B$6)),\n (AY$12*1000*1000/(((AW$242+AX$242+AW$243+AX$243-AW$240-AX$240)/Denscalc($J179))*1000*  $J179 * Data!$B$6))  +  (AY$6*1000*1000/(((AW$242+AX$242+AW$243+AX$243)/Denscalc($J179))*1000*  $J179 * Data!$B$6)) ), 0     ),  0)","v":0},156,null,null,{"$f":"IF(AND($A179<>\"\",(BA179+BB179)>0), IF($F179=\"Nej\",\n (BC$12*1000*1000/((BA$244+BB$244-BA$240-BB$240)*1000* Data!$B$7))+ (BC$6*1000*1000/((BA$244+BB$244)*1000* Data!$B$7)),0 ),  0)","v":0},156,"",{"$f":"IF(A179<>\"\",IF(F179=\"Nej\", (Data!$B$129*Data!$B$5*1000*Data!$B$3)/Data!$B$6,  0 ),\"\")","v":""},"","",{"$f":"IF(A179<>\"\",IF(BH179>0,  IF(BE179=\"Nej\",    (Data!$B$8-BH179)/Data!$B$8,  ROUND( (Data!$B$8-BH179)/Data!$B$8,2)),      \"\"),\"\")","v":""},"","","","",{"$f":"IF(A179<>\"\", IF(H179=\"Flytande\",   IF(BM179>0,  IF(BE179=\"Nej\",  (Data!$B$8-BM179)/Data!$B$8,  ROUND( (Data!$B$8-BM179)/Data!$B$8,2)   ), \"\"), \"\"),\"\")","v":""},"",156,"","","",null,""]
[null,157,null,null,null,null,null,null,null,null,null,null,null,null,{"$f":"IF(AND($A180<>\"\",(M180+N180)>0), IF($F180=\"Nej\",    IF(N$13=\"Nm3\",(O$12*1000*1000/((M$242+N$242+M$243+N$243)*1000*  $J180 * Data!$B$6)),  (O$12*1000*1000/(((M$242+N$242+M$243+N$243)/Denscalc($J180))*1000*  $J180 * Data!$B$6)) ), 0     ),  0)","v":0},157,null,null,{"$f":"IF(AND($A180<>\"\",(Q180+R180)>0), IF($F180=\"Nej\",    IF(R$13=\"Nm3\",(S$12*1000*1000/((Q$242+R$242+Q$243+R$243)*1000*  $J180 * Data!$B$6)),  (S$12*1000*1000/(((Q$242+R$242+Q$243+R$243)/Denscalc($J180))*1000*  $J180 * Data!$B$6)) ), 0     ),  0)","v":0},157,null,null,{"$f":"IF(AND($A180<>\"\",(U180+V180)>0), IF($F180=\"Nej\",    IF(V$13=\"Nm3\",(W$12*1000*1000/((U$242+V$242+U$243+V$243)*1000*  $J180 * Data!$B$6)),  (W$12*1000*1000/(((U$242+V$242+U$243+V$243)/Denscalc($J180))*1000*  $J180 * Data!$B$6)) ), 0     ),  0)","v":0},157,null,null,{"$f":"IF(AND($A180<>\"\",(Y180+Z180)>0), IF($F180=\"Nej\",    IF(Z$13=\"Nm3\",(AA$12*1000*1000/((Y$242+Z$242+Y$243+Z$243)*1000*  $J180 * Data!$B$6)),  (AA$12*1000*1000/(((Y$242+Z$242+Y$243+Z$243)/Denscalc($J180))*1000*  $J180 * Data!$B$6)) ), 0     ),  0)","v":0},157,null,null,{"$f":"IF(AND($A180<>\"\",(AC180+AD180)>0), IF($F180=\"Nej\",    IF(AD$13=\"Nm3\",(AE$12*1000*1000/((AC$242+AD$242+AC$243+AD$243)*1000*  $J180 * Data!$B$6)),  (AE$12*1000*1000/(((AC$242+AD$242+AC$243+AD$243)/Denscalc($J180))*1000*  $J180 * Data!$B$6)) ), 0     ),  0)","v":0},157,null,null,{"$f":"IF(AND($A180<>\"\",(AG180+AH180)>0), IF($F180=\"Nej\",    IF(AH$13=\"Nm3\",(AI$12*1000*1000/((AG$242+AH$242+AG$243+AH$243)*1000*  $J180 * Data!$B$6)),  (AI$12*1000*1000/(((AG$242+AH$242+AG$243+AH$243)/Denscalc($J180))*1000*  $J180 * Data!$B$6)) ), 0     ),  0)","v":0},157,null,null,{"$f":"IF(AND($A180<>\"\",(AK180+AL180)>0), IF($F180=\"Nej\",    IF(AL$13=\"Nm3\",(AM$12*1000*1000/((AK$242+AL$242+AK$243+AL$243)*1000*  $J180 * Data!$B$6)),  (AM$12*1000*1000/(((AK$242+AL$242+AK$243+AL$243)/Denscalc($J180))*1000*  $J180 * Data!$B$6)) ), 0     ),  0)","v":0},157,null,null,{"$f":"IF(AND($A180<>\"\",(AO180+AP180)>0), IF($F180=\"Nej\",    IF(AP$13=\"Nm3\",(AQ$12*1000*1000/((AO$242+AP$242+AO$243+AP$243)*1000*  $J180 * Data!$B$6)),  (AQ$12*1000*1000/(((AO$242+AP$242+AO$243+AP$243)/Denscalc($J180))*1000*  $J180 * Data!$B$6)) ), 0     ),  0)","v":0},157,null,null,{"$f":"IF(AND($A180<>\"\",(AS180+AT180)>0), IF($F180=\"Nej\",    IF(AT$13=\"Nm3\",(AU$12*1000*1000/((AS$242+AT$242+AS$243+AT$243)*1000*  $J180 * Data!$B$6)),  (AU$12*1000*1000/(((AS$242+AT$242+AS$243+AT$243)/Denscalc($J180))*1000*  $J180 * Data!$B$6)) ), 0     ),  0)","v":0},157,null,null,{"$f":"IF(AND($A180<>\"\",(AW180+AX180)>0), IF($F180=\"Nej\",\nIF(AX$13=\"Nm3\",(AY$12*1000*1000/((AW$242+AX$242+AW$243+AX$243-AW$240-AX$240)*1000*  $J180 * Data!$B$6))+(AY$6*1000*1000/((AW$242+AX$242+AW$243+AX$243)*1000*  $J180 * Data!$B$6)),\n (AY$12*1000*1000/(((AW$242+AX$242+AW$243+AX$243-AW$240-AX$240)/Denscalc($J180))*1000*  $J180 * Data!$B$6))  +  (AY$6*1000*1000/(((AW$242+AX$242+AW$243+AX$243)/Denscalc($J180))*1000*  $J180 * Data!$B$6)) ), 0     ),  0)","v":0},157,null,null,{"$f":"IF(AND($A180<>\"\",(BA180+BB180)>0), IF($F180=\"Nej\",\n (BC$12*1000*1000/((BA$244+BB$244-BA$240-BB$240)*1000* Data!$B$7))+ (BC$6*1000*1000/((BA$244+BB$244)*1000* Data!$B$7)),0 ),  0)","v":0},157,"",{"$f":"IF(A180<>\"\",IF(F180=\"Nej\", (Data!$B$129*Data!$B$5*1000*Data!$B$3)/Data!$B$6,  0 ),\"\")","v":""},"","",{"$f":"IF(A180<>\"\",IF(BH180>0,  IF(BE180=\"Nej\",    (Data!$B$8-BH180)/Data!$B$8,  ROUND( (Data!$B$8-BH180)/Data!$B$8,2)),      \"\"),\"\")","v":""},"","","","",{"$f":"IF(A180<>\"\", IF(H180=\"Flytande\",   IF(BM180>0,  IF(BE180=\"Nej\",  (Data!$B$8-BM180)/Data!$B$8,  ROUND( (Data!$B$8-BM180)/Data!$B$8,2)   ), \"\"), \"\"),\"\")","v":""},"",157,"","","",null,{"$f":"IF(A180<>\"\",    IF(H180=\"Gas\", IF(I180=\"kg\", ((BJ180*Denscalc(J180) +BK180+BQ180*Denscalc(J180)+BR180)-G180), ( (BJ180+BK180/Denscalc(J180) + BQ180+BR180/Denscalc(J180))-G180)), ( (   BJ180*Denscalc(J180)+BK180+BO180+BQ180*Denscalc(J180)+BR180+BS180)-G180)  ), \"\")","v":""}]
[null,158,null,null,null,null,null,null,null,null,null,null,null,null,{"$f":"IF(AND($A181<>\"\",(M181+N181)>0), IF($F181=\"Nej\",    IF(N$13=\"Nm3\",(O$12*1000*1000/((M$242+N$242+M$243+N$243)*1000*  $J181 * Data!$B$6)),  (O$12*1000*1000/(((M$242+N$242+M$243+N$243)/Denscalc($J181))*1000*  $J181 * Data!$B$6)) ), 0     ),  0)","v":0},158,null,null,{"$f":"IF(AND($A181<>\"\",(Q181+R181)>0), IF($F181=\"Nej\",    IF(R$13=\"Nm3\",(S$12*1000*1000/((Q$242+R$242+Q$243+R$243)*1000*  $J181 * Data!$B$6)),  (S$12*1000*1000/(((Q$242+R$242+Q$243+R$243)/Denscalc($J181))*1000*  $J181 * Data!$B$6)) ), 0     ),  0)","v":0},158,null,null,{"$f":"IF(AND($A181<>\"\",(U181+V181)>0), IF($F181=\"Nej\",    IF(V$13=\"Nm3\",(W$12*1000*1000/((U$242+V$242+U$243+V$243)*1000*  $J181 * Data!$B$6)),  (W$12*1000*1000/(((U$242+V$242+U$243+V$243)/Denscalc($J181))*1000*  $J181 * Data!$B$6)) ), 0     ),  0)","v":0},158,null,null,{"$f":"IF(AND($A181<>\"\",(Y181+Z181)>0), IF($F181=\"Nej\",    IF(Z$13=\"Nm3\",(AA$12*1000*1000/((Y$242+Z$242+Y$243+Z$243)*1000*  $J181 * Data!$B$6)),  (AA$12*1000*1000/(((Y$242+Z$242+Y$243+Z$243)/Denscalc($J181))*1000*  $J181 * Data!$B$6)) ), 0     ),  0)","v":0},158,null,null,{"$f":"IF(AND($A181<>\"\",(AC181+AD181)>0), IF($F181=\"Nej\",    IF(AD$13=\"Nm3\",(AE$12*1000*1000/((AC$242+AD$242+AC$243+AD$243)*1000*  $J181 * Data!$B$6)),  (AE$12*1000*1000/(((AC$242+AD$242+AC$243+AD$243)/Denscalc($J181))*1000*  $J181 * Data!$B$6)) ), 0     ),  0)","v":0},158,null,null,{"$f":"IF(AND($A181<>\"\",(AG181+AH181)>0), IF($F181=\"Nej\",    IF(AH$13=\"Nm3\",(AI$12*1000*1000/((AG$242+AH$242+AG$243+AH$243)*1000*  $J181 * Data!$B$6)),  (AI$12*1000*1000/(((AG$242+AH$242+AG$243+AH$243)/Denscalc($J181))*1000*  $J181 * Data!$B$6)) ), 0     ),  0)","v":0},158,null,null,{"$f":"IF(AND($A181<>\"\",(AK181+AL181)>0), IF($F181=\"Nej\",    IF(AL$13=\"Nm3\",(AM$12*1000*1000/((AK$242+AL$242+AK$243+AL$243)*1000*  $J181 * Data!$B$6)),  (AM$12*1000*1000/(((AK$242+AL$242+AK$243+AL$243)/Denscalc($J181))*1000*  $J181 * Data!$B$6)) ), 0     ),  0)","v":0},158,null,null,{"$f":"IF(AND($A181<>\"\",(AO181+AP181)>0), IF($F181=\"Nej\",    IF(AP$13=\"Nm3\",(AQ$12*1000*1000/((AO$242+AP$242+AO$243+AP$243)*1000*  $J181 * Data!$B$6)),  (AQ$12*1000*1000/(((AO$242+AP$242+AO$243+AP$243)/Denscalc($J181))*1000*  $J181 * Data!$B$6)) ), 0     ),  0)","v":0},158,null,null,{"$f":"IF(AND($A181<>\"\",(AS181+AT181)>0), IF($F181=\"Nej\",    IF(AT$13=\"Nm3\",(AU$12*1000*1000/((AS$242+AT$242+AS$243+AT$243)*1000*  $J181 * Data!$B$6)),  (AU$12*1000*1000/(((AS$242+AT$242+AS$243+AT$243)/Denscalc($J181))*1000*  $J181 * Data!$B$6)) ), 0     ),  0)","v":0},158,null,null,{"$f":"IF(AND($A181<>\"\",(AW181+AX181)>0), IF($F181=\"Nej\",\nIF(AX$13=\"Nm3\",(AY$12*1000*1000/((AW$242+AX$242+AW$243+AX$243-AW$240-AX$240)*1000*  $J181 * Data!$B$6))+(AY$6*1000*1000/((AW$242+AX$242+AW$243+AX$243)*1000*  $J181 * Data!$B$6)),\n (AY$12*1000*1000/(((AW$242+AX$242+AW$243+AX$243-AW$240-AX$240)/Denscalc($J181))*1000*  $J181 * Data!$B$6))  +  (AY$6*1000*1000/(((AW$242+AX$242+AW$243+AX$243)/Denscalc($J181))*1000*  $J181 * Data!$B$6)) ), 0     ),  0)","v":0},158,null,null,{"$f":"IF(AND($A181<>\"\",(BA181+BB181)>0), IF($F181=\"Nej\",\n (BC$12*1000*1000/((BA$244+BB$244-BA$240-BB$240)*1000* Data!$B$7))+ (BC$6*1000*1000/((BA$244+BB$244)*1000* Data!$B$7)),0 ),  0)","v":0},158,"",{"$f":"IF(A181<>\"\",IF(F181=\"Nej\", (Data!$B$129*Data!$B$5*1000*Data!$B$3)/Data!$B$6,  0 ),\"\")","v":""},"","",{"$f":"IF(A181<>\"\",IF(BH181>0,  IF(BE181=\"Nej\",    (Data!$B$8-BH181)/Data!$B$8,  ROUND( (Data!$B$8-BH181)/Data!$B$8,2)),      \"\"),\"\")","v":""},"","","","",{"$f":"IF(A181<>\"\", IF(H181=\"Flytande\",   IF(BM181>0,  IF(BE181=\"Nej\",  (Data!$B$8-BM181)/Data!$B$8,  ROUND( (Data!$B$8-BM181)/Data!$B$8,2)   ), \"\"), \"\"),\"\")","v":""},"",158,"","","",null,""]
[null,159,null,null,null,null,null,null,null,null,null,null,null,null,{"$f":"IF(AND($A182<>\"\",(M182+N182)>0), IF($F182=\"Nej\",    IF(N$13=\"Nm3\",(O$12*1000*1000/((M$242+N$242+M$243+N$243)*1000*  $J182 * Data!$B$6)),  (O$12*1000*1000/(((M$242+N$242+M$243+N$243)/Denscalc($J182))*1000*  $J182 * Data!$B$6)) ), 0     ),  0)","v":0},159,null,null,{"$f":"IF(AND($A182<>\"\",(Q182+R182)>0), IF($F182=\"Nej\",    IF(R$13=\"Nm3\",(S$12*1000*1000/((Q$242+R$242+Q$243+R$243)*1000*  $J182 * Data!$B$6)),  (S$12*1000*1000/(((Q$242+R$242+Q$243+R$243)/Denscalc($J182))*1000*  $J182 * Data!$B$6)) ), 0     ),  0)","v":0},159,null,null,{"$f":"IF(AND($A182<>\"\",(U182+V182)>0), IF($F182=\"Nej\",    IF(V$13=\"Nm3\",(W$12*1000*1000/((U$242+V$242+U$243+V$243)*1000*  $J182 * Data!$B$6)),  (W$12*1000*1000/(((U$242+V$242+U$243+V$243)/Denscalc($J182))*1000*  $J182 * Data!$B$6)) ), 0     ),  0)","v":0},159,null,null,{"$f":"IF(AND($A182<>\"\",(Y182+Z182)>0), IF($F182=\"Nej\",    IF(Z$13=\"Nm3\",(AA$12*1000*1000/((Y$242+Z$242+Y$243+Z$243)*1000*  $J182 * Data!$B$6)),  (AA$12*1000*1000/(((Y$242+Z$242+Y$243+Z$243)/Denscalc($J182))*1000*  $J182 * Data!$B$6)) ), 0     ),  0)","v":0},159,null,null,{"$f":"IF(AND($A182<>\"\",(AC182+AD182)>0), IF($F182=\"Nej\",    IF(AD$13=\"Nm3\",(AE$12*1000*1000/((AC$242+AD$242+AC$243+AD$243)*1000*  $J182 * Data!$B$6)),  (AE$12*1000*1000/(((AC$242+AD$242+AC$243+AD$243)/Denscalc($J182))*1000*  $J182 * Data!$B$6)) ), 0     ),  0)","v":0},159,null,null,{"$f":"IF(AND($A182<>\"\",(AG182+AH182)>0), IF($F182=\"Nej\",    IF(AH$13=\"Nm3\",(AI$12*1000*1000/((AG$242+AH$242+AG$243+AH$243)*1000*  $J182 * Data!$B$6)),  (AI$12*1000*1000/(((AG$242+AH$242+AG$243+AH$243)/Denscalc($J182))*1000*  $J182 * Data!$B$6)) ), 0     ),  0)","v":0},159,null,null,{"$f":"IF(AND($A182<>\"\",(AK182+AL182)>0), IF($F182=\"Nej\",    IF(AL$13=\"Nm3\",(AM$12*1000*1000/((AK$242+AL$242+AK$243+AL$243)*1000*  $J182 * Data!$B$6)),  (AM$12*1000*1000/(((AK$242+AL$242+AK$243+AL$243)/Denscalc($J182))*1000*  $J182 * Data!$B$6)) ), 0     ),  0)","v":0},159,null,null,{"$f":"IF(AND($A182<>\"\",(AO182+AP182)>0), IF($F182=\"Nej\",    IF(AP$13=\"Nm3\",(AQ$12*1000*1000/((AO$242+AP$242+AO$243+AP$243)*1000*  $J182 * Data!$B$6)),  (AQ$12*1000*1000/(((AO$242+AP$242+AO$243+AP$243)/Denscalc($J182))*1000*  $J182 * Data!$B$6)) ), 0     ),  0)","v":0},159,null,null,{"$f":"IF(AND($A182<>\"\",(AS182+AT182)>0), IF($F182=\"Nej\",    IF(AT$13=\"Nm3\",(AU$12*1000*1000/((AS$242+AT$242+AS$243+AT$243)*1000*  $J182 * Data!$B$6)),  (AU$12*1000*1000/(((AS$242+AT$242+AS$243+AT$243)/Denscalc($J182))*1000*  $J182 * Data!$B$6)) ), 0     ),  0)","v":0},159,null,null,{"$f":"IF(AND($A182<>\"\",(AW182+AX182)>0), IF($F182=\"Nej\",\nIF(AX$13=\"Nm3\",(AY$12*1000*1000/((AW$242+AX$242+AW$243+AX$243-AW$240-AX$240)*1000*  $J182 * Data!$B$6))+(AY$6*1000*1000/((AW$242+AX$242+AW$243+AX$243)*1000*  $J182 * Data!$B$6)),\n (AY$12*1000*1000/(((AW$242+AX$242+AW$243+AX$243-AW$240-AX$240)/Denscalc($J182))*1000*  $J182 * Data!$B$6))  +  (AY$6*1000*1000/(((AW$242+AX$242+AW$243+AX$243)/Denscalc($J182))*1000*  $J182 * Data!$B$6)) ), 0     ),  0)","v":0},159,null,null,{"$f":"IF(AND($A182<>\"\",(BA182+BB182)>0), IF($F182=\"Nej\",\n (BC$12*1000*1000/((BA$244+BB$244-BA$240-BB$240)*1000* Data!$B$7))+ (BC$6*1000*1000/((BA$244+BB$244)*1000* Data!$B$7)),0 ),  0)","v":0},159,"",{"$f":"IF(A182<>\"\",IF(F182=\"Nej\", (Data!$B$129*Data!$B$5*1000*Data!$B$3)/Data!$B$6,  0 ),\"\")","v":""},"","",{"$f":"IF(A182<>\"\",IF(BH182>0,  IF(BE182=\"Nej\",    (Data!$B$8-BH182)/Data!$B$8,  ROUND( (Data!$B$8-BH182)/Data!$B$8,2)),      \"\"),\"\")","v":""},"","","","",{"$f":"IF(A182<>\"\", IF(H182=\"Flytande\",   IF(BM182>0,  IF(BE182=\"Nej\",  (Data!$B$8-BM182)/Data!$B$8,  ROUND( (Data!$B$8-BM182)/Data!$B$8,2)   ), \"\"), \"\"),\"\")","v":""},"",159,"","","",null,""]
[null,160,null,null,null,null,null,null,null,null,null,null,null,null,{"$f":"IF(AND($A183<>\"\",(M183+N183)>0), IF($F183=\"Nej\",    IF(N$13=\"Nm3\",(O$12*1000*1000/((M$242+N$242+M$243+N$243)*1000*  $J183 * Data!$B$6)),  (O$12*1000*1000/(((M$242+N$242+M$243+N$243)/Denscalc($J183))*1000*  $J183 * Data!$B$6)) ), 0     ),  0)","v":0},160,null,null,{"$f":"IF(AND($A183<>\"\",(Q183+R183)>0), IF($F183=\"Nej\",    IF(R$13=\"Nm3\",(S$12*1000*1000/((Q$242+R$242+Q$243+R$243)*1000*  $J183 * Data!$B$6)),  (S$12*1000*1000/(((Q$242+R$242+Q$243+R$243)/Denscalc($J183))*1000*  $J183 * Data!$B$6)) ), 0     ),  0)","v":0},160,null,null,{"$f":"IF(AND($A183<>\"\",(U183+V183)>0), IF($F183=\"Nej\",    IF(V$13=\"Nm3\",(W$12*1000*1000/((U$242+V$242+U$243+V$243)*1000*  $J183 * Data!$B$6)),  (W$12*1000*1000/(((U$242+V$242+U$243+V$243)/Denscalc($J183))*1000*  $J183 * Data!$B$6)) ), 0     ),  0)","v":0},160,null,null,{"$f":"IF(AND($A183<>\"\",(Y183+Z183)>0), IF($F183=\"Nej\",    IF(Z$13=\"Nm3\",(AA$12*1000*1000/((Y$242+Z$242+Y$243+Z$243)*1000*  $J183 * Data!$B$6)),  (AA$12*1000*1000/(((Y$242+Z$242+Y$243+Z$243)/Denscalc($J183))*1000*  $J183 * Data!$B$6)) ), 0     ),  0)","v":0},160,null,null,{"$f":"IF(AND($A183<>\"\",(AC183+AD183)>0), IF($F183=\"Nej\",    IF(AD$13=\"Nm3\",(AE$12*1000*1000/((AC$242+AD$242+AC$243+AD$243)*1000*  $J183 * Data!$B$6)),  (AE$12*1000*1000/(((AC$242+AD$242+AC$243+AD$243)/Denscalc($J183))*1000*  $J183 * Data!$B$6)) ), 0     ),  0)","v":0},160,null,null,{"$f":"IF(AND($A183<>\"\",(AG183+AH183)>0), IF($F183=\"Nej\",    IF(AH$13=\"Nm3\",(AI$12*1000*1000/((AG$242+AH$242+AG$243+AH$243)*1000*  $J183 * Data!$B$6)),  (AI$12*1000*1000/(((AG$242+AH$242+AG$243+AH$243)/Denscalc($J183))*1000*  $J183 * Data!$B$6)) ), 0     ),  0)","v":0},160,null,null,{"$f":"IF(AND($A183<>\"\",(AK183+AL183)>0), IF($F183=\"Nej\",    IF(AL$13=\"Nm3\",(AM$12*1000*1000/((AK$242+AL$242+AK$243+AL$243)*1000*  $J183 * Data!$B$6)),  (AM$12*1000*1000/(((AK$242+AL$242+AK$243+AL$243)/Denscalc($J183))*1000*  $J183 * Data!$B$6)) ), 0     ),  0)","v":0},160,null,null,{"$f":"IF(AND($A183<>\"\",(AO183+AP183)>0), IF($F183=\"Nej\",    IF(AP$13=\"Nm3\",(AQ$12*1000*1000/((AO$242+AP$242+AO$243+AP$243)*1000*  $J183 * Data!$B$6)),  (AQ$12*1000*1000/(((AO$242+AP$242+AO$243+AP$243)/Denscalc($J183))*1000*  $J183 * Data!$B$6)) ), 0     ),  0)","v":0},160,null,null,{"$f":"IF(AND($A183<>\"\",(AS183+AT183)>0), IF($F183=\"Nej\",    IF(AT$13=\"Nm3\",(AU$12*1000*1000/((AS$242+AT$242+AS$243+AT$243)*1000*  $J183 * Data!$B$6)),  (AU$12*1000*1000/(((AS$242+AT$242+AS$243+AT$243)/Denscalc($J183))*1000*  $J183 * Data!$B$6)) ), 0     ),  0)","v":0},160,null,null,{"$f":"IF(AND($A183<>\"\",(AW183+AX183)>0), IF($F183=\"Nej\",\nIF(AX$13=\"Nm3\",(AY$12*1000*1000/((AW$242+AX$242+AW$243+AX$243-AW$240-AX$240)*1000*  $J183 * Data!$B$6))+(AY$6*1000*1000/((AW$242+AX$242+AW$243+AX$243)*1000*  $J183 * Data!$B$6)),\n (AY$12*1000*1000/(((AW$242+AX$242+AW$243+AX$243-AW$240-AX$240)/Denscalc($J183))*1000*  $J183 * Data!$B$6))  +  (AY$6*1000*1000/(((AW$242+AX$242+AW$243+AX$243)/Denscalc($J183))*1000*  $J183 * Data!$B$6)) ), 0     ),  0)","v":0},160,null,null,{"$f":"IF(AND($A183<>\"\",(BA183+BB183)>0), IF($F183=\"Nej\",\n (BC$12*1000*1000/((BA$244+BB$244-BA$240-BB$240)*1000* Data!$B$7))+ (BC$6*1000*1000/((BA$244+BB$244)*1000* Data!$B$7)),0 ),  0)","v":0},160,"",{"$f":"IF(A183<>\"\",IF(F183=\"Nej\", (Data!$B$129*Data!$B$5*1000*Data!$B$3)/Data!$B$6,  0 ),\"\")","v":""},"","",{"$f":"IF(A183<>\"\",IF(BH183>0,  IF(BE183=\"Nej\",    (Data!$B$8-BH183)/Data!$B$8,  ROUND( (Data!$B$8-BH183)/Data!$B$8,2)),      \"\"),\"\")","v":""},"","","","",{"$f":"IF(A183<>\"\", IF(H183=\"Flytande\",   IF(BM183>0,  IF(BE183=\"Nej\",  (Data!$B$8-BM183)/Data!$B$8,  ROUND( (Data!$B$8-BM183)/Data!$B$8,2)   ), \"\"), \"\"),\"\")","v":""},"",160,"","","",null,""]
[null,161,null,null,null,null,null,null,null,null,null,null,null,null,{"$f":"IF(AND($A184<>\"\",(M184+N184)>0), IF($F184=\"Nej\",    IF(N$13=\"Nm3\",(O$12*1000*1000/((M$242+N$242+M$243+N$243)*1000*  $J184 * Data!$B$6)),  (O$12*1000*1000/(((M$242+N$242+M$243+N$243)/Denscalc($J184))*1000*  $J184 * Data!$B$6)) ), 0     ),  0)","v":0},161,null,null,{"$f":"IF(AND($A184<>\"\",(Q184+R184)>0), IF($F184=\"Nej\",    IF(R$13=\"Nm3\",(S$12*1000*1000/((Q$242+R$242+Q$243+R$243)*1000*  $J184 * Data!$B$6)),  (S$12*1000*1000/(((Q$242+R$242+Q$243+R$243)/Denscalc($J184))*1000*  $J184 * Data!$B$6)) ), 0     ),  0)","v":0},161,null,null,{"$f":"IF(AND($A184<>\"\",(U184+V184)>0), IF($F184=\"Nej\",    IF(V$13=\"Nm3\",(W$12*1000*1000/((U$242+V$242+U$243+V$243)*1000*  $J184 * Data!$B$6)),  (W$12*1000*1000/(((U$242+V$242+U$243+V$243)/Denscalc($J184))*1000*  $J184 * Data!$B$6)) ), 0     ),  0)","v":0},161,null,null,{"$f":"IF(AND($A184<>\"\",(Y184+Z184)>0), IF($F184=\"Nej\",    IF(Z$13=\"Nm3\",(AA$12*1000*1000/((Y$242+Z$242+Y$243+Z$243)*1000*  $J184 * Data!$B$6)),  (AA$12*1000*1000/(((Y$242+Z$242+Y$243+Z$243)/Denscalc($J184))*1000*  $J184 * Data!$B$6)) ), 0     ),  0)","v":0},161,null,null,{"$f":"IF(AND($A184<>\"\",(AC184+AD184)>0), IF($F184=\"Nej\",    IF(AD$13=\"Nm3\",(AE$12*1000*1000/((AC$242+AD$242+AC$243+AD$243)*1000*  $J184 * Data!$B$6)),  (AE$12*1000*1000/(((AC$242+AD$242+AC$243+AD$243)/Denscalc($J184))*1000*  $J184 * Data!$B$6)) ), 0     ),  0)","v":0},161,null,null,{"$f":"IF(AND($A184<>\"\",(AG184+AH184)>0), IF($F184=\"Nej\",    IF(AH$13=\"Nm3\",(AI$12*1000*1000/((AG$242+AH$242+AG$243+AH$243)*1000*  $J184 * Data!$B$6)),  (AI$12*1000*1000/(((AG$242+AH$242+AG$243+AH$243)/Denscalc($J184))*1000*  $J184 * Data!$B$6)) ), 0     ),  0)","v":0},161,null,null,{"$f":"IF(AND($A184<>\"\",(AK184+AL184)>0), IF($F184=\"Nej\",    IF(AL$13=\"Nm3\",(AM$12*1000*1000/((AK$242+AL$242+AK$243+AL$243)*1000*  $J184 * Data!$B$6)),  (AM$12*1000*1000/(((AK$242+AL$242+AK$243+AL$243)/Denscalc($J184))*1000*  $J184 * Data!$B$6)) ), 0     ),  0)","v":0},161,null,null,{"$f":"IF(AND($A184<>\"\",(AO184+AP184)>0), IF($F184=\"Nej\",    IF(AP$13=\"Nm3\",(AQ$12*1000*1000/((AO$242+AP$242+AO$243+AP$243)*1000*  $J184 * Data!$B$6)),  (AQ$12*1000*1000/(((AO$242+AP$242+AO$243+AP$243)/Denscalc($J184))*1000*  $J184 * Data!$B$6)) ), 0     ),  0)","v":0},161,null,null,{"$f":"IF(AND($A184<>\"\",(AS184+AT184)>0), IF($F184=\"Nej\",    IF(AT$13=\"Nm3\",(AU$12*1000*1000/((AS$242+AT$242+AS$243+AT$243)*1000*  $J184 * Data!$B$6)),  (AU$12*1000*1000/(((AS$242+AT$242+AS$243+AT$243)/Denscalc($J184))*1000*  $J184 * Data!$B$6)) ), 0     ),  0)","v":0},161,null,null,{"$f":"IF(AND($A184<>\"\",(AW184+AX184)>0), IF($F184=\"Nej\",\nIF(AX$13=\"Nm3\",(AY$12*1000*1000/((AW$242+AX$242+AW$243+AX$243-AW$240-AX$240)*1000*  $J184 * Data!$B$6))+(AY$6*1000*1000/((AW$242+AX$242+AW$243+AX$243)*1000*  $J184 * Data!$B$6)),\n (AY$12*1000*1000/(((AW$242+AX$242+AW$243+AX$243-AW$240-AX$240)/Denscalc($J184))*1000*  $J184 * Data!$B$6))  +  (AY$6*1000*1000/(((AW$242+AX$242+AW$243+AX$243)/Denscalc($J184))*1000*  $J184 * Data!$B$6)) ), 0     ),  0)","v":0},161,null,null,{"$f":"IF(AND($A184<>\"\",(BA184+BB184)>0), IF($F184=\"Nej\",\n (BC$12*1000*1000/((BA$244+BB$244-BA$240-BB$240)*1000* Data!$B$7))+ (BC$6*1000*1000/((BA$244+BB$244)*1000* Data!$B$7)),0 ),  0)","v":0},161,"",{"$f":"IF(A184<>\"\",IF(F184=\"Nej\", (Data!$B$129*Data!$B$5*1000*Data!$B$3)/Data!$B$6,  0 ),\"\")","v":""},"","",{"$f":"IF(A184<>\"\",IF(BH184>0,  IF(BE184=\"Nej\",    (Data!$B$8-BH184)/Data!$B$8,  ROUND( (Data!$B$8-BH184)/Data!$B$8,2)),      \"\"),\"\")","v":""},"","","","",{"$f":"IF(A184<>\"\", IF(H184=\"Flytande\",   IF(BM184>0,  IF(BE184=\"Nej\",  (Data!$B$8-BM184)/Data!$B$8,  ROUND( (Data!$B$8-BM184)/Data!$B$8,2)   ), \"\"), \"\"),\"\")","v":""},"",161,"","","",null,""]
[null,162,null,null,null,null,null,null,null,null,null,null,null,null,{"$f":"IF(AND($A185<>\"\",(M185+N185)>0), IF($F185=\"Nej\",    IF(N$13=\"Nm3\",(O$12*1000*1000/((M$242+N$242+M$243+N$243)*1000*  $J185 * Data!$B$6)),  (O$12*1000*1000/(((M$242+N$242+M$243+N$243)/Denscalc($J185))*1000*  $J185 * Data!$B$6)) ), 0     ),  0)","v":0},162,null,null,{"$f":"IF(AND($A185<>\"\",(Q185+R185)>0), IF($F185=\"Nej\",    IF(R$13=\"Nm3\",(S$12*1000*1000/((Q$242+R$242+Q$243+R$243)*1000*  $J185 * Data!$B$6)),  (S$12*1000*1000/(((Q$242+R$242+Q$243+R$243)/Denscalc($J185))*1000*  $J185 * Data!$B$6)) ), 0     ),  0)","v":0},162,null,null,{"$f":"IF(AND($A185<>\"\",(U185+V185)>0), IF($F185=\"Nej\",    IF(V$13=\"Nm3\",(W$12*1000*1000/((U$242+V$242+U$243+V$243)*1000*  $J185 * Data!$B$6)),  (W$12*1000*1000/(((U$242+V$242+U$243+V$243)/Denscalc($J185))*1000*  $J185 * Data!$B$6)) ), 0     ),  0)","v":0},162,null,null,{"$f":"IF(AND($A185<>\"\",(Y185+Z185)>0), IF($F185=\"Nej\",    IF(Z$13=\"Nm3\",(AA$12*1000*1000/((Y$242+Z$242+Y$243+Z$243)*1000*  $J185 * Data!$B$6)),  (AA$12*1000*1000/(((Y$242+Z$242+Y$243+Z$243)/Denscalc($J185))*1000*  $J185 * Data!$B$6)) ), 0     ),  0)","v":0},162,null,null,{"$f":"IF(AND($A185<>\"\",(AC185+AD185)>0), IF($F185=\"Nej\",    IF(AD$13=\"Nm3\",(AE$12*1000*1000/((AC$242+AD$242+AC$243+AD$243)*1000*  $J185 * Data!$B$6)),  (AE$12*1000*1000/(((AC$242+AD$242+AC$243+AD$243)/Denscalc($J185))*1000*  $J185 * Data!$B$6)) ), 0     ),  0)","v":0},162,null,null,{"$f":"IF(AND($A185<>\"\",(AG185+AH185)>0), IF($F185=\"Nej\",    IF(AH$13=\"Nm3\",(AI$12*1000*1000/((AG$242+AH$242+AG$243+AH$243)*1000*  $J185 * Data!$B$6)),  (AI$12*1000*1000/(((AG$242+AH$242+AG$243+AH$243)/Denscalc($J185))*1000*  $J185 * Data!$B$6)) ), 0     ),  0)","v":0},162,null,null,{"$f":"IF(AND($A185<>\"\",(AK185+AL185)>0), IF($F185=\"Nej\",    IF(AL$13=\"Nm3\",(AM$12*1000*1000/((AK$242+AL$242+AK$243+AL$243)*1000*  $J185 * Data!$B$6)),  (AM$12*1000*1000/(((AK$242+AL$242+AK$243+AL$243)/Denscalc($J185))*1000*  $J185 * Data!$B$6)) ), 0     ),  0)","v":0},162,null,null,{"$f":"IF(AND($A185<>\"\",(AO185+AP185)>0), IF($F185=\"Nej\",    IF(AP$13=\"Nm3\",(AQ$12*1000*1000/((AO$242+AP$242+AO$243+AP$243)*1000*  $J185 * Data!$B$6)),  (AQ$12*1000*1000/(((AO$242+AP$242+AO$243+AP$243)/Denscalc($J185))*1000*  $J185 * Data!$B$6)) ), 0     ),  0)","v":0},162,null,null,{"$f":"IF(AND($A185<>\"\",(AS185+AT185)>0), IF($F185=\"Nej\",    IF(AT$13=\"Nm3\",(AU$12*1000*1000/((AS$242+AT$242+AS$243+AT$243)*1000*  $J185 * Data!$B$6)),  (AU$12*1000*1000/(((AS$242+AT$242+AS$243+AT$243)/Denscalc($J185))*1000*  $J185 * Data!$B$6)) ), 0     ),  0)","v":0},162,null,null,{"$f":"IF(AND($A185<>\"\",(AW185+AX185)>0), IF($F185=\"Nej\",\nIF(AX$13=\"Nm3\",(AY$12*1000*1000/((AW$242+AX$242+AW$243+AX$243-AW$240-AX$240)*1000*  $J185 * Data!$B$6))+(AY$6*1000*1000/((AW$242+AX$242+AW$243+AX$243)*1000*  $J185 * Data!$B$6)),\n (AY$12*1000*1000/(((AW$242+AX$242+AW$243+AX$243-AW$240-AX$240)/Denscalc($J185))*1000*  $J185 * Data!$B$6))  +  (AY$6*1000*1000/(((AW$242+AX$242+AW$243+AX$243)/Denscalc($J185))*1000*  $J185 * Data!$B$6)) ), 0     ),  0)","v":0},162,null,null,{"$f":"IF(AND($A185<>\"\",(BA185+BB185)>0), IF($F185=\"Nej\",\n (BC$12*1000*1000/((BA$244+BB$244-BA$240-BB$240)*1000* Data!$B$7))+ (BC$6*1000*1000/((BA$244+BB$244)*1000* Data!$B$7)),0 ),  0)","v":0},162,"",{"$f":"IF(A185<>\"\",IF(F185=\"Nej\", (Data!$B$129*Data!$B$5*1000*Data!$B$3)/Data!$B$6,  0 ),\"\")","v":""},"","",{"$f":"IF(A185<>\"\",IF(BH185>0,  IF(BE185=\"Nej\",    (Data!$B$8-BH185)/Data!$B$8,  ROUND( (Data!$B$8-BH185)/Data!$B$8,2)),      \"\"),\"\")","v":""},"","","","",{"$f":"IF(A185<>\"\", IF(H185=\"Flytande\",   IF(BM185>0,  IF(BE185=\"Nej\",  (Data!$B$8-BM185)/Data!$B$8,  ROUND( (Data!$B$8-BM185)/Data!$B$8,2)   ), \"\"), \"\"),\"\")","v":""},"",162,"","","",null,""]
[null,163,null,null,null,null,null,null,null,null,null,null,null,null,{"$f":"IF(AND($A186<>\"\",(M186+N186)>0), IF($F186=\"Nej\",    IF(N$13=\"Nm3\",(O$12*1000*1000/((M$242+N$242+M$243+N$243)*1000*  $J186 * Data!$B$6)),  (O$12*1000*1000/(((M$242+N$242+M$243+N$243)/Denscalc($J186))*1000*  $J186 * Data!$B$6)) ), 0     ),  0)","v":0},163,null,null,{"$f":"IF(AND($A186<>\"\",(Q186+R186)>0), IF($F186=\"Nej\",    IF(R$13=\"Nm3\",(S$12*1000*1000/((Q$242+R$242+Q$243+R$243)*1000*  $J186 * Data!$B$6)),  (S$12*1000*1000/(((Q$242+R$242+Q$243+R$243)/Denscalc($J186))*1000*  $J186 * Data!$B$6)) ), 0     ),  0)","v":0},163,null,null,{"$f":"IF(AND($A186<>\"\",(U186+V186)>0), IF($F186=\"Nej\",    IF(V$13=\"Nm3\",(W$12*1000*1000/((U$242+V$242+U$243+V$243)*1000*  $J186 * Data!$B$6)),  (W$12*1000*1000/(((U$242+V$242+U$243+V$243)/Denscalc($J186))*1000*  $J186 * Data!$B$6)) ), 0     ),  0)","v":0},163,null,null,{"$f":"IF(AND($A186<>\"\",(Y186+Z186)>0), IF($F186=\"Nej\",    IF(Z$13=\"Nm3\",(AA$12*1000*1000/((Y$242+Z$242+Y$243+Z$243)*1000*  $J186 * Data!$B$6)),  (AA$12*1000*1000/(((Y$242+Z$242+Y$243+Z$243)/Denscalc($J186))*1000*  $J186 * Data!$B$6)) ), 0     ),  0)","v":0},163,null,null,{"$f":"IF(AND($A186<>\"\",(AC186+AD186)>0), IF($F186=\"Nej\",    IF(AD$13=\"Nm3\",(AE$12*1000*1000/((AC$242+AD$242+AC$243+AD$243)*1000*  $J186 * Data!$B$6)),  (AE$12*1000*1000/(((AC$242+AD$242+AC$243+AD$243)/Denscalc($J186))*1000*  $J186 * Data!$B$6)) ), 0     ),  0)","v":0},163,null,null,{"$f":"IF(AND($A186<>\"\",(AG186+AH186)>0), IF($F186=\"Nej\",    IF(AH$13=\"Nm3\",(AI$12*1000*1000/((AG$242+AH$242+AG$243+AH$243)*1000*  $J186 * Data!$B$6)),  (AI$12*1000*1000/(((AG$242+AH$242+AG$243+AH$243)/Denscalc($J186))*1000*  $J186 * Data!$B$6)) ), 0     ),  0)","v":0},163,null,null,{"$f":"IF(AND($A186<>\"\",(AK186+AL186)>0), IF($F186=\"Nej\",    IF(AL$13=\"Nm3\",(AM$12*1000*1000/((AK$242+AL$242+AK$243+AL$243)*1000*  $J186 * Data!$B$6)),  (AM$12*1000*1000/(((AK$242+AL$242+AK$243+AL$243)/Denscalc($J186))*1000*  $J186 * Data!$B$6)) ), 0     ),  0)","v":0},163,null,null,{"$f":"IF(AND($A186<>\"\",(AO186+AP186)>0), IF($F186=\"Nej\",    IF(AP$13=\"Nm3\",(AQ$12*1000*1000/((AO$242+AP$242+AO$243+AP$243)*1000*  $J186 * Data!$B$6)),  (AQ$12*1000*1000/(((AO$242+AP$242+AO$243+AP$243)/Denscalc($J186))*1000*  $J186 * Data!$B$6)) ), 0     ),  0)","v":0},163,null,null,{"$f":"IF(AND($A186<>\"\",(AS186+AT186)>0), IF($F186=\"Nej\",    IF(AT$13=\"Nm3\",(AU$12*1000*1000/((AS$242+AT$242+AS$243+AT$243)*1000*  $J186 * Data!$B$6)),  (AU$12*1000*1000/(((AS$242+AT$242+AS$243+AT$243)/Denscalc($J186))*1000*  $J186 * Data!$B$6)) ), 0     ),  0)","v":0},163,null,null,{"$f":"IF(AND($A186<>\"\",(AW186+AX186)>0), IF($F186=\"Nej\",\nIF(AX$13=\"Nm3\",(AY$12*1000*1000/((AW$242+AX$242+AW$243+AX$243-AW$240-AX$240)*1000*  $J186 * Data!$B$6))+(AY$6*1000*1000/((AW$242+AX$242+AW$243+AX$243)*1000*  $J186 * Data!$B$6)),\n (AY$12*1000*1000/(((AW$242+AX$242+AW$243+AX$243-AW$240-AX$240)/Denscalc($J186))*1000*  $J186 * Data!$B$6))  +  (AY$6*1000*1000/(((AW$242+AX$242+AW$243+AX$243)/Denscalc($J186))*1000*  $J186 * Data!$B$6)) ), 0     ),  0)","v":0},163,null,null,{"$f":"IF(AND($A186<>\"\",(BA186+BB186)>0), IF($F186=\"Nej\",\n (BC$12*1000*1000/((BA$244+BB$244-BA$240-BB$240)*1000* Data!$B$7))+ (BC$6*1000*1000/((BA$244+BB$244)*1000* Data!$B$7)),0 ),  0)","v":0},163,"",{"$f":"IF(A186<>\"\",IF(F186=\"Nej\", (Data!$B$129*Data!$B$5*1000*Data!$B$3)/Data!$B$6,  0 ),\"\")","v":""},"","",{"$f":"IF(A186<>\"\",IF(BH186>0,  IF(BE186=\"Nej\",    (Data!$B$8-BH186)/Data!$B$8,  ROUND( (Data!$B$8-BH186)/Data!$B$8,2)),      \"\"),\"\")","v":""},"","","","",{"$f":"IF(A186<>\"\", IF(H186=\"Flytande\",   IF(BM186>0,  IF(BE186=\"Nej\",  (Data!$B$8-BM186)/Data!$B$8,  ROUND( (Data!$B$8-BM186)/Data!$B$8,2)   ), \"\"), \"\"),\"\")","v":""},"",163,"","","",null,""]
[null,164,null,null,null,null,null,null,null,null,null,null,null,null,{"$f":"IF(AND($A187<>\"\",(M187+N187)>0), IF($F187=\"Nej\",    IF(N$13=\"Nm3\",(O$12*1000*1000/((M$242+N$242+M$243+N$243)*1000*  $J187 * Data!$B$6)),  (O$12*1000*1000/(((M$242+N$242+M$243+N$243)/Denscalc($J187))*1000*  $J187 * Data!$B$6)) ), 0     ),  0)","v":0},164,null,null,{"$f":"IF(AND($A187<>\"\",(Q187+R187)>0), IF($F187=\"Nej\",    IF(R$13=\"Nm3\",(S$12*1000*1000/((Q$242+R$242+Q$243+R$243)*1000*  $J187 * Data!$B$6)),  (S$12*1000*1000/(((Q$242+R$242+Q$243+R$243)/Denscalc($J187))*1000*  $J187 * Data!$B$6)) ), 0     ),  0)","v":0},164,null,null,{"$f":"IF(AND($A187<>\"\",(U187+V187)>0), IF($F187=\"Nej\",    IF(V$13=\"Nm3\",(W$12*1000*1000/((U$242+V$242+U$243+V$243)*1000*  $J187 * Data!$B$6)),  (W$12*1000*1000/(((U$242+V$242+U$243+V$243)/Denscalc($J187))*1000*  $J187 * Data!$B$6)) ), 0     ),  0)","v":0},164,null,null,{"$f":"IF(AND($A187<>\"\",(Y187+Z187)>0), IF($F187=\"Nej\",    IF(Z$13=\"Nm3\",(AA$12*1000*1000/((Y$242+Z$242+Y$243+Z$243)*1000*  $J187 * Data!$B$6)),  (AA$12*1000*1000/(((Y$242+Z$242+Y$243+Z$243)/Denscalc($J187))*1000*  $J187 * Data!$B$6)) ), 0     ),  0)","v":0},164,null,null,{"$f":"IF(AND($A187<>\"\",(AC187+AD187)>0), IF($F187=\"Nej\",    IF(AD$13=\"Nm3\",(AE$12*1000*1000/((AC$242+AD$242+AC$243+AD$243)*1000*  $J187 * Data!$B$6)),  (AE$12*1000*1000/(((AC$242+AD$242+AC$243+AD$243)/Denscalc($J187))*1000*  $J187 * Data!$B$6)) ), 0     ),  0)","v":0},164,null,null,{"$f":"IF(AND($A187<>\"\",(AG187+AH187)>0), IF($F187=\"Nej\",    IF(AH$13=\"Nm3\",(AI$12*1000*1000/((AG$242+AH$242+AG$243+AH$243)*1000*  $J187 * Data!$B$6)),  (AI$12*1000*1000/(((AG$242+AH$242+AG$243+AH$243)/Denscalc($J187))*1000*  $J187 * Data!$B$6)) ), 0     ),  0)","v":0},164,null,null,{"$f":"IF(AND($A187<>\"\",(AK187+AL187)>0), IF($F187=\"Nej\",    IF(AL$13=\"Nm3\",(AM$12*1000*1000/((AK$242+AL$242+AK$243+AL$243)*1000*  $J187 * Data!$B$6)),  (AM$12*1000*1000/(((AK$242+AL$242+AK$243+AL$243)/Denscalc($J187))*1000*  $J187 * Data!$B$6)) ), 0     ),  0)","v":0},164,null,null,{"$f":"IF(AND($A187<>\"\",(AO187+AP187)>0), IF($F187=\"Nej\",    IF(AP$13=\"Nm3\",(AQ$12*1000*1000/((AO$242+AP$242+AO$243+AP$243)*1000*  $J187 * Data!$B$6)),  (AQ$12*1000*1000/(((AO$242+AP$242+AO$243+AP$243)/Denscalc($J187))*1000*  $J187 * Data!$B$6)) ), 0     ),  0)","v":0},164,null,null,{"$f":"IF(AND($A187<>\"\",(AS187+AT187)>0), IF($F187=\"Nej\",    IF(AT$13=\"Nm3\",(AU$12*1000*1000/((AS$242+AT$242+AS$243+AT$243)*1000*  $J187 * Data!$B$6)),  (AU$12*1000*1000/(((AS$242+AT$242+AS$243+AT$243)/Denscalc($J187))*1000*  $J187 * Data!$B$6)) ), 0     ),  0)","v":0},164,null,null,{"$f":"IF(AND($A187<>\"\",(AW187+AX187)>0), IF($F187=\"Nej\",\nIF(AX$13=\"Nm3\",(AY$12*1000*1000/((AW$242+AX$242+AW$243+AX$243-AW$240-AX$240)*1000*  $J187 * Data!$B$6))+(AY$6*1000*1000/((AW$242+AX$242+AW$243+AX$243)*1000*  $J187 * Data!$B$6)),\n (AY$12*1000*1000/(((AW$242+AX$242+AW$243+AX$243-AW$240-AX$240)/Denscalc($J187))*1000*  $J187 * Data!$B$6))  +  (AY$6*1000*1000/(((AW$242+AX$242+AW$243+AX$243)/Denscalc($J187))*1000*  $J187 * Data!$B$6)) ), 0     ),  0)","v":0},164,null,null,{"$f":"IF(AND($A187<>\"\",(BA187+BB187)>0), IF($F187=\"Nej\",\n (BC$12*1000*1000/((BA$244+BB$244-BA$240-BB$240)*1000* Data!$B$7))+ (BC$6*1000*1000/((BA$244+BB$244)*1000* Data!$B$7)),0 ),  0)","v":0},164,"",{"$f":"IF(A187<>\"\",IF(F187=\"Nej\", (Data!$B$129*Data!$B$5*1000*Data!$B$3)/Data!$B$6,  0 ),\"\")","v":""},"","",{"$f":"IF(A187<>\"\",IF(BH187>0,  IF(BE187=\"Nej\",    (Data!$B$8-BH187)/Data!$B$8,  ROUND( (Data!$B$8-BH187)/Data!$B$8,2)),      \"\"),\"\")","v":""},"","","","",{"$f":"IF(A187<>\"\", IF(H187=\"Flytande\",   IF(BM187>0,  IF(BE187=\"Nej\",  (Data!$B$8-BM187)/Data!$B$8,  ROUND( (Data!$B$8-BM187)/Data!$B$8,2)   ), \"\"), \"\"),\"\")","v":""},"",164,"","","",null,""]
[null,165,null,null,null,null,null,null,null,null,null,null,null,null,{"$f":"IF(AND($A188<>\"\",(M188+N188)>0), IF($F188=\"Nej\",    IF(N$13=\"Nm3\",(O$12*1000*1000/((M$242+N$242+M$243+N$243)*1000*  $J188 * Data!$B$6)),  (O$12*1000*1000/(((M$242+N$242+M$243+N$243)/Denscalc($J188))*1000*  $J188 * Data!$B$6)) ), 0     ),  0)","v":0},165,null,null,{"$f":"IF(AND($A188<>\"\",(Q188+R188)>0), IF($F188=\"Nej\",    IF(R$13=\"Nm3\",(S$12*1000*1000/((Q$242+R$242+Q$243+R$243)*1000*  $J188 * Data!$B$6)),  (S$12*1000*1000/(((Q$242+R$242+Q$243+R$243)/Denscalc($J188))*1000*  $J188 * Data!$B$6)) ), 0     ),  0)","v":0},165,null,null,{"$f":"IF(AND($A188<>\"\",(U188+V188)>0), IF($F188=\"Nej\",    IF(V$13=\"Nm3\",(W$12*1000*1000/((U$242+V$242+U$243+V$243)*1000*  $J188 * Data!$B$6)),  (W$12*1000*1000/(((U$242+V$242+U$243+V$243)/Denscalc($J188))*1000*  $J188 * Data!$B$6)) ), 0     ),  0)","v":0},165,null,null,{"$f":"IF(AND($A188<>\"\",(Y188+Z188)>0), IF($F188=\"Nej\",    IF(Z$13=\"Nm3\",(AA$12*1000*1000/((Y$242+Z$242+Y$243+Z$243)*1000*  $J188 * Data!$B$6)),  (AA$12*1000*1000/(((Y$242+Z$242+Y$243+Z$243)/Denscalc($J188))*1000*  $J188 * Data!$B$6)) ), 0     ),  0)","v":0},165,null,null,{"$f":"IF(AND($A188<>\"\",(AC188+AD188)>0), IF($F188=\"Nej\",    IF(AD$13=\"Nm3\",(AE$12*1000*1000/((AC$242+AD$242+AC$243+AD$243)*1000*  $J188 * Data!$B$6)),  (AE$12*1000*1000/(((AC$242+AD$242+AC$243+AD$243)/Denscalc($J188))*1000*  $J188 * Data!$B$6)) ), 0     ),  0)","v":0},165,null,null,{"$f":"IF(AND($A188<>\"\",(AG188+AH188)>0), IF($F188=\"Nej\",    IF(AH$13=\"Nm3\",(AI$12*1000*1000/((AG$242+AH$242+AG$243+AH$243)*1000*  $J188 * Data!$B$6)),  (AI$12*1000*1000/(((AG$242+AH$242+AG$243+AH$243)/Denscalc($J188))*1000*  $J188 * Data!$B$6)) ), 0     ),  0)","v":0},165,null,null,{"$f":"IF(AND($A188<>\"\",(AK188+AL188)>0), IF($F188=\"Nej\",    IF(AL$13=\"Nm3\",(AM$12*1000*1000/((AK$242+AL$242+AK$243+AL$243)*1000*  $J188 * Data!$B$6)),  (AM$12*1000*1000/(((AK$242+AL$242+AK$243+AL$243)/Denscalc($J188))*1000*  $J188 * Data!$B$6)) ), 0     ),  0)","v":0},165,null,null,{"$f":"IF(AND($A188<>\"\",(AO188+AP188)>0), IF($F188=\"Nej\",    IF(AP$13=\"Nm3\",(AQ$12*1000*1000/((AO$242+AP$242+AO$243+AP$243)*1000*  $J188 * Data!$B$6)),  (AQ$12*1000*1000/(((AO$242+AP$242+AO$243+AP$243)/Denscalc($J188))*1000*  $J188 * Data!$B$6)) ), 0     ),  0)","v":0},165,null,null,{"$f":"IF(AND($A188<>\"\",(AS188+AT188)>0), IF($F188=\"Nej\",    IF(AT$13=\"Nm3\",(AU$12*1000*1000/((AS$242+AT$242+AS$243+AT$243)*1000*  $J188 * Data!$B$6)),  (AU$12*1000*1000/(((AS$242+AT$242+AS$243+AT$243)/Denscalc($J188))*1000*  $J188 * Data!$B$6)) ), 0     ),  0)","v":0},165,null,null,{"$f":"IF(AND($A188<>\"\",(AW188+AX188)>0), IF($F188=\"Nej\",\nIF(AX$13=\"Nm3\",(AY$12*1000*1000/((AW$242+AX$242+AW$243+AX$243-AW$240-AX$240)*1000*  $J188 * Data!$B$6))+(AY$6*1000*1000/((AW$242+AX$242+AW$243+AX$243)*1000*  $J188 * Data!$B$6)),\n (AY$12*1000*1000/(((AW$242+AX$242+AW$243+AX$243-AW$240-AX$240)/Denscalc($J188))*1000*  $J188 * Data!$B$6))  +  (AY$6*1000*1000/(((AW$242+AX$242+AW$243+AX$243)/Denscalc($J188))*1000*  $J188 * Data!$B$6)) ), 0     ),  0)","v":0},165,null,null,{"$f":"IF(AND($A188<>\"\",(BA188+BB188)>0), IF($F188=\"Nej\",\n (BC$12*1000*1000/((BA$244+BB$244-BA$240-BB$240)*1000* Data!$B$7))+ (BC$6*1000*1000/((BA$244+BB$244)*1000* Data!$B$7)),0 ),  0)","v":0},165,"",{"$f":"IF(A188<>\"\",IF(F188=\"Nej\", (Data!$B$129*Data!$B$5*1000*Data!$B$3)/Data!$B$6,  0 ),\"\")","v":""},"","",{"$f":"IF(A188<>\"\",IF(BH188>0,  IF(BE188=\"Nej\",    (Data!$B$8-BH188)/Data!$B$8,  ROUND( (Data!$B$8-BH188)/Data!$B$8,2)),      \"\"),\"\")","v":""},"","","","",{"$f":"IF(A188<>\"\", IF(H188=\"Flytande\",   IF(BM188>0,  IF(BE188=\"Nej\",  (Data!$B$8-BM188)/Data!$B$8,  ROUND( (Data!$B$8-BM188)/Data!$B$8,2)   ), \"\"), \"\"),\"\")","v":""},"",165,"","","",null,""]
[null,166,null,null,null,null,null,null,null,null,null,null,null,null,{"$f":"IF(AND($A189<>\"\",(M189+N189)>0), IF($F189=\"Nej\",    IF(N$13=\"Nm3\",(O$12*1000*1000/((M$242+N$242+M$243+N$243)*1000*  $J189 * Data!$B$6)),  (O$12*1000*1000/(((M$242+N$242+M$243+N$243)/Denscalc($J189))*1000*  $J189 * Data!$B$6)) ), 0     ),  0)","v":0},166,null,null,{"$f":"IF(AND($A189<>\"\",(Q189+R189)>0), IF($F189=\"Nej\",    IF(R$13=\"Nm3\",(S$12*1000*1000/((Q$242+R$242+Q$243+R$243)*1000*  $J189 * Data!$B$6)),  (S$12*1000*1000/(((Q$242+R$242+Q$243+R$243)/Denscalc($J189))*1000*  $J189 * Data!$B$6)) ), 0     ),  0)","v":0},166,null,null,{"$f":"IF(AND($A189<>\"\",(U189+V189)>0), IF($F189=\"Nej\",    IF(V$13=\"Nm3\",(W$12*1000*1000/((U$242+V$242+U$243+V$243)*1000*  $J189 * Data!$B$6)),  (W$12*1000*1000/(((U$242+V$242+U$243+V$243)/Denscalc($J189))*1000*  $J189 * Data!$B$6)) ), 0     ),  0)","v":0},166,null,null,{"$f":"IF(AND($A189<>\"\",(Y189+Z189)>0), IF($F189=\"Nej\",    IF(Z$13=\"Nm3\",(AA$12*1000*1000/((Y$242+Z$242+Y$243+Z$243)*1000*  $J189 * Data!$B$6)),  (AA$12*1000*1000/(((Y$242+Z$242+Y$243+Z$243)/Denscalc($J189))*1000*  $J189 * Data!$B$6)) ), 0     ),  0)","v":0},166,null,null,{"$f":"IF(AND($A189<>\"\",(AC189+AD189)>0), IF($F189=\"Nej\",    IF(AD$13=\"Nm3\",(AE$12*1000*1000/((AC$242+AD$242+AC$243+AD$243)*1000*  $J189 * Data!$B$6)),  (AE$12*1000*1000/(((AC$242+AD$242+AC$243+AD$243)/Denscalc($J189))*1000*  $J189 * Data!$B$6)) ), 0     ),  0)","v":0},166,null,null,{"$f":"IF(AND($A189<>\"\",(AG189+AH189)>0), IF($F189=\"Nej\",    IF(AH$13=\"Nm3\",(AI$12*1000*1000/((AG$242+AH$242+AG$243+AH$243)*1000*  $J189 * Data!$B$6)),  (AI$12*1000*1000/(((AG$242+AH$242+AG$243+AH$243)/Denscalc($J189))*1000*  $J189 * Data!$B$6)) ), 0     ),  0)","v":0},166,null,null,{"$f":"IF(AND($A189<>\"\",(AK189+AL189)>0), IF($F189=\"Nej\",    IF(AL$13=\"Nm3\",(AM$12*1000*1000/((AK$242+AL$242+AK$243+AL$243)*1000*  $J189 * Data!$B$6)),  (AM$12*1000*1000/(((AK$242+AL$242+AK$243+AL$243)/Denscalc($J189))*1000*  $J189 * Data!$B$6)) ), 0     ),  0)","v":0},166,null,null,{"$f":"IF(AND($A189<>\"\",(AO189+AP189)>0), IF($F189=\"Nej\",    IF(AP$13=\"Nm3\",(AQ$12*1000*1000/((AO$242+AP$242+AO$243+AP$243)*1000*  $J189 * Data!$B$6)),  (AQ$12*1000*1000/(((AO$242+AP$242+AO$243+AP$243)/Denscalc($J189))*1000*  $J189 * Data!$B$6)) ), 0     ),  0)","v":0},166,null,null,{"$f":"IF(AND($A189<>\"\",(AS189+AT189)>0), IF($F189=\"Nej\",    IF(AT$13=\"Nm3\",(AU$12*1000*1000/((AS$242+AT$242+AS$243+AT$243)*1000*  $J189 * Data!$B$6)),  (AU$12*1000*1000/(((AS$242+AT$242+AS$243+AT$243)/Denscalc($J189))*1000*  $J189 * Data!$B$6)) ), 0     ),  0)","v":0},166,null,null,{"$f":"IF(AND($A189<>\"\",(AW189+AX189)>0), IF($F189=\"Nej\",\nIF(AX$13=\"Nm3\",(AY$12*1000*1000/((AW$242+AX$242+AW$243+AX$243-AW$240-AX$240)*1000*  $J189 * Data!$B$6))+(AY$6*1000*1000/((AW$242+AX$242+AW$243+AX$243)*1000*  $J189 * Data!$B$6)),\n (AY$12*1000*1000/(((AW$242+AX$242+AW$243+AX$243-AW$240-AX$240)/Denscalc($J189))*1000*  $J189 * Data!$B$6))  +  (AY$6*1000*1000/(((AW$242+AX$242+AW$243+AX$243)/Denscalc($J189))*1000*  $J189 * Data!$B$6)) ), 0     ),  0)","v":0},166,null,null,{"$f":"IF(AND($A189<>\"\",(BA189+BB189)>0), IF($F189=\"Nej\",\n (BC$12*1000*1000/((BA$244+BB$244-BA$240-BB$240)*1000* Data!$B$7))+ (BC$6*1000*1000/((BA$244+BB$244)*1000* Data!$B$7)),0 ),  0)","v":0},166,"",{"$f":"IF(A189<>\"\",IF(F189=\"Nej\", (Data!$B$129*Data!$B$5*1000*Data!$B$3)/Data!$B$6,  0 ),\"\")","v":""},"","",{"$f":"IF(A189<>\"\",IF(BH189>0,  IF(BE189=\"Nej\",    (Data!$B$8-BH189)/Data!$B$8,  ROUND( (Data!$B$8-BH189)/Data!$B$8,2)),      \"\"),\"\")","v":""},"","","","",{"$f":"IF(A189<>\"\", IF(H189=\"Flytande\",   IF(BM189>0,  IF(BE189=\"Nej\",  (Data!$B$8-BM189)/Data!$B$8,  ROUND( (Data!$B$8-BM189)/Data!$B$8,2)   ), \"\"), \"\"),\"\")","v":""},"",166,"","","",null,""]
[null,167,null,null,null,null,null,null,null,null,null,null,null,null,{"$f":"IF(AND($A190<>\"\",(M190+N190)>0), IF($F190=\"Nej\",    IF(N$13=\"Nm3\",(O$12*1000*1000/((M$242+N$242+M$243+N$243)*1000*  $J190 * Data!$B$6)),  (O$12*1000*1000/(((M$242+N$242+M$243+N$243)/Denscalc($J190))*1000*  $J190 * Data!$B$6)) ), 0     ),  0)","v":0},167,null,null,{"$f":"IF(AND($A190<>\"\",(Q190+R190)>0), IF($F190=\"Nej\",    IF(R$13=\"Nm3\",(S$12*1000*1000/((Q$242+R$242+Q$243+R$243)*1000*  $J190 * Data!$B$6)),  (S$12*1000*1000/(((Q$242+R$242+Q$243+R$243)/Denscalc($J190))*1000*  $J190 * Data!$B$6)) ), 0     ),  0)","v":0},167,null,null,{"$f":"IF(AND($A190<>\"\",(U190+V190)>0), IF($F190=\"Nej\",    IF(V$13=\"Nm3\",(W$12*1000*1000/((U$242+V$242+U$243+V$243)*1000*  $J190 * Data!$B$6)),  (W$12*1000*1000/(((U$242+V$242+U$243+V$243)/Denscalc($J190))*1000*  $J190 * Data!$B$6)) ), 0     ),  0)","v":0},167,null,null,{"$f":"IF(AND($A190<>\"\",(Y190+Z190)>0), IF($F190=\"Nej\",    IF(Z$13=\"Nm3\",(AA$12*1000*1000/((Y$242+Z$242+Y$243+Z$243)*1000*  $J190 * Data!$B$6)),  (AA$12*1000*1000/(((Y$242+Z$242+Y$243+Z$243)/Denscalc($J190))*1000*  $J190 * Data!$B$6)) ), 0     ),  0)","v":0},167,null,null,{"$f":"IF(AND($A190<>\"\",(AC190+AD190)>0), IF($F190=\"Nej\",    IF(AD$13=\"Nm3\",(AE$12*1000*1000/((AC$242+AD$242+AC$243+AD$243)*1000*  $J190 * Data!$B$6)),  (AE$12*1000*1000/(((AC$242+AD$242+AC$243+AD$243)/Denscalc($J190))*1000*  $J190 * Data!$B$6)) ), 0     ),  0)","v":0},167,null,null,{"$f":"IF(AND($A190<>\"\",(AG190+AH190)>0), IF($F190=\"Nej\",    IF(AH$13=\"Nm3\",(AI$12*1000*1000/((AG$242+AH$242+AG$243+AH$243)*1000*  $J190 * Data!$B$6)),  (AI$12*1000*1000/(((AG$242+AH$242+AG$243+AH$243)/Denscalc($J190))*1000*  $J190 * Data!$B$6)) ), 0     ),  0)","v":0},167,null,null,{"$f":"IF(AND($A190<>\"\",(AK190+AL190)>0), IF($F190=\"Nej\",    IF(AL$13=\"Nm3\",(AM$12*1000*1000/((AK$242+AL$242+AK$243+AL$243)*1000*  $J190 * Data!$B$6)),  (AM$12*1000*1000/(((AK$242+AL$242+AK$243+AL$243)/Denscalc($J190))*1000*  $J190 * Data!$B$6)) ), 0     ),  0)","v":0},167,null,null,{"$f":"IF(AND($A190<>\"\",(AO190+AP190)>0), IF($F190=\"Nej\",    IF(AP$13=\"Nm3\",(AQ$12*1000*1000/((AO$242+AP$242+AO$243+AP$243)*1000*  $J190 * Data!$B$6)),  (AQ$12*1000*1000/(((AO$242+AP$242+AO$243+AP$243)/Denscalc($J190))*1000*  $J190 * Data!$B$6)) ), 0     ),  0)","v":0},167,null,null,{"$f":"IF(AND($A190<>\"\",(AS190+AT190)>0), IF($F190=\"Nej\",    IF(AT$13=\"Nm3\",(AU$12*1000*1000/((AS$242+AT$242+AS$243+AT$243)*1000*  $J190 * Data!$B$6)),  (AU$12*1000*1000/(((AS$242+AT$242+AS$243+AT$243)/Denscalc($J190))*1000*  $J190 * Data!$B$6)) ), 0     ),  0)","v":0},167,null,null,{"$f":"IF(AND($A190<>\"\",(AW190+AX190)>0), IF($F190=\"Nej\",\nIF(AX$13=\"Nm3\",(AY$12*1000*1000/((AW$242+AX$242+AW$243+AX$243-AW$240-AX$240)*1000*  $J190 * Data!$B$6))+(AY$6*1000*1000/((AW$242+AX$242+AW$243+AX$243)*1000*  $J190 * Data!$B$6)),\n (AY$12*1000*1000/(((AW$242+AX$242+AW$243+AX$243-AW$240-AX$240)/Denscalc($J190))*1000*  $J190 * Data!$B$6))  +  (AY$6*1000*1000/(((AW$242+AX$242+AW$243+AX$243)/Denscalc($J190))*1000*  $J190 * Data!$B$6)) ), 0     ),  0)","v":0},167,null,null,{"$f":"IF(AND($A190<>\"\",(BA190+BB190)>0), IF($F190=\"Nej\",\n (BC$12*1000*1000/((BA$244+BB$244-BA$240-BB$240)*1000* Data!$B$7))+ (BC$6*1000*1000/((BA$244+BB$244)*1000* Data!$B$7)),0 ),  0)","v":0},167,"",{"$f":"IF(A190<>\"\",IF(F190=\"Nej\", (Data!$B$129*Data!$B$5*1000*Data!$B$3)/Data!$B$6,  0 ),\"\")","v":""},"","",{"$f":"IF(A190<>\"\",IF(BH190>0,  IF(BE190=\"Nej\",    (Data!$B$8-BH190)/Data!$B$8,  ROUND( (Data!$B$8-BH190)/Data!$B$8,2)),      \"\"),\"\")","v":""},"","","","",{"$f":"IF(A190<>\"\", IF(H190=\"Flytande\",   IF(BM190>0,  IF(BE190=\"Nej\",  (Data!$B$8-BM190)/Data!$B$8,  ROUND( (Data!$B$8-BM190)/Data!$B$8,2)   ), \"\"), \"\"),\"\")","v":""},"",167,"","","",null,""]
[null,168,null,null,null,null,null,null,null,null,null,null,null,null,{"$f":"IF(AND($A191<>\"\",(M191+N191)>0), IF($F191=\"Nej\",    IF(N$13=\"Nm3\",(O$12*1000*1000/((M$242+N$242+M$243+N$243)*1000*  $J191 * Data!$B$6)),  (O$12*1000*1000/(((M$242+N$242+M$243+N$243)/Denscalc($J191))*1000*  $J191 * Data!$B$6)) ), 0     ),  0)","v":0},168,null,null,{"$f":"IF(AND($A191<>\"\",(Q191+R191)>0), IF($F191=\"Nej\",    IF(R$13=\"Nm3\",(S$12*1000*1000/((Q$242+R$242+Q$243+R$243)*1000*  $J191 * Data!$B$6)),  (S$12*1000*1000/(((Q$242+R$242+Q$243+R$243)/Denscalc($J191))*1000*  $J191 * Data!$B$6)) ), 0     ),  0)","v":0},168,null,null,{"$f":"IF(AND($A191<>\"\",(U191+V191)>0), IF($F191=\"Nej\",    IF(V$13=\"Nm3\",(W$12*1000*1000/((U$242+V$242+U$243+V$243)*1000*  $J191 * Data!$B$6)),  (W$12*1000*1000/(((U$242+V$242+U$243+V$243)/Denscalc($J191))*1000*  $J191 * Data!$B$6)) ), 0     ),  0)","v":0},168,null,null,{"$f":"IF(AND($A191<>\"\",(Y191+Z191)>0), IF($F191=\"Nej\",    IF(Z$13=\"Nm3\",(AA$12*1000*1000/((Y$242+Z$242+Y$243+Z$243)*1000*  $J191 * Data!$B$6)),  (AA$12*1000*1000/(((Y$242+Z$242+Y$243+Z$243)/Denscalc($J191))*1000*  $J191 * Data!$B$6)) ), 0     ),  0)","v":0},168,null,null,{"$f":"IF(AND($A191<>\"\",(AC191+AD191)>0), IF($F191=\"Nej\",    IF(AD$13=\"Nm3\",(AE$12*1000*1000/((AC$242+AD$242+AC$243+AD$243)*1000*  $J191 * Data!$B$6)),  (AE$12*1000*1000/(((AC$242+AD$242+AC$243+AD$243)/Denscalc($J191))*1000*  $J191 * Data!$B$6)) ), 0     ),  0)","v":0},168,null,null,{"$f":"IF(AND($A191<>\"\",(AG191+AH191)>0), IF($F191=\"Nej\",    IF(AH$13=\"Nm3\",(AI$12*1000*1000/((AG$242+AH$242+AG$243+AH$243)*1000*  $J191 * Data!$B$6)),  (AI$12*1000*1000/(((AG$242+AH$242+AG$243+AH$243)/Denscalc($J191))*1000*  $J191 * Data!$B$6)) ), 0     ),  0)","v":0},168,null,null,{"$f":"IF(AND($A191<>\"\",(AK191+AL191)>0), IF($F191=\"Nej\",    IF(AL$13=\"Nm3\",(AM$12*1000*1000/((AK$242+AL$242+AK$243+AL$243)*1000*  $J191 * Data!$B$6)),  (AM$12*1000*1000/(((AK$242+AL$242+AK$243+AL$243)/Denscalc($J191))*1000*  $J191 * Data!$B$6)) ), 0     ),  0)","v":0},168,null,null,{"$f":"IF(AND($A191<>\"\",(AO191+AP191)>0), IF($F191=\"Nej\",    IF(AP$13=\"Nm3\",(AQ$12*1000*1000/((AO$242+AP$242+AO$243+AP$243)*1000*  $J191 * Data!$B$6)),  (AQ$12*1000*1000/(((AO$242+AP$242+AO$243+AP$243)/Denscalc($J191))*1000*  $J191 * Data!$B$6)) ), 0     ),  0)","v":0},168,null,null,{"$f":"IF(AND($A191<>\"\",(AS191+AT191)>0), IF($F191=\"Nej\",    IF(AT$13=\"Nm3\",(AU$12*1000*1000/((AS$242+AT$242+AS$243+AT$243)*1000*  $J191 * Data!$B$6)),  (AU$12*1000*1000/(((AS$242+AT$242+AS$243+AT$243)/Denscalc($J191))*1000*  $J191 * Data!$B$6)) ), 0     ),  0)","v":0},168,null,null,{"$f":"IF(AND($A191<>\"\",(AW191+AX191)>0), IF($F191=\"Nej\",\nIF(AX$13=\"Nm3\",(AY$12*1000*1000/((AW$242+AX$242+AW$243+AX$243-AW$240-AX$240)*1000*  $J191 * Data!$B$6))+(AY$6*1000*1000/((AW$242+AX$242+AW$243+AX$243)*1000*  $J191 * Data!$B$6)),\n (AY$12*1000*1000/(((AW$242+AX$242+AW$243+AX$243-AW$240-AX$240)/Denscalc($J191))*1000*  $J191 * Data!$B$6))  +  (AY$6*1000*1000/(((AW$242+AX$242+AW$243+AX$243)/Denscalc($J191))*1000*  $J191 * Data!$B$6)) ), 0     ),  0)","v":0},168,null,null,{"$f":"IF(AND($A191<>\"\",(BA191+BB191)>0), IF($F191=\"Nej\",\n (BC$12*1000*1000/((BA$244+BB$244-BA$240-BB$240)*1000* Data!$B$7))+ (BC$6*1000*1000/((BA$244+BB$244)*1000* Data!$B$7)),0 ),  0)","v":0},168,"",{"$f":"IF(A191<>\"\",IF(F191=\"Nej\", (Data!$B$129*Data!$B$5*1000*Data!$B$3)/Data!$B$6,  0 ),\"\")","v":""},"","",{"$f":"IF(A191<>\"\",IF(BH191>0,  IF(BE191=\"Nej\",    (Data!$B$8-BH191)/Data!$B$8,  ROUND( (Data!$B$8-BH191)/Data!$B$8,2)),      \"\"),\"\")","v":""},"","","","",{"$f":"IF(A191<>\"\", IF(H191=\"Flytande\",   IF(BM191>0,  IF(BE191=\"Nej\",  (Data!$B$8-BM191)/Data!$B$8,  ROUND( (Data!$B$8-BM191)/Data!$B$8,2)   ), \"\"), \"\"),\"\")","v":""},"",168,"","","",null,""]
[null,169,null,null,null,null,null,null,null,null,null,null,null,null,{"$f":"IF(AND($A192<>\"\",(M192+N192)>0), IF($F192=\"Nej\",    IF(N$13=\"Nm3\",(O$12*1000*1000/((M$242+N$242+M$243+N$243)*1000*  $J192 * Data!$B$6)),  (O$12*1000*1000/(((M$242+N$242+M$243+N$243)/Denscalc($J192))*1000*  $J192 * Data!$B$6)) ), 0     ),  0)","v":0},169,null,null,{"$f":"IF(AND($A192<>\"\",(Q192+R192)>0), IF($F192=\"Nej\",    IF(R$13=\"Nm3\",(S$12*1000*1000/((Q$242+R$242+Q$243+R$243)*1000*  $J192 * Data!$B$6)),  (S$12*1000*1000/(((Q$242+R$242+Q$243+R$243)/Denscalc($J192))*1000*  $J192 * Data!$B$6)) ), 0     ),  0)","v":0},169,null,null,{"$f":"IF(AND($A192<>\"\",(U192+V192)>0), IF($F192=\"Nej\",    IF(V$13=\"Nm3\",(W$12*1000*1000/((U$242+V$242+U$243+V$243)*1000*  $J192 * Data!$B$6)),  (W$12*1000*1000/(((U$242+V$242+U$243+V$243)/Denscalc($J192))*1000*  $J192 * Data!$B$6)) ), 0     ),  0)","v":0},169,null,null,{"$f":"IF(AND($A192<>\"\",(Y192+Z192)>0), IF($F192=\"Nej\",    IF(Z$13=\"Nm3\",(AA$12*1000*1000/((Y$242+Z$242+Y$243+Z$243)*1000*  $J192 * Data!$B$6)),  (AA$12*1000*1000/(((Y$242+Z$242+Y$243+Z$243)/Denscalc($J192))*1000*  $J192 * Data!$B$6)) ), 0     ),  0)","v":0},169,null,null,{"$f":"IF(AND($A192<>\"\",(AC192+AD192)>0), IF($F192=\"Nej\",    IF(AD$13=\"Nm3\",(AE$12*1000*1000/((AC$242+AD$242+AC$243+AD$243)*1000*  $J192 * Data!$B$6)),  (AE$12*1000*1000/(((AC$242+AD$242+AC$243+AD$243)/Denscalc($J192))*1000*  $J192 * Data!$B$6)) ), 0     ),  0)","v":0},169,null,null,{"$f":"IF(AND($A192<>\"\",(AG192+AH192)>0), IF($F192=\"Nej\",    IF(AH$13=\"Nm3\",(AI$12*1000*1000/((AG$242+AH$242+AG$243+AH$243)*1000*  $J192 * Data!$B$6)),  (AI$12*1000*1000/(((AG$242+AH$242+AG$243+AH$243)/Denscalc($J192))*1000*  $J192 * Data!$B$6)) ), 0     ),  0)","v":0},169,null,null,{"$f":"IF(AND($A192<>\"\",(AK192+AL192)>0), IF($F192=\"Nej\",    IF(AL$13=\"Nm3\",(AM$12*1000*1000/((AK$242+AL$242+AK$243+AL$243)*1000*  $J192 * Data!$B$6)),  (AM$12*1000*1000/(((AK$242+AL$242+AK$243+AL$243)/Denscalc($J192))*1000*  $J192 * Data!$B$6)) ), 0     ),  0)","v":0},169,null,null,{"$f":"IF(AND($A192<>\"\",(AO192+AP192)>0), IF($F192=\"Nej\",    IF(AP$13=\"Nm3\",(AQ$12*1000*1000/((AO$242+AP$242+AO$243+AP$243)*1000*  $J192 * Data!$B$6)),  (AQ$12*1000*1000/(((AO$242+AP$242+AO$243+AP$243)/Denscalc($J192))*1000*  $J192 * Data!$B$6)) ), 0     ),  0)","v":0},169,null,null,{"$f":"IF(AND($A192<>\"\",(AS192+AT192)>0), IF($F192=\"Nej\",    IF(AT$13=\"Nm3\",(AU$12*1000*1000/((AS$242+AT$242+AS$243+AT$243)*1000*  $J192 * Data!$B$6)),  (AU$12*1000*1000/(((AS$242+AT$242+AS$243+AT$243)/Denscalc($J192))*1000*  $J192 * Data!$B$6)) ), 0     ),  0)","v":0},169,null,null,{"$f":"IF(AND($A192<>\"\",(AW192+AX192)>0), IF($F192=\"Nej\",\nIF(AX$13=\"Nm3\",(AY$12*1000*1000/((AW$242+AX$242+AW$243+AX$243-AW$240-AX$240)*1000*  $J192 * Data!$B$6))+(AY$6*1000*1000/((AW$242+AX$242+AW$243+AX$243)*1000*  $J192 * Data!$B$6)),\n (AY$12*1000*1000/(((AW$242+AX$242+AW$243+AX$243-AW$240-AX$240)/Denscalc($J192))*1000*  $J192 * Data!$B$6))  +  (AY$6*1000*1000/(((AW$242+AX$242+AW$243+AX$243)/Denscalc($J192))*1000*  $J192 * Data!$B$6)) ), 0     ),  0)","v":0},169,null,null,{"$f":"IF(AND($A192<>\"\",(BA192+BB192)>0), IF($F192=\"Nej\",\n (BC$12*1000*1000/((BA$244+BB$244-BA$240-BB$240)*1000* Data!$B$7))+ (BC$6*1000*1000/((BA$244+BB$244)*1000* Data!$B$7)),0 ),  0)","v":0},169,"",{"$f":"IF(A192<>\"\",IF(F192=\"Nej\", (Data!$B$129*Data!$B$5*1000*Data!$B$3)/Data!$B$6,  0 ),\"\")","v":""},"","",{"$f":"IF(A192<>\"\",IF(BH192>0,  IF(BE192=\"Nej\",    (Data!$B$8-BH192)/Data!$B$8,  ROUND( (Data!$B$8-BH192)/Data!$B$8,2)),      \"\"),\"\")","v":""},"","","","",{"$f":"IF(A192<>\"\", IF(H192=\"Flytande\",   IF(BM192>0,  IF(BE192=\"Nej\",  (Data!$B$8-BM192)/Data!$B$8,  ROUND( (Data!$B$8-BM192)/Data!$B$8,2)   ), \"\"), \"\"),\"\")","v":""},"",169,"","","",null,""]
[null,170,null,null,null,null,null,null,null,null,null,null,null,null,{"$f":"IF(AND($A193<>\"\",(M193+N193)>0), IF($F193=\"Nej\",    IF(N$13=\"Nm3\",(O$12*1000*1000/((M$242+N$242+M$243+N$243)*1000*  $J193 * Data!$B$6)),  (O$12*1000*1000/(((M$242+N$242+M$243+N$243)/Denscalc($J193))*1000*  $J193 * Data!$B$6)) ), 0     ),  0)","v":0},170,null,null,{"$f":"IF(AND($A193<>\"\",(Q193+R193)>0), IF($F193=\"Nej\",    IF(R$13=\"Nm3\",(S$12*1000*1000/((Q$242+R$242+Q$243+R$243)*1000*  $J193 * Data!$B$6)),  (S$12*1000*1000/(((Q$242+R$242+Q$243+R$243)/Denscalc($J193))*1000*  $J193 * Data!$B$6)) ), 0     ),  0)","v":0},170,null,null,{"$f":"IF(AND($A193<>\"\",(U193+V193)>0), IF($F193=\"Nej\",    IF(V$13=\"Nm3\",(W$12*1000*1000/((U$242+V$242+U$243+V$243)*1000*  $J193 * Data!$B$6)),  (W$12*1000*1000/(((U$242+V$242+U$243+V$243)/Denscalc($J193))*1000*  $J193 * Data!$B$6)) ), 0     ),  0)","v":0},170,null,null,{"$f":"IF(AND($A193<>\"\",(Y193+Z193)>0), IF($F193=\"Nej\",    IF(Z$13=\"Nm3\",(AA$12*1000*1000/((Y$242+Z$242+Y$243+Z$243)*1000*  $J193 * Data!$B$6)),  (AA$12*1000*1000/(((Y$242+Z$242+Y$243+Z$243)/Denscalc($J193))*1000*  $J193 * Data!$B$6)) ), 0     ),  0)","v":0},170,null,null,{"$f":"IF(AND($A193<>\"\",(AC193+AD193)>0), IF($F193=\"Nej\",    IF(AD$13=\"Nm3\",(AE$12*1000*1000/((AC$242+AD$242+AC$243+AD$243)*1000*  $J193 * Data!$B$6)),  (AE$12*1000*1000/(((AC$242+AD$242+AC$243+AD$243)/Denscalc($J193))*1000*  $J193 * Data!$B$6)) ), 0     ),  0)","v":0},170,null,null,{"$f":"IF(AND($A193<>\"\",(AG193+AH193)>0), IF($F193=\"Nej\",    IF(AH$13=\"Nm3\",(AI$12*1000*1000/((AG$242+AH$242+AG$243+AH$243)*1000*  $J193 * Data!$B$6)),  (AI$12*1000*1000/(((AG$242+AH$242+AG$243+AH$243)/Denscalc($J193))*1000*  $J193 * Data!$B$6)) ), 0     ),  0)","v":0},170,null,null,{"$f":"IF(AND($A193<>\"\",(AK193+AL193)>0), IF($F193=\"Nej\",    IF(AL$13=\"Nm3\",(AM$12*1000*1000/((AK$242+AL$242+AK$243+AL$243)*1000*  $J193 * Data!$B$6)),  (AM$12*1000*1000/(((AK$242+AL$242+AK$243+AL$243)/Denscalc($J193))*1000*  $J193 * Data!$B$6)) ), 0     ),  0)","v":0},170,null,null,{"$f":"IF(AND($A193<>\"\",(AO193+AP193)>0), IF($F193=\"Nej\",    IF(AP$13=\"Nm3\",(AQ$12*1000*1000/((AO$242+AP$242+AO$243+AP$243)*1000*  $J193 * Data!$B$6)),  (AQ$12*1000*1000/(((AO$242+AP$242+AO$243+AP$243)/Denscalc($J193))*1000*  $J193 * Data!$B$6)) ), 0     ),  0)","v":0},170,null,null,{"$f":"IF(AND($A193<>\"\",(AS193+AT193)>0), IF($F193=\"Nej\",    IF(AT$13=\"Nm3\",(AU$12*1000*1000/((AS$242+AT$242+AS$243+AT$243)*1000*  $J193 * Data!$B$6)),  (AU$12*1000*1000/(((AS$242+AT$242+AS$243+AT$243)/Denscalc($J193))*1000*  $J193 * Data!$B$6)) ), 0     ),  0)","v":0},170,null,null,{"$f":"IF(AND($A193<>\"\",(AW193+AX193)>0), IF($F193=\"Nej\",\nIF(AX$13=\"Nm3\",(AY$12*1000*1000/((AW$242+AX$242+AW$243+AX$243-AW$240-AX$240)*1000*  $J193 * Data!$B$6))+(AY$6*1000*1000/((AW$242+AX$242+AW$243+AX$243)*1000*  $J193 * Data!$B$6)),\n (AY$12*1000*1000/(((AW$242+AX$242+AW$243+AX$243-AW$240-AX$240)/Denscalc($J193))*1000*  $J193 * Data!$B$6))  +  (AY$6*1000*1000/(((AW$242+AX$242+AW$243+AX$243)/Denscalc($J193))*1000*  $J193 * Data!$B$6)) ), 0     ),  0)","v":0},170,null,null,{"$f":"IF(AND($A193<>\"\",(BA193+BB193)>0), IF($F193=\"Nej\",\n (BC$12*1000*1000/((BA$244+BB$244-BA$240-BB$240)*1000* Data!$B$7))+ (BC$6*1000*1000/((BA$244+BB$244)*1000* Data!$B$7)),0 ),  0)","v":0},170,"",{"$f":"IF(A193<>\"\",IF(F193=\"Nej\", (Data!$B$129*Data!$B$5*1000*Data!$B$3)/Data!$B$6,  0 ),\"\")","v":""},"","",{"$f":"IF(A193<>\"\",IF(BH193>0,  IF(BE193=\"Nej\",    (Data!$B$8-BH193)/Data!$B$8,  ROUND( (Data!$B$8-BH193)/Data!$B$8,2)),      \"\"),\"\")","v":""},"","","","",{"$f":"IF(A193<>\"\", IF(H193=\"Flytande\",   IF(BM193>0,  IF(BE193=\"Nej\",  (Data!$B$8-BM193)/Data!$B$8,  ROUND( (Data!$B$8-BM193)/Data!$B$8,2)   ), \"\"), \"\"),\"\")","v":""},"",170,"","","",null,""]
[null,171,null,null,null,null,null,null,null,null,null,null,null,null,{"$f":"IF(AND($A194<>\"\",(M194+N194)>0), IF($F194=\"Nej\",    IF(N$13=\"Nm3\",(O$12*1000*1000/((M$242+N$242+M$243+N$243)*1000*  $J194 * Data!$B$6)),  (O$12*1000*1000/(((M$242+N$242+M$243+N$243)/Denscalc($J194))*1000*  $J194 * Data!$B$6)) ), 0     ),  0)","v":0},171,null,null,{"$f":"IF(AND($A194<>\"\",(Q194+R194)>0), IF($F194=\"Nej\",    IF(R$13=\"Nm3\",(S$12*1000*1000/((Q$242+R$242+Q$243+R$243)*1000*  $J194 * Data!$B$6)),  (S$12*1000*1000/(((Q$242+R$242+Q$243+R$243)/Denscalc($J194))*1000*  $J194 * Data!$B$6)) ), 0     ),  0)","v":0},171,null,null,{"$f":"IF(AND($A194<>\"\",(U194+V194)>0), IF($F194=\"Nej\",    IF(V$13=\"Nm3\",(W$12*1000*1000/((U$242+V$242+U$243+V$243)*1000*  $J194 * Data!$B$6)),  (W$12*1000*1000/(((U$242+V$242+U$243+V$243)/Denscalc($J194))*1000*  $J194 * Data!$B$6)) ), 0     ),  0)","v":0},171,null,null,{"$f":"IF(AND($A194<>\"\",(Y194+Z194)>0), IF($F194=\"Nej\",    IF(Z$13=\"Nm3\",(AA$12*1000*1000/((Y$242+Z$242+Y$243+Z$243)*1000*  $J194 * Data!$B$6)),  (AA$12*1000*1000/(((Y$242+Z$242+Y$243+Z$243)/Denscalc($J194))*1000*  $J194 * Data!$B$6)) ), 0     ),  0)","v":0},171,null,null,{"$f":"IF(AND($A194<>\"\",(AC194+AD194)>0), IF($F194=\"Nej\",    IF(AD$13=\"Nm3\",(AE$12*1000*1000/((AC$242+AD$242+AC$243+AD$243)*1000*  $J194 * Data!$B$6)),  (AE$12*1000*1000/(((AC$242+AD$242+AC$243+AD$243)/Denscalc($J194))*1000*  $J194 * Data!$B$6)) ), 0     ),  0)","v":0},171,null,null,{"$f":"IF(AND($A194<>\"\",(AG194+AH194)>0), IF($F194=\"Nej\",    IF(AH$13=\"Nm3\",(AI$12*1000*1000/((AG$242+AH$242+AG$243+AH$243)*1000*  $J194 * Data!$B$6)),  (AI$12*1000*1000/(((AG$242+AH$242+AG$243+AH$243)/Denscalc($J194))*1000*  $J194 * Data!$B$6)) ), 0     ),  0)","v":0},171,null,null,{"$f":"IF(AND($A194<>\"\",(AK194+AL194)>0), IF($F194=\"Nej\",    IF(AL$13=\"Nm3\",(AM$12*1000*1000/((AK$242+AL$242+AK$243+AL$243)*1000*  $J194 * Data!$B$6)),  (AM$12*1000*1000/(((AK$242+AL$242+AK$243+AL$243)/Denscalc($J194))*1000*  $J194 * Data!$B$6)) ), 0     ),  0)","v":0},171,null,null,{"$f":"IF(AND($A194<>\"\",(AO194+AP194)>0), IF($F194=\"Nej\",    IF(AP$13=\"Nm3\",(AQ$12*1000*1000/((AO$242+AP$242+AO$243+AP$243)*1000*  $J194 * Data!$B$6)),  (AQ$12*1000*1000/(((AO$242+AP$242+AO$243+AP$243)/Denscalc($J194))*1000*  $J194 * Data!$B$6)) ), 0     ),  0)","v":0},171,null,null,{"$f":"IF(AND($A194<>\"\",(AS194+AT194)>0), IF($F194=\"Nej\",    IF(AT$13=\"Nm3\",(AU$12*1000*1000/((AS$242+AT$242+AS$243+AT$243)*1000*  $J194 * Data!$B$6)),  (AU$12*1000*1000/(((AS$242+AT$242+AS$243+AT$243)/Denscalc($J194))*1000*  $J194 * Data!$B$6)) ), 0     ),  0)","v":0},171,null,null,{"$f":"IF(AND($A194<>\"\",(AW194+AX194)>0), IF($F194=\"Nej\",\nIF(AX$13=\"Nm3\",(AY$12*1000*1000/((AW$242+AX$242+AW$243+AX$243-AW$240-AX$240)*1000*  $J194 * Data!$B$6))+(AY$6*1000*1000/((AW$242+AX$242+AW$243+AX$243)*1000*  $J194 * Data!$B$6)),\n (AY$12*1000*1000/(((AW$242+AX$242+AW$243+AX$243-AW$240-AX$240)/Denscalc($J194))*1000*  $J194 * Data!$B$6))  +  (AY$6*1000*1000/(((AW$242+AX$242+AW$243+AX$243)/Denscalc($J194))*1000*  $J194 * Data!$B$6)) ), 0     ),  0)","v":0},171,null,null,{"$f":"IF(AND($A194<>\"\",(BA194+BB194)>0), IF($F194=\"Nej\",\n (BC$12*1000*1000/((BA$244+BB$244-BA$240-BB$240)*1000* Data!$B$7))+ (BC$6*1000*1000/((BA$244+BB$244)*1000* Data!$B$7)),0 ),  0)","v":0},171,"",{"$f":"IF(A194<>\"\",IF(F194=\"Nej\", (Data!$B$129*Data!$B$5*1000*Data!$B$3)/Data!$B$6,  0 ),\"\")","v":""},"","",{"$f":"IF(A194<>\"\",IF(BH194>0,  IF(BE194=\"Nej\",    (Data!$B$8-BH194)/Data!$B$8,  ROUND( (Data!$B$8-BH194)/Data!$B$8,2)),      \"\"),\"\")","v":""},"","","","",{"$f":"IF(A194<>\"\", IF(H194=\"Flytande\",   IF(BM194>0,  IF(BE194=\"Nej\",  (Data!$B$8-BM194)/Data!$B$8,  ROUND( (Data!$B$8-BM194)/Data!$B$8,2)   ), \"\"), \"\"),\"\")","v":""},"",171,"","","",null,""]
[null,172,null,null,null,null,null,null,null,null,null,null,null,null,{"$f":"IF(AND($A195<>\"\",(M195+N195)>0), IF($F195=\"Nej\",    IF(N$13=\"Nm3\",(O$12*1000*1000/((M$242+N$242+M$243+N$243)*1000*  $J195 * Data!$B$6)),  (O$12*1000*1000/(((M$242+N$242+M$243+N$243)/Denscalc($J195))*1000*  $J195 * Data!$B$6)) ), 0     ),  0)","v":0},172,null,null,{"$f":"IF(AND($A195<>\"\",(Q195+R195)>0), IF($F195=\"Nej\",    IF(R$13=\"Nm3\",(S$12*1000*1000/((Q$242+R$242+Q$243+R$243)*1000*  $J195 * Data!$B$6)),  (S$12*1000*1000/(((Q$242+R$242+Q$243+R$243)/Denscalc($J195))*1000*  $J195 * Data!$B$6)) ), 0     ),  0)","v":0},172,null,null,{"$f":"IF(AND($A195<>\"\",(U195+V195)>0), IF($F195=\"Nej\",    IF(V$13=\"Nm3\",(W$12*1000*1000/((U$242+V$242+U$243+V$243)*1000*  $J195 * Data!$B$6)),  (W$12*1000*1000/(((U$242+V$242+U$243+V$243)/Denscalc($J195))*1000*  $J195 * Data!$B$6)) ), 0     ),  0)","v":0},172,null,null,{"$f":"IF(AND($A195<>\"\",(Y195+Z195)>0), IF($F195=\"Nej\",    IF(Z$13=\"Nm3\",(AA$12*1000*1000/((Y$242+Z$242+Y$243+Z$243)*1000*  $J195 * Data!$B$6)),  (AA$12*1000*1000/(((Y$242+Z$242+Y$243+Z$243)/Denscalc($J195))*1000*  $J195 * Data!$B$6)) ), 0     ),  0)","v":0},172,null,null,{"$f":"IF(AND($A195<>\"\",(AC195+AD195)>0), IF($F195=\"Nej\",    IF(AD$13=\"Nm3\",(AE$12*1000*1000/((AC$242+AD$242+AC$243+AD$243)*1000*  $J195 * Data!$B$6)),  (AE$12*1000*1000/(((AC$242+AD$242+AC$243+AD$243)/Denscalc($J195))*1000*  $J195 * Data!$B$6)) ), 0     ),  0)","v":0},172,null,null,{"$f":"IF(AND($A195<>\"\",(AG195+AH195)>0), IF($F195=\"Nej\",    IF(AH$13=\"Nm3\",(AI$12*1000*1000/((AG$242+AH$242+AG$243+AH$243)*1000*  $J195 * Data!$B$6)),  (AI$12*1000*1000/(((AG$242+AH$242+AG$243+AH$243)/Denscalc($J195))*1000*  $J195 * Data!$B$6)) ), 0     ),  0)","v":0},172,null,null,{"$f":"IF(AND($A195<>\"\",(AK195+AL195)>0), IF($F195=\"Nej\",    IF(AL$13=\"Nm3\",(AM$12*1000*1000/((AK$242+AL$242+AK$243+AL$243)*1000*  $J195 * Data!$B$6)),  (AM$12*1000*1000/(((AK$242+AL$242+AK$243+AL$243)/Denscalc($J195))*1000*  $J195 * Data!$B$6)) ), 0     ),  0)","v":0},172,null,null,{"$f":"IF(AND($A195<>\"\",(AO195+AP195)>0), IF($F195=\"Nej\",    IF(AP$13=\"Nm3\",(AQ$12*1000*1000/((AO$242+AP$242+AO$243+AP$243)*1000*  $J195 * Data!$B$6)),  (AQ$12*1000*1000/(((AO$242+AP$242+AO$243+AP$243)/Denscalc($J195))*1000*  $J195 * Data!$B$6)) ), 0     ),  0)","v":0},172,null,null,{"$f":"IF(AND($A195<>\"\",(AS195+AT195)>0), IF($F195=\"Nej\",    IF(AT$13=\"Nm3\",(AU$12*1000*1000/((AS$242+AT$242+AS$243+AT$243)*1000*  $J195 * Data!$B$6)),  (AU$12*1000*1000/(((AS$242+AT$242+AS$243+AT$243)/Denscalc($J195))*1000*  $J195 * Data!$B$6)) ), 0     ),  0)","v":0},172,null,null,{"$f":"IF(AND($A195<>\"\",(AW195+AX195)>0), IF($F195=\"Nej\",\nIF(AX$13=\"Nm3\",(AY$12*1000*1000/((AW$242+AX$242+AW$243+AX$243-AW$240-AX$240)*1000*  $J195 * Data!$B$6))+(AY$6*1000*1000/((AW$242+AX$242+AW$243+AX$243)*1000*  $J195 * Data!$B$6)),\n (AY$12*1000*1000/(((AW$242+AX$242+AW$243+AX$243-AW$240-AX$240)/Denscalc($J195))*1000*  $J195 * Data!$B$6))  +  (AY$6*1000*1000/(((AW$242+AX$242+AW$243+AX$243)/Denscalc($J195))*1000*  $J195 * Data!$B$6)) ), 0     ),  0)","v":0},172,null,null,{"$f":"IF(AND($A195<>\"\",(BA195+BB195)>0), IF($F195=\"Nej\",\n (BC$12*1000*1000/((BA$244+BB$244-BA$240-BB$240)*1000* Data!$B$7))+ (BC$6*1000*1000/((BA$244+BB$244)*1000* Data!$B$7)),0 ),  0)","v":0},172,"",{"$f":"IF(A195<>\"\",IF(F195=\"Nej\", (Data!$B$129*Data!$B$5*1000*Data!$B$3)/Data!$B$6,  0 ),\"\")","v":""},"","",{"$f":"IF(A195<>\"\",IF(BH195>0,  IF(BE195=\"Nej\",    (Data!$B$8-BH195)/Data!$B$8,  ROUND( (Data!$B$8-BH195)/Data!$B$8,2)),      \"\"),\"\")","v":""},"","","","",{"$f":"IF(A195<>\"\", IF(H195=\"Flytande\",   IF(BM195>0,  IF(BE195=\"Nej\",  (Data!$B$8-BM195)/Data!$B$8,  ROUND( (Data!$B$8-BM195)/Data!$B$8,2)   ), \"\"), \"\"),\"\")","v":""},"",172,"","","",null,""]
[null,173,null,null,null,null,null,null,null,null,null,null,null,null,{"$f":"IF(AND($A196<>\"\",(M196+N196)>0), IF($F196=\"Nej\",    IF(N$13=\"Nm3\",(O$12*1000*1000/((M$242+N$242+M$243+N$243)*1000*  $J196 * Data!$B$6)),  (O$12*1000*1000/(((M$242+N$242+M$243+N$243)/Denscalc($J196))*1000*  $J196 * Data!$B$6)) ), 0     ),  0)","v":0},173,null,null,{"$f":"IF(AND($A196<>\"\",(Q196+R196)>0), IF($F196=\"Nej\",    IF(R$13=\"Nm3\",(S$12*1000*1000/((Q$242+R$242+Q$243+R$243)*1000*  $J196 * Data!$B$6)),  (S$12*1000*1000/(((Q$242+R$242+Q$243+R$243)/Denscalc($J196))*1000*  $J196 * Data!$B$6)) ), 0     ),  0)","v":0},173,null,null,{"$f":"IF(AND($A196<>\"\",(U196+V196)>0), IF($F196=\"Nej\",    IF(V$13=\"Nm3\",(W$12*1000*1000/((U$242+V$242+U$243+V$243)*1000*  $J196 * Data!$B$6)),  (W$12*1000*1000/(((U$242+V$242+U$243+V$243)/Denscalc($J196))*1000*  $J196 * Data!$B$6)) ), 0     ),  0)","v":0},173,null,null,{"$f":"IF(AND($A196<>\"\",(Y196+Z196)>0), IF($F196=\"Nej\",    IF(Z$13=\"Nm3\",(AA$12*1000*1000/((Y$242+Z$242+Y$243+Z$243)*1000*  $J196 * Data!$B$6)),  (AA$12*1000*1000/(((Y$242+Z$242+Y$243+Z$243)/Denscalc($J196))*1000*  $J196 * Data!$B$6)) ), 0     ),  0)","v":0},173,null,null,{"$f":"IF(AND($A196<>\"\",(AC196+AD196)>0), IF($F196=\"Nej\",    IF(AD$13=\"Nm3\",(AE$12*1000*1000/((AC$242+AD$242+AC$243+AD$243)*1000*  $J196 * Data!$B$6)),  (AE$12*1000*1000/(((AC$242+AD$242+AC$243+AD$243)/Denscalc($J196))*1000*  $J196 * Data!$B$6)) ), 0     ),  0)","v":0},173,null,null,{"$f":"IF(AND($A196<>\"\",(AG196+AH196)>0), IF($F196=\"Nej\",    IF(AH$13=\"Nm3\",(AI$12*1000*1000/((AG$242+AH$242+AG$243+AH$243)*1000*  $J196 * Data!$B$6)),  (AI$12*1000*1000/(((AG$242+AH$242+AG$243+AH$243)/Denscalc($J196))*1000*  $J196 * Data!$B$6)) ), 0     ),  0)","v":0},173,null,null,{"$f":"IF(AND($A196<>\"\",(AK196+AL196)>0), IF($F196=\"Nej\",    IF(AL$13=\"Nm3\",(AM$12*1000*1000/((AK$242+AL$242+AK$243+AL$243)*1000*  $J196 * Data!$B$6)),  (AM$12*1000*1000/(((AK$242+AL$242+AK$243+AL$243)/Denscalc($J196))*1000*  $J196 * Data!$B$6)) ), 0     ),  0)","v":0},173,null,null,{"$f":"IF(AND($A196<>\"\",(AO196+AP196)>0), IF($F196=\"Nej\",    IF(AP$13=\"Nm3\",(AQ$12*1000*1000/((AO$242+AP$242+AO$243+AP$243)*1000*  $J196 * Data!$B$6)),  (AQ$12*1000*1000/(((AO$242+AP$242+AO$243+AP$243)/Denscalc($J196))*1000*  $J196 * Data!$B$6)) ), 0     ),  0)","v":0},173,null,null,{"$f":"IF(AND($A196<>\"\",(AS196+AT196)>0), IF($F196=\"Nej\",    IF(AT$13=\"Nm3\",(AU$12*1000*1000/((AS$242+AT$242+AS$243+AT$243)*1000*  $J196 * Data!$B$6)),  (AU$12*1000*1000/(((AS$242+AT$242+AS$243+AT$243)/Denscalc($J196))*1000*  $J196 * Data!$B$6)) ), 0     ),  0)","v":0},173,null,null,{"$f":"IF(AND($A196<>\"\",(AW196+AX196)>0), IF($F196=\"Nej\",\nIF(AX$13=\"Nm3\",(AY$12*1000*1000/((AW$242+AX$242+AW$243+AX$243-AW$240-AX$240)*1000*  $J196 * Data!$B$6))+(AY$6*1000*1000/((AW$242+AX$242+AW$243+AX$243)*1000*  $J196 * Data!$B$6)),\n (AY$12*1000*1000/(((AW$242+AX$242+AW$243+AX$243-AW$240-AX$240)/Denscalc($J196))*1000*  $J196 * Data!$B$6))  +  (AY$6*1000*1000/(((AW$242+AX$242+AW$243+AX$243)/Denscalc($J196))*1000*  $J196 * Data!$B$6)) ), 0     ),  0)","v":0},173,null,null,{"$f":"IF(AND($A196<>\"\",(BA196+BB196)>0), IF($F196=\"Nej\",\n (BC$12*1000*1000/((BA$244+BB$244-BA$240-BB$240)*1000* Data!$B$7))+ (BC$6*1000*1000/((BA$244+BB$244)*1000* Data!$B$7)),0 ),  0)","v":0},173,"",{"$f":"IF(A196<>\"\",IF(F196=\"Nej\", (Data!$B$129*Data!$B$5*1000*Data!$B$3)/Data!$B$6,  0 ),\"\")","v":""},"","",{"$f":"IF(A196<>\"\",IF(BH196>0,  IF(BE196=\"Nej\",    (Data!$B$8-BH196)/Data!$B$8,  ROUND( (Data!$B$8-BH196)/Data!$B$8,2)),      \"\"),\"\")","v":""},"","","","",{"$f":"IF(A196<>\"\", IF(H196=\"Flytande\",   IF(BM196>0,  IF(BE196=\"Nej\",  (Data!$B$8-BM196)/Data!$B$8,  ROUND( (Data!$B$8-BM196)/Data!$B$8,2)   ), \"\"), \"\"),\"\")","v":""},"",173,"","","",null,""]
[null,174,null,null,null,null,null,null,null,null,null,null,null,null,{"$f":"IF(AND($A197<>\"\",(M197+N197)>0), IF($F197=\"Nej\",    IF(N$13=\"Nm3\",(O$12*1000*1000/((M$242+N$242+M$243+N$243)*1000*  $J197 * Data!$B$6)),  (O$12*1000*1000/(((M$242+N$242+M$243+N$243)/Denscalc($J197))*1000*  $J197 * Data!$B$6)) ), 0     ),  0)","v":0},174,null,null,{"$f":"IF(AND($A197<>\"\",(Q197+R197)>0), IF($F197=\"Nej\",    IF(R$13=\"Nm3\",(S$12*1000*1000/((Q$242+R$242+Q$243+R$243)*1000*  $J197 * Data!$B$6)),  (S$12*1000*1000/(((Q$242+R$242+Q$243+R$243)/Denscalc($J197))*1000*  $J197 * Data!$B$6)) ), 0     ),  0)","v":0},174,null,null,{"$f":"IF(AND($A197<>\"\",(U197+V197)>0), IF($F197=\"Nej\",    IF(V$13=\"Nm3\",(W$12*1000*1000/((U$242+V$242+U$243+V$243)*1000*  $J197 * Data!$B$6)),  (W$12*1000*1000/(((U$242+V$242+U$243+V$243)/Denscalc($J197))*1000*  $J197 * Data!$B$6)) ), 0     ),  0)","v":0},174,null,null,{"$f":"IF(AND($A197<>\"\",(Y197+Z197)>0), IF($F197=\"Nej\",    IF(Z$13=\"Nm3\",(AA$12*1000*1000/((Y$242+Z$242+Y$243+Z$243)*1000*  $J197 * Data!$B$6)),  (AA$12*1000*1000/(((Y$242+Z$242+Y$243+Z$243)/Denscalc($J197))*1000*  $J197 * Data!$B$6)) ), 0     ),  0)","v":0},174,null,null,{"$f":"IF(AND($A197<>\"\",(AC197+AD197)>0), IF($F197=\"Nej\",    IF(AD$13=\"Nm3\",(AE$12*1000*1000/((AC$242+AD$242+AC$243+AD$243)*1000*  $J197 * Data!$B$6)),  (AE$12*1000*1000/(((AC$242+AD$242+AC$243+AD$243)/Denscalc($J197))*1000*  $J197 * Data!$B$6)) ), 0     ),  0)","v":0},174,null,null,{"$f":"IF(AND($A197<>\"\",(AG197+AH197)>0), IF($F197=\"Nej\",    IF(AH$13=\"Nm3\",(AI$12*1000*1000/((AG$242+AH$242+AG$243+AH$243)*1000*  $J197 * Data!$B$6)),  (AI$12*1000*1000/(((AG$242+AH$242+AG$243+AH$243)/Denscalc($J197))*1000*  $J197 * Data!$B$6)) ), 0     ),  0)","v":0},174,null,null,{"$f":"IF(AND($A197<>\"\",(AK197+AL197)>0), IF($F197=\"Nej\",    IF(AL$13=\"Nm3\",(AM$12*1000*1000/((AK$242+AL$242+AK$243+AL$243)*1000*  $J197 * Data!$B$6)),  (AM$12*1000*1000/(((AK$242+AL$242+AK$243+AL$243)/Denscalc($J197))*1000*  $J197 * Data!$B$6)) ), 0     ),  0)","v":0},174,null,null,{"$f":"IF(AND($A197<>\"\",(AO197+AP197)>0), IF($F197=\"Nej\",    IF(AP$13=\"Nm3\",(AQ$12*1000*1000/((AO$242+AP$242+AO$243+AP$243)*1000*  $J197 * Data!$B$6)),  (AQ$12*1000*1000/(((AO$242+AP$242+AO$243+AP$243)/Denscalc($J197))*1000*  $J197 * Data!$B$6)) ), 0     ),  0)","v":0},174,null,null,{"$f":"IF(AND($A197<>\"\",(AS197+AT197)>0), IF($F197=\"Nej\",    IF(AT$13=\"Nm3\",(AU$12*1000*1000/((AS$242+AT$242+AS$243+AT$243)*1000*  $J197 * Data!$B$6)),  (AU$12*1000*1000/(((AS$242+AT$242+AS$243+AT$243)/Denscalc($J197))*1000*  $J197 * Data!$B$6)) ), 0     ),  0)","v":0},174,null,null,{"$f":"IF(AND($A197<>\"\",(AW197+AX197)>0), IF($F197=\"Nej\",\nIF(AX$13=\"Nm3\",(AY$12*1000*1000/((AW$242+AX$242+AW$243+AX$243-AW$240-AX$240)*1000*  $J197 * Data!$B$6))+(AY$6*1000*1000/((AW$242+AX$242+AW$243+AX$243)*1000*  $J197 * Data!$B$6)),\n (AY$12*1000*1000/(((AW$242+AX$242+AW$243+AX$243-AW$240-AX$240)/Denscalc($J197))*1000*  $J197 * Data!$B$6))  +  (AY$6*1000*1000/(((AW$242+AX$242+AW$243+AX$243)/Denscalc($J197))*1000*  $J197 * Data!$B$6)) ), 0     ),  0)","v":0},174,null,null,{"$f":"IF(AND($A197<>\"\",(BA197+BB197)>0), IF($F197=\"Nej\",\n (BC$12*1000*1000/((BA$244+BB$244-BA$240-BB$240)*1000* Data!$B$7))+ (BC$6*1000*1000/((BA$244+BB$244)*1000* Data!$B$7)),0 ),  0)","v":0},174,"",{"$f":"IF(A197<>\"\",IF(F197=\"Nej\", (Data!$B$129*Data!$B$5*1000*Data!$B$3)/Data!$B$6,  0 ),\"\")","v":""},"","",{"$f":"IF(A197<>\"\",IF(BH197>0,  IF(BE197=\"Nej\",    (Data!$B$8-BH197)/Data!$B$8,  ROUND( (Data!$B$8-BH197)/Data!$B$8,2)),      \"\"),\"\")","v":""},"","","","",{"$f":"IF(A197<>\"\", IF(H197=\"Flytande\",   IF(BM197>0,  IF(BE197=\"Nej\",  (Data!$B$8-BM197)/Data!$B$8,  ROUND( (Data!$B$8-BM197)/Data!$B$8,2)   ), \"\"), \"\"),\"\")","v":""},"",174,"","","",null,""]
[null,175,null,null,null,null,null,null,null,null,null,null,null,null,{"$f":"IF(AND($A198<>\"\",(M198+N198)>0), IF($F198=\"Nej\",    IF(N$13=\"Nm3\",(O$12*1000*1000/((M$242+N$242+M$243+N$243)*1000*  $J198 * Data!$B$6)),  (O$12*1000*1000/(((M$242+N$242+M$243+N$243)/Denscalc($J198))*1000*  $J198 * Data!$B$6)) ), 0     ),  0)","v":0},175,null,null,{"$f":"IF(AND($A198<>\"\",(Q198+R198)>0), IF($F198=\"Nej\",    IF(R$13=\"Nm3\",(S$12*1000*1000/((Q$242+R$242+Q$243+R$243)*1000*  $J198 * Data!$B$6)),  (S$12*1000*1000/(((Q$242+R$242+Q$243+R$243)/Denscalc($J198))*1000*  $J198 * Data!$B$6)) ), 0     ),  0)","v":0},175,null,null,{"$f":"IF(AND($A198<>\"\",(U198+V198)>0), IF($F198=\"Nej\",    IF(V$13=\"Nm3\",(W$12*1000*1000/((U$242+V$242+U$243+V$243)*1000*  $J198 * Data!$B$6)),  (W$12*1000*1000/(((U$242+V$242+U$243+V$243)/Denscalc($J198))*1000*  $J198 * Data!$B$6)) ), 0     ),  0)","v":0},175,null,null,{"$f":"IF(AND($A198<>\"\",(Y198+Z198)>0), IF($F198=\"Nej\",    IF(Z$13=\"Nm3\",(AA$12*1000*1000/((Y$242+Z$242+Y$243+Z$243)*1000*  $J198 * Data!$B$6)),  (AA$12*1000*1000/(((Y$242+Z$242+Y$243+Z$243)/Denscalc($J198))*1000*  $J198 * Data!$B$6)) ), 0     ),  0)","v":0},175,null,null,{"$f":"IF(AND($A198<>\"\",(AC198+AD198)>0), IF($F198=\"Nej\",    IF(AD$13=\"Nm3\",(AE$12*1000*1000/((AC$242+AD$242+AC$243+AD$243)*1000*  $J198 * Data!$B$6)),  (AE$12*1000*1000/(((AC$242+AD$242+AC$243+AD$243)/Denscalc($J198))*1000*  $J198 * Data!$B$6)) ), 0     ),  0)","v":0},175,null,null,{"$f":"IF(AND($A198<>\"\",(AG198+AH198)>0), IF($F198=\"Nej\",    IF(AH$13=\"Nm3\",(AI$12*1000*1000/((AG$242+AH$242+AG$243+AH$243)*1000*  $J198 * Data!$B$6)),  (AI$12*1000*1000/(((AG$242+AH$242+AG$243+AH$243)/Denscalc($J198))*1000*  $J198 * Data!$B$6)) ), 0     ),  0)","v":0},175,null,null,{"$f":"IF(AND($A198<>\"\",(AK198+AL198)>0), IF($F198=\"Nej\",    IF(AL$13=\"Nm3\",(AM$12*1000*1000/((AK$242+AL$242+AK$243+AL$243)*1000*  $J198 * Data!$B$6)),  (AM$12*1000*1000/(((AK$242+AL$242+AK$243+AL$243)/Denscalc($J198))*1000*  $J198 * Data!$B$6)) ), 0     ),  0)","v":0},175,null,null,{"$f":"IF(AND($A198<>\"\",(AO198+AP198)>0), IF($F198=\"Nej\",    IF(AP$13=\"Nm3\",(AQ$12*1000*1000/((AO$242+AP$242+AO$243+AP$243)*1000*  $J198 * Data!$B$6)),  (AQ$12*1000*1000/(((AO$242+AP$242+AO$243+AP$243)/Denscalc($J198))*1000*  $J198 * Data!$B$6)) ), 0     ),  0)","v":0},175,null,null,{"$f":"IF(AND($A198<>\"\",(AS198+AT198)>0), IF($F198=\"Nej\",    IF(AT$13=\"Nm3\",(AU$12*1000*1000/((AS$242+AT$242+AS$243+AT$243)*1000*  $J198 * Data!$B$6)),  (AU$12*1000*1000/(((AS$242+AT$242+AS$243+AT$243)/Denscalc($J198))*1000*  $J198 * Data!$B$6)) ), 0     ),  0)","v":0},175,null,null,{"$f":"IF(AND($A198<>\"\",(AW198+AX198)>0), IF($F198=\"Nej\",\nIF(AX$13=\"Nm3\",(AY$12*1000*1000/((AW$242+AX$242+AW$243+AX$243-AW$240-AX$240)*1000*  $J198 * Data!$B$6))+(AY$6*1000*1000/((AW$242+AX$242+AW$243+AX$243)*1000*  $J198 * Data!$B$6)),\n (AY$12*1000*1000/(((AW$242+AX$242+AW$243+AX$243-AW$240-AX$240)/Denscalc($J198))*1000*  $J198 * Data!$B$6))  +  (AY$6*1000*1000/(((AW$242+AX$242+AW$243+AX$243)/Denscalc($J198))*1000*  $J198 * Data!$B$6)) ), 0     ),  0)","v":0},175,null,null,{"$f":"IF(AND($A198<>\"\",(BA198+BB198)>0), IF($F198=\"Nej\",\n (BC$12*1000*1000/((BA$244+BB$244-BA$240-BB$240)*1000* Data!$B$7))+ (BC$6*1000*1000/((BA$244+BB$244)*1000* Data!$B$7)),0 ),  0)","v":0},175,"",{"$f":"IF(A198<>\"\",IF(F198=\"Nej\", (Data!$B$129*Data!$B$5*1000*Data!$B$3)/Data!$B$6,  0 ),\"\")","v":""},"","",{"$f":"IF(A198<>\"\",IF(BH198>0,  IF(BE198=\"Nej\",    (Data!$B$8-BH198)/Data!$B$8,  ROUND( (Data!$B$8-BH198)/Data!$B$8,2)),      \"\"),\"\")","v":""},"","","","",{"$f":"IF(A198<>\"\", IF(H198=\"Flytande\",   IF(BM198>0,  IF(BE198=\"Nej\",  (Data!$B$8-BM198)/Data!$B$8,  ROUND( (Data!$B$8-BM198)/Data!$B$8,2)   ), \"\"), \"\"),\"\")","v":""},"",175,"","","",null,""]
[null,176,null,null,null,null,null,null,null,null,null,null,null,null,{"$f":"IF(AND($A199<>\"\",(M199+N199)>0), IF($F199=\"Nej\",    IF(N$13=\"Nm3\",(O$12*1000*1000/((M$242+N$242+M$243+N$243)*1000*  $J199 * Data!$B$6)),  (O$12*1000*1000/(((M$242+N$242+M$243+N$243)/Denscalc($J199))*1000*  $J199 * Data!$B$6)) ), 0     ),  0)","v":0},176,null,null,{"$f":"IF(AND($A199<>\"\",(Q199+R199)>0), IF($F199=\"Nej\",    IF(R$13=\"Nm3\",(S$12*1000*1000/((Q$242+R$242+Q$243+R$243)*1000*  $J199 * Data!$B$6)),  (S$12*1000*1000/(((Q$242+R$242+Q$243+R$243)/Denscalc($J199))*1000*  $J199 * Data!$B$6)) ), 0     ),  0)","v":0},176,null,null,{"$f":"IF(AND($A199<>\"\",(U199+V199)>0), IF($F199=\"Nej\",    IF(V$13=\"Nm3\",(W$12*1000*1000/((U$242+V$242+U$243+V$243)*1000*  $J199 * Data!$B$6)),  (W$12*1000*1000/(((U$242+V$242+U$243+V$243)/Denscalc($J199))*1000*  $J199 * Data!$B$6)) ), 0     ),  0)","v":0},176,null,null,{"$f":"IF(AND($A199<>\"\",(Y199+Z199)>0), IF($F199=\"Nej\",    IF(Z$13=\"Nm3\",(AA$12*1000*1000/((Y$242+Z$242+Y$243+Z$243)*1000*  $J199 * Data!$B$6)),  (AA$12*1000*1000/(((Y$242+Z$242+Y$243+Z$243)/Denscalc($J199))*1000*  $J199 * Data!$B$6)) ), 0     ),  0)","v":0},176,null,null,{"$f":"IF(AND($A199<>\"\",(AC199+AD199)>0), IF($F199=\"Nej\",    IF(AD$13=\"Nm3\",(AE$12*1000*1000/((AC$242+AD$242+AC$243+AD$243)*1000*  $J199 * Data!$B$6)),  (AE$12*1000*1000/(((AC$242+AD$242+AC$243+AD$243)/Denscalc($J199))*1000*  $J199 * Data!$B$6)) ), 0     ),  0)","v":0},176,null,null,{"$f":"IF(AND($A199<>\"\",(AG199+AH199)>0), IF($F199=\"Nej\",    IF(AH$13=\"Nm3\",(AI$12*1000*1000/((AG$242+AH$242+AG$243+AH$243)*1000*  $J199 * Data!$B$6)),  (AI$12*1000*1000/(((AG$242+AH$242+AG$243+AH$243)/Denscalc($J199))*1000*  $J199 * Data!$B$6)) ), 0     ),  0)","v":0},176,null,null,{"$f":"IF(AND($A199<>\"\",(AK199+AL199)>0), IF($F199=\"Nej\",    IF(AL$13=\"Nm3\",(AM$12*1000*1000/((AK$242+AL$242+AK$243+AL$243)*1000*  $J199 * Data!$B$6)),  (AM$12*1000*1000/(((AK$242+AL$242+AK$243+AL$243)/Denscalc($J199))*1000*  $J199 * Data!$B$6)) ), 0     ),  0)","v":0},176,null,null,{"$f":"IF(AND($A199<>\"\",(AO199+AP199)>0), IF($F199=\"Nej\",    IF(AP$13=\"Nm3\",(AQ$12*1000*1000/((AO$242+AP$242+AO$243+AP$243)*1000*  $J199 * Data!$B$6)),  (AQ$12*1000*1000/(((AO$242+AP$242+AO$243+AP$243)/Denscalc($J199))*1000*  $J199 * Data!$B$6)) ), 0     ),  0)","v":0},176,null,null,{"$f":"IF(AND($A199<>\"\",(AS199+AT199)>0), IF($F199=\"Nej\",    IF(AT$13=\"Nm3\",(AU$12*1000*1000/((AS$242+AT$242+AS$243+AT$243)*1000*  $J199 * Data!$B$6)),  (AU$12*1000*1000/(((AS$242+AT$242+AS$243+AT$243)/Denscalc($J199))*1000*  $J199 * Data!$B$6)) ), 0     ),  0)","v":0},176,null,null,{"$f":"IF(AND($A199<>\"\",(AW199+AX199)>0), IF($F199=\"Nej\",\nIF(AX$13=\"Nm3\",(AY$12*1000*1000/((AW$242+AX$242+AW$243+AX$243-AW$240-AX$240)*1000*  $J199 * Data!$B$6))+(AY$6*1000*1000/((AW$242+AX$242+AW$243+AX$243)*1000*  $J199 * Data!$B$6)),\n (AY$12*1000*1000/(((AW$242+AX$242+AW$243+AX$243-AW$240-AX$240)/Denscalc($J199))*1000*  $J199 * Data!$B$6))  +  (AY$6*1000*1000/(((AW$242+AX$242+AW$243+AX$243)/Denscalc($J199))*1000*  $J199 * Data!$B$6)) ), 0     ),  0)","v":0},176,null,null,{"$f":"IF(AND($A199<>\"\",(BA199+BB199)>0), IF($F199=\"Nej\",\n (BC$12*1000*1000/((BA$244+BB$244-BA$240-BB$240)*1000* Data!$B$7))+ (BC$6*1000*1000/((BA$244+BB$244)*1000* Data!$B$7)),0 ),  0)","v":0},176,"",{"$f":"IF(A199<>\"\",IF(F199=\"Nej\", (Data!$B$129*Data!$B$5*1000*Data!$B$3)/Data!$B$6,  0 ),\"\")","v":""},"","",{"$f":"IF(A199<>\"\",IF(BH199>0,  IF(BE199=\"Nej\",    (Data!$B$8-BH199)/Data!$B$8,  ROUND( (Data!$B$8-BH199)/Data!$B$8,2)),      \"\"),\"\")","v":""},"","","","",{"$f":"IF(A199<>\"\", IF(H199=\"Flytande\",   IF(BM199>0,  IF(BE199=\"Nej\",  (Data!$B$8-BM199)/Data!$B$8,  ROUND( (Data!$B$8-BM199)/Data!$B$8,2)   ), \"\"), \"\"),\"\")","v":""},"",176,"","","",null,""]
[null,177,null,null,null,null,null,null,null,null,null,null,null,null,{"$f":"IF(AND($A200<>\"\",(M200+N200)>0), IF($F200=\"Nej\",    IF(N$13=\"Nm3\",(O$12*1000*1000/((M$242+N$242+M$243+N$243)*1000*  $J200 * Data!$B$6)),  (O$12*1000*1000/(((M$242+N$242+M$243+N$243)/Denscalc($J200))*1000*  $J200 * Data!$B$6)) ), 0     ),  0)","v":0},177,null,null,{"$f":"IF(AND($A200<>\"\",(Q200+R200)>0), IF($F200=\"Nej\",    IF(R$13=\"Nm3\",(S$12*1000*1000/((Q$242+R$242+Q$243+R$243)*1000*  $J200 * Data!$B$6)),  (S$12*1000*1000/(((Q$242+R$242+Q$243+R$243)/Denscalc($J200))*1000*  $J200 * Data!$B$6)) ), 0     ),  0)","v":0},177,null,null,{"$f":"IF(AND($A200<>\"\",(U200+V200)>0), IF($F200=\"Nej\",    IF(V$13=\"Nm3\",(W$12*1000*1000/((U$242+V$242+U$243+V$243)*1000*  $J200 * Data!$B$6)),  (W$12*1000*1000/(((U$242+V$242+U$243+V$243)/Denscalc($J200))*1000*  $J200 * Data!$B$6)) ), 0     ),  0)","v":0},177,null,null,{"$f":"IF(AND($A200<>\"\",(Y200+Z200)>0), IF($F200=\"Nej\",    IF(Z$13=\"Nm3\",(AA$12*1000*1000/((Y$242+Z$242+Y$243+Z$243)*1000*  $J200 * Data!$B$6)),  (AA$12*1000*1000/(((Y$242+Z$242+Y$243+Z$243)/Denscalc($J200))*1000*  $J200 * Data!$B$6)) ), 0     ),  0)","v":0},177,null,null,{"$f":"IF(AND($A200<>\"\",(AC200+AD200)>0), IF($F200=\"Nej\",    IF(AD$13=\"Nm3\",(AE$12*1000*1000/((AC$242+AD$242+AC$243+AD$243)*1000*  $J200 * Data!$B$6)),  (AE$12*1000*1000/(((AC$242+AD$242+AC$243+AD$243)/Denscalc($J200))*1000*  $J200 * Data!$B$6)) ), 0     ),  0)","v":0},177,null,null,{"$f":"IF(AND($A200<>\"\",(AG200+AH200)>0), IF($F200=\"Nej\",    IF(AH$13=\"Nm3\",(AI$12*1000*1000/((AG$242+AH$242+AG$243+AH$243)*1000*  $J200 * Data!$B$6)),  (AI$12*1000*1000/(((AG$242+AH$242+AG$243+AH$243)/Denscalc($J200))*1000*  $J200 * Data!$B$6)) ), 0     ),  0)","v":0},177,null,null,{"$f":"IF(AND($A200<>\"\",(AK200+AL200)>0), IF($F200=\"Nej\",    IF(AL$13=\"Nm3\",(AM$12*1000*1000/((AK$242+AL$242+AK$243+AL$243)*1000*  $J200 * Data!$B$6)),  (AM$12*1000*1000/(((AK$242+AL$242+AK$243+AL$243)/Denscalc($J200))*1000*  $J200 * Data!$B$6)) ), 0     ),  0)","v":0},177,null,null,{"$f":"IF(AND($A200<>\"\",(AO200+AP200)>0), IF($F200=\"Nej\",    IF(AP$13=\"Nm3\",(AQ$12*1000*1000/((AO$242+AP$242+AO$243+AP$243)*1000*  $J200 * Data!$B$6)),  (AQ$12*1000*1000/(((AO$242+AP$242+AO$243+AP$243)/Denscalc($J200))*1000*  $J200 * Data!$B$6)) ), 0     ),  0)","v":0},177,null,null,{"$f":"IF(AND($A200<>\"\",(AS200+AT200)>0), IF($F200=\"Nej\",    IF(AT$13=\"Nm3\",(AU$12*1000*1000/((AS$242+AT$242+AS$243+AT$243)*1000*  $J200 * Data!$B$6)),  (AU$12*1000*1000/(((AS$242+AT$242+AS$243+AT$243)/Denscalc($J200))*1000*  $J200 * Data!$B$6)) ), 0     ),  0)","v":0},177,null,null,{"$f":"IF(AND($A200<>\"\",(AW200+AX200)>0), IF($F200=\"Nej\",\nIF(AX$13=\"Nm3\",(AY$12*1000*1000/((AW$242+AX$242+AW$243+AX$243-AW$240-AX$240)*1000*  $J200 * Data!$B$6))+(AY$6*1000*1000/((AW$242+AX$242+AW$243+AX$243)*1000*  $J200 * Data!$B$6)),\n (AY$12*1000*1000/(((AW$242+AX$242+AW$243+AX$243-AW$240-AX$240)/Denscalc($J200))*1000*  $J200 * Data!$B$6))  +  (AY$6*1000*1000/(((AW$242+AX$242+AW$243+AX$243)/Denscalc($J200))*1000*  $J200 * Data!$B$6)) ), 0     ),  0)","v":0},177,null,null,{"$f":"IF(AND($A200<>\"\",(BA200+BB200)>0), IF($F200=\"Nej\",\n (BC$12*1000*1000/((BA$244+BB$244-BA$240-BB$240)*1000* Data!$B$7))+ (BC$6*1000*1000/((BA$244+BB$244)*1000* Data!$B$7)),0 ),  0)","v":0},177,"",{"$f":"IF(A200<>\"\",IF(F200=\"Nej\", (Data!$B$129*Data!$B$5*1000*Data!$B$3)/Data!$B$6,  0 ),\"\")","v":""},"","",{"$f":"IF(A200<>\"\",IF(BH200>0,  IF(BE200=\"Nej\",    (Data!$B$8-BH200)/Data!$B$8,  ROUND( (Data!$B$8-BH200)/Data!$B$8,2)),      \"\"),\"\")","v":""},"","","","",{"$f":"IF(A200<>\"\", IF(H200=\"Flytande\",   IF(BM200>0,  IF(BE200=\"Nej\",  (Data!$B$8-BM200)/Data!$B$8,  ROUND( (Data!$B$8-BM200)/Data!$B$8,2)   ), \"\"), \"\"),\"\")","v":""},"",177,"","","",null,""]
[null,178,null,null,null,null,null,null,null,null,null,null,null,null,{"$f":"IF(AND($A201<>\"\",(M201+N201)>0), IF($F201=\"Nej\",    IF(N$13=\"Nm3\",(O$12*1000*1000/((M$242+N$242+M$243+N$243)*1000*  $J201 * Data!$B$6)),  (O$12*1000*1000/(((M$242+N$242+M$243+N$243)/Denscalc($J201))*1000*  $J201 * Data!$B$6)) ), 0     ),  0)","v":0},178,null,null,{"$f":"IF(AND($A201<>\"\",(Q201+R201)>0), IF($F201=\"Nej\",    IF(R$13=\"Nm3\",(S$12*1000*1000/((Q$242+R$242+Q$243+R$243)*1000*  $J201 * Data!$B$6)),  (S$12*1000*1000/(((Q$242+R$242+Q$243+R$243)/Denscalc($J201))*1000*  $J201 * Data!$B$6)) ), 0     ),  0)","v":0},178,null,null,{"$f":"IF(AND($A201<>\"\",(U201+V201)>0), IF($F201=\"Nej\",    IF(V$13=\"Nm3\",(W$12*1000*1000/((U$242+V$242+U$243+V$243)*1000*  $J201 * Data!$B$6)),  (W$12*1000*1000/(((U$242+V$242+U$243+V$243)/Denscalc($J201))*1000*  $J201 * Data!$B$6)) ), 0     ),  0)","v":0},178,null,null,{"$f":"IF(AND($A201<>\"\",(Y201+Z201)>0), IF($F201=\"Nej\",    IF(Z$13=\"Nm3\",(AA$12*1000*1000/((Y$242+Z$242+Y$243+Z$243)*1000*  $J201 * Data!$B$6)),  (AA$12*1000*1000/(((Y$242+Z$242+Y$243+Z$243)/Denscalc($J201))*1000*  $J201 * Data!$B$6)) ), 0     ),  0)","v":0},178,null,null,{"$f":"IF(AND($A201<>\"\",(AC201+AD201)>0), IF($F201=\"Nej\",    IF(AD$13=\"Nm3\",(AE$12*1000*1000/((AC$242+AD$242+AC$243+AD$243)*1000*  $J201 * Data!$B$6)),  (AE$12*1000*1000/(((AC$242+AD$242+AC$243+AD$243)/Denscalc($J201))*1000*  $J201 * Data!$B$6)) ), 0     ),  0)","v":0},178,null,null,{"$f":"IF(AND($A201<>\"\",(AG201+AH201)>0), IF($F201=\"Nej\",    IF(AH$13=\"Nm3\",(AI$12*1000*1000/((AG$242+AH$242+AG$243+AH$243)*1000*  $J201 * Data!$B$6)),  (AI$12*1000*1000/(((AG$242+AH$242+AG$243+AH$243)/Denscalc($J201))*1000*  $J201 * Data!$B$6)) ), 0     ),  0)","v":0},178,null,null,{"$f":"IF(AND($A201<>\"\",(AK201+AL201)>0), IF($F201=\"Nej\",    IF(AL$13=\"Nm3\",(AM$12*1000*1000/((AK$242+AL$242+AK$243+AL$243)*1000*  $J201 * Data!$B$6)),  (AM$12*1000*1000/(((AK$242+AL$242+AK$243+AL$243)/Denscalc($J201))*1000*  $J201 * Data!$B$6)) ), 0     ),  0)","v":0},178,null,null,{"$f":"IF(AND($A201<>\"\",(AO201+AP201)>0), IF($F201=\"Nej\",    IF(AP$13=\"Nm3\",(AQ$12*1000*1000/((AO$242+AP$242+AO$243+AP$243)*1000*  $J201 * Data!$B$6)),  (AQ$12*1000*1000/(((AO$242+AP$242+AO$243+AP$243)/Denscalc($J201))*1000*  $J201 * Data!$B$6)) ), 0     ),  0)","v":0},178,null,null,{"$f":"IF(AND($A201<>\"\",(AS201+AT201)>0), IF($F201=\"Nej\",    IF(AT$13=\"Nm3\",(AU$12*1000*1000/((AS$242+AT$242+AS$243+AT$243)*1000*  $J201 * Data!$B$6)),  (AU$12*1000*1000/(((AS$242+AT$242+AS$243+AT$243)/Denscalc($J201))*1000*  $J201 * Data!$B$6)) ), 0     ),  0)","v":0},178,null,null,{"$f":"IF(AND($A201<>\"\",(AW201+AX201)>0), IF($F201=\"Nej\",\nIF(AX$13=\"Nm3\",(AY$12*1000*1000/((AW$242+AX$242+AW$243+AX$243-AW$240-AX$240)*1000*  $J201 * Data!$B$6))+(AY$6*1000*1000/((AW$242+AX$242+AW$243+AX$243)*1000*  $J201 * Data!$B$6)),\n (AY$12*1000*1000/(((AW$242+AX$242+AW$243+AX$243-AW$240-AX$240)/Denscalc($J201))*1000*  $J201 * Data!$B$6))  +  (AY$6*1000*1000/(((AW$242+AX$242+AW$243+AX$243)/Denscalc($J201))*1000*  $J201 * Data!$B$6)) ), 0     ),  0)","v":0},178,null,null,{"$f":"IF(AND($A201<>\"\",(BA201+BB201)>0), IF($F201=\"Nej\",\n (BC$12*1000*1000/((BA$244+BB$244-BA$240-BB$240)*1000* Data!$B$7))+ (BC$6*1000*1000/((BA$244+BB$244)*1000* Data!$B$7)),0 ),  0)","v":0},178,"",{"$f":"IF(A201<>\"\",IF(F201=\"Nej\", (Data!$B$129*Data!$B$5*1000*Data!$B$3)/Data!$B$6,  0 ),\"\")","v":""},"","",{"$f":"IF(A201<>\"\",IF(BH201>0,  IF(BE201=\"Nej\",    (Data!$B$8-BH201)/Data!$B$8,  ROUND( (Data!$B$8-BH201)/Data!$B$8,2)),      \"\"),\"\")","v":""},"","","","",{"$f":"IF(A201<>\"\", IF(H201=\"Flytande\",   IF(BM201>0,  IF(BE201=\"Nej\",  (Data!$B$8-BM201)/Data!$B$8,  ROUND( (Data!$B$8-BM201)/Data!$B$8,2)   ), \"\"), \"\"),\"\")","v":""},"",178,"","","",null,""]
[null,179,null,null,null,null,null,null,null,null,null,null,null,null,{"$f":"IF(AND($A202<>\"\",(M202+N202)>0), IF($F202=\"Nej\",    IF(N$13=\"Nm3\",(O$12*1000*1000/((M$242+N$242+M$243+N$243)*1000*  $J202 * Data!$B$6)),  (O$12*1000*1000/(((M$242+N$242+M$243+N$243)/Denscalc($J202))*1000*  $J202 * Data!$B$6)) ), 0     ),  0)","v":0},179,null,null,{"$f":"IF(AND($A202<>\"\",(Q202+R202)>0), IF($F202=\"Nej\",    IF(R$13=\"Nm3\",(S$12*1000*1000/((Q$242+R$242+Q$243+R$243)*1000*  $J202 * Data!$B$6)),  (S$12*1000*1000/(((Q$242+R$242+Q$243+R$243)/Denscalc($J202))*1000*  $J202 * Data!$B$6)) ), 0     ),  0)","v":0},179,null,null,{"$f":"IF(AND($A202<>\"\",(U202+V202)>0), IF($F202=\"Nej\",    IF(V$13=\"Nm3\",(W$12*1000*1000/((U$242+V$242+U$243+V$243)*1000*  $J202 * Data!$B$6)),  (W$12*1000*1000/(((U$242+V$242+U$243+V$243)/Denscalc($J202))*1000*  $J202 * Data!$B$6)) ), 0     ),  0)","v":0},179,null,null,{"$f":"IF(AND($A202<>\"\",(Y202+Z202)>0), IF($F202=\"Nej\",    IF(Z$13=\"Nm3\",(AA$12*1000*1000/((Y$242+Z$242+Y$243+Z$243)*1000*  $J202 * Data!$B$6)),  (AA$12*1000*1000/(((Y$242+Z$242+Y$243+Z$243)/Denscalc($J202))*1000*  $J202 * Data!$B$6)) ), 0     ),  0)","v":0},179,null,null,{"$f":"IF(AND($A202<>\"\",(AC202+AD202)>0), IF($F202=\"Nej\",    IF(AD$13=\"Nm3\",(AE$12*1000*1000/((AC$242+AD$242+AC$243+AD$243)*1000*  $J202 * Data!$B$6)),  (AE$12*1000*1000/(((AC$242+AD$242+AC$243+AD$243)/Denscalc($J202))*1000*  $J202 * Data!$B$6)) ), 0     ),  0)","v":0},179,null,null,{"$f":"IF(AND($A202<>\"\",(AG202+AH202)>0), IF($F202=\"Nej\",    IF(AH$13=\"Nm3\",(AI$12*1000*1000/((AG$242+AH$242+AG$243+AH$243)*1000*  $J202 * Data!$B$6)),  (AI$12*1000*1000/(((AG$242+AH$242+AG$243+AH$243)/Denscalc($J202))*1000*  $J202 * Data!$B$6)) ), 0     ),  0)","v":0},179,null,null,{"$f":"IF(AND($A202<>\"\",(AK202+AL202)>0), IF($F202=\"Nej\",    IF(AL$13=\"Nm3\",(AM$12*1000*1000/((AK$242+AL$242+AK$243+AL$243)*1000*  $J202 * Data!$B$6)),  (AM$12*1000*1000/(((AK$242+AL$242+AK$243+AL$243)/Denscalc($J202))*1000*  $J202 * Data!$B$6)) ), 0     ),  0)","v":0},179,null,null,{"$f":"IF(AND($A202<>\"\",(AO202+AP202)>0), IF($F202=\"Nej\",    IF(AP$13=\"Nm3\",(AQ$12*1000*1000/((AO$242+AP$242+AO$243+AP$243)*1000*  $J202 * Data!$B$6)),  (AQ$12*1000*1000/(((AO$242+AP$242+AO$243+AP$243)/Denscalc($J202))*1000*  $J202 * Data!$B$6)) ), 0     ),  0)","v":0},179,null,null,{"$f":"IF(AND($A202<>\"\",(AS202+AT202)>0), IF($F202=\"Nej\",    IF(AT$13=\"Nm3\",(AU$12*1000*1000/((AS$242+AT$242+AS$243+AT$243)*1000*  $J202 * Data!$B$6)),  (AU$12*1000*1000/(((AS$242+AT$242+AS$243+AT$243)/Denscalc($J202))*1000*  $J202 * Data!$B$6)) ), 0     ),  0)","v":0},179,null,null,{"$f":"IF(AND($A202<>\"\",(AW202+AX202)>0), IF($F202=\"Nej\",\nIF(AX$13=\"Nm3\",(AY$12*1000*1000/((AW$242+AX$242+AW$243+AX$243-AW$240-AX$240)*1000*  $J202 * Data!$B$6))+(AY$6*1000*1000/((AW$242+AX$242+AW$243+AX$243)*1000*  $J202 * Data!$B$6)),\n (AY$12*1000*1000/(((AW$242+AX$242+AW$243+AX$243-AW$240-AX$240)/Denscalc($J202))*1000*  $J202 * Data!$B$6))  +  (AY$6*1000*1000/(((AW$242+AX$242+AW$243+AX$243)/Denscalc($J202))*1000*  $J202 * Data!$B$6)) ), 0     ),  0)","v":0},179,null,null,{"$f":"IF(AND($A202<>\"\",(BA202+BB202)>0), IF($F202=\"Nej\",\n (BC$12*1000*1000/((BA$244+BB$244-BA$240-BB$240)*1000* Data!$B$7))+ (BC$6*1000*1000/((BA$244+BB$244)*1000* Data!$B$7)),0 ),  0)","v":0},179,"",{"$f":"IF(A202<>\"\",IF(F202=\"Nej\", (Data!$B$129*Data!$B$5*1000*Data!$B$3)/Data!$B$6,  0 ),\"\")","v":""},"","",{"$f":"IF(A202<>\"\",IF(BH202>0,  IF(BE202=\"Nej\",    (Data!$B$8-BH202)/Data!$B$8,  ROUND( (Data!$B$8-BH202)/Data!$B$8,2)),      \"\"),\"\")","v":""},"","","","",{"$f":"IF(A202<>\"\", IF(H202=\"Flytande\",   IF(BM202>0,  IF(BE202=\"Nej\",  (Data!$B$8-BM202)/Data!$B$8,  ROUND( (Data!$B$8-BM202)/Data!$B$8,2)   ), \"\"), \"\"),\"\")","v":""},"",179,"","","",null,""]
[null,180,null,null,null,null,null,null,null,null,null,null,null,null,{"$f":"IF(AND($A203<>\"\",(M203+N203)>0), IF($F203=\"Nej\",    IF(N$13=\"Nm3\",(O$12*1000*1000/((M$242+N$242+M$243+N$243)*1000*  $J203 * Data!$B$6)),  (O$12*1000*1000/(((M$242+N$242+M$243+N$243)/Denscalc($J203))*1000*  $J203 * Data!$B$6)) ), 0     ),  0)","v":0},180,null,null,{"$f":"IF(AND($A203<>\"\",(Q203+R203)>0), IF($F203=\"Nej\",    IF(R$13=\"Nm3\",(S$12*1000*1000/((Q$242+R$242+Q$243+R$243)*1000*  $J203 * Data!$B$6)),  (S$12*1000*1000/(((Q$242+R$242+Q$243+R$243)/Denscalc($J203))*1000*  $J203 * Data!$B$6)) ), 0     ),  0)","v":0},180,null,null,{"$f":"IF(AND($A203<>\"\",(U203+V203)>0), IF($F203=\"Nej\",    IF(V$13=\"Nm3\",(W$12*1000*1000/((U$242+V$242+U$243+V$243)*1000*  $J203 * Data!$B$6)),  (W$12*1000*1000/(((U$242+V$242+U$243+V$243)/Denscalc($J203))*1000*  $J203 * Data!$B$6)) ), 0     ),  0)","v":0},180,null,null,{"$f":"IF(AND($A203<>\"\",(Y203+Z203)>0), IF($F203=\"Nej\",    IF(Z$13=\"Nm3\",(AA$12*1000*1000/((Y$242+Z$242+Y$243+Z$243)*1000*  $J203 * Data!$B$6)),  (AA$12*1000*1000/(((Y$242+Z$242+Y$243+Z$243)/Denscalc($J203))*1000*  $J203 * Data!$B$6)) ), 0     ),  0)","v":0},180,null,null,{"$f":"IF(AND($A203<>\"\",(AC203+AD203)>0), IF($F203=\"Nej\",    IF(AD$13=\"Nm3\",(AE$12*1000*1000/((AC$242+AD$242+AC$243+AD$243)*1000*  $J203 * Data!$B$6)),  (AE$12*1000*1000/(((AC$242+AD$242+AC$243+AD$243)/Denscalc($J203))*1000*  $J203 * Data!$B$6)) ), 0     ),  0)","v":0},180,null,null,{"$f":"IF(AND($A203<>\"\",(AG203+AH203)>0), IF($F203=\"Nej\",    IF(AH$13=\"Nm3\",(AI$12*1000*1000/((AG$242+AH$242+AG$243+AH$243)*1000*  $J203 * Data!$B$6)),  (AI$12*1000*1000/(((AG$242+AH$242+AG$243+AH$243)/Denscalc($J203))*1000*  $J203 * Data!$B$6)) ), 0     ),  0)","v":0},180,null,null,{"$f":"IF(AND($A203<>\"\",(AK203+AL203)>0), IF($F203=\"Nej\",    IF(AL$13=\"Nm3\",(AM$12*1000*1000/((AK$242+AL$242+AK$243+AL$243)*1000*  $J203 * Data!$B$6)),  (AM$12*1000*1000/(((AK$242+AL$242+AK$243+AL$243)/Denscalc($J203))*1000*  $J203 * Data!$B$6)) ), 0     ),  0)","v":0},180,null,null,{"$f":"IF(AND($A203<>\"\",(AO203+AP203)>0), IF($F203=\"Nej\",    IF(AP$13=\"Nm3\",(AQ$12*1000*1000/((AO$242+AP$242+AO$243+AP$243)*1000*  $J203 * Data!$B$6)),  (AQ$12*1000*1000/(((AO$242+AP$242+AO$243+AP$243)/Denscalc($J203))*1000*  $J203 * Data!$B$6)) ), 0     ),  0)","v":0},180,null,null,{"$f":"IF(AND($A203<>\"\",(AS203+AT203)>0), IF($F203=\"Nej\",    IF(AT$13=\"Nm3\",(AU$12*1000*1000/((AS$242+AT$242+AS$243+AT$243)*1000*  $J203 * Data!$B$6)),  (AU$12*1000*1000/(((AS$242+AT$242+AS$243+AT$243)/Denscalc($J203))*1000*  $J203 * Data!$B$6)) ), 0     ),  0)","v":0},180,null,null,{"$f":"IF(AND($A203<>\"\",(AW203+AX203)>0), IF($F203=\"Nej\",\nIF(AX$13=\"Nm3\",(AY$12*1000*1000/((AW$242+AX$242+AW$243+AX$243-AW$240-AX$240)*1000*  $J203 * Data!$B$6))+(AY$6*1000*1000/((AW$242+AX$242+AW$243+AX$243)*1000*  $J203 * Data!$B$6)),\n (AY$12*1000*1000/(((AW$242+AX$242+AW$243+AX$243-AW$240-AX$240)/Denscalc($J203))*1000*  $J203 * Data!$B$6))  +  (AY$6*1000*1000/(((AW$242+AX$242+AW$243+AX$243)/Denscalc($J203))*1000*  $J203 * Data!$B$6)) ), 0     ),  0)","v":0},180,null,null,{"$f":"IF(AND($A203<>\"\",(BA203+BB203)>0), IF($F203=\"Nej\",\n (BC$12*1000*1000/((BA$244+BB$244-BA$240-BB$240)*1000* Data!$B$7))+ (BC$6*1000*1000/((BA$244+BB$244)*1000* Data!$B$7)),0 ),  0)","v":0},180,"",{"$f":"IF(A203<>\"\",IF(F203=\"Nej\", (Data!$B$129*Data!$B$5*1000*Data!$B$3)/Data!$B$6,  0 ),\"\")","v":""},"","",{"$f":"IF(A203<>\"\",IF(BH203>0,  IF(BE203=\"Nej\",    (Data!$B$8-BH203)/Data!$B$8,  ROUND( (Data!$B$8-BH203)/Data!$B$8,2)),      \"\"),\"\")","v":""},"","","","",{"$f":"IF(A203<>\"\", IF(H203=\"Flytande\",   IF(BM203>0,  IF(BE203=\"Nej\",  (Data!$B$8-BM203)/Data!$B$8,  ROUND( (Data!$B$8-BM203)/Data!$B$8,2)   ), \"\"), \"\"),\"\")","v":""},"",180,"","","",null,""]
[null,181,null,null,null,null,null,null,null,null,null,null,null,null,{"$f":"IF(AND($A204<>\"\",(M204+N204)>0), IF($F204=\"Nej\",    IF(N$13=\"Nm3\",(O$12*1000*1000/((M$242+N$242+M$243+N$243)*1000*  $J204 * Data!$B$6)),  (O$12*1000*1000/(((M$242+N$242+M$243+N$243)/Denscalc($J204))*1000*  $J204 * Data!$B$6)) ), 0     ),  0)","v":0},181,null,null,{"$f":"IF(AND($A204<>\"\",(Q204+R204)>0), IF($F204=\"Nej\",    IF(R$13=\"Nm3\",(S$12*1000*1000/((Q$242+R$242+Q$243+R$243)*1000*  $J204 * Data!$B$6)),  (S$12*1000*1000/(((Q$242+R$242+Q$243+R$243)/Denscalc($J204))*1000*  $J204 * Data!$B$6)) ), 0     ),  0)","v":0},181,null,null,{"$f":"IF(AND($A204<>\"\",(U204+V204)>0), IF($F204=\"Nej\",    IF(V$13=\"Nm3\",(W$12*1000*1000/((U$242+V$242+U$243+V$243)*1000*  $J204 * Data!$B$6)),  (W$12*1000*1000/(((U$242+V$242+U$243+V$243)/Denscalc($J204))*1000*  $J204 * Data!$B$6)) ), 0     ),  0)","v":0},181,null,null,{"$f":"IF(AND($A204<>\"\",(Y204+Z204)>0), IF($F204=\"Nej\",    IF(Z$13=\"Nm3\",(AA$12*1000*1000/((Y$242+Z$242+Y$243+Z$243)*1000*  $J204 * Data!$B$6)),  (AA$12*1000*1000/(((Y$242+Z$242+Y$243+Z$243)/Denscalc($J204))*1000*  $J204 * Data!$B$6)) ), 0     ),  0)","v":0},181,null,null,{"$f":"IF(AND($A204<>\"\",(AC204+AD204)>0), IF($F204=\"Nej\",    IF(AD$13=\"Nm3\",(AE$12*1000*1000/((AC$242+AD$242+AC$243+AD$243)*1000*  $J204 * Data!$B$6)),  (AE$12*1000*1000/(((AC$242+AD$242+AC$243+AD$243)/Denscalc($J204))*1000*  $J204 * Data!$B$6)) ), 0     ),  0)","v":0},181,null,null,{"$f":"IF(AND($A204<>\"\",(AG204+AH204)>0), IF($F204=\"Nej\",    IF(AH$13=\"Nm3\",(AI$12*1000*1000/((AG$242+AH$242+AG$243+AH$243)*1000*  $J204 * Data!$B$6)),  (AI$12*1000*1000/(((AG$242+AH$242+AG$243+AH$243)/Denscalc($J204))*1000*  $J204 * Data!$B$6)) ), 0     ),  0)","v":0},181,null,null,{"$f":"IF(AND($A204<>\"\",(AK204+AL204)>0), IF($F204=\"Nej\",    IF(AL$13=\"Nm3\",(AM$12*1000*1000/((AK$242+AL$242+AK$243+AL$243)*1000*  $J204 * Data!$B$6)),  (AM$12*1000*1000/(((AK$242+AL$242+AK$243+AL$243)/Denscalc($J204))*1000*  $J204 * Data!$B$6)) ), 0     ),  0)","v":0},181,null,null,{"$f":"IF(AND($A204<>\"\",(AO204+AP204)>0), IF($F204=\"Nej\",    IF(AP$13=\"Nm3\",(AQ$12*1000*1000/((AO$242+AP$242+AO$243+AP$243)*1000*  $J204 * Data!$B$6)),  (AQ$12*1000*1000/(((AO$242+AP$242+AO$243+AP$243)/Denscalc($J204))*1000*  $J204 * Data!$B$6)) ), 0     ),  0)","v":0},181,null,null,{"$f":"IF(AND($A204<>\"\",(AS204+AT204)>0), IF($F204=\"Nej\",    IF(AT$13=\"Nm3\",(AU$12*1000*1000/((AS$242+AT$242+AS$243+AT$243)*1000*  $J204 * Data!$B$6)),  (AU$12*1000*1000/(((AS$242+AT$242+AS$243+AT$243)/Denscalc($J204))*1000*  $J204 * Data!$B$6)) ), 0     ),  0)","v":0},181,null,null,{"$f":"IF(AND($A204<>\"\",(AW204+AX204)>0), IF($F204=\"Nej\",\nIF(AX$13=\"Nm3\",(AY$12*1000*1000/((AW$242+AX$242+AW$243+AX$243-AW$240-AX$240)*1000*  $J204 * Data!$B$6))+(AY$6*1000*1000/((AW$242+AX$242+AW$243+AX$243)*1000*  $J204 * Data!$B$6)),\n (AY$12*1000*1000/(((AW$242+AX$242+AW$243+AX$243-AW$240-AX$240)/Denscalc($J204))*1000*  $J204 * Data!$B$6))  +  (AY$6*1000*1000/(((AW$242+AX$242+AW$243+AX$243)/Denscalc($J204))*1000*  $J204 * Data!$B$6)) ), 0     ),  0)","v":0},181,null,null,{"$f":"IF(AND($A204<>\"\",(BA204+BB204)>0), IF($F204=\"Nej\",\n (BC$12*1000*1000/((BA$244+BB$244-BA$240-BB$240)*1000* Data!$B$7))+ (BC$6*1000*1000/((BA$244+BB$244)*1000* Data!$B$7)),0 ),  0)","v":0},181,"",{"$f":"IF(A204<>\"\",IF(F204=\"Nej\", (Data!$B$129*Data!$B$5*1000*Data!$B$3)/Data!$B$6,  0 ),\"\")","v":""},"","",{"$f":"IF(A204<>\"\",IF(BH204>0,  IF(BE204=\"Nej\",    (Data!$B$8-BH204)/Data!$B$8,  ROUND( (Data!$B$8-BH204)/Data!$B$8,2)),      \"\"),\"\")","v":""},"","","","",{"$f":"IF(A204<>\"\", IF(H204=\"Flytande\",   IF(BM204>0,  IF(BE204=\"Nej\",  (Data!$B$8-BM204)/Data!$B$8,  ROUND( (Data!$B$8-BM204)/Data!$B$8,2)   ), \"\"), \"\"),\"\")","v":""},"",181,"","","",null,""]
[null,182,null,null,null,null,null,null,null,null,null,null,null,null,{"$f":"IF(AND($A205<>\"\",(M205+N205)>0), IF($F205=\"Nej\",    IF(N$13=\"Nm3\",(O$12*1000*1000/((M$242+N$242+M$243+N$243)*1000*  $J205 * Data!$B$6)),  (O$12*1000*1000/(((M$242+N$242+M$243+N$243)/Denscalc($J205))*1000*  $J205 * Data!$B$6)) ), 0     ),  0)","v":0},182,null,null,{"$f":"IF(AND($A205<>\"\",(Q205+R205)>0), IF($F205=\"Nej\",    IF(R$13=\"Nm3\",(S$12*1000*1000/((Q$242+R$242+Q$243+R$243)*1000*  $J205 * Data!$B$6)),  (S$12*1000*1000/(((Q$242+R$242+Q$243+R$243)/Denscalc($J205))*1000*  $J205 * Data!$B$6)) ), 0     ),  0)","v":0},182,null,null,{"$f":"IF(AND($A205<>\"\",(U205+V205)>0), IF($F205=\"Nej\",    IF(V$13=\"Nm3\",(W$12*1000*1000/((U$242+V$242+U$243+V$243)*1000*  $J205 * Data!$B$6)),  (W$12*1000*1000/(((U$242+V$242+U$243+V$243)/Denscalc($J205))*1000*  $J205 * Data!$B$6)) ), 0     ),  0)","v":0},182,null,null,{"$f":"IF(AND($A205<>\"\",(Y205+Z205)>0), IF($F205=\"Nej\",    IF(Z$13=\"Nm3\",(AA$12*1000*1000/((Y$242+Z$242+Y$243+Z$243)*1000*  $J205 * Data!$B$6)),  (AA$12*1000*1000/(((Y$242+Z$242+Y$243+Z$243)/Denscalc($J205))*1000*  $J205 * Data!$B$6)) ), 0     ),  0)","v":0},182,null,null,{"$f":"IF(AND($A205<>\"\",(AC205+AD205)>0), IF($F205=\"Nej\",    IF(AD$13=\"Nm3\",(AE$12*1000*1000/((AC$242+AD$242+AC$243+AD$243)*1000*  $J205 * Data!$B$6)),  (AE$12*1000*1000/(((AC$242+AD$242+AC$243+AD$243)/Denscalc($J205))*1000*  $J205 * Data!$B$6)) ), 0     ),  0)","v":0},182,null,null,{"$f":"IF(AND($A205<>\"\",(AG205+AH205)>0), IF($F205=\"Nej\",    IF(AH$13=\"Nm3\",(AI$12*1000*1000/((AG$242+AH$242+AG$243+AH$243)*1000*  $J205 * Data!$B$6)),  (AI$12*1000*1000/(((AG$242+AH$242+AG$243+AH$243)/Denscalc($J205))*1000*  $J205 * Data!$B$6)) ), 0     ),  0)","v":0},182,null,null,{"$f":"IF(AND($A205<>\"\",(AK205+AL205)>0), IF($F205=\"Nej\",    IF(AL$13=\"Nm3\",(AM$12*1000*1000/((AK$242+AL$242+AK$243+AL$243)*1000*  $J205 * Data!$B$6)),  (AM$12*1000*1000/(((AK$242+AL$242+AK$243+AL$243)/Denscalc($J205))*1000*  $J205 * Data!$B$6)) ), 0     ),  0)","v":0},182,null,null,{"$f":"IF(AND($A205<>\"\",(AO205+AP205)>0), IF($F205=\"Nej\",    IF(AP$13=\"Nm3\",(AQ$12*1000*1000/((AO$242+AP$242+AO$243+AP$243)*1000*  $J205 * Data!$B$6)),  (AQ$12*1000*1000/(((AO$242+AP$242+AO$243+AP$243)/Denscalc($J205))*1000*  $J205 * Data!$B$6)) ), 0     ),  0)","v":0},182,null,null,{"$f":"IF(AND($A205<>\"\",(AS205+AT205)>0), IF($F205=\"Nej\",    IF(AT$13=\"Nm3\",(AU$12*1000*1000/((AS$242+AT$242+AS$243+AT$243)*1000*  $J205 * Data!$B$6)),  (AU$12*1000*1000/(((AS$242+AT$242+AS$243+AT$243)/Denscalc($J205))*1000*  $J205 * Data!$B$6)) ), 0     ),  0)","v":0},182,null,null,{"$f":"IF(AND($A205<>\"\",(AW205+AX205)>0), IF($F205=\"Nej\",\nIF(AX$13=\"Nm3\",(AY$12*1000*1000/((AW$242+AX$242+AW$243+AX$243-AW$240-AX$240)*1000*  $J205 * Data!$B$6))+(AY$6*1000*1000/((AW$242+AX$242+AW$243+AX$243)*1000*  $J205 * Data!$B$6)),\n (AY$12*1000*1000/(((AW$242+AX$242+AW$243+AX$243-AW$240-AX$240)/Denscalc($J205))*1000*  $J205 * Data!$B$6))  +  (AY$6*1000*1000/(((AW$242+AX$242+AW$243+AX$243)/Denscalc($J205))*1000*  $J205 * Data!$B$6)) ), 0     ),  0)","v":0},182,null,null,{"$f":"IF(AND($A205<>\"\",(BA205+BB205)>0), IF($F205=\"Nej\",\n (BC$12*1000*1000/((BA$244+BB$244-BA$240-BB$240)*1000* Data!$B$7))+ (BC$6*1000*1000/((BA$244+BB$244)*1000* Data!$B$7)),0 ),  0)","v":0},182,"",{"$f":"IF(A205<>\"\",IF(F205=\"Nej\", (Data!$B$129*Data!$B$5*1000*Data!$B$3)/Data!$B$6,  0 ),\"\")","v":""},"","",{"$f":"IF(A205<>\"\",IF(BH205>0,  IF(BE205=\"Nej\",    (Data!$B$8-BH205)/Data!$B$8,  ROUND( (Data!$B$8-BH205)/Data!$B$8,2)),      \"\"),\"\")","v":""},"","","","",{"$f":"IF(A205<>\"\", IF(H205=\"Flytande\",   IF(BM205>0,  IF(BE205=\"Nej\",  (Data!$B$8-BM205)/Data!$B$8,  ROUND( (Data!$B$8-BM205)/Data!$B$8,2)   ), \"\"), \"\"),\"\")","v":""},"",182,"","","",null,""]
[null,183,null,null,null,null,null,null,null,null,null,null,null,null,{"$f":"IF(AND($A206<>\"\",(M206+N206)>0), IF($F206=\"Nej\",    IF(N$13=\"Nm3\",(O$12*1000*1000/((M$242+N$242+M$243+N$243)*1000*  $J206 * Data!$B$6)),  (O$12*1000*1000/(((M$242+N$242+M$243+N$243)/Denscalc($J206))*1000*  $J206 * Data!$B$6)) ), 0     ),  0)","v":0},183,null,null,{"$f":"IF(AND($A206<>\"\",(Q206+R206)>0), IF($F206=\"Nej\",    IF(R$13=\"Nm3\",(S$12*1000*1000/((Q$242+R$242+Q$243+R$243)*1000*  $J206 * Data!$B$6)),  (S$12*1000*1000/(((Q$242+R$242+Q$243+R$243)/Denscalc($J206))*1000*  $J206 * Data!$B$6)) ), 0     ),  0)","v":0},183,null,null,{"$f":"IF(AND($A206<>\"\",(U206+V206)>0), IF($F206=\"Nej\",    IF(V$13=\"Nm3\",(W$12*1000*1000/((U$242+V$242+U$243+V$243)*1000*  $J206 * Data!$B$6)),  (W$12*1000*1000/(((U$242+V$242+U$243+V$243)/Denscalc($J206))*1000*  $J206 * Data!$B$6)) ), 0     ),  0)","v":0},183,null,null,{"$f":"IF(AND($A206<>\"\",(Y206+Z206)>0), IF($F206=\"Nej\",    IF(Z$13=\"Nm3\",(AA$12*1000*1000/((Y$242+Z$242+Y$243+Z$243)*1000*  $J206 * Data!$B$6)),  (AA$12*1000*1000/(((Y$242+Z$242+Y$243+Z$243)/Denscalc($J206))*1000*  $J206 * Data!$B$6)) ), 0     ),  0)","v":0},183,null,null,{"$f":"IF(AND($A206<>\"\",(AC206+AD206)>0), IF($F206=\"Nej\",    IF(AD$13=\"Nm3\",(AE$12*1000*1000/((AC$242+AD$242+AC$243+AD$243)*1000*  $J206 * Data!$B$6)),  (AE$12*1000*1000/(((AC$242+AD$242+AC$243+AD$243)/Denscalc($J206))*1000*  $J206 * Data!$B$6)) ), 0     ),  0)","v":0},183,null,null,{"$f":"IF(AND($A206<>\"\",(AG206+AH206)>0), IF($F206=\"Nej\",    IF(AH$13=\"Nm3\",(AI$12*1000*1000/((AG$242+AH$242+AG$243+AH$243)*1000*  $J206 * Data!$B$6)),  (AI$12*1000*1000/(((AG$242+AH$242+AG$243+AH$243)/Denscalc($J206))*1000*  $J206 * Data!$B$6)) ), 0     ),  0)","v":0},183,null,null,{"$f":"IF(AND($A206<>\"\",(AK206+AL206)>0), IF($F206=\"Nej\",    IF(AL$13=\"Nm3\",(AM$12*1000*1000/((AK$242+AL$242+AK$243+AL$243)*1000*  $J206 * Data!$B$6)),  (AM$12*1000*1000/(((AK$242+AL$242+AK$243+AL$243)/Denscalc($J206))*1000*  $J206 * Data!$B$6)) ), 0     ),  0)","v":0},183,null,null,{"$f":"IF(AND($A206<>\"\",(AO206+AP206)>0), IF($F206=\"Nej\",    IF(AP$13=\"Nm3\",(AQ$12*1000*1000/((AO$242+AP$242+AO$243+AP$243)*1000*  $J206 * Data!$B$6)),  (AQ$12*1000*1000/(((AO$242+AP$242+AO$243+AP$243)/Denscalc($J206))*1000*  $J206 * Data!$B$6)) ), 0     ),  0)","v":0},183,null,null,{"$f":"IF(AND($A206<>\"\",(AS206+AT206)>0), IF($F206=\"Nej\",    IF(AT$13=\"Nm3\",(AU$12*1000*1000/((AS$242+AT$242+AS$243+AT$243)*1000*  $J206 * Data!$B$6)),  (AU$12*1000*1000/(((AS$242+AT$242+AS$243+AT$243)/Denscalc($J206))*1000*  $J206 * Data!$B$6)) ), 0     ),  0)","v":0},183,null,null,{"$f":"IF(AND($A206<>\"\",(AW206+AX206)>0), IF($F206=\"Nej\",\nIF(AX$13=\"Nm3\",(AY$12*1000*1000/((AW$242+AX$242+AW$243+AX$243-AW$240-AX$240)*1000*  $J206 * Data!$B$6))+(AY$6*1000*1000/((AW$242+AX$242+AW$243+AX$243)*1000*  $J206 * Data!$B$6)),\n (AY$12*1000*1000/(((AW$242+AX$242+AW$243+AX$243-AW$240-AX$240)/Denscalc($J206))*1000*  $J206 * Data!$B$6))  +  (AY$6*1000*1000/(((AW$242+AX$242+AW$243+AX$243)/Denscalc($J206))*1000*  $J206 * Data!$B$6)) ), 0     ),  0)","v":0},183,null,null,{"$f":"IF(AND($A206<>\"\",(BA206+BB206)>0), IF($F206=\"Nej\",\n (BC$12*1000*1000/((BA$244+BB$244-BA$240-BB$240)*1000* Data!$B$7))+ (BC$6*1000*1000/((BA$244+BB$244)*1000* Data!$B$7)),0 ),  0)","v":0},183,"",{"$f":"IF(A206<>\"\",IF(F206=\"Nej\", (Data!$B$129*Data!$B$5*1000*Data!$B$3)/Data!$B$6,  0 ),\"\")","v":""},"","",{"$f":"IF(A206<>\"\",IF(BH206>0,  IF(BE206=\"Nej\",    (Data!$B$8-BH206)/Data!$B$8,  ROUND( (Data!$B$8-BH206)/Data!$B$8,2)),      \"\"),\"\")","v":""},"","","","",{"$f":"IF(A206<>\"\", IF(H206=\"Flytande\",   IF(BM206>0,  IF(BE206=\"Nej\",  (Data!$B$8-BM206)/Data!$B$8,  ROUND( (Data!$B$8-BM206)/Data!$B$8,2)   ), \"\"), \"\"),\"\")","v":""},"",183,"","","",null,""]
[null,184,null,null,null,null,null,null,null,null,null,null,null,null,{"$f":"IF(AND($A207<>\"\",(M207+N207)>0), IF($F207=\"Nej\",    IF(N$13=\"Nm3\",(O$12*1000*1000/((M$242+N$242+M$243+N$243)*1000*  $J207 * Data!$B$6)),  (O$12*1000*1000/(((M$242+N$242+M$243+N$243)/Denscalc($J207))*1000*  $J207 * Data!$B$6)) ), 0     ),  0)","v":0},184,null,null,{"$f":"IF(AND($A207<>\"\",(Q207+R207)>0), IF($F207=\"Nej\",    IF(R$13=\"Nm3\",(S$12*1000*1000/((Q$242+R$242+Q$243+R$243)*1000*  $J207 * Data!$B$6)),  (S$12*1000*1000/(((Q$242+R$242+Q$243+R$243)/Denscalc($J207))*1000*  $J207 * Data!$B$6)) ), 0     ),  0)","v":0},184,null,null,{"$f":"IF(AND($A207<>\"\",(U207+V207)>0), IF($F207=\"Nej\",    IF(V$13=\"Nm3\",(W$12*1000*1000/((U$242+V$242+U$243+V$243)*1000*  $J207 * Data!$B$6)),  (W$12*1000*1000/(((U$242+V$242+U$243+V$243)/Denscalc($J207))*1000*  $J207 * Data!$B$6)) ), 0     ),  0)","v":0},184,null,null,{"$f":"IF(AND($A207<>\"\",(Y207+Z207)>0), IF($F207=\"Nej\",    IF(Z$13=\"Nm3\",(AA$12*1000*1000/((Y$242+Z$242+Y$243+Z$243)*1000*  $J207 * Data!$B$6)),  (AA$12*1000*1000/(((Y$242+Z$242+Y$243+Z$243)/Denscalc($J207))*1000*  $J207 * Data!$B$6)) ), 0     ),  0)","v":0},184,null,null,{"$f":"IF(AND($A207<>\"\",(AC207+AD207)>0), IF($F207=\"Nej\",    IF(AD$13=\"Nm3\",(AE$12*1000*1000/((AC$242+AD$242+AC$243+AD$243)*1000*  $J207 * Data!$B$6)),  (AE$12*1000*1000/(((AC$242+AD$242+AC$243+AD$243)/Denscalc($J207))*1000*  $J207 * Data!$B$6)) ), 0     ),  0)","v":0},184,null,null,{"$f":"IF(AND($A207<>\"\",(AG207+AH207)>0), IF($F207=\"Nej\",    IF(AH$13=\"Nm3\",(AI$12*1000*1000/((AG$242+AH$242+AG$243+AH$243)*1000*  $J207 * Data!$B$6)),  (AI$12*1000*1000/(((AG$242+AH$242+AG$243+AH$243)/Denscalc($J207))*1000*  $J207 * Data!$B$6)) ), 0     ),  0)","v":0},184,null,null,{"$f":"IF(AND($A207<>\"\",(AK207+AL207)>0), IF($F207=\"Nej\",    IF(AL$13=\"Nm3\",(AM$12*1000*1000/((AK$242+AL$242+AK$243+AL$243)*1000*  $J207 * Data!$B$6)),  (AM$12*1000*1000/(((AK$242+AL$242+AK$243+AL$243)/Denscalc($J207))*1000*  $J207 * Data!$B$6)) ), 0     ),  0)","v":0},184,null,null,{"$f":"IF(AND($A207<>\"\",(AO207+AP207)>0), IF($F207=\"Nej\",    IF(AP$13=\"Nm3\",(AQ$12*1000*1000/((AO$242+AP$242+AO$243+AP$243)*1000*  $J207 * Data!$B$6)),  (AQ$12*1000*1000/(((AO$242+AP$242+AO$243+AP$243)/Denscalc($J207))*1000*  $J207 * Data!$B$6)) ), 0     ),  0)","v":0},184,null,null,{"$f":"IF(AND($A207<>\"\",(AS207+AT207)>0), IF($F207=\"Nej\",    IF(AT$13=\"Nm3\",(AU$12*1000*1000/((AS$242+AT$242+AS$243+AT$243)*1000*  $J207 * Data!$B$6)),  (AU$12*1000*1000/(((AS$242+AT$242+AS$243+AT$243)/Denscalc($J207))*1000*  $J207 * Data!$B$6)) ), 0     ),  0)","v":0},184,null,null,{"$f":"IF(AND($A207<>\"\",(AW207+AX207)>0), IF($F207=\"Nej\",\nIF(AX$13=\"Nm3\",(AY$12*1000*1000/((AW$242+AX$242+AW$243+AX$243-AW$240-AX$240)*1000*  $J207 * Data!$B$6))+(AY$6*1000*1000/((AW$242+AX$242+AW$243+AX$243)*1000*  $J207 * Data!$B$6)),\n (AY$12*1000*1000/(((AW$242+AX$242+AW$243+AX$243-AW$240-AX$240)/Denscalc($J207))*1000*  $J207 * Data!$B$6))  +  (AY$6*1000*1000/(((AW$242+AX$242+AW$243+AX$243)/Denscalc($J207))*1000*  $J207 * Data!$B$6)) ), 0     ),  0)","v":0},184,null,null,{"$f":"IF(AND($A207<>\"\",(BA207+BB207)>0), IF($F207=\"Nej\",\n (BC$12*1000*1000/((BA$244+BB$244-BA$240-BB$240)*1000* Data!$B$7))+ (BC$6*1000*1000/((BA$244+BB$244)*1000* Data!$B$7)),0 ),  0)","v":0},184,"",{"$f":"IF(A207<>\"\",IF(F207=\"Nej\", (Data!$B$129*Data!$B$5*1000*Data!$B$3)/Data!$B$6,  0 ),\"\")","v":""},"","",{"$f":"IF(A207<>\"\",IF(BH207>0,  IF(BE207=\"Nej\",    (Data!$B$8-BH207)/Data!$B$8,  ROUND( (Data!$B$8-BH207)/Data!$B$8,2)),      \"\"),\"\")","v":""},"","","","",{"$f":"IF(A207<>\"\", IF(H207=\"Flytande\",   IF(BM207>0,  IF(BE207=\"Nej\",  (Data!$B$8-BM207)/Data!$B$8,  ROUND( (Data!$B$8-BM207)/Data!$B$8,2)   ), \"\"), \"\"),\"\")","v":""},"",184,"","","",null,""]
[null,185,null,null,null,null,null,null,null,null,null,null,null,null,{"$f":"IF(AND($A208<>\"\",(M208+N208)>0), IF($F208=\"Nej\",    IF(N$13=\"Nm3\",(O$12*1000*1000/((M$242+N$242+M$243+N$243)*1000*  $J208 * Data!$B$6)),  (O$12*1000*1000/(((M$242+N$242+M$243+N$243)/Denscalc($J208))*1000*  $J208 * Data!$B$6)) ), 0     ),  0)","v":0},185,null,null,{"$f":"IF(AND($A208<>\"\",(Q208+R208)>0), IF($F208=\"Nej\",    IF(R$13=\"Nm3\",(S$12*1000*1000/((Q$242+R$242+Q$243+R$243)*1000*  $J208 * Data!$B$6)),  (S$12*1000*1000/(((Q$242+R$242+Q$243+R$243)/Denscalc($J208))*1000*  $J208 * Data!$B$6)) ), 0     ),  0)","v":0},185,null,null,{"$f":"IF(AND($A208<>\"\",(U208+V208)>0), IF($F208=\"Nej\",    IF(V$13=\"Nm3\",(W$12*1000*1000/((U$242+V$242+U$243+V$243)*1000*  $J208 * Data!$B$6)),  (W$12*1000*1000/(((U$242+V$242+U$243+V$243)/Denscalc($J208))*1000*  $J208 * Data!$B$6)) ), 0     ),  0)","v":0},185,null,null,{"$f":"IF(AND($A208<>\"\",(Y208+Z208)>0), IF($F208=\"Nej\",    IF(Z$13=\"Nm3\",(AA$12*1000*1000/((Y$242+Z$242+Y$243+Z$243)*1000*  $J208 * Data!$B$6)),  (AA$12*1000*1000/(((Y$242+Z$242+Y$243+Z$243)/Denscalc($J208))*1000*  $J208 * Data!$B$6)) ), 0     ),  0)","v":0},185,null,null,{"$f":"IF(AND($A208<>\"\",(AC208+AD208)>0), IF($F208=\"Nej\",    IF(AD$13=\"Nm3\",(AE$12*1000*1000/((AC$242+AD$242+AC$243+AD$243)*1000*  $J208 * Data!$B$6)),  (AE$12*1000*1000/(((AC$242+AD$242+AC$243+AD$243)/Denscalc($J208))*1000*  $J208 * Data!$B$6)) ), 0     ),  0)","v":0},185,null,null,{"$f":"IF(AND($A208<>\"\",(AG208+AH208)>0), IF($F208=\"Nej\",    IF(AH$13=\"Nm3\",(AI$12*1000*1000/((AG$242+AH$242+AG$243+AH$243)*1000*  $J208 * Data!$B$6)),  (AI$12*1000*1000/(((AG$242+AH$242+AG$243+AH$243)/Denscalc($J208))*1000*  $J208 * Data!$B$6)) ), 0     ),  0)","v":0},185,null,null,{"$f":"IF(AND($A208<>\"\",(AK208+AL208)>0), IF($F208=\"Nej\",    IF(AL$13=\"Nm3\",(AM$12*1000*1000/((AK$242+AL$242+AK$243+AL$243)*1000*  $J208 * Data!$B$6)),  (AM$12*1000*1000/(((AK$242+AL$242+AK$243+AL$243)/Denscalc($J208))*1000*  $J208 * Data!$B$6)) ), 0     ),  0)","v":0},185,null,null,{"$f":"IF(AND($A208<>\"\",(AO208+AP208)>0), IF($F208=\"Nej\",    IF(AP$13=\"Nm3\",(AQ$12*1000*1000/((AO$242+AP$242+AO$243+AP$243)*1000*  $J208 * Data!$B$6)),  (AQ$12*1000*1000/(((AO$242+AP$242+AO$243+AP$243)/Denscalc($J208))*1000*  $J208 * Data!$B$6)) ), 0     ),  0)","v":0},185,null,null,{"$f":"IF(AND($A208<>\"\",(AS208+AT208)>0), IF($F208=\"Nej\",    IF(AT$13=\"Nm3\",(AU$12*1000*1000/((AS$242+AT$242+AS$243+AT$243)*1000*  $J208 * Data!$B$6)),  (AU$12*1000*1000/(((AS$242+AT$242+AS$243+AT$243)/Denscalc($J208))*1000*  $J208 * Data!$B$6)) ), 0     ),  0)","v":0},185,null,null,{"$f":"IF(AND($A208<>\"\",(AW208+AX208)>0), IF($F208=\"Nej\",\nIF(AX$13=\"Nm3\",(AY$12*1000*1000/((AW$242+AX$242+AW$243+AX$243-AW$240-AX$240)*1000*  $J208 * Data!$B$6))+(AY$6*1000*1000/((AW$242+AX$242+AW$243+AX$243)*1000*  $J208 * Data!$B$6)),\n (AY$12*1000*1000/(((AW$242+AX$242+AW$243+AX$243-AW$240-AX$240)/Denscalc($J208))*1000*  $J208 * Data!$B$6))  +  (AY$6*1000*1000/(((AW$242+AX$242+AW$243+AX$243)/Denscalc($J208))*1000*  $J208 * Data!$B$6)) ), 0     ),  0)","v":0},185,null,null,{"$f":"IF(AND($A208<>\"\",(BA208+BB208)>0), IF($F208=\"Nej\",\n (BC$12*1000*1000/((BA$244+BB$244-BA$240-BB$240)*1000* Data!$B$7))+ (BC$6*1000*1000/((BA$244+BB$244)*1000* Data!$B$7)),0 ),  0)","v":0},185,"",{"$f":"IF(A208<>\"\",IF(F208=\"Nej\", (Data!$B$129*Data!$B$5*1000*Data!$B$3)/Data!$B$6,  0 ),\"\")","v":""},"","",{"$f":"IF(A208<>\"\",IF(BH208>0,  IF(BE208=\"Nej\",    (Data!$B$8-BH208)/Data!$B$8,  ROUND( (Data!$B$8-BH208)/Data!$B$8,2)),      \"\"),\"\")","v":""},"","","","",{"$f":"IF(A208<>\"\", IF(H208=\"Flytande\",   IF(BM208>0,  IF(BE208=\"Nej\",  (Data!$B$8-BM208)/Data!$B$8,  ROUND( (Data!$B$8-BM208)/Data!$B$8,2)   ), \"\"), \"\"),\"\")","v":""},"",185,"","","",null,""]
[null,186,null,null,null,null,null,null,null,null,null,null,null,null,{"$f":"IF(AND($A209<>\"\",(M209+N209)>0), IF($F209=\"Nej\",    IF(N$13=\"Nm3\",(O$12*1000*1000/((M$242+N$242+M$243+N$243)*1000*  $J209 * Data!$B$6)),  (O$12*1000*1000/(((M$242+N$242+M$243+N$243)/Denscalc($J209))*1000*  $J209 * Data!$B$6)) ), 0     ),  0)","v":0},186,null,null,{"$f":"IF(AND($A209<>\"\",(Q209+R209)>0), IF($F209=\"Nej\",    IF(R$13=\"Nm3\",(S$12*1000*1000/((Q$242+R$242+Q$243+R$243)*1000*  $J209 * Data!$B$6)),  (S$12*1000*1000/(((Q$242+R$242+Q$243+R$243)/Denscalc($J209))*1000*  $J209 * Data!$B$6)) ), 0     ),  0)","v":0},186,null,null,{"$f":"IF(AND($A209<>\"\",(U209+V209)>0), IF($F209=\"Nej\",    IF(V$13=\"Nm3\",(W$12*1000*1000/((U$242+V$242+U$243+V$243)*1000*  $J209 * Data!$B$6)),  (W$12*1000*1000/(((U$242+V$242+U$243+V$243)/Denscalc($J209))*1000*  $J209 * Data!$B$6)) ), 0     ),  0)","v":0},186,null,null,{"$f":"IF(AND($A209<>\"\",(Y209+Z209)>0), IF($F209=\"Nej\",    IF(Z$13=\"Nm3\",(AA$12*1000*1000/((Y$242+Z$242+Y$243+Z$243)*1000*  $J209 * Data!$B$6)),  (AA$12*1000*1000/(((Y$242+Z$242+Y$243+Z$243)/Denscalc($J209))*1000*  $J209 * Data!$B$6)) ), 0     ),  0)","v":0},186,null,null,{"$f":"IF(AND($A209<>\"\",(AC209+AD209)>0), IF($F209=\"Nej\",    IF(AD$13=\"Nm3\",(AE$12*1000*1000/((AC$242+AD$242+AC$243+AD$243)*1000*  $J209 * Data!$B$6)),  (AE$12*1000*1000/(((AC$242+AD$242+AC$243+AD$243)/Denscalc($J209))*1000*  $J209 * Data!$B$6)) ), 0     ),  0)","v":0},186,null,null,{"$f":"IF(AND($A209<>\"\",(AG209+AH209)>0), IF($F209=\"Nej\",    IF(AH$13=\"Nm3\",(AI$12*1000*1000/((AG$242+AH$242+AG$243+AH$243)*1000*  $J209 * Data!$B$6)),  (AI$12*1000*1000/(((AG$242+AH$242+AG$243+AH$243)/Denscalc($J209))*1000*  $J209 * Data!$B$6)) ), 0     ),  0)","v":0},186,null,null,{"$f":"IF(AND($A209<>\"\",(AK209+AL209)>0), IF($F209=\"Nej\",    IF(AL$13=\"Nm3\",(AM$12*1000*1000/((AK$242+AL$242+AK$243+AL$243)*1000*  $J209 * Data!$B$6)),  (AM$12*1000*1000/(((AK$242+AL$242+AK$243+AL$243)/Denscalc($J209))*1000*  $J209 * Data!$B$6)) ), 0     ),  0)","v":0},186,null,null,{"$f":"IF(AND($A209<>\"\",(AO209+AP209)>0), IF($F209=\"Nej\",    IF(AP$13=\"Nm3\",(AQ$12*1000*1000/((AO$242+AP$242+AO$243+AP$243)*1000*  $J209 * Data!$B$6)),  (AQ$12*1000*1000/(((AO$242+AP$242+AO$243+AP$243)/Denscalc($J209))*1000*  $J209 * Data!$B$6)) ), 0     ),  0)","v":0},186,null,null,{"$f":"IF(AND($A209<>\"\",(AS209+AT209)>0), IF($F209=\"Nej\",    IF(AT$13=\"Nm3\",(AU$12*1000*1000/((AS$242+AT$242+AS$243+AT$243)*1000*  $J209 * Data!$B$6)),  (AU$12*1000*1000/(((AS$242+AT$242+AS$243+AT$243)/Denscalc($J209))*1000*  $J209 * Data!$B$6)) ), 0     ),  0)","v":0},186,null,null,{"$f":"IF(AND($A209<>\"\",(AW209+AX209)>0), IF($F209=\"Nej\",\nIF(AX$13=\"Nm3\",(AY$12*1000*1000/((AW$242+AX$242+AW$243+AX$243-AW$240-AX$240)*1000*  $J209 * Data!$B$6))+(AY$6*1000*1000/((AW$242+AX$242+AW$243+AX$243)*1000*  $J209 * Data!$B$6)),\n (AY$12*1000*1000/(((AW$242+AX$242+AW$243+AX$243-AW$240-AX$240)/Denscalc($J209))*1000*  $J209 * Data!$B$6))  +  (AY$6*1000*1000/(((AW$242+AX$242+AW$243+AX$243)/Denscalc($J209))*1000*  $J209 * Data!$B$6)) ), 0     ),  0)","v":0},186,null,null,{"$f":"IF(AND($A209<>\"\",(BA209+BB209)>0), IF($F209=\"Nej\",\n (BC$12*1000*1000/((BA$244+BB$244-BA$240-BB$240)*1000* Data!$B$7))+ (BC$6*1000*1000/((BA$244+BB$244)*1000* Data!$B$7)),0 ),  0)","v":0},186,"",{"$f":"IF(A209<>\"\",IF(F209=\"Nej\", (Data!$B$129*Data!$B$5*1000*Data!$B$3)/Data!$B$6,  0 ),\"\")","v":""},"","",{"$f":"IF(A209<>\"\",IF(BH209>0,  IF(BE209=\"Nej\",    (Data!$B$8-BH209)/Data!$B$8,  ROUND( (Data!$B$8-BH209)/Data!$B$8,2)),      \"\"),\"\")","v":""},"","","","",{"$f":"IF(A209<>\"\", IF(H209=\"Flytande\",   IF(BM209>0,  IF(BE209=\"Nej\",  (Data!$B$8-BM209)/Data!$B$8,  ROUND( (Data!$B$8-BM209)/Data!$B$8,2)   ), \"\"), \"\"),\"\")","v":""},"",186,"","","",null,""]
[null,187,null,null,null,null,null,null,null,null,null,null,null,null,{"$f":"IF(AND($A210<>\"\",(M210+N210)>0), IF($F210=\"Nej\",    IF(N$13=\"Nm3\",(O$12*1000*1000/((M$242+N$242+M$243+N$243)*1000*  $J210 * Data!$B$6)),  (O$12*1000*1000/(((M$242+N$242+M$243+N$243)/Denscalc($J210))*1000*  $J210 * Data!$B$6)) ), 0     ),  0)","v":0},187,null,null,{"$f":"IF(AND($A210<>\"\",(Q210+R210)>0), IF($F210=\"Nej\",    IF(R$13=\"Nm3\",(S$12*1000*1000/((Q$242+R$242+Q$243+R$243)*1000*  $J210 * Data!$B$6)),  (S$12*1000*1000/(((Q$242+R$242+Q$243+R$243)/Denscalc($J210))*1000*  $J210 * Data!$B$6)) ), 0     ),  0)","v":0},187,null,null,{"$f":"IF(AND($A210<>\"\",(U210+V210)>0), IF($F210=\"Nej\",    IF(V$13=\"Nm3\",(W$12*1000*1000/((U$242+V$242+U$243+V$243)*1000*  $J210 * Data!$B$6)),  (W$12*1000*1000/(((U$242+V$242+U$243+V$243)/Denscalc($J210))*1000*  $J210 * Data!$B$6)) ), 0     ),  0)","v":0},187,null,null,{"$f":"IF(AND($A210<>\"\",(Y210+Z210)>0), IF($F210=\"Nej\",    IF(Z$13=\"Nm3\",(AA$12*1000*1000/((Y$242+Z$242+Y$243+Z$243)*1000*  $J210 * Data!$B$6)),  (AA$12*1000*1000/(((Y$242+Z$242+Y$243+Z$243)/Denscalc($J210))*1000*  $J210 * Data!$B$6)) ), 0     ),  0)","v":0},187,null,null,{"$f":"IF(AND($A210<>\"\",(AC210+AD210)>0), IF($F210=\"Nej\",    IF(AD$13=\"Nm3\",(AE$12*1000*1000/((AC$242+AD$242+AC$243+AD$243)*1000*  $J210 * Data!$B$6)),  (AE$12*1000*1000/(((AC$242+AD$242+AC$243+AD$243)/Denscalc($J210))*1000*  $J210 * Data!$B$6)) ), 0     ),  0)","v":0},187,null,null,{"$f":"IF(AND($A210<>\"\",(AG210+AH210)>0), IF($F210=\"Nej\",    IF(AH$13=\"Nm3\",(AI$12*1000*1000/((AG$242+AH$242+AG$243+AH$243)*1000*  $J210 * Data!$B$6)),  (AI$12*1000*1000/(((AG$242+AH$242+AG$243+AH$243)/Denscalc($J210))*1000*  $J210 * Data!$B$6)) ), 0     ),  0)","v":0},187,null,null,{"$f":"IF(AND($A210<>\"\",(AK210+AL210)>0), IF($F210=\"Nej\",    IF(AL$13=\"Nm3\",(AM$12*1000*1000/((AK$242+AL$242+AK$243+AL$243)*1000*  $J210 * Data!$B$6)),  (AM$12*1000*1000/(((AK$242+AL$242+AK$243+AL$243)/Denscalc($J210))*1000*  $J210 * Data!$B$6)) ), 0     ),  0)","v":0},187,null,null,{"$f":"IF(AND($A210<>\"\",(AO210+AP210)>0), IF($F210=\"Nej\",    IF(AP$13=\"Nm3\",(AQ$12*1000*1000/((AO$242+AP$242+AO$243+AP$243)*1000*  $J210 * Data!$B$6)),  (AQ$12*1000*1000/(((AO$242+AP$242+AO$243+AP$243)/Denscalc($J210))*1000*  $J210 * Data!$B$6)) ), 0     ),  0)","v":0},187,null,null,{"$f":"IF(AND($A210<>\"\",(AS210+AT210)>0), IF($F210=\"Nej\",    IF(AT$13=\"Nm3\",(AU$12*1000*1000/((AS$242+AT$242+AS$243+AT$243)*1000*  $J210 * Data!$B$6)),  (AU$12*1000*1000/(((AS$242+AT$242+AS$243+AT$243)/Denscalc($J210))*1000*  $J210 * Data!$B$6)) ), 0     ),  0)","v":0},187,null,null,{"$f":"IF(AND($A210<>\"\",(AW210+AX210)>0), IF($F210=\"Nej\",\nIF(AX$13=\"Nm3\",(AY$12*1000*1000/((AW$242+AX$242+AW$243+AX$243-AW$240-AX$240)*1000*  $J210 * Data!$B$6))+(AY$6*1000*1000/((AW$242+AX$242+AW$243+AX$243)*1000*  $J210 * Data!$B$6)),\n (AY$12*1000*1000/(((AW$242+AX$242+AW$243+AX$243-AW$240-AX$240)/Denscalc($J210))*1000*  $J210 * Data!$B$6))  +  (AY$6*1000*1000/(((AW$242+AX$242+AW$243+AX$243)/Denscalc($J210))*1000*  $J210 * Data!$B$6)) ), 0     ),  0)","v":0},187,null,null,{"$f":"IF(AND($A210<>\"\",(BA210+BB210)>0), IF($F210=\"Nej\",\n (BC$12*1000*1000/((BA$244+BB$244-BA$240-BB$240)*1000* Data!$B$7))+ (BC$6*1000*1000/((BA$244+BB$244)*1000* Data!$B$7)),0 ),  0)","v":0},187,"",{"$f":"IF(A210<>\"\",IF(F210=\"Nej\", (Data!$B$129*Data!$B$5*1000*Data!$B$3)/Data!$B$6,  0 ),\"\")","v":""},"","",{"$f":"IF(A210<>\"\",IF(BH210>0,  IF(BE210=\"Nej\",    (Data!$B$8-BH210)/Data!$B$8,  ROUND( (Data!$B$8-BH210)/Data!$B$8,2)),      \"\"),\"\")","v":""},"","","","",{"$f":"IF(A210<>\"\", IF(H210=\"Flytande\",   IF(BM210>0,  IF(BE210=\"Nej\",  (Data!$B$8-BM210)/Data!$B$8,  ROUND( (Data!$B$8-BM210)/Data!$B$8,2)   ), \"\"), \"\"),\"\")","v":""},"",187,"","","",null,""]
[null,188,null,null,null,null,null,null,null,null,null,null,null,null,{"$f":"IF(AND($A211<>\"\",(M211+N211)>0), IF($F211=\"Nej\",    IF(N$13=\"Nm3\",(O$12*1000*1000/((M$242+N$242+M$243+N$243)*1000*  $J211 * Data!$B$6)),  (O$12*1000*1000/(((M$242+N$242+M$243+N$243)/Denscalc($J211))*1000*  $J211 * Data!$B$6)) ), 0     ),  0)","v":0},188,null,null,{"$f":"IF(AND($A211<>\"\",(Q211+R211)>0), IF($F211=\"Nej\",    IF(R$13=\"Nm3\",(S$12*1000*1000/((Q$242+R$242+Q$243+R$243)*1000*  $J211 * Data!$B$6)),  (S$12*1000*1000/(((Q$242+R$242+Q$243+R$243)/Denscalc($J211))*1000*  $J211 * Data!$B$6)) ), 0     ),  0)","v":0},188,null,null,{"$f":"IF(AND($A211<>\"\",(U211+V211)>0), IF($F211=\"Nej\",    IF(V$13=\"Nm3\",(W$12*1000*1000/((U$242+V$242+U$243+V$243)*1000*  $J211 * Data!$B$6)),  (W$12*1000*1000/(((U$242+V$242+U$243+V$243)/Denscalc($J211))*1000*  $J211 * Data!$B$6)) ), 0     ),  0)","v":0},188,null,null,{"$f":"IF(AND($A211<>\"\",(Y211+Z211)>0), IF($F211=\"Nej\",    IF(Z$13=\"Nm3\",(AA$12*1000*1000/((Y$242+Z$242+Y$243+Z$243)*1000*  $J211 * Data!$B$6)),  (AA$12*1000*1000/(((Y$242+Z$242+Y$243+Z$243)/Denscalc($J211))*1000*  $J211 * Data!$B$6)) ), 0     ),  0)","v":0},188,null,null,{"$f":"IF(AND($A211<>\"\",(AC211+AD211)>0), IF($F211=\"Nej\",    IF(AD$13=\"Nm3\",(AE$12*1000*1000/((AC$242+AD$242+AC$243+AD$243)*1000*  $J211 * Data!$B$6)),  (AE$12*1000*1000/(((AC$242+AD$242+AC$243+AD$243)/Denscalc($J211))*1000*  $J211 * Data!$B$6)) ), 0     ),  0)","v":0},188,null,null,{"$f":"IF(AND($A211<>\"\",(AG211+AH211)>0), IF($F211=\"Nej\",    IF(AH$13=\"Nm3\",(AI$12*1000*1000/((AG$242+AH$242+AG$243+AH$243)*1000*  $J211 * Data!$B$6)),  (AI$12*1000*1000/(((AG$242+AH$242+AG$243+AH$243)/Denscalc($J211))*1000*  $J211 * Data!$B$6)) ), 0     ),  0)","v":0},188,null,null,{"$f":"IF(AND($A211<>\"\",(AK211+AL211)>0), IF($F211=\"Nej\",    IF(AL$13=\"Nm3\",(AM$12*1000*1000/((AK$242+AL$242+AK$243+AL$243)*1000*  $J211 * Data!$B$6)),  (AM$12*1000*1000/(((AK$242+AL$242+AK$243+AL$243)/Denscalc($J211))*1000*  $J211 * Data!$B$6)) ), 0     ),  0)","v":0},188,null,null,{"$f":"IF(AND($A211<>\"\",(AO211+AP211)>0), IF($F211=\"Nej\",    IF(AP$13=\"Nm3\",(AQ$12*1000*1000/((AO$242+AP$242+AO$243+AP$243)*1000*  $J211 * Data!$B$6)),  (AQ$12*1000*1000/(((AO$242+AP$242+AO$243+AP$243)/Denscalc($J211))*1000*  $J211 * Data!$B$6)) ), 0     ),  0)","v":0},188,null,null,{"$f":"IF(AND($A211<>\"\",(AS211+AT211)>0), IF($F211=\"Nej\",    IF(AT$13=\"Nm3\",(AU$12*1000*1000/((AS$242+AT$242+AS$243+AT$243)*1000*  $J211 * Data!$B$6)),  (AU$12*1000*1000/(((AS$242+AT$242+AS$243+AT$243)/Denscalc($J211))*1000*  $J211 * Data!$B$6)) ), 0     ),  0)","v":0},188,null,null,{"$f":"IF(AND($A211<>\"\",(AW211+AX211)>0), IF($F211=\"Nej\",\nIF(AX$13=\"Nm3\",(AY$12*1000*1000/((AW$242+AX$242+AW$243+AX$243-AW$240-AX$240)*1000*  $J211 * Data!$B$6))+(AY$6*1000*1000/((AW$242+AX$242+AW$243+AX$243)*1000*  $J211 * Data!$B$6)),\n (AY$12*1000*1000/(((AW$242+AX$242+AW$243+AX$243-AW$240-AX$240)/Denscalc($J211))*1000*  $J211 * Data!$B$6))  +  (AY$6*1000*1000/(((AW$242+AX$242+AW$243+AX$243)/Denscalc($J211))*1000*  $J211 * Data!$B$6)) ), 0     ),  0)","v":0},188,null,null,{"$f":"IF(AND($A211<>\"\",(BA211+BB211)>0), IF($F211=\"Nej\",\n (BC$12*1000*1000/((BA$244+BB$244-BA$240-BB$240)*1000* Data!$B$7))+ (BC$6*1000*1000/((BA$244+BB$244)*1000* Data!$B$7)),0 ),  0)","v":0},188,"",{"$f":"IF(A211<>\"\",IF(F211=\"Nej\", (Data!$B$129*Data!$B$5*1000*Data!$B$3)/Data!$B$6,  0 ),\"\")","v":""},"","",{"$f":"IF(A211<>\"\",IF(BH211>0,  IF(BE211=\"Nej\",    (Data!$B$8-BH211)/Data!$B$8,  ROUND( (Data!$B$8-BH211)/Data!$B$8,2)),      \"\"),\"\")","v":""},"","","","",{"$f":"IF(A211<>\"\", IF(H211=\"Flytande\",   IF(BM211>0,  IF(BE211=\"Nej\",  (Data!$B$8-BM211)/Data!$B$8,  ROUND( (Data!$B$8-BM211)/Data!$B$8,2)   ), \"\"), \"\"),\"\")","v":""},"",188,"","","",null,""]
[null,189,null,null,null,null,null,null,null,null,null,null,null,null,{"$f":"IF(AND($A212<>\"\",(M212+N212)>0), IF($F212=\"Nej\",    IF(N$13=\"Nm3\",(O$12*1000*1000/((M$242+N$242+M$243+N$243)*1000*  $J212 * Data!$B$6)),  (O$12*1000*1000/(((M$242+N$242+M$243+N$243)/Denscalc($J212))*1000*  $J212 * Data!$B$6)) ), 0     ),  0)","v":0},189,null,null,{"$f":"IF(AND($A212<>\"\",(Q212+R212)>0), IF($F212=\"Nej\",    IF(R$13=\"Nm3\",(S$12*1000*1000/((Q$242+R$242+Q$243+R$243)*1000*  $J212 * Data!$B$6)),  (S$12*1000*1000/(((Q$242+R$242+Q$243+R$243)/Denscalc($J212))*1000*  $J212 * Data!$B$6)) ), 0     ),  0)","v":0},189,null,null,{"$f":"IF(AND($A212<>\"\",(U212+V212)>0), IF($F212=\"Nej\",    IF(V$13=\"Nm3\",(W$12*1000*1000/((U$242+V$242+U$243+V$243)*1000*  $J212 * Data!$B$6)),  (W$12*1000*1000/(((U$242+V$242+U$243+V$243)/Denscalc($J212))*1000*  $J212 * Data!$B$6)) ), 0     ),  0)","v":0},189,null,null,{"$f":"IF(AND($A212<>\"\",(Y212+Z212)>0), IF($F212=\"Nej\",    IF(Z$13=\"Nm3\",(AA$12*1000*1000/((Y$242+Z$242+Y$243+Z$243)*1000*  $J212 * Data!$B$6)),  (AA$12*1000*1000/(((Y$242+Z$242+Y$243+Z$243)/Denscalc($J212))*1000*  $J212 * Data!$B$6)) ), 0     ),  0)","v":0},189,null,null,{"$f":"IF(AND($A212<>\"\",(AC212+AD212)>0), IF($F212=\"Nej\",    IF(AD$13=\"Nm3\",(AE$12*1000*1000/((AC$242+AD$242+AC$243+AD$243)*1000*  $J212 * Data!$B$6)),  (AE$12*1000*1000/(((AC$242+AD$242+AC$243+AD$243)/Denscalc($J212))*1000*  $J212 * Data!$B$6)) ), 0     ),  0)","v":0},189,null,null,{"$f":"IF(AND($A212<>\"\",(AG212+AH212)>0), IF($F212=\"Nej\",    IF(AH$13=\"Nm3\",(AI$12*1000*1000/((AG$242+AH$242+AG$243+AH$243)*1000*  $J212 * Data!$B$6)),  (AI$12*1000*1000/(((AG$242+AH$242+AG$243+AH$243)/Denscalc($J212))*1000*  $J212 * Data!$B$6)) ), 0     ),  0)","v":0},189,null,null,{"$f":"IF(AND($A212<>\"\",(AK212+AL212)>0), IF($F212=\"Nej\",    IF(AL$13=\"Nm3\",(AM$12*1000*1000/((AK$242+AL$242+AK$243+AL$243)*1000*  $J212 * Data!$B$6)),  (AM$12*1000*1000/(((AK$242+AL$242+AK$243+AL$243)/Denscalc($J212))*1000*  $J212 * Data!$B$6)) ), 0     ),  0)","v":0},189,null,null,{"$f":"IF(AND($A212<>\"\",(AO212+AP212)>0), IF($F212=\"Nej\",    IF(AP$13=\"Nm3\",(AQ$12*1000*1000/((AO$242+AP$242+AO$243+AP$243)*1000*  $J212 * Data!$B$6)),  (AQ$12*1000*1000/(((AO$242+AP$242+AO$243+AP$243)/Denscalc($J212))*1000*  $J212 * Data!$B$6)) ), 0     ),  0)","v":0},189,null,null,{"$f":"IF(AND($A212<>\"\",(AS212+AT212)>0), IF($F212=\"Nej\",    IF(AT$13=\"Nm3\",(AU$12*1000*1000/((AS$242+AT$242+AS$243+AT$243)*1000*  $J212 * Data!$B$6)),  (AU$12*1000*1000/(((AS$242+AT$242+AS$243+AT$243)/Denscalc($J212))*1000*  $J212 * Data!$B$6)) ), 0     ),  0)","v":0},189,null,null,{"$f":"IF(AND($A212<>\"\",(AW212+AX212)>0), IF($F212=\"Nej\",\nIF(AX$13=\"Nm3\",(AY$12*1000*1000/((AW$242+AX$242+AW$243+AX$243-AW$240-AX$240)*1000*  $J212 * Data!$B$6))+(AY$6*1000*1000/((AW$242+AX$242+AW$243+AX$243)*1000*  $J212 * Data!$B$6)),\n (AY$12*1000*1000/(((AW$242+AX$242+AW$243+AX$243-AW$240-AX$240)/Denscalc($J212))*1000*  $J212 * Data!$B$6))  +  (AY$6*1000*1000/(((AW$242+AX$242+AW$243+AX$243)/Denscalc($J212))*1000*  $J212 * Data!$B$6)) ), 0     ),  0)","v":0},189,null,null,{"$f":"IF(AND($A212<>\"\",(BA212+BB212)>0), IF($F212=\"Nej\",\n (BC$12*1000*1000/((BA$244+BB$244-BA$240-BB$240)*1000* Data!$B$7))+ (BC$6*1000*1000/((BA$244+BB$244)*1000* Data!$B$7)),0 ),  0)","v":0},189,"",{"$f":"IF(A212<>\"\",IF(F212=\"Nej\", (Data!$B$129*Data!$B$5*1000*Data!$B$3)/Data!$B$6,  0 ),\"\")","v":""},"",{"$f":"IF(A212<>\"\", IF(BE212=\"Nej\",  (K212+BG212), BE212),\"\")","v":""},{"$f":"IF(A212<>\"\",IF(BH212>0,  IF(BE212=\"Nej\",    (Data!$B$8-BH212)/Data!$B$8,  ROUND( (Data!$B$8-BH212)/Data!$B$8,2)),      \"\"),\"\")","v":""},"",{"$f":"IF(A212<>\"\", SUM(  IF(R$13=\"kg\",Q212,0),  IF(V$13=\"kg\",U212,0),  IF(Z$13=\"kg\",Y212,0),  IF(AD$13=\"kg\",AC212,0), IF(AH$13=\"kg\",AG212,0),  IF(AL$13=\"kg\",AK212,0),  IF(AP$13=\"kg\",AO212,0),  IF(AT$13=\"kg\",AS212,0), IF(AX$13=\"kg\",AW212,0),  ),\"\")","v":""},"","",{"$f":"IF(A212<>\"\", IF(H212=\"Flytande\",   IF(BM212>0,  IF(BE212=\"Nej\",  (Data!$B$8-BM212)/Data!$B$8,  ROUND( (Data!$B$8-BM212)/Data!$B$8,2)   ), \"\"), \"\"),\"\")","v":""},"",189,{"$f":"IF(A212<>\"\", SUM(IF(N$13=\"Nm3\",N212,0),  IF(R$13=\"Nm3\",R212,0),  IF(V$13=\"Nm3\",V212,0),  IF(Z$13=\"Nm3\",Z212,0),  IF(AD$13=\"Nm3\",AD212,0), IF(AH$13=\"Nm3\",AH212,0),  IF(AL$13=\"Nm3\",AL212,0),  IF(AP$13=\"Nm3\",AP212,0),  IF(AT$13=\"Nm3\",AT212,0), IF(AX$13=\"Nm3\",AX212,0),  ),\"\")","v":""},{"$f":"IF(A212<>\"\", SUM(IF(N$13=\"kg\",N212,0),  IF(R$13=\"kg\",R212,0),  IF(V$13=\"kg\",V212,0),  IF(Z$13=\"kg\",Z212,0),  IF(AD$13=\"kg\",AD212,0), IF(AH$13=\"kg\",AH212,0),  IF(AL$13=\"kg\",AL212,0),  IF(AP$13=\"kg\",AP212,0),  IF(AT$13=\"kg\",AT212,0), IF(AX$13=\"kg\",AX212,0),  ),\"\")","v":""},{"$f":"IF(A212<>\"\",BB212,\"\")","v":""},null,{"$f":"IF(A212<>\"\",    IF(H212=\"Gas\", IF(I212=\"kg\", ((BJ212*Denscalc(J212) +BK212+BQ212*Denscalc(J212)+BR212)-G212), ( (BJ212+BK212/Denscalc(J212) + BQ212+BR212/Denscalc(J212))-G212)), ( (   BJ212*Denscalc(J212)+BK212+BO212+BQ212*Denscalc(J212)+BR212+BS212)-G212)  ), \"\")","v":""}]
[null,190,null,null,null,null,null,null,null,null,null,null,null,null,{"$f":"IF(AND($A213<>\"\",(M213+N213)>0), IF($F213=\"Nej\",    IF(N$13=\"Nm3\",(O$12*1000*1000/((M$242+N$242+M$243+N$243)*1000*  $J213 * Data!$B$6)),  (O$12*1000*1000/(((M$242+N$242+M$243+N$243)/Denscalc($J213))*1000*  $J213 * Data!$B$6)) ), 0     ),  0)","v":0},190,null,null,{"$f":"IF(AND($A213<>\"\",(Q213+R213)>0), IF($F213=\"Nej\",    IF(R$13=\"Nm3\",(S$12*1000*1000/((Q$242+R$242+Q$243+R$243)*1000*  $J213 * Data!$B$6)),  (S$12*1000*1000/(((Q$242+R$242+Q$243+R$243)/Denscalc($J213))*1000*  $J213 * Data!$B$6)) ), 0     ),  0)","v":0},190,null,null,{"$f":"IF(AND($A213<>\"\",(U213+V213)>0), IF($F213=\"Nej\",    IF(V$13=\"Nm3\",(W$12*1000*1000/((U$242+V$242+U$243+V$243)*1000*  $J213 * Data!$B$6)),  (W$12*1000*1000/(((U$242+V$242+U$243+V$243)/Denscalc($J213))*1000*  $J213 * Data!$B$6)) ), 0     ),  0)","v":0},190,null,null,{"$f":"IF(AND($A213<>\"\",(Y213+Z213)>0), IF($F213=\"Nej\",    IF(Z$13=\"Nm3\",(AA$12*1000*1000/((Y$242+Z$242+Y$243+Z$243)*1000*  $J213 * Data!$B$6)),  (AA$12*1000*1000/(((Y$242+Z$242+Y$243+Z$243)/Denscalc($J213))*1000*  $J213 * Data!$B$6)) ), 0     ),  0)","v":0},190,null,null,{"$f":"IF(AND($A213<>\"\",(AC213+AD213)>0), IF($F213=\"Nej\",    IF(AD$13=\"Nm3\",(AE$12*1000*1000/((AC$242+AD$242+AC$243+AD$243)*1000*  $J213 * Data!$B$6)),  (AE$12*1000*1000/(((AC$242+AD$242+AC$243+AD$243)/Denscalc($J213))*1000*  $J213 * Data!$B$6)) ), 0     ),  0)","v":0},190,null,null,{"$f":"IF(AND($A213<>\"\",(AG213+AH213)>0), IF($F213=\"Nej\",    IF(AH$13=\"Nm3\",(AI$12*1000*1000/((AG$242+AH$242+AG$243+AH$243)*1000*  $J213 * Data!$B$6)),  (AI$12*1000*1000/(((AG$242+AH$242+AG$243+AH$243)/Denscalc($J213))*1000*  $J213 * Data!$B$6)) ), 0     ),  0)","v":0},190,null,null,{"$f":"IF(AND($A213<>\"\",(AK213+AL213)>0), IF($F213=\"Nej\",    IF(AL$13=\"Nm3\",(AM$12*1000*1000/((AK$242+AL$242+AK$243+AL$243)*1000*  $J213 * Data!$B$6)),  (AM$12*1000*1000/(((AK$242+AL$242+AK$243+AL$243)/Denscalc($J213))*1000*  $J213 * Data!$B$6)) ), 0     ),  0)","v":0},190,null,null,{"$f":"IF(AND($A213<>\"\",(AO213+AP213)>0), IF($F213=\"Nej\",    IF(AP$13=\"Nm3\",(AQ$12*1000*1000/((AO$242+AP$242+AO$243+AP$243)*1000*  $J213 * Data!$B$6)),  (AQ$12*1000*1000/(((AO$242+AP$242+AO$243+AP$243)/Denscalc($J213))*1000*  $J213 * Data!$B$6)) ), 0     ),  0)","v":0},190,null,null,{"$f":"IF(AND($A213<>\"\",(AS213+AT213)>0), IF($F213=\"Nej\",    IF(AT$13=\"Nm3\",(AU$12*1000*1000/((AS$242+AT$242+AS$243+AT$243)*1000*  $J213 * Data!$B$6)),  (AU$12*1000*1000/(((AS$242+AT$242+AS$243+AT$243)/Denscalc($J213))*1000*  $J213 * Data!$B$6)) ), 0     ),  0)","v":0},190,null,null,{"$f":"IF(AND($A213<>\"\",(AW213+AX213)>0), IF($F213=\"Nej\",\nIF(AX$13=\"Nm3\",(AY$12*1000*1000/((AW$242+AX$242+AW$243+AX$243-AW$240-AX$240)*1000*  $J213 * Data!$B$6))+(AY$6*1000*1000/((AW$242+AX$242+AW$243+AX$243)*1000*  $J213 * Data!$B$6)),\n (AY$12*1000*1000/(((AW$242+AX$242+AW$243+AX$243-AW$240-AX$240)/Denscalc($J213))*1000*  $J213 * Data!$B$6))  +  (AY$6*1000*1000/(((AW$242+AX$242+AW$243+AX$243)/Denscalc($J213))*1000*  $J213 * Data!$B$6)) ), 0     ),  0)","v":0},190,null,null,{"$f":"IF(AND($A213<>\"\",(BA213+BB213)>0), IF($F213=\"Nej\",\n (BC$12*1000*1000/((BA$244+BB$244-BA$240-BB$240)*1000* Data!$B$7))+ (BC$6*1000*1000/((BA$244+BB$244)*1000* Data!$B$7)),0 ),  0)","v":0},190,{"$f":"IF(F213<>0,F213,\"\")","v":""},{"$f":"IF(A213<>\"\",IF(F213=\"Nej\", (Data!$B$129*Data!$B$5*1000*Data!$B$3)/Data!$B$6,  0 ),\"\")","v":""},{"$f":"IF(A213<>\"\",   IF(H213=\"Gas\",\n( ((O213*(M213+N213) + S213*(Q213+R213) + W213*(U213+V213) + AA213*(Y213+Z213) + AE213*(AC213+AD213) + AI213*(AG213+AH213) + AM213*(AK213+AL213) + AQ213*(AO213+AP213) + AU213*(AS213+AT213)  )) /\n( M213+N213+Q213+R213+U213+V213+Y213+Z213+AC213+AD213+AG213+AH213+AK213+AL213+AO213+AP213+AS213+AT213)+BF213),\nAY213+BF213 ),  \"\")","v":""},"",{"$f":"IF(A213<>\"\",IF(BH213>0,  IF(BE213=\"Nej\",    (Data!$B$8-BH213)/Data!$B$8,  ROUND( (Data!$B$8-BH213)/Data!$B$8,2)),      \"\"),\"\")","v":""},{"$f":"IF(A213<>\"\", SUM( IF(R$13=\"Nm3\",Q213,0),  IF(V$13=\"Nm3\",U213,0),  IF(Z$13=\"Nm3\",Y213,0),  IF(AD$13=\"Nm3\",AC213,0), IF(AH$13=\"Nm3\",AG213,0),  IF(AL$13=\"Nm3\",AK213,0),  IF(AP$13=\"Nm3\",AO213,0),  IF(AT$13=\"Nm3\",AS213,0), IF(AX$13=\"Nm3\",AW213,0),  ),\"\")","v":""},"",{"$f":"IF(A213<>\"\",   IF(H213=\"Flytande\", BC213+BF213, \"\"    ), \"\")","v":""},{"$f":"IF(A213<>\"\", IF(H213=\"Flytande\", IF(BE213=\"Nej\",    (K213+BL213),  BE213),\"\"), \"\")","v":""},{"$f":"IF(A213<>\"\", IF(H213=\"Flytande\",   IF(BM213>0,  IF(BE213=\"Nej\",  (Data!$B$8-BM213)/Data!$B$8,  ROUND( (Data!$B$8-BM213)/Data!$B$8,2)   ), \"\"), \"\"),\"\")","v":""},{"$f":"IF(A213<>\"\",BA213,\"\")","v":""},190,"","","",null,""]
[null,191,null,null,null,null,null,null,null,null,null,null,null,null,{"$f":"IF(AND($A214<>\"\",(M214+N214)>0), IF($F214=\"Nej\",    IF(N$13=\"Nm3\",(O$12*1000*1000/((M$242+N$242+M$243+N$243)*1000*  $J214 * Data!$B$6)),  (O$12*1000*1000/(((M$242+N$242+M$243+N$243)/Denscalc($J214))*1000*  $J214 * Data!$B$6)) ), 0     ),  0)","v":0},191,null,null,{"$f":"IF(AND($A214<>\"\",(Q214+R214)>0), IF($F214=\"Nej\",    IF(R$13=\"Nm3\",(S$12*1000*1000/((Q$242+R$242+Q$243+R$243)*1000*  $J214 * Data!$B$6)),  (S$12*1000*1000/(((Q$242+R$242+Q$243+R$243)/Denscalc($J214))*1000*  $J214 * Data!$B$6)) ), 0     ),  0)","v":0},191,null,null,{"$f":"IF(AND($A214<>\"\",(U214+V214)>0), IF($F214=\"Nej\",    IF(V$13=\"Nm3\",(W$12*1000*1000/((U$242+V$242+U$243+V$243)*1000*  $J214 * Data!$B$6)),  (W$12*1000*1000/(((U$242+V$242+U$243+V$243)/Denscalc($J214))*1000*  $J214 * Data!$B$6)) ), 0     ),  0)","v":0},191,null,null,{"$f":"IF(AND($A214<>\"\",(Y214+Z214)>0), IF($F214=\"Nej\",    IF(Z$13=\"Nm3\",(AA$12*1000*1000/((Y$242+Z$242+Y$243+Z$243)*1000*  $J214 * Data!$B$6)),  (AA$12*1000*1000/(((Y$242+Z$242+Y$243+Z$243)/Denscalc($J214))*1000*  $J214 * Data!$B$6)) ), 0     ),  0)","v":0},191,null,null,{"$f":"IF(AND($A214<>\"\",(AC214+AD214)>0), IF($F214=\"Nej\",    IF(AD$13=\"Nm3\",(AE$12*1000*1000/((AC$242+AD$242+AC$243+AD$243)*1000*  $J214 * Data!$B$6)),  (AE$12*1000*1000/(((AC$242+AD$242+AC$243+AD$243)/Denscalc($J214))*1000*  $J214 * Data!$B$6)) ), 0     ),  0)","v":0},191,null,null,{"$f":"IF(AND($A214<>\"\",(AG214+AH214)>0), IF($F214=\"Nej\",    IF(AH$13=\"Nm3\",(AI$12*1000*1000/((AG$242+AH$242+AG$243+AH$243)*1000*  $J214 * Data!$B$6)),  (AI$12*1000*1000/(((AG$242+AH$242+AG$243+AH$243)/Denscalc($J214))*1000*  $J214 * Data!$B$6)) ), 0     ),  0)","v":0},191,null,null,{"$f":"IF(AND($A214<>\"\",(AK214+AL214)>0), IF($F214=\"Nej\",    IF(AL$13=\"Nm3\",(AM$12*1000*1000/((AK$242+AL$242+AK$243+AL$243)*1000*  $J214 * Data!$B$6)),  (AM$12*1000*1000/(((AK$242+AL$242+AK$243+AL$243)/Denscalc($J214))*1000*  $J214 * Data!$B$6)) ), 0     ),  0)","v":0},191,null,null,{"$f":"IF(AND($A214<>\"\",(AO214+AP214)>0), IF($F214=\"Nej\",    IF(AP$13=\"Nm3\",(AQ$12*1000*1000/((AO$242+AP$242+AO$243+AP$243)*1000*  $J214 * Data!$B$6)),  (AQ$12*1000*1000/(((AO$242+AP$242+AO$243+AP$243)/Denscalc($J214))*1000*  $J214 * Data!$B$6)) ), 0     ),  0)","v":0},191,null,null,{"$f":"IF(AND($A214<>\"\",(AS214+AT214)>0), IF($F214=\"Nej\",    IF(AT$13=\"Nm3\",(AU$12*1000*1000/((AS$242+AT$242+AS$243+AT$243)*1000*  $J214 * Data!$B$6)),  (AU$12*1000*1000/(((AS$242+AT$242+AS$243+AT$243)/Denscalc($J214))*1000*  $J214 * Data!$B$6)) ), 0     ),  0)","v":0},191,null,null,{"$f":"IF(AND($A214<>\"\",(AW214+AX214)>0), IF($F214=\"Nej\",\nIF(AX$13=\"Nm3\",(AY$12*1000*1000/((AW$242+AX$242+AW$243+AX$243-AW$240-AX$240)*1000*  $J214 * Data!$B$6))+(AY$6*1000*1000/((AW$242+AX$242+AW$243+AX$243)*1000*  $J214 * Data!$B$6)),\n (AY$12*1000*1000/(((AW$242+AX$242+AW$243+AX$243-AW$240-AX$240)/Denscalc($J214))*1000*  $J214 * Data!$B$6))  +  (AY$6*1000*1000/(((AW$242+AX$242+AW$243+AX$243)/Denscalc($J214))*1000*  $J214 * Data!$B$6)) ), 0     ),  0)","v":0},191,null,null,{"$f":"IF(AND($A214<>\"\",(BA214+BB214)>0), IF($F214=\"Nej\",\n (BC$12*1000*1000/((BA$244+BB$244-BA$240-BB$240)*1000* Data!$B$7))+ (BC$6*1000*1000/((BA$244+BB$244)*1000* Data!$B$7)),0 ),  0)","v":0},191,"",{"$f":"IF(A214<>\"\",IF(F214=\"Nej\", (Data!$B$129*Data!$B$5*1000*Data!$B$3)/Data!$B$6,  0 ),\"\")","v":""},"","",{"$f":"IF(A214<>\"\",IF(BH214>0,  IF(BE214=\"Nej\",    (Data!$B$8-BH214)/Data!$B$8,  ROUND( (Data!$B$8-BH214)/Data!$B$8,2)),      \"\"),\"\")","v":""},"","","","",{"$f":"IF(A214<>\"\", IF(H214=\"Flytande\",   IF(BM214>0,  IF(BE214=\"Nej\",  (Data!$B$8-BM214)/Data!$B$8,  ROUND( (Data!$B$8-BM214)/Data!$B$8,2)   ), \"\"), \"\"),\"\")","v":""},"",191,"","","",null,""]
[null,192,null,null,null,null,null,null,null,null,null,null,null,null,{"$f":"IF(AND($A215<>\"\",(M215+N215)>0), IF($F215=\"Nej\",    IF(N$13=\"Nm3\",(O$12*1000*1000/((M$242+N$242+M$243+N$243)*1000*  $J215 * Data!$B$6)),  (O$12*1000*1000/(((M$242+N$242+M$243+N$243)/Denscalc($J215))*1000*  $J215 * Data!$B$6)) ), 0     ),  0)","v":0},192,null,null,{"$f":"IF(AND($A215<>\"\",(Q215+R215)>0), IF($F215=\"Nej\",    IF(R$13=\"Nm3\",(S$12*1000*1000/((Q$242+R$242+Q$243+R$243)*1000*  $J215 * Data!$B$6)),  (S$12*1000*1000/(((Q$242+R$242+Q$243+R$243)/Denscalc($J215))*1000*  $J215 * Data!$B$6)) ), 0     ),  0)","v":0},192,null,null,{"$f":"IF(AND($A215<>\"\",(U215+V215)>0), IF($F215=\"Nej\",    IF(V$13=\"Nm3\",(W$12*1000*1000/((U$242+V$242+U$243+V$243)*1000*  $J215 * Data!$B$6)),  (W$12*1000*1000/(((U$242+V$242+U$243+V$243)/Denscalc($J215))*1000*  $J215 * Data!$B$6)) ), 0     ),  0)","v":0},192,null,null,{"$f":"IF(AND($A215<>\"\",(Y215+Z215)>0), IF($F215=\"Nej\",    IF(Z$13=\"Nm3\",(AA$12*1000*1000/((Y$242+Z$242+Y$243+Z$243)*1000*  $J215 * Data!$B$6)),  (AA$12*1000*1000/(((Y$242+Z$242+Y$243+Z$243)/Denscalc($J215))*1000*  $J215 * Data!$B$6)) ), 0     ),  0)","v":0},192,null,null,{"$f":"IF(AND($A215<>\"\",(AC215+AD215)>0), IF($F215=\"Nej\",    IF(AD$13=\"Nm3\",(AE$12*1000*1000/((AC$242+AD$242+AC$243+AD$243)*1000*  $J215 * Data!$B$6)),  (AE$12*1000*1000/(((AC$242+AD$242+AC$243+AD$243)/Denscalc($J215))*1000*  $J215 * Data!$B$6)) ), 0     ),  0)","v":0},192,null,null,{"$f":"IF(AND($A215<>\"\",(AG215+AH215)>0), IF($F215=\"Nej\",    IF(AH$13=\"Nm3\",(AI$12*1000*1000/((AG$242+AH$242+AG$243+AH$243)*1000*  $J215 * Data!$B$6)),  (AI$12*1000*1000/(((AG$242+AH$242+AG$243+AH$243)/Denscalc($J215))*1000*  $J215 * Data!$B$6)) ), 0     ),  0)","v":0},192,null,null,{"$f":"IF(AND($A215<>\"\",(AK215+AL215)>0), IF($F215=\"Nej\",    IF(AL$13=\"Nm3\",(AM$12*1000*1000/((AK$242+AL$242+AK$243+AL$243)*1000*  $J215 * Data!$B$6)),  (AM$12*1000*1000/(((AK$242+AL$242+AK$243+AL$243)/Denscalc($J215))*1000*  $J215 * Data!$B$6)) ), 0     ),  0)","v":0},192,null,null,{"$f":"IF(AND($A215<>\"\",(AO215+AP215)>0), IF($F215=\"Nej\",    IF(AP$13=\"Nm3\",(AQ$12*1000*1000/((AO$242+AP$242+AO$243+AP$243)*1000*  $J215 * Data!$B$6)),  (AQ$12*1000*1000/(((AO$242+AP$242+AO$243+AP$243)/Denscalc($J215))*1000*  $J215 * Data!$B$6)) ), 0     ),  0)","v":0},192,null,null,{"$f":"IF(AND($A215<>\"\",(AS215+AT215)>0), IF($F215=\"Nej\",    IF(AT$13=\"Nm3\",(AU$12*1000*1000/((AS$242+AT$242+AS$243+AT$243)*1000*  $J215 * Data!$B$6)),  (AU$12*1000*1000/(((AS$242+AT$242+AS$243+AT$243)/Denscalc($J215))*1000*  $J215 * Data!$B$6)) ), 0     ),  0)","v":0},192,null,null,{"$f":"IF(AND($A215<>\"\",(AW215+AX215)>0), IF($F215=\"Nej\",\nIF(AX$13=\"Nm3\",(AY$12*1000*1000/((AW$242+AX$242+AW$243+AX$243-AW$240-AX$240)*1000*  $J215 * Data!$B$6))+(AY$6*1000*1000/((AW$242+AX$242+AW$243+AX$243)*1000*  $J215 * Data!$B$6)),\n (AY$12*1000*1000/(((AW$242+AX$242+AW$243+AX$243-AW$240-AX$240)/Denscalc($J215))*1000*  $J215 * Data!$B$6))  +  (AY$6*1000*1000/(((AW$242+AX$242+AW$243+AX$243)/Denscalc($J215))*1000*  $J215 * Data!$B$6)) ), 0     ),  0)","v":0},192,null,null,{"$f":"IF(AND($A215<>\"\",(BA215+BB215)>0), IF($F215=\"Nej\",\n (BC$12*1000*1000/((BA$244+BB$244-BA$240-BB$240)*1000* Data!$B$7))+ (BC$6*1000*1000/((BA$244+BB$244)*1000* Data!$B$7)),0 ),  0)","v":0},192,"",{"$f":"IF(A215<>\"\",IF(F215=\"Nej\", (Data!$B$129*Data!$B$5*1000*Data!$B$3)/Data!$B$6,  0 ),\"\")","v":""},"","",{"$f":"IF(A215<>\"\",IF(BH215>0,  IF(BE215=\"Nej\",    (Data!$B$8-BH215)/Data!$B$8,  ROUND( (Data!$B$8-BH215)/Data!$B$8,2)),      \"\"),\"\")","v":""},"","","","",{"$f":"IF(A215<>\"\", IF(H215=\"Flytande\",   IF(BM215>0,  IF(BE215=\"Nej\",  (Data!$B$8-BM215)/Data!$B$8,  ROUND( (Data!$B$8-BM215)/Data!$B$8,2)   ), \"\"), \"\"),\"\")","v":""},"",192,"","","",null,""]
[null,193,null,null,null,null,null,null,null,null,null,null,null,null,{"$f":"IF(AND($A216<>\"\",(M216+N216)>0), IF($F216=\"Nej\",    IF(N$13=\"Nm3\",(O$12*1000*1000/((M$242+N$242+M$243+N$243)*1000*  $J216 * Data!$B$6)),  (O$12*1000*1000/(((M$242+N$242+M$243+N$243)/Denscalc($J216))*1000*  $J216 * Data!$B$6)) ), 0     ),  0)","v":0},193,null,null,{"$f":"IF(AND($A216<>\"\",(Q216+R216)>0), IF($F216=\"Nej\",    IF(R$13=\"Nm3\",(S$12*1000*1000/((Q$242+R$242+Q$243+R$243)*1000*  $J216 * Data!$B$6)),  (S$12*1000*1000/(((Q$242+R$242+Q$243+R$243)/Denscalc($J216))*1000*  $J216 * Data!$B$6)) ), 0     ),  0)","v":0},193,null,null,{"$f":"IF(AND($A216<>\"\",(U216+V216)>0), IF($F216=\"Nej\",    IF(V$13=\"Nm3\",(W$12*1000*1000/((U$242+V$242+U$243+V$243)*1000*  $J216 * Data!$B$6)),  (W$12*1000*1000/(((U$242+V$242+U$243+V$243)/Denscalc($J216))*1000*  $J216 * Data!$B$6)) ), 0     ),  0)","v":0},193,null,null,{"$f":"IF(AND($A216<>\"\",(Y216+Z216)>0), IF($F216=\"Nej\",    IF(Z$13=\"Nm3\",(AA$12*1000*1000/((Y$242+Z$242+Y$243+Z$243)*1000*  $J216 * Data!$B$6)),  (AA$12*1000*1000/(((Y$242+Z$242+Y$243+Z$243)/Denscalc($J216))*1000*  $J216 * Data!$B$6)) ), 0     ),  0)","v":0},193,null,null,{"$f":"IF(AND($A216<>\"\",(AC216+AD216)>0), IF($F216=\"Nej\",    IF(AD$13=\"Nm3\",(AE$12*1000*1000/((AC$242+AD$242+AC$243+AD$243)*1000*  $J216 * Data!$B$6)),  (AE$12*1000*1000/(((AC$242+AD$242+AC$243+AD$243)/Denscalc($J216))*1000*  $J216 * Data!$B$6)) ), 0     ),  0)","v":0},193,null,null,{"$f":"IF(AND($A216<>\"\",(AG216+AH216)>0), IF($F216=\"Nej\",    IF(AH$13=\"Nm3\",(AI$12*1000*1000/((AG$242+AH$242+AG$243+AH$243)*1000*  $J216 * Data!$B$6)),  (AI$12*1000*1000/(((AG$242+AH$242+AG$243+AH$243)/Denscalc($J216))*1000*  $J216 * Data!$B$6)) ), 0     ),  0)","v":0},193,null,null,{"$f":"IF(AND($A216<>\"\",(AK216+AL216)>0), IF($F216=\"Nej\",    IF(AL$13=\"Nm3\",(AM$12*1000*1000/((AK$242+AL$242+AK$243+AL$243)*1000*  $J216 * Data!$B$6)),  (AM$12*1000*1000/(((AK$242+AL$242+AK$243+AL$243)/Denscalc($J216))*1000*  $J216 * Data!$B$6)) ), 0     ),  0)","v":0},193,null,null,{"$f":"IF(AND($A216<>\"\",(AO216+AP216)>0), IF($F216=\"Nej\",    IF(AP$13=\"Nm3\",(AQ$12*1000*1000/((AO$242+AP$242+AO$243+AP$243)*1000*  $J216 * Data!$B$6)),  (AQ$12*1000*1000/(((AO$242+AP$242+AO$243+AP$243)/Denscalc($J216))*1000*  $J216 * Data!$B$6)) ), 0     ),  0)","v":0},193,null,null,{"$f":"IF(AND($A216<>\"\",(AS216+AT216)>0), IF($F216=\"Nej\",    IF(AT$13=\"Nm3\",(AU$12*1000*1000/((AS$242+AT$242+AS$243+AT$243)*1000*  $J216 * Data!$B$6)),  (AU$12*1000*1000/(((AS$242+AT$242+AS$243+AT$243)/Denscalc($J216))*1000*  $J216 * Data!$B$6)) ), 0     ),  0)","v":0},193,null,null,{"$f":"IF(AND($A216<>\"\",(AW216+AX216)>0), IF($F216=\"Nej\",\nIF(AX$13=\"Nm3\",(AY$12*1000*1000/((AW$242+AX$242+AW$243+AX$243-AW$240-AX$240)*1000*  $J216 * Data!$B$6))+(AY$6*1000*1000/((AW$242+AX$242+AW$243+AX$243)*1000*  $J216 * Data!$B$6)),\n (AY$12*1000*1000/(((AW$242+AX$242+AW$243+AX$243-AW$240-AX$240)/Denscalc($J216))*1000*  $J216 * Data!$B$6))  +  (AY$6*1000*1000/(((AW$242+AX$242+AW$243+AX$243)/Denscalc($J216))*1000*  $J216 * Data!$B$6)) ), 0     ),  0)","v":0},193,null,null,{"$f":"IF(AND($A216<>\"\",(BA216+BB216)>0), IF($F216=\"Nej\",\n (BC$12*1000*1000/((BA$244+BB$244-BA$240-BB$240)*1000* Data!$B$7))+ (BC$6*1000*1000/((BA$244+BB$244)*1000* Data!$B$7)),0 ),  0)","v":0},193,"",{"$f":"IF(A216<>\"\",IF(F216=\"Nej\", (Data!$B$129*Data!$B$5*1000*Data!$B$3)/Data!$B$6,  0 ),\"\")","v":""},"","",{"$f":"IF(A216<>\"\",IF(BH216>0,  IF(BE216=\"Nej\",    (Data!$B$8-BH216)/Data!$B$8,  ROUND( (Data!$B$8-BH216)/Data!$B$8,2)),      \"\"),\"\")","v":""},"","","","",{"$f":"IF(A216<>\"\", IF(H216=\"Flytande\",   IF(BM216>0,  IF(BE216=\"Nej\",  (Data!$B$8-BM216)/Data!$B$8,  ROUND( (Data!$B$8-BM216)/Data!$B$8,2)   ), \"\"), \"\"),\"\")","v":""},"",193,"","","",null,""]
[null,194,null,null,null,null,null,null,null,null,null,null,null,null,{"$f":"IF(AND($A217<>\"\",(M217+N217)>0), IF($F217=\"Nej\",    IF(N$13=\"Nm3\",(O$12*1000*1000/((M$242+N$242+M$243+N$243)*1000*  $J217 * Data!$B$6)),  (O$12*1000*1000/(((M$242+N$242+M$243+N$243)/Denscalc($J217))*1000*  $J217 * Data!$B$6)) ), 0     ),  0)","v":0},194,null,null,{"$f":"IF(AND($A217<>\"\",(Q217+R217)>0), IF($F217=\"Nej\",    IF(R$13=\"Nm3\",(S$12*1000*1000/((Q$242+R$242+Q$243+R$243)*1000*  $J217 * Data!$B$6)),  (S$12*1000*1000/(((Q$242+R$242+Q$243+R$243)/Denscalc($J217))*1000*  $J217 * Data!$B$6)) ), 0     ),  0)","v":0},194,null,null,{"$f":"IF(AND($A217<>\"\",(U217+V217)>0), IF($F217=\"Nej\",    IF(V$13=\"Nm3\",(W$12*1000*1000/((U$242+V$242+U$243+V$243)*1000*  $J217 * Data!$B$6)),  (W$12*1000*1000/(((U$242+V$242+U$243+V$243)/Denscalc($J217))*1000*  $J217 * Data!$B$6)) ), 0     ),  0)","v":0},194,null,null,{"$f":"IF(AND($A217<>\"\",(Y217+Z217)>0), IF($F217=\"Nej\",    IF(Z$13=\"Nm3\",(AA$12*1000*1000/((Y$242+Z$242+Y$243+Z$243)*1000*  $J217 * Data!$B$6)),  (AA$12*1000*1000/(((Y$242+Z$242+Y$243+Z$243)/Denscalc($J217))*1000*  $J217 * Data!$B$6)) ), 0     ),  0)","v":0},194,null,null,{"$f":"IF(AND($A217<>\"\",(AC217+AD217)>0), IF($F217=\"Nej\",    IF(AD$13=\"Nm3\",(AE$12*1000*1000/((AC$242+AD$242+AC$243+AD$243)*1000*  $J217 * Data!$B$6)),  (AE$12*1000*1000/(((AC$242+AD$242+AC$243+AD$243)/Denscalc($J217))*1000*  $J217 * Data!$B$6)) ), 0     ),  0)","v":0},194,null,null,{"$f":"IF(AND($A217<>\"\",(AG217+AH217)>0), IF($F217=\"Nej\",    IF(AH$13=\"Nm3\",(AI$12*1000*1000/((AG$242+AH$242+AG$243+AH$243)*1000*  $J217 * Data!$B$6)),  (AI$12*1000*1000/(((AG$242+AH$242+AG$243+AH$243)/Denscalc($J217))*1000*  $J217 * Data!$B$6)) ), 0     ),  0)","v":0},194,null,null,{"$f":"IF(AND($A217<>\"\",(AK217+AL217)>0), IF($F217=\"Nej\",    IF(AL$13=\"Nm3\",(AM$12*1000*1000/((AK$242+AL$242+AK$243+AL$243)*1000*  $J217 * Data!$B$6)),  (AM$12*1000*1000/(((AK$242+AL$242+AK$243+AL$243)/Denscalc($J217))*1000*  $J217 * Data!$B$6)) ), 0     ),  0)","v":0},194,null,null,{"$f":"IF(AND($A217<>\"\",(AO217+AP217)>0), IF($F217=\"Nej\",    IF(AP$13=\"Nm3\",(AQ$12*1000*1000/((AO$242+AP$242+AO$243+AP$243)*1000*  $J217 * Data!$B$6)),  (AQ$12*1000*1000/(((AO$242+AP$242+AO$243+AP$243)/Denscalc($J217))*1000*  $J217 * Data!$B$6)) ), 0     ),  0)","v":0},194,null,null,{"$f":"IF(AND($A217<>\"\",(AS217+AT217)>0), IF($F217=\"Nej\",    IF(AT$13=\"Nm3\",(AU$12*1000*1000/((AS$242+AT$242+AS$243+AT$243)*1000*  $J217 * Data!$B$6)),  (AU$12*1000*1000/(((AS$242+AT$242+AS$243+AT$243)/Denscalc($J217))*1000*  $J217 * Data!$B$6)) ), 0     ),  0)","v":0},194,null,null,{"$f":"IF(AND($A217<>\"\",(AW217+AX217)>0), IF($F217=\"Nej\",\nIF(AX$13=\"Nm3\",(AY$12*1000*1000/((AW$242+AX$242+AW$243+AX$243-AW$240-AX$240)*1000*  $J217 * Data!$B$6))+(AY$6*1000*1000/((AW$242+AX$242+AW$243+AX$243)*1000*  $J217 * Data!$B$6)),\n (AY$12*1000*1000/(((AW$242+AX$242+AW$243+AX$243-AW$240-AX$240)/Denscalc($J217))*1000*  $J217 * Data!$B$6))  +  (AY$6*1000*1000/(((AW$242+AX$242+AW$243+AX$243)/Denscalc($J217))*1000*  $J217 * Data!$B$6)) ), 0     ),  0)","v":0},194,null,null,{"$f":"IF(AND($A217<>\"\",(BA217+BB217)>0), IF($F217=\"Nej\",\n (BC$12*1000*1000/((BA$244+BB$244-BA$240-BB$240)*1000* Data!$B$7))+ (BC$6*1000*1000/((BA$244+BB$244)*1000* Data!$B$7)),0 ),  0)","v":0},194,"",{"$f":"IF(A217<>\"\",IF(F217=\"Nej\", (Data!$B$129*Data!$B$5*1000*Data!$B$3)/Data!$B$6,  0 ),\"\")","v":""},"","",{"$f":"IF(A217<>\"\",IF(BH217>0,  IF(BE217=\"Nej\",    (Data!$B$8-BH217)/Data!$B$8,  ROUND( (Data!$B$8-BH217)/Data!$B$8,2)),      \"\"),\"\")","v":""},"","","","",{"$f":"IF(A217<>\"\", IF(H217=\"Flytande\",   IF(BM217>0,  IF(BE217=\"Nej\",  (Data!$B$8-BM217)/Data!$B$8,  ROUND( (Data!$B$8-BM217)/Data!$B$8,2)   ), \"\"), \"\"),\"\")","v":""},"",194,"","","",null,""]
[null,195,null,null,null,null,null,null,null,null,null,null,null,null,{"$f":"IF(AND($A218<>\"\",(M218+N218)>0), IF($F218=\"Nej\",    IF(N$13=\"Nm3\",(O$12*1000*1000/((M$242+N$242+M$243+N$243)*1000*  $J218 * Data!$B$6)),  (O$12*1000*1000/(((M$242+N$242+M$243+N$243)/Denscalc($J218))*1000*  $J218 * Data!$B$6)) ), 0     ),  0)","v":0},195,null,null,{"$f":"IF(AND($A218<>\"\",(Q218+R218)>0), IF($F218=\"Nej\",    IF(R$13=\"Nm3\",(S$12*1000*1000/((Q$242+R$242+Q$243+R$243)*1000*  $J218 * Data!$B$6)),  (S$12*1000*1000/(((Q$242+R$242+Q$243+R$243)/Denscalc($J218))*1000*  $J218 * Data!$B$6)) ), 0     ),  0)","v":0},195,null,null,{"$f":"IF(AND($A218<>\"\",(U218+V218)>0), IF($F218=\"Nej\",    IF(V$13=\"Nm3\",(W$12*1000*1000/((U$242+V$242+U$243+V$243)*1000*  $J218 * Data!$B$6)),  (W$12*1000*1000/(((U$242+V$242+U$243+V$243)/Denscalc($J218))*1000*  $J218 * Data!$B$6)) ), 0     ),  0)","v":0},195,null,null,{"$f":"IF(AND($A218<>\"\",(Y218+Z218)>0), IF($F218=\"Nej\",    IF(Z$13=\"Nm3\",(AA$12*1000*1000/((Y$242+Z$242+Y$243+Z$243)*1000*  $J218 * Data!$B$6)),  (AA$12*1000*1000/(((Y$242+Z$242+Y$243+Z$243)/Denscalc($J218))*1000*  $J218 * Data!$B$6)) ), 0     ),  0)","v":0},195,null,null,{"$f":"IF(AND($A218<>\"\",(AC218+AD218)>0), IF($F218=\"Nej\",    IF(AD$13=\"Nm3\",(AE$12*1000*1000/((AC$242+AD$242+AC$243+AD$243)*1000*  $J218 * Data!$B$6)),  (AE$12*1000*1000/(((AC$242+AD$242+AC$243+AD$243)/Denscalc($J218))*1000*  $J218 * Data!$B$6)) ), 0     ),  0)","v":0},195,null,null,{"$f":"IF(AND($A218<>\"\",(AG218+AH218)>0), IF($F218=\"Nej\",    IF(AH$13=\"Nm3\",(AI$12*1000*1000/((AG$242+AH$242+AG$243+AH$243)*1000*  $J218 * Data!$B$6)),  (AI$12*1000*1000/(((AG$242+AH$242+AG$243+AH$243)/Denscalc($J218))*1000*  $J218 * Data!$B$6)) ), 0     ),  0)","v":0},195,null,null,{"$f":"IF(AND($A218<>\"\",(AK218+AL218)>0), IF($F218=\"Nej\",    IF(AL$13=\"Nm3\",(AM$12*1000*1000/((AK$242+AL$242+AK$243+AL$243)*1000*  $J218 * Data!$B$6)),  (AM$12*1000*1000/(((AK$242+AL$242+AK$243+AL$243)/Denscalc($J218))*1000*  $J218 * Data!$B$6)) ), 0     ),  0)","v":0},195,null,null,{"$f":"IF(AND($A218<>\"\",(AO218+AP218)>0), IF($F218=\"Nej\",    IF(AP$13=\"Nm3\",(AQ$12*1000*1000/((AO$242+AP$242+AO$243+AP$243)*1000*  $J218 * Data!$B$6)),  (AQ$12*1000*1000/(((AO$242+AP$242+AO$243+AP$243)/Denscalc($J218))*1000*  $J218 * Data!$B$6)) ), 0     ),  0)","v":0},195,null,null,{"$f":"IF(AND($A218<>\"\",(AS218+AT218)>0), IF($F218=\"Nej\",    IF(AT$13=\"Nm3\",(AU$12*1000*1000/((AS$242+AT$242+AS$243+AT$243)*1000*  $J218 * Data!$B$6)),  (AU$12*1000*1000/(((AS$242+AT$242+AS$243+AT$243)/Denscalc($J218))*1000*  $J218 * Data!$B$6)) ), 0     ),  0)","v":0},195,null,null,{"$f":"IF(AND($A218<>\"\",(AW218+AX218)>0), IF($F218=\"Nej\",\nIF(AX$13=\"Nm3\",(AY$12*1000*1000/((AW$242+AX$242+AW$243+AX$243-AW$240-AX$240)*1000*  $J218 * Data!$B$6))+(AY$6*1000*1000/((AW$242+AX$242+AW$243+AX$243)*1000*  $J218 * Data!$B$6)),\n (AY$12*1000*1000/(((AW$242+AX$242+AW$243+AX$243-AW$240-AX$240)/Denscalc($J218))*1000*  $J218 * Data!$B$6))  +  (AY$6*1000*1000/(((AW$242+AX$242+AW$243+AX$243)/Denscalc($J218))*1000*  $J218 * Data!$B$6)) ), 0     ),  0)","v":0},195,null,null,{"$f":"IF(AND($A218<>\"\",(BA218+BB218)>0), IF($F218=\"Nej\",\n (BC$12*1000*1000/((BA$244+BB$244-BA$240-BB$240)*1000* Data!$B$7))+ (BC$6*1000*1000/((BA$244+BB$244)*1000* Data!$B$7)),0 ),  0)","v":0},195,"",{"$f":"IF(A218<>\"\",IF(F218=\"Nej\", (Data!$B$129*Data!$B$5*1000*Data!$B$3)/Data!$B$6,  0 ),\"\")","v":""},"","",{"$f":"IF(A218<>\"\",IF(BH218>0,  IF(BE218=\"Nej\",    (Data!$B$8-BH218)/Data!$B$8,  ROUND( (Data!$B$8-BH218)/Data!$B$8,2)),      \"\"),\"\")","v":""},"","","","",{"$f":"IF(A218<>\"\", IF(H218=\"Flytande\",   IF(BM218>0,  IF(BE218=\"Nej\",  (Data!$B$8-BM218)/Data!$B$8,  ROUND( (Data!$B$8-BM218)/Data!$B$8,2)   ), \"\"), \"\"),\"\")","v":""},"",195,"","","",null,""]
[null,196,null,null,null,null,null,null,null,null,null,null,null,null,{"$f":"IF(AND($A219<>\"\",(M219+N219)>0), IF($F219=\"Nej\",    IF(N$13=\"Nm3\",(O$12*1000*1000/((M$242+N$242+M$243+N$243)*1000*  $J219 * Data!$B$6)),  (O$12*1000*1000/(((M$242+N$242+M$243+N$243)/Denscalc($J219))*1000*  $J219 * Data!$B$6)) ), 0     ),  0)","v":0},196,null,null,{"$f":"IF(AND($A219<>\"\",(Q219+R219)>0), IF($F219=\"Nej\",    IF(R$13=\"Nm3\",(S$12*1000*1000/((Q$242+R$242+Q$243+R$243)*1000*  $J219 * Data!$B$6)),  (S$12*1000*1000/(((Q$242+R$242+Q$243+R$243)/Denscalc($J219))*1000*  $J219 * Data!$B$6)) ), 0     ),  0)","v":0},196,null,null,{"$f":"IF(AND($A219<>\"\",(U219+V219)>0), IF($F219=\"Nej\",    IF(V$13=\"Nm3\",(W$12*1000*1000/((U$242+V$242+U$243+V$243)*1000*  $J219 * Data!$B$6)),  (W$12*1000*1000/(((U$242+V$242+U$243+V$243)/Denscalc($J219))*1000*  $J219 * Data!$B$6)) ), 0     ),  0)","v":0},196,null,null,{"$f":"IF(AND($A219<>\"\",(Y219+Z219)>0), IF($F219=\"Nej\",    IF(Z$13=\"Nm3\",(AA$12*1000*1000/((Y$242+Z$242+Y$243+Z$243)*1000*  $J219 * Data!$B$6)),  (AA$12*1000*1000/(((Y$242+Z$242+Y$243+Z$243)/Denscalc($J219))*1000*  $J219 * Data!$B$6)) ), 0     ),  0)","v":0},196,null,null,{"$f":"IF(AND($A219<>\"\",(AC219+AD219)>0), IF($F219=\"Nej\",    IF(AD$13=\"Nm3\",(AE$12*1000*1000/((AC$242+AD$242+AC$243+AD$243)*1000*  $J219 * Data!$B$6)),  (AE$12*1000*1000/(((AC$242+AD$242+AC$243+AD$243)/Denscalc($J219))*1000*  $J219 * Data!$B$6)) ), 0     ),  0)","v":0},196,null,null,{"$f":"IF(AND($A219<>\"\",(AG219+AH219)>0), IF($F219=\"Nej\",    IF(AH$13=\"Nm3\",(AI$12*1000*1000/((AG$242+AH$242+AG$243+AH$243)*1000*  $J219 * Data!$B$6)),  (AI$12*1000*1000/(((AG$242+AH$242+AG$243+AH$243)/Denscalc($J219))*1000*  $J219 * Data!$B$6)) ), 0     ),  0)","v":0},196,null,null,{"$f":"IF(AND($A219<>\"\",(AK219+AL219)>0), IF($F219=\"Nej\",    IF(AL$13=\"Nm3\",(AM$12*1000*1000/((AK$242+AL$242+AK$243+AL$243)*1000*  $J219 * Data!$B$6)),  (AM$12*1000*1000/(((AK$242+AL$242+AK$243+AL$243)/Denscalc($J219))*1000*  $J219 * Data!$B$6)) ), 0     ),  0)","v":0},196,null,null,{"$f":"IF(AND($A219<>\"\",(AO219+AP219)>0), IF($F219=\"Nej\",    IF(AP$13=\"Nm3\",(AQ$12*1000*1000/((AO$242+AP$242+AO$243+AP$243)*1000*  $J219 * Data!$B$6)),  (AQ$12*1000*1000/(((AO$242+AP$242+AO$243+AP$243)/Denscalc($J219))*1000*  $J219 * Data!$B$6)) ), 0     ),  0)","v":0},196,null,null,{"$f":"IF(AND($A219<>\"\",(AS219+AT219)>0), IF($F219=\"Nej\",    IF(AT$13=\"Nm3\",(AU$12*1000*1000/((AS$242+AT$242+AS$243+AT$243)*1000*  $J219 * Data!$B$6)),  (AU$12*1000*1000/(((AS$242+AT$242+AS$243+AT$243)/Denscalc($J219))*1000*  $J219 * Data!$B$6)) ), 0     ),  0)","v":0},196,null,null,{"$f":"IF(AND($A219<>\"\",(AW219+AX219)>0), IF($F219=\"Nej\",\nIF(AX$13=\"Nm3\",(AY$12*1000*1000/((AW$242+AX$242+AW$243+AX$243-AW$240-AX$240)*1000*  $J219 * Data!$B$6))+(AY$6*1000*1000/((AW$242+AX$242+AW$243+AX$243)*1000*  $J219 * Data!$B$6)),\n (AY$12*1000*1000/(((AW$242+AX$242+AW$243+AX$243-AW$240-AX$240)/Denscalc($J219))*1000*  $J219 * Data!$B$6))  +  (AY$6*1000*1000/(((AW$242+AX$242+AW$243+AX$243)/Denscalc($J219))*1000*  $J219 * Data!$B$6)) ), 0     ),  0)","v":0},196,null,null,{"$f":"IF(AND($A219<>\"\",(BA219+BB219)>0), IF($F219=\"Nej\",\n (BC$12*1000*1000/((BA$244+BB$244-BA$240-BB$240)*1000* Data!$B$7))+ (BC$6*1000*1000/((BA$244+BB$244)*1000* Data!$B$7)),0 ),  0)","v":0},196,"",{"$f":"IF(A219<>\"\",IF(F219=\"Nej\", (Data!$B$129*Data!$B$5*1000*Data!$B$3)/Data!$B$6,  0 ),\"\")","v":""},"","",{"$f":"IF(A219<>\"\",IF(BH219>0,  IF(BE219=\"Nej\",    (Data!$B$8-BH219)/Data!$B$8,  ROUND( (Data!$B$8-BH219)/Data!$B$8,2)),      \"\"),\"\")","v":""},"","","","",{"$f":"IF(A219<>\"\", IF(H219=\"Flytande\",   IF(BM219>0,  IF(BE219=\"Nej\",  (Data!$B$8-BM219)/Data!$B$8,  ROUND( (Data!$B$8-BM219)/Data!$B$8,2)   ), \"\"), \"\"),\"\")","v":""},"",196,"","","",null,""]
[null,197,null,null,null,null,null,null,null,null,null,null,null,null,{"$f":"IF(AND($A220<>\"\",(M220+N220)>0), IF($F220=\"Nej\",    IF(N$13=\"Nm3\",(O$12*1000*1000/((M$242+N$242+M$243+N$243)*1000*  $J220 * Data!$B$6)),  (O$12*1000*1000/(((M$242+N$242+M$243+N$243)/Denscalc($J220))*1000*  $J220 * Data!$B$6)) ), 0     ),  0)","v":0},197,null,null,{"$f":"IF(AND($A220<>\"\",(Q220+R220)>0), IF($F220=\"Nej\",    IF(R$13=\"Nm3\",(S$12*1000*1000/((Q$242+R$242+Q$243+R$243)*1000*  $J220 * Data!$B$6)),  (S$12*1000*1000/(((Q$242+R$242+Q$243+R$243)/Denscalc($J220))*1000*  $J220 * Data!$B$6)) ), 0     ),  0)","v":0},197,null,null,{"$f":"IF(AND($A220<>\"\",(U220+V220)>0), IF($F220=\"Nej\",    IF(V$13=\"Nm3\",(W$12*1000*1000/((U$242+V$242+U$243+V$243)*1000*  $J220 * Data!$B$6)),  (W$12*1000*1000/(((U$242+V$242+U$243+V$243)/Denscalc($J220))*1000*  $J220 * Data!$B$6)) ), 0     ),  0)","v":0},197,null,null,{"$f":"IF(AND($A220<>\"\",(Y220+Z220)>0), IF($F220=\"Nej\",    IF(Z$13=\"Nm3\",(AA$12*1000*1000/((Y$242+Z$242+Y$243+Z$243)*1000*  $J220 * Data!$B$6)),  (AA$12*1000*1000/(((Y$242+Z$242+Y$243+Z$243)/Denscalc($J220))*1000*  $J220 * Data!$B$6)) ), 0     ),  0)","v":0},197,null,null,{"$f":"IF(AND($A220<>\"\",(AC220+AD220)>0), IF($F220=\"Nej\",    IF(AD$13=\"Nm3\",(AE$12*1000*1000/((AC$242+AD$242+AC$243+AD$243)*1000*  $J220 * Data!$B$6)),  (AE$12*1000*1000/(((AC$242+AD$242+AC$243+AD$243)/Denscalc($J220))*1000*  $J220 * Data!$B$6)) ), 0     ),  0)","v":0},197,null,null,{"$f":"IF(AND($A220<>\"\",(AG220+AH220)>0), IF($F220=\"Nej\",    IF(AH$13=\"Nm3\",(AI$12*1000*1000/((AG$242+AH$242+AG$243+AH$243)*1000*  $J220 * Data!$B$6)),  (AI$12*1000*1000/(((AG$242+AH$242+AG$243+AH$243)/Denscalc($J220))*1000*  $J220 * Data!$B$6)) ), 0     ),  0)","v":0},197,null,null,{"$f":"IF(AND($A220<>\"\",(AK220+AL220)>0), IF($F220=\"Nej\",    IF(AL$13=\"Nm3\",(AM$12*1000*1000/((AK$242+AL$242+AK$243+AL$243)*1000*  $J220 * Data!$B$6)),  (AM$12*1000*1000/(((AK$242+AL$242+AK$243+AL$243)/Denscalc($J220))*1000*  $J220 * Data!$B$6)) ), 0     ),  0)","v":0},197,null,null,{"$f":"IF(AND($A220<>\"\",(AO220+AP220)>0), IF($F220=\"Nej\",    IF(AP$13=\"Nm3\",(AQ$12*1000*1000/((AO$242+AP$242+AO$243+AP$243)*1000*  $J220 * Data!$B$6)),  (AQ$12*1000*1000/(((AO$242+AP$242+AO$243+AP$243)/Denscalc($J220))*1000*  $J220 * Data!$B$6)) ), 0     ),  0)","v":0},197,null,null,{"$f":"IF(AND($A220<>\"\",(AS220+AT220)>0), IF($F220=\"Nej\",    IF(AT$13=\"Nm3\",(AU$12*1000*1000/((AS$242+AT$242+AS$243+AT$243)*1000*  $J220 * Data!$B$6)),  (AU$12*1000*1000/(((AS$242+AT$242+AS$243+AT$243)/Denscalc($J220))*1000*  $J220 * Data!$B$6)) ), 0     ),  0)","v":0},197,null,null,{"$f":"IF(AND($A220<>\"\",(AW220+AX220)>0), IF($F220=\"Nej\",\nIF(AX$13=\"Nm3\",(AY$12*1000*1000/((AW$242+AX$242+AW$243+AX$243-AW$240-AX$240)*1000*  $J220 * Data!$B$6))+(AY$6*1000*1000/((AW$242+AX$242+AW$243+AX$243)*1000*  $J220 * Data!$B$6)),\n (AY$12*1000*1000/(((AW$242+AX$242+AW$243+AX$243-AW$240-AX$240)/Denscalc($J220))*1000*  $J220 * Data!$B$6))  +  (AY$6*1000*1000/(((AW$242+AX$242+AW$243+AX$243)/Denscalc($J220))*1000*  $J220 * Data!$B$6)) ), 0     ),  0)","v":0},197,null,null,{"$f":"IF(AND($A220<>\"\",(BA220+BB220)>0), IF($F220=\"Nej\",\n (BC$12*1000*1000/((BA$244+BB$244-BA$240-BB$240)*1000* Data!$B$7))+ (BC$6*1000*1000/((BA$244+BB$244)*1000* Data!$B$7)),0 ),  0)","v":0},197,"",{"$f":"IF(A220<>\"\",IF(F220=\"Nej\", (Data!$B$129*Data!$B$5*1000*Data!$B$3)/Data!$B$6,  0 ),\"\")","v":""},"","",{"$f":"IF(A220<>\"\",IF(BH220>0,  IF(BE220=\"Nej\",    (Data!$B$8-BH220)/Data!$B$8,  ROUND( (Data!$B$8-BH220)/Data!$B$8,2)),      \"\"),\"\")","v":""},"","","","",{"$f":"IF(A220<>\"\", IF(H220=\"Flytande\",   IF(BM220>0,  IF(BE220=\"Nej\",  (Data!$B$8-BM220)/Data!$B$8,  ROUND( (Data!$B$8-BM220)/Data!$B$8,2)   ), \"\"), \"\"),\"\")","v":""},"",197,"","","",null,""]
[null,198,null,null,null,null,null,null,null,null,null,null,null,null,{"$f":"IF(AND($A221<>\"\",(M221+N221)>0), IF($F221=\"Nej\",    IF(N$13=\"Nm3\",(O$12*1000*1000/((M$242+N$242+M$243+N$243)*1000*  $J221 * Data!$B$6)),  (O$12*1000*1000/(((M$242+N$242+M$243+N$243)/Denscalc($J221))*1000*  $J221 * Data!$B$6)) ), 0     ),  0)","v":0},198,null,null,{"$f":"IF(AND($A221<>\"\",(Q221+R221)>0), IF($F221=\"Nej\",    IF(R$13=\"Nm3\",(S$12*1000*1000/((Q$242+R$242+Q$243+R$243)*1000*  $J221 * Data!$B$6)),  (S$12*1000*1000/(((Q$242+R$242+Q$243+R$243)/Denscalc($J221))*1000*  $J221 * Data!$B$6)) ), 0     ),  0)","v":0},198,null,null,{"$f":"IF(AND($A221<>\"\",(U221+V221)>0), IF($F221=\"Nej\",    IF(V$13=\"Nm3\",(W$12*1000*1000/((U$242+V$242+U$243+V$243)*1000*  $J221 * Data!$B$6)),  (W$12*1000*1000/(((U$242+V$242+U$243+V$243)/Denscalc($J221))*1000*  $J221 * Data!$B$6)) ), 0     ),  0)","v":0},198,null,null,{"$f":"IF(AND($A221<>\"\",(Y221+Z221)>0), IF($F221=\"Nej\",    IF(Z$13=\"Nm3\",(AA$12*1000*1000/((Y$242+Z$242+Y$243+Z$243)*1000*  $J221 * Data!$B$6)),  (AA$12*1000*1000/(((Y$242+Z$242+Y$243+Z$243)/Denscalc($J221))*1000*  $J221 * Data!$B$6)) ), 0     ),  0)","v":0},198,null,null,{"$f":"IF(AND($A221<>\"\",(AC221+AD221)>0), IF($F221=\"Nej\",    IF(AD$13=\"Nm3\",(AE$12*1000*1000/((AC$242+AD$242+AC$243+AD$243)*1000*  $J221 * Data!$B$6)),  (AE$12*1000*1000/(((AC$242+AD$242+AC$243+AD$243)/Denscalc($J221))*1000*  $J221 * Data!$B$6)) ), 0     ),  0)","v":0},198,null,null,{"$f":"IF(AND($A221<>\"\",(AG221+AH221)>0), IF($F221=\"Nej\",    IF(AH$13=\"Nm3\",(AI$12*1000*1000/((AG$242+AH$242+AG$243+AH$243)*1000*  $J221 * Data!$B$6)),  (AI$12*1000*1000/(((AG$242+AH$242+AG$243+AH$243)/Denscalc($J221))*1000*  $J221 * Data!$B$6)) ), 0     ),  0)","v":0},198,null,null,{"$f":"IF(AND($A221<>\"\",(AK221+AL221)>0), IF($F221=\"Nej\",    IF(AL$13=\"Nm3\",(AM$12*1000*1000/((AK$242+AL$242+AK$243+AL$243)*1000*  $J221 * Data!$B$6)),  (AM$12*1000*1000/(((AK$242+AL$242+AK$243+AL$243)/Denscalc($J221))*1000*  $J221 * Data!$B$6)) ), 0     ),  0)","v":0},198,null,null,{"$f":"IF(AND($A221<>\"\",(AO221+AP221)>0), IF($F221=\"Nej\",    IF(AP$13=\"Nm3\",(AQ$12*1000*1000/((AO$242+AP$242+AO$243+AP$243)*1000*  $J221 * Data!$B$6)),  (AQ$12*1000*1000/(((AO$242+AP$242+AO$243+AP$243)/Denscalc($J221))*1000*  $J221 * Data!$B$6)) ), 0     ),  0)","v":0},198,null,null,{"$f":"IF(AND($A221<>\"\",(AS221+AT221)>0), IF($F221=\"Nej\",    IF(AT$13=\"Nm3\",(AU$12*1000*1000/((AS$242+AT$242+AS$243+AT$243)*1000*  $J221 * Data!$B$6)),  (AU$12*1000*1000/(((AS$242+AT$242+AS$243+AT$243)/Denscalc($J221))*1000*  $J221 * Data!$B$6)) ), 0     ),  0)","v":0},198,null,null,{"$f":"IF(AND($A221<>\"\",(AW221+AX221)>0), IF($F221=\"Nej\",\nIF(AX$13=\"Nm3\",(AY$12*1000*1000/((AW$242+AX$242+AW$243+AX$243-AW$240-AX$240)*1000*  $J221 * Data!$B$6))+(AY$6*1000*1000/((AW$242+AX$242+AW$243+AX$243)*1000*  $J221 * Data!$B$6)),\n (AY$12*1000*1000/(((AW$242+AX$242+AW$243+AX$243-AW$240-AX$240)/Denscalc($J221))*1000*  $J221 * Data!$B$6))  +  (AY$6*1000*1000/(((AW$242+AX$242+AW$243+AX$243)/Denscalc($J221))*1000*  $J221 * Data!$B$6)) ), 0     ),  0)","v":0},198,null,null,{"$f":"IF(AND($A221<>\"\",(BA221+BB221)>0), IF($F221=\"Nej\",\n (BC$12*1000*1000/((BA$244+BB$244-BA$240-BB$240)*1000* Data!$B$7))+ (BC$6*1000*1000/((BA$244+BB$244)*1000* Data!$B$7)),0 ),  0)","v":0},198,"",{"$f":"IF(A221<>\"\",IF(F221=\"Nej\", (Data!$B$129*Data!$B$5*1000*Data!$B$3)/Data!$B$6,  0 ),\"\")","v":""},"","",{"$f":"IF(A221<>\"\",IF(BH221>0,  IF(BE221=\"Nej\",    (Data!$B$8-BH221)/Data!$B$8,  ROUND( (Data!$B$8-BH221)/Data!$B$8,2)),      \"\"),\"\")","v":""},"","","","",{"$f":"IF(A221<>\"\", IF(H221=\"Flytande\",   IF(BM221>0,  IF(BE221=\"Nej\",  (Data!$B$8-BM221)/Data!$B$8,  ROUND( (Data!$B$8-BM221)/Data!$B$8,2)   ), \"\"), \"\"),\"\")","v":""},"",198,"","","",null,""]
[null,199,null,null,null,null,null,null,null,null,null,null,null,null,{"$f":"IF(AND($A222<>\"\",(M222+N222)>0), IF($F222=\"Nej\",    IF(N$13=\"Nm3\",(O$12*1000*1000/((M$242+N$242+M$243+N$243)*1000*  $J222 * Data!$B$6)),  (O$12*1000*1000/(((M$242+N$242+M$243+N$243)/Denscalc($J222))*1000*  $J222 * Data!$B$6)) ), 0     ),  0)","v":0},199,null,null,{"$f":"IF(AND($A222<>\"\",(Q222+R222)>0), IF($F222=\"Nej\",    IF(R$13=\"Nm3\",(S$12*1000*1000/((Q$242+R$242+Q$243+R$243)*1000*  $J222 * Data!$B$6)),  (S$12*1000*1000/(((Q$242+R$242+Q$243+R$243)/Denscalc($J222))*1000*  $J222 * Data!$B$6)) ), 0     ),  0)","v":0},199,null,null,{"$f":"IF(AND($A222<>\"\",(U222+V222)>0), IF($F222=\"Nej\",    IF(V$13=\"Nm3\",(W$12*1000*1000/((U$242+V$242+U$243+V$243)*1000*  $J222 * Data!$B$6)),  (W$12*1000*1000/(((U$242+V$242+U$243+V$243)/Denscalc($J222))*1000*  $J222 * Data!$B$6)) ), 0     ),  0)","v":0},199,null,null,{"$f":"IF(AND($A222<>\"\",(Y222+Z222)>0), IF($F222=\"Nej\",    IF(Z$13=\"Nm3\",(AA$12*1000*1000/((Y$242+Z$242+Y$243+Z$243)*1000*  $J222 * Data!$B$6)),  (AA$12*1000*1000/(((Y$242+Z$242+Y$243+Z$243)/Denscalc($J222))*1000*  $J222 * Data!$B$6)) ), 0     ),  0)","v":0},199,null,null,{"$f":"IF(AND($A222<>\"\",(AC222+AD222)>0), IF($F222=\"Nej\",    IF(AD$13=\"Nm3\",(AE$12*1000*1000/((AC$242+AD$242+AC$243+AD$243)*1000*  $J222 * Data!$B$6)),  (AE$12*1000*1000/(((AC$242+AD$242+AC$243+AD$243)/Denscalc($J222))*1000*  $J222 * Data!$B$6)) ), 0     ),  0)","v":0},199,null,null,{"$f":"IF(AND($A222<>\"\",(AG222+AH222)>0), IF($F222=\"Nej\",    IF(AH$13=\"Nm3\",(AI$12*1000*1000/((AG$242+AH$242+AG$243+AH$243)*1000*  $J222 * Data!$B$6)),  (AI$12*1000*1000/(((AG$242+AH$242+AG$243+AH$243)/Denscalc($J222))*1000*  $J222 * Data!$B$6)) ), 0     ),  0)","v":0},199,null,null,{"$f":"IF(AND($A222<>\"\",(AK222+AL222)>0), IF($F222=\"Nej\",    IF(AL$13=\"Nm3\",(AM$12*1000*1000/((AK$242+AL$242+AK$243+AL$243)*1000*  $J222 * Data!$B$6)),  (AM$12*1000*1000/(((AK$242+AL$242+AK$243+AL$243)/Denscalc($J222))*1000*  $J222 * Data!$B$6)) ), 0     ),  0)","v":0},199,null,null,{"$f":"IF(AND($A222<>\"\",(AO222+AP222)>0), IF($F222=\"Nej\",    IF(AP$13=\"Nm3\",(AQ$12*1000*1000/((AO$242+AP$242+AO$243+AP$243)*1000*  $J222 * Data!$B$6)),  (AQ$12*1000*1000/(((AO$242+AP$242+AO$243+AP$243)/Denscalc($J222))*1000*  $J222 * Data!$B$6)) ), 0     ),  0)","v":0},199,null,null,{"$f":"IF(AND($A222<>\"\",(AS222+AT222)>0), IF($F222=\"Nej\",    IF(AT$13=\"Nm3\",(AU$12*1000*1000/((AS$242+AT$242+AS$243+AT$243)*1000*  $J222 * Data!$B$6)),  (AU$12*1000*1000/(((AS$242+AT$242+AS$243+AT$243)/Denscalc($J222))*1000*  $J222 * Data!$B$6)) ), 0     ),  0)","v":0},199,null,null,{"$f":"IF(AND($A222<>\"\",(AW222+AX222)>0), IF($F222=\"Nej\",\nIF(AX$13=\"Nm3\",(AY$12*1000*1000/((AW$242+AX$242+AW$243+AX$243-AW$240-AX$240)*1000*  $J222 * Data!$B$6))+(AY$6*1000*1000/((AW$242+AX$242+AW$243+AX$243)*1000*  $J222 * Data!$B$6)),\n (AY$12*1000*1000/(((AW$242+AX$242+AW$243+AX$243-AW$240-AX$240)/Denscalc($J222))*1000*  $J222 * Data!$B$6))  +  (AY$6*1000*1000/(((AW$242+AX$242+AW$243+AX$243)/Denscalc($J222))*1000*  $J222 * Data!$B$6)) ), 0     ),  0)","v":0},199,null,null,{"$f":"IF(AND($A222<>\"\",(BA222+BB222)>0), IF($F222=\"Nej\",\n (BC$12*1000*1000/((BA$244+BB$244-BA$240-BB$240)*1000* Data!$B$7))+ (BC$6*1000*1000/((BA$244+BB$244)*1000* Data!$B$7)),0 ),  0)","v":0},199,"",{"$f":"IF(A222<>\"\",IF(F222=\"Nej\", (Data!$B$129*Data!$B$5*1000*Data!$B$3)/Data!$B$6,  0 ),\"\")","v":""},"","",{"$f":"IF(A222<>\"\",IF(BH222>0,  IF(BE222=\"Nej\",    (Data!$B$8-BH222)/Data!$B$8,  ROUND( (Data!$B$8-BH222)/Data!$B$8,2)),      \"\"),\"\")","v":""},"","","","",{"$f":"IF(A222<>\"\", IF(H222=\"Flytande\",   IF(BM222>0,  IF(BE222=\"Nej\",  (Data!$B$8-BM222)/Data!$B$8,  ROUND( (Data!$B$8-BM222)/Data!$B$8,2)   ), \"\"), \"\"),\"\")","v":""},"",199,"","","",null,""]
[null,200,null,null,null,null,null,null,null,null,null,null,null,null,{"$f":"IF(AND($A223<>\"\",(M223+N223)>0), IF($F223=\"Nej\",    IF(N$13=\"Nm3\",(O$12*1000*1000/((M$242+N$242+M$243+N$243)*1000*  $J223 * Data!$B$6)),  (O$12*1000*1000/(((M$242+N$242+M$243+N$243)/Denscalc($J223))*1000*  $J223 * Data!$B$6)) ), 0     ),  0)","v":0},200,null,null,{"$f":"IF(AND($A223<>\"\",(Q223+R223)>0), IF($F223=\"Nej\",    IF(R$13=\"Nm3\",(S$12*1000*1000/((Q$242+R$242+Q$243+R$243)*1000*  $J223 * Data!$B$6)),  (S$12*1000*1000/(((Q$242+R$242+Q$243+R$243)/Denscalc($J223))*1000*  $J223 * Data!$B$6)) ), 0     ),  0)","v":0},200,null,null,{"$f":"IF(AND($A223<>\"\",(U223+V223)>0), IF($F223=\"Nej\",    IF(V$13=\"Nm3\",(W$12*1000*1000/((U$242+V$242+U$243+V$243)*1000*  $J223 * Data!$B$6)),  (W$12*1000*1000/(((U$242+V$242+U$243+V$243)/Denscalc($J223))*1000*  $J223 * Data!$B$6)) ), 0     ),  0)","v":0},200,null,null,{"$f":"IF(AND($A223<>\"\",(Y223+Z223)>0), IF($F223=\"Nej\",    IF(Z$13=\"Nm3\",(AA$12*1000*1000/((Y$242+Z$242+Y$243+Z$243)*1000*  $J223 * Data!$B$6)),  (AA$12*1000*1000/(((Y$242+Z$242+Y$243+Z$243)/Denscalc($J223))*1000*  $J223 * Data!$B$6)) ), 0     ),  0)","v":0},200,null,null,{"$f":"IF(AND($A223<>\"\",(AC223+AD223)>0), IF($F223=\"Nej\",    IF(AD$13=\"Nm3\",(AE$12*1000*1000/((AC$242+AD$242+AC$243+AD$243)*1000*  $J223 * Data!$B$6)),  (AE$12*1000*1000/(((AC$242+AD$242+AC$243+AD$243)/Denscalc($J223))*1000*  $J223 * Data!$B$6)) ), 0     ),  0)","v":0},200,null,null,{"$f":"IF(AND($A223<>\"\",(AG223+AH223)>0), IF($F223=\"Nej\",    IF(AH$13=\"Nm3\",(AI$12*1000*1000/((AG$242+AH$242+AG$243+AH$243)*1000*  $J223 * Data!$B$6)),  (AI$12*1000*1000/(((AG$242+AH$242+AG$243+AH$243)/Denscalc($J223))*1000*  $J223 * Data!$B$6)) ), 0     ),  0)","v":0},200,null,null,{"$f":"IF(AND($A223<>\"\",(AK223+AL223)>0), IF($F223=\"Nej\",    IF(AL$13=\"Nm3\",(AM$12*1000*1000/((AK$242+AL$242+AK$243+AL$243)*1000*  $J223 * Data!$B$6)),  (AM$12*1000*1000/(((AK$242+AL$242+AK$243+AL$243)/Denscalc($J223))*1000*  $J223 * Data!$B$6)) ), 0     ),  0)","v":0},200,null,null,{"$f":"IF(AND($A223<>\"\",(AO223+AP223)>0), IF($F223=\"Nej\",    IF(AP$13=\"Nm3\",(AQ$12*1000*1000/((AO$242+AP$242+AO$243+AP$243)*1000*  $J223 * Data!$B$6)),  (AQ$12*1000*1000/(((AO$242+AP$242+AO$243+AP$243)/Denscalc($J223))*1000*  $J223 * Data!$B$6)) ), 0     ),  0)","v":0},200,null,null,{"$f":"IF(AND($A223<>\"\",(AS223+AT223)>0), IF($F223=\"Nej\",    IF(AT$13=\"Nm3\",(AU$12*1000*1000/((AS$242+AT$242+AS$243+AT$243)*1000*  $J223 * Data!$B$6)),  (AU$12*1000*1000/(((AS$242+AT$242+AS$243+AT$243)/Denscalc($J223))*1000*  $J223 * Data!$B$6)) ), 0     ),  0)","v":0},200,null,null,{"$f":"IF(AND($A223<>\"\",(AW223+AX223)>0), IF($F223=\"Nej\",\nIF(AX$13=\"Nm3\",(AY$12*1000*1000/((AW$242+AX$242+AW$243+AX$243-AW$240-AX$240)*1000*  $J223 * Data!$B$6))+(AY$6*1000*1000/((AW$242+AX$242+AW$243+AX$243)*1000*  $J223 * Data!$B$6)),\n (AY$12*1000*1000/(((AW$242+AX$242+AW$243+AX$243-AW$240-AX$240)/Denscalc($J223))*1000*  $J223 * Data!$B$6))  +  (AY$6*1000*1000/(((AW$242+AX$242+AW$243+AX$243)/Denscalc($J223))*1000*  $J223 * Data!$B$6)) ), 0     ),  0)","v":0},200,null,null,{"$f":"IF(AND($A223<>\"\",(BA223+BB223)>0), IF($F223=\"Nej\",\n (BC$12*1000*1000/((BA$244+BB$244-BA$240-BB$240)*1000* Data!$B$7))+ (BC$6*1000*1000/((BA$244+BB$244)*1000* Data!$B$7)),0 ),  0)","v":0},200,"",{"$f":"IF(A223<>\"\",IF(F223=\"Nej\", (Data!$B$129*Data!$B$5*1000*Data!$B$3)/Data!$B$6,  0 ),\"\")","v":""},"","",{"$f":"IF(A223<>\"\",IF(BH223>0,  IF(BE223=\"Nej\",    (Data!$B$8-BH223)/Data!$B$8,  ROUND( (Data!$B$8-BH223)/Data!$B$8,2)),      \"\"),\"\")","v":""},"","","","",{"$f":"IF(A223<>\"\", IF(H223=\"Flytande\",   IF(BM223>0,  IF(BE223=\"Nej\",  (Data!$B$8-BM223)/Data!$B$8,  ROUND( (Data!$B$8-BM223)/Data!$B$8,2)   ), \"\"), \"\"),\"\")","v":""},"",200,"","","",null,""]
[null,201,null,null,null,null,null,null,null,null,null,null,null,null,{"$f":"IF(AND($A224<>\"\",(M224+N224)>0), IF($F224=\"Nej\",    IF(N$13=\"Nm3\",(O$12*1000*1000/((M$242+N$242+M$243+N$243)*1000*  $J224 * Data!$B$6)),  (O$12*1000*1000/(((M$242+N$242+M$243+N$243)/Denscalc($J224))*1000*  $J224 * Data!$B$6)) ), 0     ),  0)","v":0},201,null,null,{"$f":"IF(AND($A224<>\"\",(Q224+R224)>0), IF($F224=\"Nej\",    IF(R$13=\"Nm3\",(S$12*1000*1000/((Q$242+R$242+Q$243+R$243)*1000*  $J224 * Data!$B$6)),  (S$12*1000*1000/(((Q$242+R$242+Q$243+R$243)/Denscalc($J224))*1000*  $J224 * Data!$B$6)) ), 0     ),  0)","v":0},201,null,null,{"$f":"IF(AND($A224<>\"\",(U224+V224)>0), IF($F224=\"Nej\",    IF(V$13=\"Nm3\",(W$12*1000*1000/((U$242+V$242+U$243+V$243)*1000*  $J224 * Data!$B$6)),  (W$12*1000*1000/(((U$242+V$242+U$243+V$243)/Denscalc($J224))*1000*  $J224 * Data!$B$6)) ), 0     ),  0)","v":0},201,null,null,{"$f":"IF(AND($A224<>\"\",(Y224+Z224)>0), IF($F224=\"Nej\",    IF(Z$13=\"Nm3\",(AA$12*1000*1000/((Y$242+Z$242+Y$243+Z$243)*1000*  $J224 * Data!$B$6)),  (AA$12*1000*1000/(((Y$242+Z$242+Y$243+Z$243)/Denscalc($J224))*1000*  $J224 * Data!$B$6)) ), 0     ),  0)","v":0},201,null,null,{"$f":"IF(AND($A224<>\"\",(AC224+AD224)>0), IF($F224=\"Nej\",    IF(AD$13=\"Nm3\",(AE$12*1000*1000/((AC$242+AD$242+AC$243+AD$243)*1000*  $J224 * Data!$B$6)),  (AE$12*1000*1000/(((AC$242+AD$242+AC$243+AD$243)/Denscalc($J224))*1000*  $J224 * Data!$B$6)) ), 0     ),  0)","v":0},201,null,null,{"$f":"IF(AND($A224<>\"\",(AG224+AH224)>0), IF($F224=\"Nej\",    IF(AH$13=\"Nm3\",(AI$12*1000*1000/((AG$242+AH$242+AG$243+AH$243)*1000*  $J224 * Data!$B$6)),  (AI$12*1000*1000/(((AG$242+AH$242+AG$243+AH$243)/Denscalc($J224))*1000*  $J224 * Data!$B$6)) ), 0     ),  0)","v":0},201,null,null,{"$f":"IF(AND($A224<>\"\",(AK224+AL224)>0), IF($F224=\"Nej\",    IF(AL$13=\"Nm3\",(AM$12*1000*1000/((AK$242+AL$242+AK$243+AL$243)*1000*  $J224 * Data!$B$6)),  (AM$12*1000*1000/(((AK$242+AL$242+AK$243+AL$243)/Denscalc($J224))*1000*  $J224 * Data!$B$6)) ), 0     ),  0)","v":0},201,null,null,{"$f":"IF(AND($A224<>\"\",(AO224+AP224)>0), IF($F224=\"Nej\",    IF(AP$13=\"Nm3\",(AQ$12*1000*1000/((AO$242+AP$242+AO$243+AP$243)*1000*  $J224 * Data!$B$6)),  (AQ$12*1000*1000/(((AO$242+AP$242+AO$243+AP$243)/Denscalc($J224))*1000*  $J224 * Data!$B$6)) ), 0     ),  0)","v":0},201,null,null,{"$f":"IF(AND($A224<>\"\",(AS224+AT224)>0), IF($F224=\"Nej\",    IF(AT$13=\"Nm3\",(AU$12*1000*1000/((AS$242+AT$242+AS$243+AT$243)*1000*  $J224 * Data!$B$6)),  (AU$12*1000*1000/(((AS$242+AT$242+AS$243+AT$243)/Denscalc($J224))*1000*  $J224 * Data!$B$6)) ), 0     ),  0)","v":0},201,null,null,{"$f":"IF(AND($A224<>\"\",(AW224+AX224)>0), IF($F224=\"Nej\",\nIF(AX$13=\"Nm3\",(AY$12*1000*1000/((AW$242+AX$242+AW$243+AX$243-AW$240-AX$240)*1000*  $J224 * Data!$B$6))+(AY$6*1000*1000/((AW$242+AX$242+AW$243+AX$243)*1000*  $J224 * Data!$B$6)),\n (AY$12*1000*1000/(((AW$242+AX$242+AW$243+AX$243-AW$240-AX$240)/Denscalc($J224))*1000*  $J224 * Data!$B$6))  +  (AY$6*1000*1000/(((AW$242+AX$242+AW$243+AX$243)/Denscalc($J224))*1000*  $J224 * Data!$B$6)) ), 0     ),  0)","v":0},201,null,null,{"$f":"IF(AND($A224<>\"\",(BA224+BB224)>0), IF($F224=\"Nej\",\n (BC$12*1000*1000/((BA$244+BB$244-BA$240-BB$240)*1000* Data!$B$7))+ (BC$6*1000*1000/((BA$244+BB$244)*1000* Data!$B$7)),0 ),  0)","v":0},201,"",{"$f":"IF(A224<>\"\",IF(F224=\"Nej\", (Data!$B$129*Data!$B$5*1000*Data!$B$3)/Data!$B$6,  0 ),\"\")","v":""},"","",{"$f":"IF(A224<>\"\",IF(BH224>0,  IF(BE224=\"Nej\",    (Data!$B$8-BH224)/Data!$B$8,  ROUND( (Data!$B$8-BH224)/Data!$B$8,2)),      \"\"),\"\")","v":""},"","","","",{"$f":"IF(A224<>\"\", IF(H224=\"Flytande\",   IF(BM224>0,  IF(BE224=\"Nej\",  (Data!$B$8-BM224)/Data!$B$8,  ROUND( (Data!$B$8-BM224)/Data!$B$8,2)   ), \"\"), \"\"),\"\")","v":""},"",201,"","","",null,""]
[null,202,null,null,null,null,null,null,null,null,null,null,null,null,{"$f":"IF(AND($A225<>\"\",(M225+N225)>0), IF($F225=\"Nej\",    IF(N$13=\"Nm3\",(O$12*1000*1000/((M$242+N$242+M$243+N$243)*1000*  $J225 * Data!$B$6)),  (O$12*1000*1000/(((M$242+N$242+M$243+N$243)/Denscalc($J225))*1000*  $J225 * Data!$B$6)) ), 0     ),  0)","v":0},202,null,null,{"$f":"IF(AND($A225<>\"\",(Q225+R225)>0), IF($F225=\"Nej\",    IF(R$13=\"Nm3\",(S$12*1000*1000/((Q$242+R$242+Q$243+R$243)*1000*  $J225 * Data!$B$6)),  (S$12*1000*1000/(((Q$242+R$242+Q$243+R$243)/Denscalc($J225))*1000*  $J225 * Data!$B$6)) ), 0     ),  0)","v":0},202,null,null,{"$f":"IF(AND($A225<>\"\",(U225+V225)>0), IF($F225=\"Nej\",    IF(V$13=\"Nm3\",(W$12*1000*1000/((U$242+V$242+U$243+V$243)*1000*  $J225 * Data!$B$6)),  (W$12*1000*1000/(((U$242+V$242+U$243+V$243)/Denscalc($J225))*1000*  $J225 * Data!$B$6)) ), 0     ),  0)","v":0},202,null,null,{"$f":"IF(AND($A225<>\"\",(Y225+Z225)>0), IF($F225=\"Nej\",    IF(Z$13=\"Nm3\",(AA$12*1000*1000/((Y$242+Z$242+Y$243+Z$243)*1000*  $J225 * Data!$B$6)),  (AA$12*1000*1000/(((Y$242+Z$242+Y$243+Z$243)/Denscalc($J225))*1000*  $J225 * Data!$B$6)) ), 0     ),  0)","v":0},202,null,null,{"$f":"IF(AND($A225<>\"\",(AC225+AD225)>0), IF($F225=\"Nej\",    IF(AD$13=\"Nm3\",(AE$12*1000*1000/((AC$242+AD$242+AC$243+AD$243)*1000*  $J225 * Data!$B$6)),  (AE$12*1000*1000/(((AC$242+AD$242+AC$243+AD$243)/Denscalc($J225))*1000*  $J225 * Data!$B$6)) ), 0     ),  0)","v":0},202,null,null,{"$f":"IF(AND($A225<>\"\",(AG225+AH225)>0), IF($F225=\"Nej\",    IF(AH$13=\"Nm3\",(AI$12*1000*1000/((AG$242+AH$242+AG$243+AH$243)*1000*  $J225 * Data!$B$6)),  (AI$12*1000*1000/(((AG$242+AH$242+AG$243+AH$243)/Denscalc($J225))*1000*  $J225 * Data!$B$6)) ), 0     ),  0)","v":0},202,null,null,{"$f":"IF(AND($A225<>\"\",(AK225+AL225)>0), IF($F225=\"Nej\",    IF(AL$13=\"Nm3\",(AM$12*1000*1000/((AK$242+AL$242+AK$243+AL$243)*1000*  $J225 * Data!$B$6)),  (AM$12*1000*1000/(((AK$242+AL$242+AK$243+AL$243)/Denscalc($J225))*1000*  $J225 * Data!$B$6)) ), 0     ),  0)","v":0},202,null,null,{"$f":"IF(AND($A225<>\"\",(AO225+AP225)>0), IF($F225=\"Nej\",    IF(AP$13=\"Nm3\",(AQ$12*1000*1000/((AO$242+AP$242+AO$243+AP$243)*1000*  $J225 * Data!$B$6)),  (AQ$12*1000*1000/(((AO$242+AP$242+AO$243+AP$243)/Denscalc($J225))*1000*  $J225 * Data!$B$6)) ), 0     ),  0)","v":0},202,null,null,{"$f":"IF(AND($A225<>\"\",(AS225+AT225)>0), IF($F225=\"Nej\",    IF(AT$13=\"Nm3\",(AU$12*1000*1000/((AS$242+AT$242+AS$243+AT$243)*1000*  $J225 * Data!$B$6)),  (AU$12*1000*1000/(((AS$242+AT$242+AS$243+AT$243)/Denscalc($J225))*1000*  $J225 * Data!$B$6)) ), 0     ),  0)","v":0},202,null,null,{"$f":"IF(AND($A225<>\"\",(AW225+AX225)>0), IF($F225=\"Nej\",\nIF(AX$13=\"Nm3\",(AY$12*1000*1000/((AW$242+AX$242+AW$243+AX$243-AW$240-AX$240)*1000*  $J225 * Data!$B$6))+(AY$6*1000*1000/((AW$242+AX$242+AW$243+AX$243)*1000*  $J225 * Data!$B$6)),\n (AY$12*1000*1000/(((AW$242+AX$242+AW$243+AX$243-AW$240-AX$240)/Denscalc($J225))*1000*  $J225 * Data!$B$6))  +  (AY$6*1000*1000/(((AW$242+AX$242+AW$243+AX$243)/Denscalc($J225))*1000*  $J225 * Data!$B$6)) ), 0     ),  0)","v":0},202,null,null,{"$f":"IF(AND($A225<>\"\",(BA225+BB225)>0), IF($F225=\"Nej\",\n (BC$12*1000*1000/((BA$244+BB$244-BA$240-BB$240)*1000* Data!$B$7))+ (BC$6*1000*1000/((BA$244+BB$244)*1000* Data!$B$7)),0 ),  0)","v":0},202,"",{"$f":"IF(A225<>\"\",IF(F225=\"Nej\", (Data!$B$129*Data!$B$5*1000*Data!$B$3)/Data!$B$6,  0 ),\"\")","v":""},"","",{"$f":"IF(A225<>\"\",IF(BH225>0,  IF(BE225=\"Nej\",    (Data!$B$8-BH225)/Data!$B$8,  ROUND( (Data!$B$8-BH225)/Data!$B$8,2)),      \"\"),\"\")","v":""},"","","","",{"$f":"IF(A225<>\"\", IF(H225=\"Flytande\",   IF(BM225>0,  IF(BE225=\"Nej\",  (Data!$B$8-BM225)/Data!$B$8,  ROUND( (Data!$B$8-BM225)/Data!$B$8,2)   ), \"\"), \"\"),\"\")","v":""},"",202,"","","",null,""]
[null,203,null,null,null,null,null,null,null,null,null,null,null,null,{"$f":"IF(AND($A226<>\"\",(M226+N226)>0), IF($F226=\"Nej\",    IF(N$13=\"Nm3\",(O$12*1000*1000/((M$242+N$242+M$243+N$243)*1000*  $J226 * Data!$B$6)),  (O$12*1000*1000/(((M$242+N$242+M$243+N$243)/Denscalc($J226))*1000*  $J226 * Data!$B$6)) ), 0     ),  0)","v":0},203,null,null,{"$f":"IF(AND($A226<>\"\",(Q226+R226)>0), IF($F226=\"Nej\",    IF(R$13=\"Nm3\",(S$12*1000*1000/((Q$242+R$242+Q$243+R$243)*1000*  $J226 * Data!$B$6)),  (S$12*1000*1000/(((Q$242+R$242+Q$243+R$243)/Denscalc($J226))*1000*  $J226 * Data!$B$6)) ), 0     ),  0)","v":0},203,null,null,{"$f":"IF(AND($A226<>\"\",(U226+V226)>0), IF($F226=\"Nej\",    IF(V$13=\"Nm3\",(W$12*1000*1000/((U$242+V$242+U$243+V$243)*1000*  $J226 * Data!$B$6)),  (W$12*1000*1000/(((U$242+V$242+U$243+V$243)/Denscalc($J226))*1000*  $J226 * Data!$B$6)) ), 0     ),  0)","v":0},203,null,null,{"$f":"IF(AND($A226<>\"\",(Y226+Z226)>0), IF($F226=\"Nej\",    IF(Z$13=\"Nm3\",(AA$12*1000*1000/((Y$242+Z$242+Y$243+Z$243)*1000*  $J226 * Data!$B$6)),  (AA$12*1000*1000/(((Y$242+Z$242+Y$243+Z$243)/Denscalc($J226))*1000*  $J226 * Data!$B$6)) ), 0     ),  0)","v":0},203,null,null,{"$f":"IF(AND($A226<>\"\",(AC226+AD226)>0), IF($F226=\"Nej\",    IF(AD$13=\"Nm3\",(AE$12*1000*1000/((AC$242+AD$242+AC$243+AD$243)*1000*  $J226 * Data!$B$6)),  (AE$12*1000*1000/(((AC$242+AD$242+AC$243+AD$243)/Denscalc($J226))*1000*  $J226 * Data!$B$6)) ), 0     ),  0)","v":0},203,null,null,{"$f":"IF(AND($A226<>\"\",(AG226+AH226)>0), IF($F226=\"Nej\",    IF(AH$13=\"Nm3\",(AI$12*1000*1000/((AG$242+AH$242+AG$243+AH$243)*1000*  $J226 * Data!$B$6)),  (AI$12*1000*1000/(((AG$242+AH$242+AG$243+AH$243)/Denscalc($J226))*1000*  $J226 * Data!$B$6)) ), 0     ),  0)","v":0},203,null,null,{"$f":"IF(AND($A226<>\"\",(AK226+AL226)>0), IF($F226=\"Nej\",    IF(AL$13=\"Nm3\",(AM$12*1000*1000/((AK$242+AL$242+AK$243+AL$243)*1000*  $J226 * Data!$B$6)),  (AM$12*1000*1000/(((AK$242+AL$242+AK$243+AL$243)/Denscalc($J226))*1000*  $J226 * Data!$B$6)) ), 0     ),  0)","v":0},203,null,null,{"$f":"IF(AND($A226<>\"\",(AO226+AP226)>0), IF($F226=\"Nej\",    IF(AP$13=\"Nm3\",(AQ$12*1000*1000/((AO$242+AP$242+AO$243+AP$243)*1000*  $J226 * Data!$B$6)),  (AQ$12*1000*1000/(((AO$242+AP$242+AO$243+AP$243)/Denscalc($J226))*1000*  $J226 * Data!$B$6)) ), 0     ),  0)","v":0},203,null,null,{"$f":"IF(AND($A226<>\"\",(AS226+AT226)>0), IF($F226=\"Nej\",    IF(AT$13=\"Nm3\",(AU$12*1000*1000/((AS$242+AT$242+AS$243+AT$243)*1000*  $J226 * Data!$B$6)),  (AU$12*1000*1000/(((AS$242+AT$242+AS$243+AT$243)/Denscalc($J226))*1000*  $J226 * Data!$B$6)) ), 0     ),  0)","v":0},203,null,null,{"$f":"IF(AND($A226<>\"\",(AW226+AX226)>0), IF($F226=\"Nej\",\nIF(AX$13=\"Nm3\",(AY$12*1000*1000/((AW$242+AX$242+AW$243+AX$243-AW$240-AX$240)*1000*  $J226 * Data!$B$6))+(AY$6*1000*1000/((AW$242+AX$242+AW$243+AX$243)*1000*  $J226 * Data!$B$6)),\n (AY$12*1000*1000/(((AW$242+AX$242+AW$243+AX$243-AW$240-AX$240)/Denscalc($J226))*1000*  $J226 * Data!$B$6))  +  (AY$6*1000*1000/(((AW$242+AX$242+AW$243+AX$243)/Denscalc($J226))*1000*  $J226 * Data!$B$6)) ), 0     ),  0)","v":0},203,null,null,{"$f":"IF(AND($A226<>\"\",(BA226+BB226)>0), IF($F226=\"Nej\",\n (BC$12*1000*1000/((BA$244+BB$244-BA$240-BB$240)*1000* Data!$B$7))+ (BC$6*1000*1000/((BA$244+BB$244)*1000* Data!$B$7)),0 ),  0)","v":0},203,"",{"$f":"IF(A226<>\"\",IF(F226=\"Nej\", (Data!$B$129*Data!$B$5*1000*Data!$B$3)/Data!$B$6,  0 ),\"\")","v":""},"","",{"$f":"IF(A226<>\"\",IF(BH226>0,  IF(BE226=\"Nej\",    (Data!$B$8-BH226)/Data!$B$8,  ROUND( (Data!$B$8-BH226)/Data!$B$8,2)),      \"\"),\"\")","v":""},"","","","",{"$f":"IF(A226<>\"\", IF(H226=\"Flytande\",   IF(BM226>0,  IF(BE226=\"Nej\",  (Data!$B$8-BM226)/Data!$B$8,  ROUND( (Data!$B$8-BM226)/Data!$B$8,2)   ), \"\"), \"\"),\"\")","v":""},"",203,"","","",null,""]
[null,204,null,null,null,null,null,null,null,null,null,null,null,null,{"$f":"IF(AND($A227<>\"\",(M227+N227)>0), IF($F227=\"Nej\",    IF(N$13=\"Nm3\",(O$12*1000*1000/((M$242+N$242+M$243+N$243)*1000*  $J227 * Data!$B$6)),  (O$12*1000*1000/(((M$242+N$242+M$243+N$243)/Denscalc($J227))*1000*  $J227 * Data!$B$6)) ), 0     ),  0)","v":0},204,null,null,{"$f":"IF(AND($A227<>\"\",(Q227+R227)>0), IF($F227=\"Nej\",    IF(R$13=\"Nm3\",(S$12*1000*1000/((Q$242+R$242+Q$243+R$243)*1000*  $J227 * Data!$B$6)),  (S$12*1000*1000/(((Q$242+R$242+Q$243+R$243)/Denscalc($J227))*1000*  $J227 * Data!$B$6)) ), 0     ),  0)","v":0},204,null,null,{"$f":"IF(AND($A227<>\"\",(U227+V227)>0), IF($F227=\"Nej\",    IF(V$13=\"Nm3\",(W$12*1000*1000/((U$242+V$242+U$243+V$243)*1000*  $J227 * Data!$B$6)),  (W$12*1000*1000/(((U$242+V$242+U$243+V$243)/Denscalc($J227))*1000*  $J227 * Data!$B$6)) ), 0     ),  0)","v":0},204,null,null,{"$f":"IF(AND($A227<>\"\",(Y227+Z227)>0), IF($F227=\"Nej\",    IF(Z$13=\"Nm3\",(AA$12*1000*1000/((Y$242+Z$242+Y$243+Z$243)*1000*  $J227 * Data!$B$6)),  (AA$12*1000*1000/(((Y$242+Z$242+Y$243+Z$243)/Denscalc($J227))*1000*  $J227 * Data!$B$6)) ), 0     ),  0)","v":0},204,null,null,{"$f":"IF(AND($A227<>\"\",(AC227+AD227)>0), IF($F227=\"Nej\",    IF(AD$13=\"Nm3\",(AE$12*1000*1000/((AC$242+AD$242+AC$243+AD$243)*1000*  $J227 * Data!$B$6)),  (AE$12*1000*1000/(((AC$242+AD$242+AC$243+AD$243)/Denscalc($J227))*1000*  $J227 * Data!$B$6)) ), 0     ),  0)","v":0},204,null,null,{"$f":"IF(AND($A227<>\"\",(AG227+AH227)>0), IF($F227=\"Nej\",    IF(AH$13=\"Nm3\",(AI$12*1000*1000/((AG$242+AH$242+AG$243+AH$243)*1000*  $J227 * Data!$B$6)),  (AI$12*1000*1000/(((AG$242+AH$242+AG$243+AH$243)/Denscalc($J227))*1000*  $J227 * Data!$B$6)) ), 0     ),  0)","v":0},204,null,null,{"$f":"IF(AND($A227<>\"\",(AK227+AL227)>0), IF($F227=\"Nej\",    IF(AL$13=\"Nm3\",(AM$12*1000*1000/((AK$242+AL$242+AK$243+AL$243)*1000*  $J227 * Data!$B$6)),  (AM$12*1000*1000/(((AK$242+AL$242+AK$243+AL$243)/Denscalc($J227))*1000*  $J227 * Data!$B$6)) ), 0     ),  0)","v":0},204,null,null,{"$f":"IF(AND($A227<>\"\",(AO227+AP227)>0), IF($F227=\"Nej\",    IF(AP$13=\"Nm3\",(AQ$12*1000*1000/((AO$242+AP$242+AO$243+AP$243)*1000*  $J227 * Data!$B$6)),  (AQ$12*1000*1000/(((AO$242+AP$242+AO$243+AP$243)/Denscalc($J227))*1000*  $J227 * Data!$B$6)) ), 0     ),  0)","v":0},204,null,null,{"$f":"IF(AND($A227<>\"\",(AS227+AT227)>0), IF($F227=\"Nej\",    IF(AT$13=\"Nm3\",(AU$12*1000*1000/((AS$242+AT$242+AS$243+AT$243)*1000*  $J227 * Data!$B$6)),  (AU$12*1000*1000/(((AS$242+AT$242+AS$243+AT$243)/Denscalc($J227))*1000*  $J227 * Data!$B$6)) ), 0     ),  0)","v":0},204,null,null,{"$f":"IF(AND($A227<>\"\",(AW227+AX227)>0), IF($F227=\"Nej\",\nIF(AX$13=\"Nm3\",(AY$12*1000*1000/((AW$242+AX$242+AW$243+AX$243-AW$240-AX$240)*1000*  $J227 * Data!$B$6))+(AY$6*1000*1000/((AW$242+AX$242+AW$243+AX$243)*1000*  $J227 * Data!$B$6)),\n (AY$12*1000*1000/(((AW$242+AX$242+AW$243+AX$243-AW$240-AX$240)/Denscalc($J227))*1000*  $J227 * Data!$B$6))  +  (AY$6*1000*1000/(((AW$242+AX$242+AW$243+AX$243)/Denscalc($J227))*1000*  $J227 * Data!$B$6)) ), 0     ),  0)","v":0},204,null,null,{"$f":"IF(AND($A227<>\"\",(BA227+BB227)>0), IF($F227=\"Nej\",\n (BC$12*1000*1000/((BA$244+BB$244-BA$240-BB$240)*1000* Data!$B$7))+ (BC$6*1000*1000/((BA$244+BB$244)*1000* Data!$B$7)),0 ),  0)","v":0},204,"",{"$f":"IF(A227<>\"\",IF(F227=\"Nej\", (Data!$B$129*Data!$B$5*1000*Data!$B$3)/Data!$B$6,  0 ),\"\")","v":""},"","",{"$f":"IF(A227<>\"\",IF(BH227>0,  IF(BE227=\"Nej\",    (Data!$B$8-BH227)/Data!$B$8,  ROUND( (Data!$B$8-BH227)/Data!$B$8,2)),      \"\"),\"\")","v":""},"","","","",{"$f":"IF(A227<>\"\", IF(H227=\"Flytande\",   IF(BM227>0,  IF(BE227=\"Nej\",  (Data!$B$8-BM227)/Data!$B$8,  ROUND( (Data!$B$8-BM227)/Data!$B$8,2)   ), \"\"), \"\"),\"\")","v":""},"",204,"","","",null,""]
[null,205,null,null,null,null,null,null,null,null,null,null,null,null,{"$f":"IF(AND($A228<>\"\",(M228+N228)>0), IF($F228=\"Nej\",    IF(N$13=\"Nm3\",(O$12*1000*1000/((M$242+N$242+M$243+N$243)*1000*  $J228 * Data!$B$6)),  (O$12*1000*1000/(((M$242+N$242+M$243+N$243)/Denscalc($J228))*1000*  $J228 * Data!$B$6)) ), 0     ),  0)","v":0},205,null,null,{"$f":"IF(AND($A228<>\"\",(Q228+R228)>0), IF($F228=\"Nej\",    IF(R$13=\"Nm3\",(S$12*1000*1000/((Q$242+R$242+Q$243+R$243)*1000*  $J228 * Data!$B$6)),  (S$12*1000*1000/(((Q$242+R$242+Q$243+R$243)/Denscalc($J228))*1000*  $J228 * Data!$B$6)) ), 0     ),  0)","v":0},205,null,null,{"$f":"IF(AND($A228<>\"\",(U228+V228)>0), IF($F228=\"Nej\",    IF(V$13=\"Nm3\",(W$12*1000*1000/((U$242+V$242+U$243+V$243)*1000*  $J228 * Data!$B$6)),  (W$12*1000*1000/(((U$242+V$242+U$243+V$243)/Denscalc($J228))*1000*  $J228 * Data!$B$6)) ), 0     ),  0)","v":0},205,null,null,{"$f":"IF(AND($A228<>\"\",(Y228+Z228)>0), IF($F228=\"Nej\",    IF(Z$13=\"Nm3\",(AA$12*1000*1000/((Y$242+Z$242+Y$243+Z$243)*1000*  $J228 * Data!$B$6)),  (AA$12*1000*1000/(((Y$242+Z$242+Y$243+Z$243)/Denscalc($J228))*1000*  $J228 * Data!$B$6)) ), 0     ),  0)","v":0},205,null,null,{"$f":"IF(AND($A228<>\"\",(AC228+AD228)>0), IF($F228=\"Nej\",    IF(AD$13=\"Nm3\",(AE$12*1000*1000/((AC$242+AD$242+AC$243+AD$243)*1000*  $J228 * Data!$B$6)),  (AE$12*1000*1000/(((AC$242+AD$242+AC$243+AD$243)/Denscalc($J228))*1000*  $J228 * Data!$B$6)) ), 0     ),  0)","v":0},205,null,null,{"$f":"IF(AND($A228<>\"\",(AG228+AH228)>0), IF($F228=\"Nej\",    IF(AH$13=\"Nm3\",(AI$12*1000*1000/((AG$242+AH$242+AG$243+AH$243)*1000*  $J228 * Data!$B$6)),  (AI$12*1000*1000/(((AG$242+AH$242+AG$243+AH$243)/Denscalc($J228))*1000*  $J228 * Data!$B$6)) ), 0     ),  0)","v":0},205,null,null,{"$f":"IF(AND($A228<>\"\",(AK228+AL228)>0), IF($F228=\"Nej\",    IF(AL$13=\"Nm3\",(AM$12*1000*1000/((AK$242+AL$242+AK$243+AL$243)*1000*  $J228 * Data!$B$6)),  (AM$12*1000*1000/(((AK$242+AL$242+AK$243+AL$243)/Denscalc($J228))*1000*  $J228 * Data!$B$6)) ), 0     ),  0)","v":0},205,null,null,{"$f":"IF(AND($A228<>\"\",(AO228+AP228)>0), IF($F228=\"Nej\",    IF(AP$13=\"Nm3\",(AQ$12*1000*1000/((AO$242+AP$242+AO$243+AP$243)*1000*  $J228 * Data!$B$6)),  (AQ$12*1000*1000/(((AO$242+AP$242+AO$243+AP$243)/Denscalc($J228))*1000*  $J228 * Data!$B$6)) ), 0     ),  0)","v":0},205,null,null,{"$f":"IF(AND($A228<>\"\",(AS228+AT228)>0), IF($F228=\"Nej\",    IF(AT$13=\"Nm3\",(AU$12*1000*1000/((AS$242+AT$242+AS$243+AT$243)*1000*  $J228 * Data!$B$6)),  (AU$12*1000*1000/(((AS$242+AT$242+AS$243+AT$243)/Denscalc($J228))*1000*  $J228 * Data!$B$6)) ), 0     ),  0)","v":0},205,null,null,{"$f":"IF(AND($A228<>\"\",(AW228+AX228)>0), IF($F228=\"Nej\",\nIF(AX$13=\"Nm3\",(AY$12*1000*1000/((AW$242+AX$242+AW$243+AX$243-AW$240-AX$240)*1000*  $J228 * Data!$B$6))+(AY$6*1000*1000/((AW$242+AX$242+AW$243+AX$243)*1000*  $J228 * Data!$B$6)),\n (AY$12*1000*1000/(((AW$242+AX$242+AW$243+AX$243-AW$240-AX$240)/Denscalc($J228))*1000*  $J228 * Data!$B$6))  +  (AY$6*1000*1000/(((AW$242+AX$242+AW$243+AX$243)/Denscalc($J228))*1000*  $J228 * Data!$B$6)) ), 0     ),  0)","v":0},205,null,null,{"$f":"IF(AND($A228<>\"\",(BA228+BB228)>0), IF($F228=\"Nej\",\n (BC$12*1000*1000/((BA$244+BB$244-BA$240-BB$240)*1000* Data!$B$7))+ (BC$6*1000*1000/((BA$244+BB$244)*1000* Data!$B$7)),0 ),  0)","v":0},205,"",{"$f":"IF(A228<>\"\",IF(F228=\"Nej\", (Data!$B$129*Data!$B$5*1000*Data!$B$3)/Data!$B$6,  0 ),\"\")","v":""},"","",{"$f":"IF(A228<>\"\",IF(BH228>0,  IF(BE228=\"Nej\",    (Data!$B$8-BH228)/Data!$B$8,  ROUND( (Data!$B$8-BH228)/Data!$B$8,2)),      \"\"),\"\")","v":""},"","","","",{"$f":"IF(A228<>\"\", IF(H228=\"Flytande\",   IF(BM228>0,  IF(BE228=\"Nej\",  (Data!$B$8-BM228)/Data!$B$8,  ROUND( (Data!$B$8-BM228)/Data!$B$8,2)   ), \"\"), \"\"),\"\")","v":""},"",205,"","","",null,""]
[null,206,null,null,null,null,null,null,null,null,null,null,null,null,{"$f":"IF(AND($A229<>\"\",(M229+N229)>0), IF($F229=\"Nej\",    IF(N$13=\"Nm3\",(O$12*1000*1000/((M$242+N$242+M$243+N$243)*1000*  $J229 * Data!$B$6)),  (O$12*1000*1000/(((M$242+N$242+M$243+N$243)/Denscalc($J229))*1000*  $J229 * Data!$B$6)) ), 0     ),  0)","v":0},206,null,null,{"$f":"IF(AND($A229<>\"\",(Q229+R229)>0), IF($F229=\"Nej\",    IF(R$13=\"Nm3\",(S$12*1000*1000/((Q$242+R$242+Q$243+R$243)*1000*  $J229 * Data!$B$6)),  (S$12*1000*1000/(((Q$242+R$242+Q$243+R$243)/Denscalc($J229))*1000*  $J229 * Data!$B$6)) ), 0     ),  0)","v":0},206,null,null,{"$f":"IF(AND($A229<>\"\",(U229+V229)>0), IF($F229=\"Nej\",    IF(V$13=\"Nm3\",(W$12*1000*1000/((U$242+V$242+U$243+V$243)*1000*  $J229 * Data!$B$6)),  (W$12*1000*1000/(((U$242+V$242+U$243+V$243)/Denscalc($J229))*1000*  $J229 * Data!$B$6)) ), 0     ),  0)","v":0},206,null,null,{"$f":"IF(AND($A229<>\"\",(Y229+Z229)>0), IF($F229=\"Nej\",    IF(Z$13=\"Nm3\",(AA$12*1000*1000/((Y$242+Z$242+Y$243+Z$243)*1000*  $J229 * Data!$B$6)),  (AA$12*1000*1000/(((Y$242+Z$242+Y$243+Z$243)/Denscalc($J229))*1000*  $J229 * Data!$B$6)) ), 0     ),  0)","v":0},206,null,null,{"$f":"IF(AND($A229<>\"\",(AC229+AD229)>0), IF($F229=\"Nej\",    IF(AD$13=\"Nm3\",(AE$12*1000*1000/((AC$242+AD$242+AC$243+AD$243)*1000*  $J229 * Data!$B$6)),  (AE$12*1000*1000/(((AC$242+AD$242+AC$243+AD$243)/Denscalc($J229))*1000*  $J229 * Data!$B$6)) ), 0     ),  0)","v":0},206,null,null,{"$f":"IF(AND($A229<>\"\",(AG229+AH229)>0), IF($F229=\"Nej\",    IF(AH$13=\"Nm3\",(AI$12*1000*1000/((AG$242+AH$242+AG$243+AH$243)*1000*  $J229 * Data!$B$6)),  (AI$12*1000*1000/(((AG$242+AH$242+AG$243+AH$243)/Denscalc($J229))*1000*  $J229 * Data!$B$6)) ), 0     ),  0)","v":0},206,null,null,{"$f":"IF(AND($A229<>\"\",(AK229+AL229)>0), IF($F229=\"Nej\",    IF(AL$13=\"Nm3\",(AM$12*1000*1000/((AK$242+AL$242+AK$243+AL$243)*1000*  $J229 * Data!$B$6)),  (AM$12*1000*1000/(((AK$242+AL$242+AK$243+AL$243)/Denscalc($J229))*1000*  $J229 * Data!$B$6)) ), 0     ),  0)","v":0},206,null,null,{"$f":"IF(AND($A229<>\"\",(AO229+AP229)>0), IF($F229=\"Nej\",    IF(AP$13=\"Nm3\",(AQ$12*1000*1000/((AO$242+AP$242+AO$243+AP$243)*1000*  $J229 * Data!$B$6)),  (AQ$12*1000*1000/(((AO$242+AP$242+AO$243+AP$243)/Denscalc($J229))*1000*  $J229 * Data!$B$6)) ), 0     ),  0)","v":0},206,null,null,{"$f":"IF(AND($A229<>\"\",(AS229+AT229)>0), IF($F229=\"Nej\",    IF(AT$13=\"Nm3\",(AU$12*1000*1000/((AS$242+AT$242+AS$243+AT$243)*1000*  $J229 * Data!$B$6)),  (AU$12*1000*1000/(((AS$242+AT$242+AS$243+AT$243)/Denscalc($J229))*1000*  $J229 * Data!$B$6)) ), 0     ),  0)","v":0},206,null,null,{"$f":"IF(AND($A229<>\"\",(AW229+AX229)>0), IF($F229=\"Nej\",\nIF(AX$13=\"Nm3\",(AY$12*1000*1000/((AW$242+AX$242+AW$243+AX$243-AW$240-AX$240)*1000*  $J229 * Data!$B$6))+(AY$6*1000*1000/((AW$242+AX$242+AW$243+AX$243)*1000*  $J229 * Data!$B$6)),\n (AY$12*1000*1000/(((AW$242+AX$242+AW$243+AX$243-AW$240-AX$240)/Denscalc($J229))*1000*  $J229 * Data!$B$6))  +  (AY$6*1000*1000/(((AW$242+AX$242+AW$243+AX$243)/Denscalc($J229))*1000*  $J229 * Data!$B$6)) ), 0     ),  0)","v":0},206,null,null,{"$f":"IF(AND($A229<>\"\",(BA229+BB229)>0), IF($F229=\"Nej\",\n (BC$12*1000*1000/((BA$244+BB$244-BA$240-BB$240)*1000* Data!$B$7))+ (BC$6*1000*1000/((BA$244+BB$244)*1000* Data!$B$7)),0 ),  0)","v":0},206,"",{"$f":"IF(A229<>\"\",IF(F229=\"Nej\", (Data!$B$129*Data!$B$5*1000*Data!$B$3)/Data!$B$6,  0 ),\"\")","v":""},"","",{"$f":"IF(A229<>\"\",IF(BH229>0,  IF(BE229=\"Nej\",    (Data!$B$8-BH229)/Data!$B$8,  ROUND( (Data!$B$8-BH229)/Data!$B$8,2)),      \"\"),\"\")","v":""},"","","","",{"$f":"IF(A229<>\"\", IF(H229=\"Flytande\",   IF(BM229>0,  IF(BE229=\"Nej\",  (Data!$B$8-BM229)/Data!$B$8,  ROUND( (Data!$B$8-BM229)/Data!$B$8,2)   ), \"\"), \"\"),\"\")","v":""},"",206,"","","",null,""]
[null,207,null,null,null,null,null,null,null,null,null,null,null,null,{"$f":"IF(AND($A230<>\"\",(M230+N230)>0), IF($F230=\"Nej\",    IF(N$13=\"Nm3\",(O$12*1000*1000/((M$242+N$242+M$243+N$243)*1000*  $J230 * Data!$B$6)),  (O$12*1000*1000/(((M$242+N$242+M$243+N$243)/Denscalc($J230))*1000*  $J230 * Data!$B$6)) ), 0     ),  0)","v":0},207,null,null,{"$f":"IF(AND($A230<>\"\",(Q230+R230)>0), IF($F230=\"Nej\",    IF(R$13=\"Nm3\",(S$12*1000*1000/((Q$242+R$242+Q$243+R$243)*1000*  $J230 * Data!$B$6)),  (S$12*1000*1000/(((Q$242+R$242+Q$243+R$243)/Denscalc($J230))*1000*  $J230 * Data!$B$6)) ), 0     ),  0)","v":0},207,null,null,{"$f":"IF(AND($A230<>\"\",(U230+V230)>0), IF($F230=\"Nej\",    IF(V$13=\"Nm3\",(W$12*1000*1000/((U$242+V$242+U$243+V$243)*1000*  $J230 * Data!$B$6)),  (W$12*1000*1000/(((U$242+V$242+U$243+V$243)/Denscalc($J230))*1000*  $J230 * Data!$B$6)) ), 0     ),  0)","v":0},207,null,null,{"$f":"IF(AND($A230<>\"\",(Y230+Z230)>0), IF($F230=\"Nej\",    IF(Z$13=\"Nm3\",(AA$12*1000*1000/((Y$242+Z$242+Y$243+Z$243)*1000*  $J230 * Data!$B$6)),  (AA$12*1000*1000/(((Y$242+Z$242+Y$243+Z$243)/Denscalc($J230))*1000*  $J230 * Data!$B$6)) ), 0     ),  0)","v":0},207,null,null,{"$f":"IF(AND($A230<>\"\",(AC230+AD230)>0), IF($F230=\"Nej\",    IF(AD$13=\"Nm3\",(AE$12*1000*1000/((AC$242+AD$242+AC$243+AD$243)*1000*  $J230 * Data!$B$6)),  (AE$12*1000*1000/(((AC$242+AD$242+AC$243+AD$243)/Denscalc($J230))*1000*  $J230 * Data!$B$6)) ), 0     ),  0)","v":0},207,null,null,{"$f":"IF(AND($A230<>\"\",(AG230+AH230)>0), IF($F230=\"Nej\",    IF(AH$13=\"Nm3\",(AI$12*1000*1000/((AG$242+AH$242+AG$243+AH$243)*1000*  $J230 * Data!$B$6)),  (AI$12*1000*1000/(((AG$242+AH$242+AG$243+AH$243)/Denscalc($J230))*1000*  $J230 * Data!$B$6)) ), 0     ),  0)","v":0},207,null,null,{"$f":"IF(AND($A230<>\"\",(AK230+AL230)>0), IF($F230=\"Nej\",    IF(AL$13=\"Nm3\",(AM$12*1000*1000/((AK$242+AL$242+AK$243+AL$243)*1000*  $J230 * Data!$B$6)),  (AM$12*1000*1000/(((AK$242+AL$242+AK$243+AL$243)/Denscalc($J230))*1000*  $J230 * Data!$B$6)) ), 0     ),  0)","v":0},207,null,null,{"$f":"IF(AND($A230<>\"\",(AO230+AP230)>0), IF($F230=\"Nej\",    IF(AP$13=\"Nm3\",(AQ$12*1000*1000/((AO$242+AP$242+AO$243+AP$243)*1000*  $J230 * Data!$B$6)),  (AQ$12*1000*1000/(((AO$242+AP$242+AO$243+AP$243)/Denscalc($J230))*1000*  $J230 * Data!$B$6)) ), 0     ),  0)","v":0},207,null,null,{"$f":"IF(AND($A230<>\"\",(AS230+AT230)>0), IF($F230=\"Nej\",    IF(AT$13=\"Nm3\",(AU$12*1000*1000/((AS$242+AT$242+AS$243+AT$243)*1000*  $J230 * Data!$B$6)),  (AU$12*1000*1000/(((AS$242+AT$242+AS$243+AT$243)/Denscalc($J230))*1000*  $J230 * Data!$B$6)) ), 0     ),  0)","v":0},207,null,null,{"$f":"IF(AND($A230<>\"\",(AW230+AX230)>0), IF($F230=\"Nej\",\nIF(AX$13=\"Nm3\",(AY$12*1000*1000/((AW$242+AX$242+AW$243+AX$243-AW$240-AX$240)*1000*  $J230 * Data!$B$6))+(AY$6*1000*1000/((AW$242+AX$242+AW$243+AX$243)*1000*  $J230 * Data!$B$6)),\n (AY$12*1000*1000/(((AW$242+AX$242+AW$243+AX$243-AW$240-AX$240)/Denscalc($J230))*1000*  $J230 * Data!$B$6))  +  (AY$6*1000*1000/(((AW$242+AX$242+AW$243+AX$243)/Denscalc($J230))*1000*  $J230 * Data!$B$6)) ), 0     ),  0)","v":0},207,null,null,{"$f":"IF(AND($A230<>\"\",(BA230+BB230)>0), IF($F230=\"Nej\",\n (BC$12*1000*1000/((BA$244+BB$244-BA$240-BB$240)*1000* Data!$B$7))+ (BC$6*1000*1000/((BA$244+BB$244)*1000* Data!$B$7)),0 ),  0)","v":0},207,"",{"$f":"IF(A230<>\"\",IF(F230=\"Nej\", (Data!$B$129*Data!$B$5*1000*Data!$B$3)/Data!$B$6,  0 ),\"\")","v":""},"","",{"$f":"IF(A230<>\"\",IF(BH230>0,  IF(BE230=\"Nej\",    (Data!$B$8-BH230)/Data!$B$8,  ROUND( (Data!$B$8-BH230)/Data!$B$8,2)),      \"\"),\"\")","v":""},"","","","",{"$f":"IF(A230<>\"\", IF(H230=\"Flytande\",   IF(BM230>0,  IF(BE230=\"Nej\",  (Data!$B$8-BM230)/Data!$B$8,  ROUND( (Data!$B$8-BM230)/Data!$B$8,2)   ), \"\"), \"\"),\"\")","v":""},"",207,"","","",null,""]
[null,208,null,null,null,null,null,null,null,null,null,null,null,null,{"$f":"IF(AND($A231<>\"\",(M231+N231)>0), IF($F231=\"Nej\",    IF(N$13=\"Nm3\",(O$12*1000*1000/((M$242+N$242+M$243+N$243)*1000*  $J231 * Data!$B$6)),  (O$12*1000*1000/(((M$242+N$242+M$243+N$243)/Denscalc($J231))*1000*  $J231 * Data!$B$6)) ), 0     ),  0)","v":0},208,null,null,{"$f":"IF(AND($A231<>\"\",(Q231+R231)>0), IF($F231=\"Nej\",    IF(R$13=\"Nm3\",(S$12*1000*1000/((Q$242+R$242+Q$243+R$243)*1000*  $J231 * Data!$B$6)),  (S$12*1000*1000/(((Q$242+R$242+Q$243+R$243)/Denscalc($J231))*1000*  $J231 * Data!$B$6)) ), 0     ),  0)","v":0},208,null,null,{"$f":"IF(AND($A231<>\"\",(U231+V231)>0), IF($F231=\"Nej\",    IF(V$13=\"Nm3\",(W$12*1000*1000/((U$242+V$242+U$243+V$243)*1000*  $J231 * Data!$B$6)),  (W$12*1000*1000/(((U$242+V$242+U$243+V$243)/Denscalc($J231))*1000*  $J231 * Data!$B$6)) ), 0     ),  0)","v":0},208,null,null,{"$f":"IF(AND($A231<>\"\",(Y231+Z231)>0), IF($F231=\"Nej\",    IF(Z$13=\"Nm3\",(AA$12*1000*1000/((Y$242+Z$242+Y$243+Z$243)*1000*  $J231 * Data!$B$6)),  (AA$12*1000*1000/(((Y$242+Z$242+Y$243+Z$243)/Denscalc($J231))*1000*  $J231 * Data!$B$6)) ), 0     ),  0)","v":0},208,null,null,{"$f":"IF(AND($A231<>\"\",(AC231+AD231)>0), IF($F231=\"Nej\",    IF(AD$13=\"Nm3\",(AE$12*1000*1000/((AC$242+AD$242+AC$243+AD$243)*1000*  $J231 * Data!$B$6)),  (AE$12*1000*1000/(((AC$242+AD$242+AC$243+AD$243)/Denscalc($J231))*1000*  $J231 * Data!$B$6)) ), 0     ),  0)","v":0},208,null,null,{"$f":"IF(AND($A231<>\"\",(AG231+AH231)>0), IF($F231=\"Nej\",    IF(AH$13=\"Nm3\",(AI$12*1000*1000/((AG$242+AH$242+AG$243+AH$243)*1000*  $J231 * Data!$B$6)),  (AI$12*1000*1000/(((AG$242+AH$242+AG$243+AH$243)/Denscalc($J231))*1000*  $J231 * Data!$B$6)) ), 0     ),  0)","v":0},208,null,null,{"$f":"IF(AND($A231<>\"\",(AK231+AL231)>0), IF($F231=\"Nej\",    IF(AL$13=\"Nm3\",(AM$12*1000*1000/((AK$242+AL$242+AK$243+AL$243)*1000*  $J231 * Data!$B$6)),  (AM$12*1000*1000/(((AK$242+AL$242+AK$243+AL$243)/Denscalc($J231))*1000*  $J231 * Data!$B$6)) ), 0     ),  0)","v":0},208,null,null,{"$f":"IF(AND($A231<>\"\",(AO231+AP231)>0), IF($F231=\"Nej\",    IF(AP$13=\"Nm3\",(AQ$12*1000*1000/((AO$242+AP$242+AO$243+AP$243)*1000*  $J231 * Data!$B$6)),  (AQ$12*1000*1000/(((AO$242+AP$242+AO$243+AP$243)/Denscalc($J231))*1000*  $J231 * Data!$B$6)) ), 0     ),  0)","v":0},208,null,null,{"$f":"IF(AND($A231<>\"\",(AS231+AT231)>0), IF($F231=\"Nej\",    IF(AT$13=\"Nm3\",(AU$12*1000*1000/((AS$242+AT$242+AS$243+AT$243)*1000*  $J231 * Data!$B$6)),  (AU$12*1000*1000/(((AS$242+AT$242+AS$243+AT$243)/Denscalc($J231))*1000*  $J231 * Data!$B$6)) ), 0     ),  0)","v":0},208,null,null,{"$f":"IF(AND($A231<>\"\",(AW231+AX231)>0), IF($F231=\"Nej\",\nIF(AX$13=\"Nm3\",(AY$12*1000*1000/((AW$242+AX$242+AW$243+AX$243-AW$240-AX$240)*1000*  $J231 * Data!$B$6))+(AY$6*1000*1000/((AW$242+AX$242+AW$243+AX$243)*1000*  $J231 * Data!$B$6)),\n (AY$12*1000*1000/(((AW$242+AX$242+AW$243+AX$243-AW$240-AX$240)/Denscalc($J231))*1000*  $J231 * Data!$B$6))  +  (AY$6*1000*1000/(((AW$242+AX$242+AW$243+AX$243)/Denscalc($J231))*1000*  $J231 * Data!$B$6)) ), 0     ),  0)","v":0},208,null,null,{"$f":"IF(AND($A231<>\"\",(BA231+BB231)>0), IF($F231=\"Nej\",\n (BC$12*1000*1000/((BA$244+BB$244-BA$240-BB$240)*1000* Data!$B$7))+ (BC$6*1000*1000/((BA$244+BB$244)*1000* Data!$B$7)),0 ),  0)","v":0},208,"",{"$f":"IF(A231<>\"\",IF(F231=\"Nej\", (Data!$B$129*Data!$B$5*1000*Data!$B$3)/Data!$B$6,  0 ),\"\")","v":""},"","",{"$f":"IF(A231<>\"\",IF(BH231>0,  IF(BE231=\"Nej\",    (Data!$B$8-BH231)/Data!$B$8,  ROUND( (Data!$B$8-BH231)/Data!$B$8,2)),      \"\"),\"\")","v":""},"","","","",{"$f":"IF(A231<>\"\", IF(H231=\"Flytande\",   IF(BM231>0,  IF(BE231=\"Nej\",  (Data!$B$8-BM231)/Data!$B$8,  ROUND( (Data!$B$8-BM231)/Data!$B$8,2)   ), \"\"), \"\"),\"\")","v":""},"",208,"","","",null,""]
[null,209,null,null,null,null,null,null,null,null,null,null,null,null,{"$f":"IF(AND($A232<>\"\",(M232+N232)>0), IF($F232=\"Nej\",    IF(N$13=\"Nm3\",(O$12*1000*1000/((M$242+N$242+M$243+N$243)*1000*  $J232 * Data!$B$6)),  (O$12*1000*1000/(((M$242+N$242+M$243+N$243)/Denscalc($J232))*1000*  $J232 * Data!$B$6)) ), 0     ),  0)","v":0},209,null,null,{"$f":"IF(AND($A232<>\"\",(Q232+R232)>0), IF($F232=\"Nej\",    IF(R$13=\"Nm3\",(S$12*1000*1000/((Q$242+R$242+Q$243+R$243)*1000*  $J232 * Data!$B$6)),  (S$12*1000*1000/(((Q$242+R$242+Q$243+R$243)/Denscalc($J232))*1000*  $J232 * Data!$B$6)) ), 0     ),  0)","v":0},209,null,null,{"$f":"IF(AND($A232<>\"\",(U232+V232)>0), IF($F232=\"Nej\",    IF(V$13=\"Nm3\",(W$12*1000*1000/((U$242+V$242+U$243+V$243)*1000*  $J232 * Data!$B$6)),  (W$12*1000*1000/(((U$242+V$242+U$243+V$243)/Denscalc($J232))*1000*  $J232 * Data!$B$6)) ), 0     ),  0)","v":0},209,null,null,{"$f":"IF(AND($A232<>\"\",(Y232+Z232)>0), IF($F232=\"Nej\",    IF(Z$13=\"Nm3\",(AA$12*1000*1000/((Y$242+Z$242+Y$243+Z$243)*1000*  $J232 * Data!$B$6)),  (AA$12*1000*1000/(((Y$242+Z$242+Y$243+Z$243)/Denscalc($J232))*1000*  $J232 * Data!$B$6)) ), 0     ),  0)","v":0},209,null,null,{"$f":"IF(AND($A232<>\"\",(AC232+AD232)>0), IF($F232=\"Nej\",    IF(AD$13=\"Nm3\",(AE$12*1000*1000/((AC$242+AD$242+AC$243+AD$243)*1000*  $J232 * Data!$B$6)),  (AE$12*1000*1000/(((AC$242+AD$242+AC$243+AD$243)/Denscalc($J232))*1000*  $J232 * Data!$B$6)) ), 0     ),  0)","v":0},209,null,null,{"$f":"IF(AND($A232<>\"\",(AG232+AH232)>0), IF($F232=\"Nej\",    IF(AH$13=\"Nm3\",(AI$12*1000*1000/((AG$242+AH$242+AG$243+AH$243)*1000*  $J232 * Data!$B$6)),  (AI$12*1000*1000/(((AG$242+AH$242+AG$243+AH$243)/Denscalc($J232))*1000*  $J232 * Data!$B$6)) ), 0     ),  0)","v":0},209,null,null,{"$f":"IF(AND($A232<>\"\",(AK232+AL232)>0), IF($F232=\"Nej\",    IF(AL$13=\"Nm3\",(AM$12*1000*1000/((AK$242+AL$242+AK$243+AL$243)*1000*  $J232 * Data!$B$6)),  (AM$12*1000*1000/(((AK$242+AL$242+AK$243+AL$243)/Denscalc($J232))*1000*  $J232 * Data!$B$6)) ), 0     ),  0)","v":0},209,null,null,{"$f":"IF(AND($A232<>\"\",(AO232+AP232)>0), IF($F232=\"Nej\",    IF(AP$13=\"Nm3\",(AQ$12*1000*1000/((AO$242+AP$242+AO$243+AP$243)*1000*  $J232 * Data!$B$6)),  (AQ$12*1000*1000/(((AO$242+AP$242+AO$243+AP$243)/Denscalc($J232))*1000*  $J232 * Data!$B$6)) ), 0     ),  0)","v":0},209,null,null,{"$f":"IF(AND($A232<>\"\",(AS232+AT232)>0), IF($F232=\"Nej\",    IF(AT$13=\"Nm3\",(AU$12*1000*1000/((AS$242+AT$242+AS$243+AT$243)*1000*  $J232 * Data!$B$6)),  (AU$12*1000*1000/(((AS$242+AT$242+AS$243+AT$243)/Denscalc($J232))*1000*  $J232 * Data!$B$6)) ), 0     ),  0)","v":0},209,null,null,{"$f":"IF(AND($A232<>\"\",(AW232+AX232)>0), IF($F232=\"Nej\",\nIF(AX$13=\"Nm3\",(AY$12*1000*1000/((AW$242+AX$242+AW$243+AX$243-AW$240-AX$240)*1000*  $J232 * Data!$B$6))+(AY$6*1000*1000/((AW$242+AX$242+AW$243+AX$243)*1000*  $J232 * Data!$B$6)),\n (AY$12*1000*1000/(((AW$242+AX$242+AW$243+AX$243-AW$240-AX$240)/Denscalc($J232))*1000*  $J232 * Data!$B$6))  +  (AY$6*1000*1000/(((AW$242+AX$242+AW$243+AX$243)/Denscalc($J232))*1000*  $J232 * Data!$B$6)) ), 0     ),  0)","v":0},209,null,null,{"$f":"IF(AND($A232<>\"\",(BA232+BB232)>0), IF($F232=\"Nej\",\n (BC$12*1000*1000/((BA$244+BB$244-BA$240-BB$240)*1000* Data!$B$7))+ (BC$6*1000*1000/((BA$244+BB$244)*1000* Data!$B$7)),0 ),  0)","v":0},209,"",{"$f":"IF(A232<>\"\",IF(F232=\"Nej\", (Data!$B$129*Data!$B$5*1000*Data!$B$3)/Data!$B$6,  0 ),\"\")","v":""},"","",{"$f":"IF(A232<>\"\",IF(BH232>0,  IF(BE232=\"Nej\",    (Data!$B$8-BH232)/Data!$B$8,  ROUND( (Data!$B$8-BH232)/Data!$B$8,2)),      \"\"),\"\")","v":""},"","","","",{"$f":"IF(A232<>\"\", IF(H232=\"Flytande\",   IF(BM232>0,  IF(BE232=\"Nej\",  (Data!$B$8-BM232)/Data!$B$8,  ROUND( (Data!$B$8-BM232)/Data!$B$8,2)   ), \"\"), \"\"),\"\")","v":""},"",209,"","","",null,""]
[null,210,null,null,null,null,null,null,null,null,null,null,null,null,{"$f":"IF(AND($A233<>\"\",(M233+N233)>0), IF($F233=\"Nej\",    IF(N$13=\"Nm3\",(O$12*1000*1000/((M$242+N$242+M$243+N$243)*1000*  $J233 * Data!$B$6)),  (O$12*1000*1000/(((M$242+N$242+M$243+N$243)/Denscalc($J233))*1000*  $J233 * Data!$B$6)) ), 0     ),  0)","v":0},210,null,null,{"$f":"IF(AND($A233<>\"\",(Q233+R233)>0), IF($F233=\"Nej\",    IF(R$13=\"Nm3\",(S$12*1000*1000/((Q$242+R$242+Q$243+R$243)*1000*  $J233 * Data!$B$6)),  (S$12*1000*1000/(((Q$242+R$242+Q$243+R$243)/Denscalc($J233))*1000*  $J233 * Data!$B$6)) ), 0     ),  0)","v":0},210,null,null,{"$f":"IF(AND($A233<>\"\",(U233+V233)>0), IF($F233=\"Nej\",    IF(V$13=\"Nm3\",(W$12*1000*1000/((U$242+V$242+U$243+V$243)*1000*  $J233 * Data!$B$6)),  (W$12*1000*1000/(((U$242+V$242+U$243+V$243)/Denscalc($J233))*1000*  $J233 * Data!$B$6)) ), 0     ),  0)","v":0},210,null,null,{"$f":"IF(AND($A233<>\"\",(Y233+Z233)>0), IF($F233=\"Nej\",    IF(Z$13=\"Nm3\",(AA$12*1000*1000/((Y$242+Z$242+Y$243+Z$243)*1000*  $J233 * Data!$B$6)),  (AA$12*1000*1000/(((Y$242+Z$242+Y$243+Z$243)/Denscalc($J233))*1000*  $J233 * Data!$B$6)) ), 0     ),  0)","v":0},210,null,null,{"$f":"IF(AND($A233<>\"\",(AC233+AD233)>0), IF($F233=\"Nej\",    IF(AD$13=\"Nm3\",(AE$12*1000*1000/((AC$242+AD$242+AC$243+AD$243)*1000*  $J233 * Data!$B$6)),  (AE$12*1000*1000/(((AC$242+AD$242+AC$243+AD$243)/Denscalc($J233))*1000*  $J233 * Data!$B$6)) ), 0     ),  0)","v":0},210,null,null,{"$f":"IF(AND($A233<>\"\",(AG233+AH233)>0), IF($F233=\"Nej\",    IF(AH$13=\"Nm3\",(AI$12*1000*1000/((AG$242+AH$242+AG$243+AH$243)*1000*  $J233 * Data!$B$6)),  (AI$12*1000*1000/(((AG$242+AH$242+AG$243+AH$243)/Denscalc($J233))*1000*  $J233 * Data!$B$6)) ), 0     ),  0)","v":0},210,null,null,{"$f":"IF(AND($A233<>\"\",(AK233+AL233)>0), IF($F233=\"Nej\",    IF(AL$13=\"Nm3\",(AM$12*1000*1000/((AK$242+AL$242+AK$243+AL$243)*1000*  $J233 * Data!$B$6)),  (AM$12*1000*1000/(((AK$242+AL$242+AK$243+AL$243)/Denscalc($J233))*1000*  $J233 * Data!$B$6)) ), 0     ),  0)","v":0},210,null,null,{"$f":"IF(AND($A233<>\"\",(AO233+AP233)>0), IF($F233=\"Nej\",    IF(AP$13=\"Nm3\",(AQ$12*1000*1000/((AO$242+AP$242+AO$243+AP$243)*1000*  $J233 * Data!$B$6)),  (AQ$12*1000*1000/(((AO$242+AP$242+AO$243+AP$243)/Denscalc($J233))*1000*  $J233 * Data!$B$6)) ), 0     ),  0)","v":0},210,null,null,{"$f":"IF(AND($A233<>\"\",(AS233+AT233)>0), IF($F233=\"Nej\",    IF(AT$13=\"Nm3\",(AU$12*1000*1000/((AS$242+AT$242+AS$243+AT$243)*1000*  $J233 * Data!$B$6)),  (AU$12*1000*1000/(((AS$242+AT$242+AS$243+AT$243)/Denscalc($J233))*1000*  $J233 * Data!$B$6)) ), 0     ),  0)","v":0},210,null,null,{"$f":"IF(AND($A233<>\"\",(AW233+AX233)>0), IF($F233=\"Nej\",\nIF(AX$13=\"Nm3\",(AY$12*1000*1000/((AW$242+AX$242+AW$243+AX$243-AW$240-AX$240)*1000*  $J233 * Data!$B$6))+(AY$6*1000*1000/((AW$242+AX$242+AW$243+AX$243)*1000*  $J233 * Data!$B$6)),\n (AY$12*1000*1000/(((AW$242+AX$242+AW$243+AX$243-AW$240-AX$240)/Denscalc($J233))*1000*  $J233 * Data!$B$6))  +  (AY$6*1000*1000/(((AW$242+AX$242+AW$243+AX$243)/Denscalc($J233))*1000*  $J233 * Data!$B$6)) ), 0     ),  0)","v":0},210,null,null,{"$f":"IF(AND($A233<>\"\",(BA233+BB233)>0), IF($F233=\"Nej\",\n (BC$12*1000*1000/((BA$244+BB$244-BA$240-BB$240)*1000* Data!$B$7))+ (BC$6*1000*1000/((BA$244+BB$244)*1000* Data!$B$7)),0 ),  0)","v":0},210,"",{"$f":"IF(A233<>\"\",IF(F233=\"Nej\", (Data!$B$129*Data!$B$5*1000*Data!$B$3)/Data!$B$6,  0 ),\"\")","v":""},"","",{"$f":"IF(A233<>\"\",IF(BH233>0,  IF(BE233=\"Nej\",    (Data!$B$8-BH233)/Data!$B$8,  ROUND( (Data!$B$8-BH233)/Data!$B$8,2)),      \"\"),\"\")","v":""},"","","","",{"$f":"IF(A233<>\"\", IF(H233=\"Flytande\",   IF(BM233>0,  IF(BE233=\"Nej\",  (Data!$B$8-BM233)/Data!$B$8,  ROUND( (Data!$B$8-BM233)/Data!$B$8,2)   ), \"\"), \"\"),\"\")","v":""},"",210,"","","",null,""]
["Summa inköpt uppgraderad biogas (gasform, Nm3)",null,null,null,null,null,{"$f":"SUMIFS(G84:G233,H84:H233,\"=Gas\",I84:I233,\"=Nm3\")","v":0},"Nm3","Såld gas (gasform)",null,null,null,{"$f":"IF(N13=\"Nm3\", SUM(M84:M233),\"\")","v":""},{"$f":"IF(N13=\"Nm3\", SUM(N84:N233),\"\")","v":""},"Nm3",null,{"$f":"IF(R13=\"Nm3\", SUM(Q84:Q233),\"\")","v":""},{"$f":"IF(R13=\"Nm3\", SUM(R84:R233),\"\")","v":""},"Nm3",null,{"$f":"IF(V13=\"Nm3\", SUM(U84:U233),\"\")","v":""},{"$f":"IF(V13=\"Nm3\", SUM(V84:V233),\"\")","v":""},"Nm3",null,{"$f":"IF(Z13=\"Nm3\", SUM(Y84:Y233),\"\")","v":""},{"$f":"IF(Z13=\"Nm3\", SUM(Z84:Z233),\"\")","v":""},"Nm3",null,{"$f":"IF(AD13=\"Nm3\", SUM(AC84:AC233),\"\")","v":""},{"$f":"IF(AD13=\"Nm3\", SUM(AD84:AD233),\"\")","v":""},"Nm3",null,{"$f":"IF(AH13=\"Nm3\", SUM(AG84:AG233),\"\")","v":""},{"$f":"IF(AH13=\"Nm3\", SUM(AH84:AH233),\"\")","v":""},"Nm3",null,{"$f":"IF(AL13=\"Nm3\", SUM(AK84:AK233),\"\")","v":""},{"$f":"IF(AL13=\"Nm3\", SUM(AL84:AL233),\"\")","v":""},"Nm3",null,{"$f":"IF(AP13=\"Nm3\", SUM(AO84:AO233),\"\")","v":""},{"$f":"IF(AP13=\"Nm3\", SUM(AP84:AP233),\"\")","v":""},"Nm3",null,{"$f":"IF(AT13=\"Nm3\", SUM(AS84:AS233),\"\")","v":""},{"$f":"IF(AT13=\"Nm3\", SUM(AT84:AT233),\"\")","v":""},"Nm3",null,{"$f":"IF(AX13=\"Nm3\", SUM(AW84:AW233),\"\")","v":""},{"$f":"IF(AX13=\"Nm3\", SUM(AX84:AX233),\"\")","v":""},"Nm3",null,null,null,null,null,null,null,null,null,"Summa",{"$f":"SUM(BJ84:BJ233)","v":0},null,"Nm3",null,null,null,null,{"$f":"SUM(BQ84:BQ233)","v":0}]
["Summa inköpt uppgraderad biogas (gasform, kg)",null,null,null,null,null,{"$f":"SUMIFS(G84:G233,H84:H233,\"=Gas\",I84:I233,\"=kg\")","v":0},"kg","Såld gas (gasform)",null,null,null,{"$f":"IF(N13=\"kg\", SUM(M84:M233),\"\")","v":0},{"$f":"IF(N13=\"kg\", SUM(N84:N233),\"\")","v":0},"kg",null,{"$f":"IF(R13=\"kg\", SUM(Q84:Q233),\"\")","v":0},{"$f":"IF(R13=\"kg\", SUM(R84:R233),\"\")","v":0},"kg",null,{"$f":"IF(V13=\"kg\", SUM(U84:U233),\"\")","v":0},{"$f":"IF(V13=\"kg\", SUM(V84:V233),\"\")","v":0},"kg",null,{"$f":"IF(Z13=\"kg\", SUM(Y84:Y233),\"\")","v":0},{"$f":"IF(Z13=\"kg\", SUM(Z84:Z233),\"\")","v":0},"kg",null,{"$f":"IF(AD13=\"kg\", SUM(AC84:AC233),\"\")","v":0},{"$f":"IF(AD13=\"kg\", SUM(AD84:AD233),\"\")","v":0},"kg",null,{"$f":"IF(AH13=\"kg\", SUM(AG84:AG233),\"\")","v":0},{"$f":"IF(AH13=\"kg\", SUM(AH84:AH233),\"\")","v":0},"kg",null,{"$f":"IF(AL13=\"kg\", SUM(AK84:AK233),\"\")","v":0},{"$f":"IF(AL13=\"kg\", SUM(AL84:AL233),\"\")","v":0},"kg",null,{"$f":"IF(AP13=\"kg\", SUM(AO84:AO233),\"\")","v":0},{"$f":"IF(AP13=\"kg\", SUM(AP84:AP233),\"\")","v":0},"kg",null,{"$f":"IF(AT13=\"kg\", SUM(AS84:AS233),\"\")","v":0},{"$f":"IF(AT13=\"kg\", SUM(AT84:AT233),\"\")","v":0},"kg",null,{"$f":"IF(AX13=\"kg\", SUM(AW84:AW233),\"\")","v":0},{"$f":"IF(AX13=\"kg\", SUM(AX84:AX233),\"\")","v":0},"kg",null,null,null,null,null,null,null,null,null,"Summa",null,{"$f":"SUM(BK84:BK233)","v":0},"kg",null,null,null,null,null,{"$f":"SUM(BR84:BR233)","v":0}]
["Summa inköpt uppgraderad biogas (flytande form, kg)",null,null,null,null,null,{"$f":"SUMIF(H84:H233,\"=Flytande\",G84:G233)","v":0},"kg",null,null,null,null,null,null,null,null,null,null,null,null,null,null,null,null,null,null,null,null,null,null,null,null,null,null,null,null,null,null,null,null,null,null,null,null,null,null,null,null,null,null,null,null,{"$f":"SUM(BA84:BA233)","v":0},{"$f":"SUM(BB84:BB233)","v":0},null,null,null,null,null,null,null,null,null,null,null,"Summa",{"$f":"SUM(BO84:BO233)","v":0},"kg",null,null,{"$f":"SUM(BS84:BS233)","v":0}]
[]
["Inköpt naturgas",null,null,"Inköpsland",null,null,"Mängd, Nm3 / kg (tusental)","Form, \nGas / \nFlytande","Enhet, \nNm3 / kg","Energiinnehåll, MJ/Nm3, MJ/kg","Densitet, kg/Nm3",null,null,null,null,null,null,null,null,null,null,null,null,null,null,null,null,null,null,null,null,null,null,null,null,null,null,null,null,null,null,null,null,null,null,null,null,null,null,null,null,null,null,null,null,null,"Summa biogas",null,null,null,null,{"$f":"BJ46+BJ80+BJ234","v":0},{"$f":"BK47+BK81+BK235","v":0},null,null,null,{"$f":"BO48+BO82+BO236","v":0},null,{"$f":"BQ46+BQ80+BQ234","v":0},{"$f":"BR47+BR81+BR235","v":0},{"$f":"BS48+BS82+BS236","v":0}]
["Naturgas i gasform och eller förångad LNG till distributionssystem",null,null,"EU","Naturgas från ledning",null,null,"Gas","kg",{"$f":"IF(E239=Data!A187, (IF(I239=\"kg\", Data!B187,Data!B187*Data!C187)),IF(E239=Data!A188, IF(I239=\"kg\", Data!B188,Data!B188*Data!C188)))","v":48.85},{"$f":"IF(E239=Data!A187, Data!C187,  IF(E239=Data!A188,  Data!C188))","v":0.7585833333333335},null,null,null,null,null,null,null,null,null,null,null,null,null,null,null,null,null,null,null,null,null,null,null,null,null,null,null,null,null,null,null,null,null,null,null,null,null,null,null,null,null,null,null,null,null,"Naturgas i gasform ",null,null,null,"Summa",{"$f":"SUM(IF(N$13=\"Nm3\",M239,0), IF(R$13=\"Nm3\",Q239,0),  IF(V$13=\"Nm3\",U239,0),  IF(Z$13=\"Nm3\",Y239,0),  IF(AD$13=\"Nm3\",AC239,0), IF(AH$13=\"Nm3\",AG239,0),  IF(AL$13=\"Nm3\",AK239,0),  IF(AP$13=\"Nm3\",AO239,0),  IF(AT$13=\"Nm3\",AS239,0), IF(AX$13=\"Nm3\",AW240,0),  )","v":0},{"$f":" SUM(IF(N$13=\"kg\",M239,0),  IF(R$13=\"kg\",Q239,0),  IF(V$13=\"kg\",U239,0),  IF(Z$13=\"kg\",Y239,0),  IF(AD$13=\"kg\",AC239,0), IF(AH$13=\"kg\",AG$16,0),  IF(AL$13=\"kg\",AK239,0),  IF(AP$13=\"kg\",AO239,0),  IF(AT$13=\"kg\",AS239,0), IF(AX$13=\"kg\",AW240,0),  )","v":0},null,null,null,null,null,{"$f":"IF(A239<>\"\", SUM(IF(N$13=\"Nm3\",N239,0),  IF(R$13=\"Nm3\",R239,0),  IF(V$13=\"Nm3\",V239,0),  IF(Z$13=\"Nm3\",Z239,0),  IF(AD$13=\"Nm3\",AD239,0), IF(AH$13=\"Nm3\",AH239,0),  IF(AL$13=\"Nm3\",AL239,0),  IF(AP$13=\"Nm3\",AP239,0),  IF(AT$13=\"Nm3\",AT239,0), IF(AX$13=\"Nm3\",AX240,0),  ),\"\")","v":0},{"$f":"IF(A239<>\"\", SUM(IF(N$13=\"kg\",N239,0),  IF(R$13=\"kg\",R239,0),  IF(V$13=\"kg\",V239,0),  IF(Z$13=\"kg\",Z239,0),  IF(AD$13=\"kg\",AD239,0), IF(AH$13=\"kg\",AH239,0),  IF(AL$13=\"kg\",AL239,0),  IF(AP$13=\"kg\",AP239,0),  IF(AT$13=\"kg\",AT239,0), IF(AX$13=\"kg\",AX240,0),  ),\"\")","v":0},null,null,{"$f":"IF(I239=\"Nm3\", ((BJ239+BK239/K239+BQ239+BR239/K239)-  G239-BW239),  (BJ239*K239+BK239+BQ239*K239+BR239)-G239-BW239)","v":0},null,{"$f":" (IF( I239=\"Nm3\",(IF(AX13=\"Nm3\",   (AW240+AX240),  (AW240+AX240)/K239) ),(IF(AX13=\"Nm3\",   (AW240+AX240)*K239,  (AW240+AX240)) )))","v":0}]
["Naturgas (LNG) i flytande form till tankstation för tankning av flytande gas",null,null,"EU","LNG",null,null,"Flytande","kg",{"$f":"Data!B189","v":49.3},{"$f":"Data!C189","v":0.78400000000000003},null,null,null,null,null,null,null,null,null,null,null,null,null,null,null,null,null,null,null,null,null,null,null,null,null,null,null,null,null,null,null,null,null,null,null,null,null,null,null,null,null,null,null,null,null,"Naturgas i flytande form",null,null,null,null,null,null,null,null,"Summa",{"$f":" BA240","v":0},"kg",null,null,{"$f":"IF(A240<>\"\",BB240,\"\")","v":0},null,{"$f":"IF(AX13=\"Nm3\",  ( (AW240+AX240)*K240+(BA240+BB240))-G240,   (AW240+AX240+BA240+BB240)-G240)","v":0}]
[]
["Totalsumma gas i gasform, Nm3 (tusental)",null,null,null,null,null,{"$f":"SUM(G46,G80,G234)+SUMIF(I239,\"Nm3\",G239)","v":0},"Nm3",null,null,null,null,{"$f":"SUM(M46,M80,M234)+ IF(N13=\"Nm3\",M239,0)","v":0},{"$f":"SUM(N46,N80,N234)+ IF(N13=\"Nm3\",N239,0)","v":0},"Nm3",null,{"$f":"SUM(Q46,Q80,Q234)+ IF(R13=\"Nm3\",Q239,0)","v":0},{"$f":"SUM(R46,R80,R234)+ IF(R13=\"Nm3\",R239,0)","v":0},"Nm3",null,{"$f":"SUM(U46,U80,U234)+ IF(V13=\"Nm3\",U239,0)","v":0},{"$f":"SUM(V46,V80,V234)+ IF(V13=\"Nm3\",V239,0)","v":0},"Nm3",null,{"$f":"SUM(Y46,Y80,Y234)+ IF(Z13=\"Nm3\",Y239,0)","v":0},{"$f":"SUM(Z46,Z80,Z234)+ IF(Z13=\"Nm3\",Z239,0)","v":0},"Nm3",null,{"$f":"SUM(AC46,AC80,AC234)+ IF(AD13=\"Nm3\",AC239,0)","v":0},{"$f":"SUM(AD46,AD80,AD234)+ IF(AD13=\"Nm3\",AD239,0)","v":0},"Nm3",null,{"$f":"SUM(AG46,AG80,AG234)+ IF(AH13=\"Nm3\",AG239,0)","v":0},{"$f":"SUM(AH46,AH80,AH234)+ IF(AH13=\"Nm3\",AH239,0)","v":0},"Nm3",null,{"$f":"SUM(AK46,AK80,AK234)+ IF(AL13=\"Nm3\",AK239,0)","v":0},{"$f":"SUM(AL46,AL80,AL234)+ IF(AL13=\"Nm3\",AL239,0)","v":0},"Nm3",null,{"$f":"SUM(AO46,AO80,AO234)+ IF(AP13=\"Nm3\",AO239,0)","v":0},{"$f":"SUM(AP46,AP80,AP234)+ IF(AP13=\"Nm3\",AP239,0)","v":0},"Nm3",null,{"$f":"SUM(AS46,AS80,AS234)+ IF(AT13=\"Nm3\",AS239,0)","v":0},{"$f":"SUM(AT46,AT80,AT234)+ IF(AT13=\"Nm3\",AT239,0)","v":0},"Nm3",null,{"$f":"SUM(AW46,AW80,AW234)+ IF(AX13=\"Nm3\",AW240,0)","v":0},{"$f":"SUM(AX46,AX80,AX234)+ IF(AX13=\"Nm3\",AX240,0)","v":0},"Nm3",null,null,null,null,null,"Summa fordonsgas i gasform",null,null,null,null,{"$f":"SUM(BJ46,BJ80,BJ234,BJ239)","v":0},null,"Nm3"]
["Totalsumma gas i gasform, kg (tusental)",null,null,null,null,null,{"$f":"SUM(G47,G81,G235) + SUMIF(I239,\"kg\",G239)","v":0},"kg",null,null,null,null,{"$f":"SUM(M47,M81,M235)+ IF(N13=\"kg\",M239,0)","v":0},{"$f":"SUM(N47,N81,N235)+ IF(N13=\"kg\",N239,0)","v":0},"kg",null,{"$f":"SUM(Q47,Q81,Q235)+ IF(R13=\"kg\",Q239,0)","v":0},{"$f":"SUM(R47,R81,R235)+ IF(R13=\"kg\",R239,0)","v":0},"kg",null,{"$f":"SUM(U47,U81,U235)+ IF(V13=\"kg\",U239,0)","v":0},{"$f":"SUM(V47,V81,V235)+ IF(V13=\"kg\",V239,0)","v":0},"kg",null,{"$f":"SUM(Y47,Y81,Y235)+ IF(Z13=\"kg\",Y239,0)","v":0},{"$f":"SUM(Z47,Z81,Z235)+ IF(Z13=\"kg\",Z239,0)","v":0},"kg",null,{"$f":"SUM(AC47,AC81,AC235)+ IF(AD13=\"kg\",AC239,0)","v":0},{"$f":"SUM(AD47,AD81,AD235)+ IF(AD13=\"kg\",AD239,0)","v":0},"kg",null,{"$f":"SUM(AG47,AG81,AG235)+ IF(AH13=\"kg\",AG239,0)","v":0},{"$f":"SUM(AH47,AH81,AH235)+ IF(AH13=\"kg\",AH239,0)","v":0},"kg",null,{"$f":"SUM(AK47,AK81,AK235)+ IF(AL13=\"kg\",AK239,0)","v":0},{"$f":"SUM(AL47,AL81,AL235)+ IF(AL13=\"kg\",AL239,0)","v":0},"kg",null,{"$f":"SUM(AO47,AO81,AO235)+ IF(AP13=\"kg\",AO239,0)","v":0},{"$f":"SUM(AP47,AP81,AP235)+ IF(AP13=\"kg\",AP239,0)","v":0},"kg",null,{"$f":"SUM(AS47,AS81,AS235)+ IF(AT13=\"kg\",AS239,0)","v":0},{"$f":"SUM(AT47,AT81,AT235)+ IF(AT13=\"kg\",AT239,0)","v":0},"kg",null,{"$f":"SUM(AW47,AW81,AW235)+ IF(AX13=\"kg\",AW240,0)","v":0},{"$f":"SUM(AX47,AX81,AX235)+ IF(AX13=\"kg\",AX240,0)","v":0},"kg",null,null,null,null,null,"Summa fordonsgas i gasform",null,null,null,null,null,{"$f":"SUM(BK47,BK81,BK235,BK239)","v":0},"kg"]
["Totalsumma gas i flytande form, kg (tusental)",null,null,null,null,null,{"$f":"SUM(G48,G82,G236,G240)","v":0},"kg",null,null,"Elförbrukning",null,{"$f":"N6*1000/SUM(M242:N243)/1000","v":{"$error":"#DIV/0!"}},null,{"$f":"IF(N13=\"Nm3\", \"kWh/Nm3\", \"kWh/kg\")","v":"kWh/kg"},null,{"$f":"R6*1000/SUM(Q242:R243)/1000","v":{"$error":"#DIV/0!"}},null,{"$f":"IF(R13=\"Nm3\", \"kWh/Nm3\", \"kWh/kg\")","v":"kWh/kg"},null,{"$f":"V6*1000/SUM(U242:V243)/1000","v":{"$error":"#DIV/0!"}},null,{"$f":"IF(V13=\"Nm3\", \"kWh/Nm3\", \"kWh/kg\")","v":"kWh/kg"},null,{"$f":"Z6*1000/SUM(Y242:Z243)/1000","v":{"$error":"#DIV/0!"}},null,{"$f":"IF(Z13=\"Nm3\", \"kWh/Nm3\", \"kWh/kg\")","v":"kWh/kg"},null,{"$f":"AD6*1000/SUM(AC242:AD243)/1000","v":{"$error":"#DIV/0!"}},null,{"$f":"IF(AD13=\"Nm3\", \"kWh/Nm3\", \"kWh/kg\")","v":"kWh/kg"},null,{"$f":"AH6*1000/SUM(AG242:AH243)/1000","v":{"$error":"#DIV/0!"}},null,{"$f":"IF(AH13=\"Nm3\", \"kWh/Nm3\", \"kWh/kg\")","v":"kWh/kg"},null,{"$f":"AL6*1000/SUM(AK242:AL243)/1000","v":{"$error":"#DIV/0!"}},null,{"$f":"IF(AL13=\"Nm3\", \"kWh/Nm3\", \"kWh/kg\")","v":"kWh/kg"},null,{"$f":"AP6*1000/SUM(AO242:AP243)/1000","v":{"$error":"#DIV/0!"}},null,{"$f":"IF(AP13=\"Nm3\", \"kWh/Nm3\", \"kWh/kg\")","v":"kWh/kg"},null,{"$f":"AT6*1000/SUM(AS242:AT243)/1000","v":{"$error":"#DIV/0!"}},null,{"$f":"IF(AT13=\"Nm3\", \"kWh/Nm3\", \"kWh/kg\")","v":"kWh/kg"},null,"Summa såld gas (flytande form)  ",null,null,null,{"$f":"SUM(BA48,BA82,BA236,BA240)","v":0},{"$f":"SUM(BB48,BB82,BB236,BB240)","v":0},null,null,"Summa fordonsgas i flytande form",null,null,null,null,null,null,null,null,null,{"$f":"SUM(BO48,BO82,BO236,BO240)","v":0},"kg"]
[null,null,null,null,null,null,null,null,null,null,null,null,null,null,null,null,null,null,null,null,null,null,null,null,null,null,null,null,null,null,null,null,null,null,null,null,null,null,null,null,null,null,null,null,null,null,"Elförbrukning",null,{"$f":"AX6*1000/SUM(AW242:AX243)/1000","v":{"$error":"#DIV/0!"}},null,{"$f":"IF(AX13=\"Nm3\", \"kWh/Nm3\", \"kWh/kg\")","v":"kWh/kg"},null,{"$f":"BB6*1000/SUM(BA244:BB244)/1000","v":{"$error":"#DIV/0!"}},null,"kWh/Nm3"]
[null,null,null,null,null,null,null,null,"Elförbrukning >>",null,null,null,null,{"$f":"IF((N242+N243+M242+M243)>0,IF(N13=\"Nm3\",N6*1000/((M242+N242)*1000),N6*1000/((M243+N243)*1000)),\"\")","v":""},{"$f":"IF(N13=\"Nm3\",\"kWh/Nm3\",\"kWh/kg\")","v":"kWh/kg"},null,null,{"$f":"IF((R242+R243+Q242+Q243)>0,IF(R13=\"Nm3\",R6*1000/((Q242+R242)*1000),R6*1000/((Q243+R243)*1000)),\"\")","v":""},{"$f":"IF(R13=\"Nm3\",\"kWh/Nm3\",\"kWh/kg\")","v":"kWh/kg"},null,null,{"$f":"IF((V242+V243+U242+U243)>0,IF(V13=\"Nm3\",V6*1000/((U242+V242)*1000),V6*1000/((U243+V243)*1000)),\"\")","v":""},{"$f":"IF(V13=\"Nm3\",\"kWh/Nm3\",\"kWh/kg\")","v":"kWh/kg"},null,null,{"$f":"IF((Z242+Z243+Y242+Y243)>0,IF(Z13=\"Nm3\",Z6*1000/((Y242+Z242)*1000),Z6*1000/((Y243+Z243)*1000)),\"\")","v":""},{"$f":"IF(Z13=\"Nm3\",\"kWh/Nm3\",\"kWh/kg\")","v":"kWh/kg"},null,null,{"$f":"IF((AD242+AD243+AC242+AC243)>0,IF(AD13=\"Nm3\",AD6*1000/((AC242+AD242)*1000),AD6*1000/((AC243+AD243)*1000)),\"\")","v":""},{"$f":"IF(AD13=\"Nm3\",\"kWh/Nm3\",\"kWh/kg\")","v":"kWh/kg"},null,null,{"$f":"IF((AH242+AH243+AG242+AG243)>0,IF(AH13=\"Nm3\",AH6*1000/((AG242+AH242)*1000),AH6*1000/((AG243+AH243)*1000)),\"\")","v":""},{"$f":"IF(AH13=\"Nm3\",\"kWh/Nm3\",\"kWh/kg\")","v":"kWh/kg"},null,null,{"$f":"IF((AL242+AL243+AK242+AK243)>0,IF(AL13=\"Nm3\",AL6*1000/((AK242+AL242)*1000),AL6*1000/((AK243+AL243)*1000)),\"\")","v":""},{"$f":"IF(AL13=\"Nm3\",\"kWh/Nm3\",\"kWh/kg\")","v":"kWh/kg"},null,null,{"$f":"IF((AP242+AP243+AO242+AO243)>0,IF(AP13=\"Nm3\",AP6*1000/((AO242+AP242)*1000),AP6*1000/((AO243+AP243)*1000)),\"\")","v":""},{"$f":"IF(AP13=\"Nm3\",\"kWh/Nm3\",\"kWh/kg\")","v":"kWh/kg"},null,null,{"$f":"IF((AT242+AT243+AS242+AS243)>0,IF(AT13=\"Nm3\",AT6*1000/((AS242+AT242)*1000),AT6*1000/((AS243+AT243)*1000)),\"\")","v":""},{"$f":"IF(AT13=\"Nm3\",\"kWh/Nm3\",\"kWh/kg\")","v":"kWh/kg"},null,null,{"$f":"IF((AX242+AX243+AW242+AW243)>0,IF(AX13=\"Nm3\",AX6*1000/((AW242+AX242)*1000),AX6*1000/((AW243+AX243)*1000)),\"\")","v":""},{"$f":"IF(AX13=\"Nm3\",\"kWh/Nm3\",\"kWh/kg\")","v":"kWh/kg"},null,null,{"$f":"IF((BB244+BA244)>0,BB6*1000/((BA244+BB244)*1000),\"\")","v":""},"kWh/kg"]
[]
[]
[]
[]
[]
[]
[]
[]
[]
[]
[]
["EU"]
["Icke EU"]
[]
[]
[]
[]
[]
[]
[]
[]
[]
[]
[]
[]
[]
[]
[]
[]
[null,null,null,null,null,null,{"$f":"SUMIF(I239,\"Nm3\",G239)","v":0}]

{"sheet":"Rapport HBL","index":4,"n_rows":5,"n_cols":22,"rows_kept":5,"cut":false,"hidden":false,"merged":[[1,2,1,5],[2,2,2,5],[3,2,3,5],[1,0,1,1],[2,0,2,1],[3,0,3,1]]}
["HBK Biogasredovisning, ver 3.6 - Underlag för rapportering enligt Hållbarhetslagen"]
["Företag:",null,{"$f":"Produktion!B2","v":"NNN"}]
["Org.nr:",null,{"$f":"Produktion!H2","v":"xxxxxx-xxxx"}]
["Period:",null,{"$f":"Produktion!B3","v":"2020-01-01 -- 2020-12-31"}]
["Parti nr (ska inte tas med i rapporten)","Kompletterande information (ska inte tas med i rapporten)","Typ av drivmedel","Produktnamn","Bränslekategori","Användningsområde","Hållbar mängd","Enhet","Effektivt värmevärde","Råvara","Råvarans ursprungsland","Inköpsland/\nproduktionsland","Restprodukt eller avfall","Cellulosa-innehåll","Metod för bestämmande av utsläppsminskning","Produktionskedja","Växthusgasutsläpp g CO2e/MJ","VHG-bonus eb","VHG-bonus esca","Certifiering utöver RED","Kommentar","Grödor som odlats som huvudgröda för i första hand energiändamål på jordbruksmark"]

{"sheet":"Rapport DML","index":5,"n_rows":6,"n_cols":17,"rows_kept":6,"cut":false,"hidden":false,"merged":[[4,0,4,6],[0,0,0,16],[4,8,4,16],[1,0,1,1],[1,3,1,5],[2,0,2,1],[2,3,2,5],[3,0,3,1],[3,3,3,5]]}
["HBK Biogasredovisning, ver 3.6 - Underlag för rapportering enligt  Drivmedelslagen"]
["Företag:",null,null,{"$f":"Produktion!B2","v":"NNN"}]
["Org.nr:",null,null,{"$f":"Produktion!H2","v":"xxxxxx-xxxx"}]
["Period:",null,null,{"$f":"Produktion!B3","v":"2020-01-01 -- 2020-12-31"}]
["DML - Drivmedel",null,null,null,null,null,null,null,"DML - Fossila komponenter"]
["ID","Typ av drivmedel","Produktnamn","Mängd","Enhet","Värmevärde","Reduktionsplikt","ID","Typ av drivmedel","Produktnamn","Fossil komponent","Mängd","Enhet","Värmevärde","Inköpsland","Råvarans ursprungsland","Feedstock trade name"]

{"sheet":"Rapport Ej slutkund","index":6,"n_rows":501,"n_cols":33,"rows_kept":501,"cut":false,"hidden":false,"merged":[[0,0,0,32],[1,0,1,1],[1,2,1,4],[2,0,2,1],[2,2,2,4],[2,12,2,31]]}
["HBK Biogasredovisning, ver 3.6 - Hållbarhetsdata för biogas såld till ej slutkund dvs till annan aktör som distribuerar (säljer) biogasen till slutkund"]
["Företag:",null,{"$f":"Produktion!B2","v":"NNN"}]
["Period:",null,{"$f":"Produktion!B3","v":"2020-01-01 -- 2020-12-31"},null,null,null,null,null,null,null,null,null,"Fördelning av såld gas på kunder"]
["Parti","Substrat","Kompletterande information","Ursprung","Substrat, typ","Normalvärde,\nNej=Faktisk beräkning","Mängd biogas, Nm3 / kg\n(tusental)","Form, Gas / flytande","Enhet","Metanhalt, %","g CO2eq/MJ",null,"Kund 1","Kund 2","Kund 3","Kund 4","Kund 5","Kund 6","Kund 7","Kund 8","Kund 9","Kund 10","Kund 11","Kund 12","Kund 13","Kund 14","Kund 15","Kund 16","Kund 17","Kund 18","Kund 19","Kund 20","Avvikelse"]
[null,null,null,null,null,null,null,null,null,null,null,null,null,null,null,null,null,null,null,null,null,null,null,null,null,null,null,null,null,null,null,null,{"$f":"G5-SUM(M5:AF5)","v":0}]
[null,null,null,null,null,null,null,null,null,null,null,null,null,null,null,null,null,null,null,null,null,null,null,null,null,null,null,null,null,null,null,null,{"$f":"G6-SUM(M6:AF6)","v":0}]
[null,null,null,null,null,null,null,null,null,null,null,null,null,null,null,null,null,null,null,null,null,null,null,null,null,null,null,null,null,null,null,null,0]
[null,null,null,null,null,null,null,null,null,null,null,null,null,null,null,null,null,null,null,null,null,null,null,null,null,null,null,null,null,null,null,null,0]
[null,null,null,null,null,null,null,null,null,null,null,null,null,null,null,null,null,null,null,null,null,null,null,null,null,null,null,null,null,null,null,null,0]
[null,null,null,null,null,null,null,null,null,null,null,null,null,null,null,null,null,null,null,null,null,null,null,null,null,null,null,null,null,null,null,null,0]
[null,null,null,null,null,null,null,null,null,null,null,null,null,null,null,null,null,null,null,null,null,null,null,null,null,null,null,null,null,null,null,null,0]
[null,null,null,null,null,null,null,null,null,null,null,null,null,null,null,null,null,null,null,null,null,null,null,null,null,null,null,null,null,null,null,null,0]
[null,null,null,null,null,null,null,null,null,null,null,null,null,null,null,null,null,null,null,null,null,null,null,null,null,null,null,null,null,null,null,null,0]
[null,null,null,null,null,null,null,null,null,null,null,null,null,null,null,null,null,null,null,null,null,null,null,null,null,null,null,null,null,null,null,null,0]
[null,null,null,null,null,null,null,null,null,null,null,null,null,null,null,null,null,null,null,null,null,null,null,null,null,null,null,null,null,null,null,null,0]
[null,null,null,null,null,null,null,null,null,null,null,null,null,null,null,null,null,null,null,null,null,null,null,null,null,null,null,null,null,null,null,null,0]
[null,null,null,null,null,null,null,null,null,null,null,null,null,null,null,null,null,null,null,null,null,null,null,null,null,null,null,null,null,null,null,null,0]
[null,null,null,null,null,null,null,null,null,null,null,null,null,null,null,null,null,null,null,null,null,null,null,null,null,null,null,null,null,null,null,null,0]
[null,null,null,null,null,null,null,null,null,null,null,null,null,null,null,null,null,null,null,null,null,null,null,null,null,null,null,null,null,null,null,null,0]
[null,null,null,null,null,null,null,null,null,null,null,null,null,null,null,null,null,null,null,null,null,null,null,null,null,null,null,null,null,null,null,null,0]
[null,null,null,null,null,null,null,null,null,null,null,null,null,null,null,null,null,null,null,null,null,null,null,null,null,null,null,null,null,null,null,null,0]
[null,null,null,null,null,null,null,null,null,null,null,null,null,null,null,null,null,null,null,null,null,null,null,null,null,null,null,null,null,null,null,null,0]
[null,null,null,null,null,null,null,null,null,null,null,null,null,null,null,null,null,null,null,null,null,null,null,null,null,null,null,null,null,null,null,null,0]
[null,null,null,null,null,null,null,null,null,null,null,null,null,null,null,null,null,null,null,null,null,null,null,null,null,null,null,null,null,null,null,null,0]
[null,null,null,null,null,null,null,null,null,null,null,null,null,null,null,null,null,null,null,null,null,null,null,null,null,null,null,null,null,null,null,null,0]
[null,null,null,null,null,null,null,null,null,null,null,null,null,null,null,null,null,null,null,null,null,null,null,null,null,null,null,null,null,null,null,null,0]
[null,null,null,null,null,null,null,null,null,null,null,null,null,null,null,null,null,null,null,null,null,null,null,null,null,null,null,null,null,null,null,null,0]
[null,null,null,null,null,null,null,null,null,null,null,null,null,null,null,null,null,null,null,null,null,null,null,null,null,null,null,null,null,null,null,null,0]
[null,null,null,null,null,null,null,null,null,null,null,null,null,null,null,null,null,null,null,null,null,null,null,null,null,null,null,null,null,null,null,null,0]
[null,null,null,null,null,null,null,null,null,null,null,null,null,null,null,null,null,null,null,null,null,null,null,null,null,null,null,null,null,null,null,null,0]
[null,null,null,null,null,null,null,null,null,null,null,null,null,null,null,null,null,null,null,null,null,null,null,null,null,null,null,null,null,null,null,null,0]
[null,null,null,null,null,null,null,null,null,null,null,null,null,null,null,null,null,null,null,null,null,null,null,null,null,null,null,null,null,null,null,null,0]
[null,null,null,null,null,null,null,null,null,null,null,null,null,null,null,null,null,null,null,null,null,null,null,null,null,null,null,null,null,null,null,null,0]
[null,null,null,null,null,null,null,null,null,null,null,null,null,null,null,null,null,null,null,null,null,null,null,null,null,null,null,null,null,null,null,null,0]
[null,null,null,null,null,null,null,null,null,null,null,null,null,null,null,null,null,null,null,null,null,null,null,null,null,null,null,null,null,null,null,null,0]
[null,null,null,null,null,null,null,null,null,null,null,null,null,null,null,null,null,null,null,null,null,null,null,null,null,null,null,null,null,null,null,null,0]
[null,null,null,null,null,null,null,null,null,null,null,null,null,null,null,null,null,null,null,null,null,null,null,null,null,null,null,null,null,null,null,null,0]
[null,null,null,null,null,null,null,null,null,null,null,null,null,null,null,null,null,null,null,null,null,null,null,null,null,null,null,null,null,null,null,null,0]
[null,null,null,null,null,null,null,null,null,null,null,null,null,null,null,null,null,null,null,null,null,null,null,null,null,null,null,null,null,null,null,null,0]
[null,null,null,null,null,null,null,null,null,null,null,null,null,null,null,null,null,null,null,null,null,null,null,null,null,null,null,null,null,null,null,null,0]
[null,null,null,null,null,null,null,null,null,null,null,null,null,null,null,null,null,null,null,null,null,null,null,null,null,null,null,null,null,null,null,null,0]
[null,null,null,null,null,null,null,null,null,null,null,null,null,null,null,null,null,null,null,null,null,null,null,null,null,null,null,null,null,null,null,null,0]
[null,null,null,null,null,null,null,null,null,null,null,null,null,null,null,null,null,null,null,null,null,null,null,null,null,null,null,null,null,null,null,null,0]
[null,null,null,null,null,null,null,null,null,null,null,null,null,null,null,null,null,null,null,null,null,null,null,null,null,null,null,null,null,null,null,null,0]
[null,null,null,null,null,null,null,null,null,null,null,null,null,null,null,null,null,null,null,null,null,null,null,null,null,null,null,null,null,null,null,null,0]
[null,null,null,null,null,null,null,null,null,null,null,null,null,null,null,null,null,null,null,null,null,null,null,null,null,null,null,null,null,null,null,null,0]
[null,null,null,null,null,null,null,null,null,null,null,null,null,null,null,null,null,null,null,null,null,null,null,null,null,null,null,null,null,null,null,null,0]
[null,null,null,null,null,null,null,null,null,null,null,null,null,null,null,null,null,null,null,null,null,null,null,null,null,null,null,null,null,null,null,null,0]
[null,null,null,null,null,null,null,null,null,null,null,null,null,null,null,null,null,null,null,null,null,null,null,null,null,null,null,null,null,null,null,null,0]
[null,null,null,null,null,null,null,null,null,null,null,null,null,null,null,null,null,null,null,null,null,null,null,null,null,null,null,null,null,null,null,null,0]
[null,null,null,null,null,null,null,null,null,null,null,null,null,null,null,null,null,null,null,null,null,null,null,null,null,null,null,null,null,null,null,null,0]
[null,null,null,null,null,null,null,null,null,null,null,null,null,null,null,null,null,null,null,null,null,null,null,null,null,null,null,null,null,null,null,null,0]
[null,null,null,null,null,null,null,null,null,null,null,null,null,null,null,null,null,null,null,null,null,null,null,null,null,null,null,null,null,null,null,null,0]
[null,null,null,null,null,null,null,null,null,null,null,null,null,null,null,null,null,null,null,null,null,null,null,null,null,null,null,null,null,null,null,null,0]
[null,null,null,null,null,null,null,null,null,null,null,null,null,null,null,null,null,null,null,null,null,null,null,null,null,null,null,null,null,null,null,null,0]
[null,null,null,null,null,null,null,null,null,null,null,null,null,null,null,null,null,null,null,null,null,null,null,null,null,null,null,null,null,null,null,null,0]
[null,null,null,null,null,null,null,null,null,null,null,null,null,null,null,null,null,null,null,null,null,null,null,null,null,null,null,null,null,null,null,null,0]
[null,null,null,null,null,null,null,null,null,null,null,null,null,null,null,null,null,null,null,null,null,null,null,null,null,null,null,null,null,null,null,null,0]
[null,null,null,null,null,null,null,null,null,null,null,null,null,null,null,null,null,null,null,null,null,null,null,null,null,null,null,null,null,null,null,null,0]
[null,null,null,null,null,null,null,null,null,null,null,null,null,null,null,null,null,null,null,null,null,null,null,null,null,null,null,null,null,null,null,null,0]
[null,null,null,null,null,null,null,null,null,null,null,null,null,null,null,null,null,null,null,null,null,null,null,null,null,null,null,null,null,null,null,null,0]
[null,null,null,null,null,null,null,null,null,null,null,null,null,null,null,null,null,null,null,null,null,null,null,null,null,null,null,null,null,null,null,null,0]
[null,null,null,null,null,null,null,null,null,null,null,null,null,null,null,null,null,null,null,null,null,null,null,null,null,null,null,null,null,null,null,null,0]
[null,null,null,null,null,null,null,null,null,null,null,null,null,null,null,null,null,null,null,null,null,null,null,null,null,null,null,null,null,null,null,null,0]
[null,null,null,null,null,null,null,null,null,null,null,null,null,null,null,null,null,null,null,null,null,null,null,null,null,null,null,null,null,null,null,null,0]
[null,null,null,null,null,null,null,null,null,null,null,null,null,null,null,null,null,null,null,null,null,null,null,null,null,null,null,null,null,null,null,null,0]
[null,null,null,null,null,null,null,null,null,null,null,null,null,null,null,null,null,null,null,null,null,null,null,null,null,null,null,null,null,null,null,null,0]
[null,null,null,null,null,null,null,null,null,null,null,null,null,null,null,null,null,null,null,null,null,null,null,null,null,null,null,null,null,null,null,null,0]
[null,null,null,null,null,null,null,null,null,null,null,null,null,null,null,null,null,null,null,null,null,null,null,null,null,null,null,null,null,null,null,null,0]
[null,null,null,null,null,null,null,null,null,null,null,null,null,null,null,null,null,null,null,null,null,null,null,null,null,null,null,null,null,null,null,null,{"$f":"G70-SUM(M70:AF70)","v":0}]
[null,null,null,null,null,null,null,null,null,null,null,null,null,null,null,null,null,null,null,null,null,null,null,null,null,null,null,null,null,null,null,null,0]
[null,null,null,null,null,null,null,null,null,null,null,null,null,null,null,null,null,null,null,null,null,null,null,null,null,null,null,null,null,null,null,null,0]
[null,null,null,null,null,null,null,null,null,null,null,null,null,null,null,null,null,null,null,null,null,null,null,null,null,null,null,null,null,null,null,null,0]
[null,null,null,null,null,null,null,null,null,null,null,null,null,null,null,null,null,null,null,null,null,null,null,null,null,null,null,null,null,null,null,null,0]
[null,null,null,null,null,null,null,null,null,null,null,null,null,null,null,null,null,null,null,null,null,null,null,null,null,null,null,null,null,null,null,null,0]
[null,null,null,null,null,null,null,null,null,null,null,null,null,null,null,null,null,null,null,null,null,null,null,null,null,null,null,null,null,null,null,null,0]
[null,null,null,null,null,null,null,null,null,null,null,null,null,null,null,null,null,null,null,null,null,null,null,null,null,null,null,null,null,null,null,null,0]
[null,null,null,null,null,null,null,null,null,null,null,null,null,null,null,null,null,null,null,null,null,null,null,null,null,null,null,null,null,null,null,null,0]
[null,null,null,null,null,null,null,null,null,null,null,null,null,null,null,null,null,null,null,null,null,null,null,null,null,null,null,null,null,null,null,null,0]
[null,null,null,null,null,null,null,null,null,null,null,null,null,null,null,null,null,null,null,null,null,null,null,null,null,null,null,null,null,null,null,null,0]
[null,null,null,null,null,null,null,null,null,null,null,null,null,null,null,null,null,null,null,null,null,null,null,null,null,null,null,null,null,null,null,null,0]
[null,null,null,null,null,null,null,null,null,null,null,null,null,null,null,null,null,null,null,null,null,null,null,null,null,null,null,null,null,null,null,null,0]
[null,null,null,null,null,null,null,null,null,null,null,null,null,null,null,null,null,null,null,null,null,null,null,null,null,null,null,null,null,null,null,null,0]
[null,null,null,null,null,null,null,null,null,null,null,null,null,null,null,null,null,null,null,null,null,null,null,null,null,null,null,null,null,null,null,null,0]
[null,null,null,null,null,null,null,null,null,null,null,null,null,null,null,null,null,null,null,null,null,null,null,null,null,null,null,null,null,null,null,null,0]
[null,null,null,null,null,null,null,null,null,null,null,null,null,null,null,null,null,null,null,null,null,null,null,null,null,null,null,null,null,null,null,null,0]
[null,null,null,null,null,null,null,null,null,null,null,null,null,null,null,null,null,null,null,null,null,null,null,null,null,null,null,null,null,null,null,null,0]
[null,null,null,null,null,null,null,null,null,null,null,null,null,null,null,null,null,null,null,null,null,null,null,null,null,null,null,null,null,null,null,null,0]
[null,null,null,null,null,null,null,null,null,null,null,null,null,null,null,null,null,null,null,null,null,null,null,null,null,null,null,null,null,null,null,null,0]
[null,null,null,null,null,null,null,null,null,null,null,null,null,null,null,null,null,null,null,null,null,null,null,null,null,null,null,null,null,null,null,null,0]
[null,null,null,null,null,null,null,null,null,null,null,null,null,null,null,null,null,null,null,null,null,null,null,null,null,null,null,null,null,null,null,null,0]
[null,null,null,null,null,null,null,null,null,null,null,null,null,null,null,null,null,null,null,null,null,null,null,null,null,null,null,null,null,null,null,null,0]
[null,null,null,null,null,null,null,null,null,null,null,null,null,null,null,null,null,null,null,null,null,null,null,null,null,null,null,null,null,null,null,null,0]
[null,null,null,null,null,null,null,null,null,null,null,null,null,null,null,null,null,null,null,null,null,null,null,null,null,null,null,null,null,null,null,null,0]
[null,null,null,null,null,null,null,null,null,null,null,null,null,null,null,null,null,null,null,null,null,null,null,null,null,null,null,null,null,null,null,null,0]
[null,null,null,null,null,null,null,null,null,null,null,null,null,null,null,null,null,null,null,null,null,null,null,null,null,null,null,null,null,null,null,null,0]
[null,null,null,null,null,null,null,null,null,null,null,null,null,null,null,null,null,null,null,null,null,null,null,null,null,null,null,null,null,null,null,null,0]
[null,null,null,null,null,null,null,null,null,null,null,null,null,null,null,null,null,null,null,null,null,null,null,null,null,null,null,null,null,null,null,null,0]
[null,null,null,null,null,null,null,null,null,null,null,null,null,null,null,null,null,null,null,null,null,null,null,null,null,null,null,null,null,null,null,null,0]
[null,null,null,null,null,null,null,null,null,null,null,null,null,null,null,null,null,null,null,null,null,null,null,null,null,null,null,null,null,null,null,null,0]
[null,null,null,null,null,null,null,null,null,null,null,null,null,null,null,null,null,null,null,null,null,null,null,null,null,null,null,null,null,null,null,null,0]
[null,null,null,null,null,null,null,null,null,null,null,null,null,null,null,null,null,null,null,null,null,null,null,null,null,null,null,null,null,null,null,null,0]
[null,null,null,null,null,null,null,null,null,null,null,null,null,null,null,null,null,null,null,null,null,null,null,null,null,null,null,null,null,null,null,null,0]
[null,null,null,null,null,null,null,null,null,null,null,null,null,null,null,null,null,null,null,null,null,null,null,null,null,null,null,null,null,null,null,null,0]
[null,null,null,null,null,null,null,null,null,null,null,null,null,null,null,null,null,null,null,null,null,null,null,null,null,null,null,null,null,null,null,null,0]
[null,null,null,null,null,null,null,null,null,null,null,null,null,null,null,null,null,null,null,null,null,null,null,null,null,null,null,null,null,null,null,null,0]
[null,null,null,null,null,null,null,null,null,null,null,null,null,null,null,null,null,null,null,null,null,null,null,null,null,null,null,null,null,null,null,null,0]
[null,null,null,null,null,null,null,null,null,null,null,null,null,null,null,null,null,null,null,null,null,null,null,null,null,null,null,null,null,null,null,null,0]
[null,null,null,null,null,null,null,null,null,null,null,null,null,null,null,null,null,null,null,null,null,null,null,null,null,null,null,null,null,null,null,null,0]
[null,null,null,null,null,null,null,null,null,null,null,null,null,null,null,null,null,null,null,null,null,null,null,null,null,null,null,null,null,null,null,null,0]
[null,null,null,null,null,null,null,null,null,null,null,null,null,null,null,null,null,null,null,null,null,null,null,null,null,null,null,null,null,null,null,null,0]
[null,null,null,null,null,null,null,null,null,null,null,null,null,null,null,null,null,null,null,null,null,null,null,null,null,null,null,null,null,null,null,null,0]
[null,null,null,null,null,null,null,null,null,null,null,null,null,null,null,null,null,null,null,null,null,null,null,null,null,null,null,null,null,null,null,null,0]
[null,null,null,null,null,null,null,null,null,null,null,null,null,null,null,null,null,null,null,null,null,null,null,null,null,null,null,null,null,null,null,null,0]
[null,null,null,null,null,null,null,null,null,null,null,null,null,null,null,null,null,null,null,null,null,null,null,null,null,null,null,null,null,null,null,null,0]
[null,null,null,null,null,null,null,null,null,null,null,null,null,null,null,null,null,null,null,null,null,null,null,null,null,null,null,null,null,null,null,null,0]
[null,null,null,null,null,null,null,null,null,null,null,null,null,null,null,null,null,null,null,null,null,null,null,null,null,null,null,null,null,null,null,null,0]
[null,null,null,null,null,null,null,null,null,null,null,null,null,null,null,null,null,null,null,null,null,null,null,null,null,null,null,null,null,null,null,null,0]
[null,null,null,null,null,null,null,null,null,null,null,null,null,null,null,null,null,null,null,null,null,null,null,null,null,null,null,null,null,null,null,null,0]
[null,null,null,null,null,null,null,null,null,null,null,null,null,null,null,null,null,null,null,null,null,null,null,null,null,null,null,null,null,null,null,null,0]
[null,null,null,null,null,null,null,null,null,null,null,null,null,null,null,null,null,null,null,null,null,null,null,null,null,null,null,null,null,null,null,null,0]
[null,null,null,null,null,null,null,null,null,null,null,null,null,null,null,null,null,null,null,null,null,null,null,null,null,null,null,null,null,null,null,null,0]
[null,null,null,null,null,null,null,null,null,null,null,null,null,null,null,null,null,null,null,null,null,null,null,null,null,null,null,null,null,null,null,null,0]
[null,null,null,null,null,null,null,null,null,null,null,null,null,null,null,null,null,null,null,null,null,null,null,null,null,null,null,null,null,null,null,null,0]
[null,null,null,null,null,null,null,null,null,null,null,null,null,null,null,null,null,null,null,null,null,null,null,null,null,null,null,null,null,null,null,null,0]
[null,null,null,null,null,null,null,null,null,null,null,null,null,null,null,null,null,null,null,null,null,null,null,null,null,null,null,null,null,null,null,null,0]
[null,null,null,null,null,null,null,null,null,null,null,null,null,null,null,null,null,null,null,null,null,null,null,null,null,null,null,null,null,null,null,null,0]
[null,null,null,null,null,null,null,null,null,null,null,null,null,null,null,null,null,null,null,null,null,null,null,null,null,null,null,null,null,null,null,null,0]
[null,null,null,null,null,null,null,null,null,null,null,null,null,null,null,null,null,null,null,null,null,null,null,null,null,null,null,null,null,null,null,null,0]
[null,null,null,null,null,null,null,null,null,null,null,null,null,null,null,null,null,null,null,null,null,null,null,null,null,null,null,null,null,null,null,null,0]
[null,null,null,null,null,null,null,null,null,null,null,null,null,null,null,null,null,null,null,null,null,null,null,null,null,null,null,null,null,null,null,null,0]
[null,null,null,null,null,null,null,null,null,null,null,null,null,null,null,null,null,null,null,null,null,null,null,null,null,null,null,null,null,null,null,null,0]
[null,null,null,null,null,null,null,null,null,null,null,null,null,null,null,null,null,null,null,null,null,null,null,null,null,null,null,null,null,null,null,null,0]
[null,null,null,null,null,null,null,null,null,null,null,null,null,null,null,null,null,null,null,null,null,null,null,null,null,null,null,null,null,null,null,null,{"$f":"G134-SUM(M134:AF134)","v":0}]
[null,null,null,null,null,null,null,null,null,null,null,null,null,null,null,null,null,null,null,null,null,null,null,null,null,null,null,null,null,null,null,null,0]
[null,null,null,null,null,null,null,null,null,null,null,null,null,null,null,null,null,null,null,null,null,null,null,null,null,null,null,null,null,null,null,null,0]
[null,null,null,null,null,null,null,null,null,null,null,null,null,null,null,null,null,null,null,null,null,null,null,null,null,null,null,null,null,null,null,null,0]
[null,null,null,null,null,null,null,null,null,null,null,null,null,null,null,null,null,null,null,null,null,null,null,null,null,null,null,null,null,null,null,null,0]
[null,null,null,null,null,null,null,null,null,null,null,null,null,null,null,null,null,null,null,null,null,null,null,null,null,null,null,null,null,null,null,null,0]
[null,null,null,null,null,null,null,null,null,null,null,null,null,null,null,null,null,null,null,null,null,null,null,null,null,null,null,null,null,null,null,null,0]
[null,null,null,null,null,null,null,null,null,null,null,null,null,null,null,null,null,null,null,null,null,null,null,null,null,null,null,null,null,null,null,null,0]
[null,null,null,null,null,null,null,null,null,null,null,null,null,null,null,null,null,null,null,null,null,null,null,null,null,null,null,null,null,null,null,null,0]
[null,null,null,null,null,null,null,null,null,null,null,null,null,null,null,null,null,null,null,null,null,null,null,null,null,null,null,null,null,null,null,null,0]
[null,null,null,null,null,null,null,null,null,null,null,null,null,null,null,null,null,null,null,null,null,null,null,null,null,null,null,null,null,null,null,null,0]
[null,null,null,null,null,null,null,null,null,null,null,null,null,null,null,null,null,null,null,null,null,null,null,null,null,null,null,null,null,null,null,null,0]
[null,null,null,null,null,null,null,null,null,null,null,null,null,null,null,null,null,null,null,null,null,null,null,null,null,null,null,null,null,null,null,null,0]
[null,null,null,null,null,null,null,null,null,null,null,null,null,null,null,null,null,null,null,null,null,null,null,null,null,null,null,null,null,null,null,null,0]
[null,null,null,null,null,null,null,null,null,null,null,null,null,null,null,null,null,null,null,null,null,null,null,null,null,null,null,null,null,null,null,null,0]
[null,null,null,null,null,null,null,null,null,null,null,null,null,null,null,null,null,null,null,null,null,null,null,null,null,null,null,null,null,null,null,null,0]
[null,null,null,null,null,null,null,null,null,null,null,null,null,null,null,null,null,null,null,null,null,null,null,null,null,null,null,null,null,null,null,null,0]
[null,null,null,null,null,null,null,null,null,null,null,null,null,null,null,null,null,null,null,null,null,null,null,null,null,null,null,null,null,null,null,null,0]
[null,null,null,null,null,null,null,null,null,null,null,null,null,null,null,null,null,null,null,null,null,null,null,null,null,null,null,null,null,null,null,null,0]
[null,null,null,null,null,null,null,null,null,null,null,null,null,null,null,null,null,null,null,null,null,null,null,null,null,null,null,null,null,null,null,null,0]
[null,null,null,null,null,null,null,null,null,null,null,null,null,null,null,null,null,null,null,null,null,null,null,null,null,null,null,null,null,null,null,null,0]
[null,null,null,null,null,null,null,null,null,null,null,null,null,null,null,null,null,null,null,null,null,null,null,null,null,null,null,null,null,null,null,null,0]
[null,null,null,null,null,null,null,null,null,null,null,null,null,null,null,null,null,null,null,null,null,null,null,null,null,null,null,null,null,null,null,null,0]
[null,null,null,null,null,null,null,null,null,null,null,null,null,null,null,null,null,null,null,null,null,null,null,null,null,null,null,null,null,null,null,null,0]
[null,null,null,null,null,null,null,null,null,null,null,null,null,null,null,null,null,null,null,null,null,null,null,null,null,null,null,null,null,null,null,null,0]
[null,null,null,null,null,null,null,null,null,null,null,null,null,null,null,null,null,null,null,null,null,null,null,null,null,null,null,null,null,null,null,null,0]
[null,null,null,null,null,null,null,null,null,null,null,null,null,null,null,null,null,null,null,null,null,null,null,null,null,null,null,null,null,null,null,null,0]
[null,null,null,null,null,null,null,null,null,null,null,null,null,null,null,null,null,null,null,null,null,null,null,null,null,null,null,null,null,null,null,null,0]
[null,null,null,null,null,null,null,null,null,null,null,null,null,null,null,null,null,null,null,null,null,null,null,null,null,null,null,null,null,null,null,null,0]
[null,null,null,null,null,null,null,null,null,null,null,null,null,null,null,null,null,null,null,null,null,null,null,null,null,null,null,null,null,null,null,null,0]
[null,null,null,null,null,null,null,null,null,null,null,null,null,null,null,null,null,null,null,null,null,null,null,null,null,null,null,null,null,null,null,null,0]
[null,null,null,null,null,null,null,null,null,null,null,null,null,null,null,null,null,null,null,null,null,null,null,null,null,null,null,null,null,null,null,null,0]
[null,null,null,null,null,null,null,null,null,null,null,null,null,null,null,null,null,null,null,null,null,null,null,null,null,null,null,null,null,null,null,null,0]
[null,null,null,null,null,null,null,null,null,null,null,null,null,null,null,null,null,null,null,null,null,null,null,null,null,null,null,null,null,null,null,null,0]
[null,null,null,null,null,null,null,null,null,null,null,null,null,null,null,null,null,null,null,null,null,null,null,null,null,null,null,null,null,null,null,null,0]
[null,null,null,null,null,null,null,null,null,null,null,null,null,null,null,null,null,null,null,null,null,null,null,null,null,null,null,null,null,null,null,null,0]
[null,null,null,null,null,null,null,null,null,null,null,null,null,null,null,null,null,null,null,null,null,null,null,null,null,null,null,null,null,null,null,null,0]
[null,null,null,null,null,null,null,null,null,null,null,null,null,null,null,null,null,null,null,null,null,null,null,null,null,null,null,null,null,null,null,null,0]
[null,null,null,null,null,null,null,null,null,null,null,null,null,null,null,null,null,null,null,null,null,null,null,null,null,null,null,null,null,null,null,null,0]
[null,null,null,null,null,null,null,null,null,null,null,null,null,null,null,null,null,null,null,null,null,null,null,null,null,null,null,null,null,null,null,null,0]
[null,null,null,null,null,null,null,null,null,null,null,null,null,null,null,null,null,null,null,null,null,null,null,null,null,null,null,null,null,null,null,null,0]
[null,null,null,null,null,null,null,null,null,null,null,null,null,null,null,null,null,null,null,null,null,null,null,null,null,null,null,null,null,null,null,null,0]
[null,null,null,null,null,null,null,null,null,null,null,null,null,null,null,null,null,null,null,null,null,null,null,null,null,null,null,null,null,null,null,null,0]
[null,null,null,null,null,null,null,null,null,null,null,null,null,null,null,null,null,null,null,null,null,null,null,null,null,null,null,null,null,null,null,null,0]
[null,null,null,null,null,null,null,null,null,null,null,null,null,null,null,null,null,null,null,null,null,null,null,null,null,null,null,null,null,null,null,null,0]
[null,null,null,null,null,null,null,null,null,null,null,null,null,null,null,null,null,null,null,null,null,null,null,null,null,null,null,null,null,null,null,null,0]
[null,null,null,null,null,null,null,null,null,null,null,null,null,null,null,null,null,null,null,null,null,null,null,null,null,null,null,null,null,null,null,null,0]
[null,null,null,null,null,null,null,null,null,null,null,null,null,null,null,null,null,null,null,null,null,null,null,null,null,null,null,null,null,null,null,null,0]
[null,null,null,null,null,null,null,null,null,null,null,null,null,null,null,null,null,null,null,null,null,null,null,null,null,null,null,null,null,null,null,null,0]
[null,null,null,null,null,null,null,null,null,null,null,null,null,null,null,null,null,null,null,null,null,null,null,null,null,null,null,null,null,null,null,null,0]
[null,null,null,null,null,null,null,null,null,null,null,null,null,null,null,null,null,null,null,null,null,null,null,null,null,null,null,null,null,null,null,null,0]
[null,null,null,null,null,null,null,null,null,null,null,null,null,null,null,null,null,null,null,null,null,null,null,null,null,null,null,null,null,null,null,null,0]
[null,null,null,null,null,null,null,null,null,null,null,null,null,null,null,null,null,null,null,null,null,null,null,null,null,null,null,null,null,null,null,null,0]
[null,null,null,null,null,null,null,null,null,null,null,null,null,null,null,null,null,null,null,null,null,null,null,null,null,null,null,null,null,null,null,null,0]
[null,null,null,null,null,null,null,null,null,null,null,null,null,null,null,null,null,null,null,null,null,null,null,null,null,null,null,null,null,null,null,null,0]
[null,null,null,null,null,null,null,null,null,null,null,null,null,null,null,null,null,null,null,null,null,null,null,null,null,null,null,null,null,null,null,null,0]
[null,null,null,null,null,null,null,null,null,null,null,null,null,null,null,null,null,null,null,null,null,null,null,null,null,null,null,null,null,null,null,null,0]
[null,null,null,null,null,null,null,null,null,null,null,null,null,null,null,null,null,null,null,null,null,null,null,null,null,null,null,null,null,null,null,null,0]
[null,null,null,null,null,null,null,null,null,null,null,null,null,null,null,null,null,null,null,null,null,null,null,null,null,null,null,null,null,null,null,null,0]
[null,null,null,null,null,null,null,null,null,null,null,null,null,null,null,null,null,null,null,null,null,null,null,null,null,null,null,null,null,null,null,null,0]
[null,null,null,null,null,null,null,null,null,null,null,null,null,null,null,null,null,null,null,null,null,null,null,null,null,null,null,null,null,null,null,null,0]
[null,null,null,null,null,null,null,null,null,null,null,null,null,null,null,null,null,null,null,null,null,null,null,null,null,null,null,null,null,null,null,null,0]
[null,null,null,null,null,null,null,null,null,null,null,null,null,null,null,null,null,null,null,null,null,null,null,null,null,null,null,null,null,null,null,null,0]
[null,null,null,null,null,null,null,null,null,null,null,null,null,null,null,null,null,null,null,null,null,null,null,null,null,null,null,null,null,null,null,null,0]
[null,null,null,null,null,null,null,null,null,null,null,null,null,null,null,null,null,null,null,null,null,null,null,null,null,null,null,null,null,null,null,null,{"$f":"G198-SUM(M198:AF198)","v":0}]
[null,null,null,null,null,null,null,null,null,null,null,null,null,null,null,null,null,null,null,null,null,null,null,null,null,null,null,null,null,null,null,null,0]
[null,null,null,null,null,null,null,null,null,null,null,null,null,null,null,null,null,null,null,null,null,null,null,null,null,null,null,null,null,null,null,null,0]
[null,null,null,null,null,null,null,null,null,null,null,null,null,null,null,null,null,null,null,null,null,null,null,null,null,null,null,null,null,null,null,null,0]
[null,null,null,null,null,null,null,null,null,null,null,null,null,null,null,null,null,null,null,null,null,null,null,null,null,null,null,null,null,null,null,null,0]
[null,null,null,null,null,null,null,null,null,null,null,null,null,null,null,null,null,null,null,null,null,null,null,null,null,null,null,null,null,null,null,null,0]
[null,null,null,null,null,null,null,null,null,null,null,null,null,null,null,null,null,null,null,null,null,null,null,null,null,null,null,null,null,null,null,null,0]
[null,null,null,null,null,null,null,null,null,null,null,null,null,null,null,null,null,null,null,null,null,null,null,null,null,null,null,null,null,null,null,null,0]
[null,null,null,null,null,null,null,null,null,null,null,null,null,null,null,null,null,null,null,null,null,null,null,null,null,null,null,null,null,null,null,null,0]
[null,null,null,null,null,null,null,null,null,null,null,null,null,null,null,null,null,null,null,null,null,null,null,null,null,null,null,null,null,null,null,null,0]
[null,null,null,null,null,null,null,null,null,null,null,null,null,null,null,null,null,null,null,null,null,null,null,null,null,null,null,null,null,null,null,null,0]
[null,null,null,null,null,null,null,null,null,null,null,null,null,null,null,null,null,null,null,null,null,null,null,null,null,null,null,null,null,null,null,null,0]
[null,null,null,null,null,null,null,null,null,null,null,null,null,null,null,null,null,null,null,null,null,null,null,null,null,null,null,null,null,null,null,null,0]
[null,null,null,null,null,null,null,null,null,null,null,null,null,null,null,null,null,null,null,null,null,null,null,null,null,null,null,null,null,null,null,null,0]
[null,null,null,null,null,null,null,null,null,null,null,null,null,null,null,null,null,null,null,null,null,null,null,null,null,null,null,null,null,null,null,null,0]
[null,null,null,null,null,null,null,null,null,null,null,null,null,null,null,null,null,null,null,null,null,null,null,null,null,null,null,null,null,null,null,null,0]
[null,null,null,null,null,null,null,null,null,null,null,null,null,null,null,null,null,null,null,null,null,null,null,null,null,null,null,null,null,null,null,null,0]
[null,null,null,null,null,null,null,null,null,null,null,null,null,null,null,null,null,null,null,null,null,null,null,null,null,null,null,null,null,null,null,null,0]
[null,null,null,null,null,null,null,null,null,null,null,null,null,null,null,null,null,null,null,null,null,null,null,null,null,null,null,null,null,null,null,null,0]
[null,null,null,null,null,null,null,null,null,null,null,null,null,null,null,null,null,null,null,null,null,null,null,null,null,null,null,null,null,null,null,null,0]
[null,null,null,null,null,null,null,null,null,null,null,null,null,null,null,null,null,null,null,null,null,null,null,null,null,null,null,null,null,null,null,null,0]
[null,null,null,null,null,null,null,null,null,null,null,null,null,null,null,null,null,null,null,null,null,null,null,null,null,null,null,null,null,null,null,null,0]
[null,null,null,null,null,null,null,null,null,null,null,null,null,null,null,null,null,null,null,null,null,null,null,null,null,null,null,null,null,null,null,null,0]
[null,null,null,null,null,null,null,null,null,null,null,null,null,null,null,null,null,null,null,null,null,null,null,null,null,null,null,null,null,null,null,null,0]
[null,null,null,null,null,null,null,null,null,null,null,null,null,null,null,null,null,null,null,null,null,null,null,null,null,null,null,null,null,null,null,null,0]
[null,null,null,null,null,null,null,null,null,null,null,null,null,null,null,null,null,null,null,null,null,null,null,null,null,null,null,null,null,null,null,null,0]
[null,null,null,null,null,null,null,null,null,null,null,null,null,null,null,null,null,null,null,null,null,null,null,null,null,null,null,null,null,null,null,null,0]
[null,null,null,null,null,null,null,null,null,null,null,null,null,null,null,null,null,null,null,null,null,null,null,null,null,null,null,null,null,null,null,null,0]
[null,null,null,null,null,null,null,null,null,null,null,null,null,null,null,null,null,null,null,null,null,null,null,null,null,null,null,null,null,null,null,null,0]
[null,null,null,null,null,null,null,null,null,null,null,null,null,null,null,null,null,null,null,null,null,null,null,null,null,null,null,null,null,null,null,null,0]
[null,null,null,null,null,null,null,null,null,null,null,null,null,null,null,null,null,null,null,null,null,null,null,null,null,null,null,null,null,null,null,null,0]
[null,null,null,null,null,null,null,null,null,null,null,null,null,null,null,null,null,null,null,null,null,null,null,null,null,null,null,null,null,null,null,null,0]
[null,null,null,null,null,null,null,null,null,null,null,null,null,null,null,null,null,null,null,null,null,null,null,null,null,null,null,null,null,null,null,null,0]
[null,null,null,null,null,null,null,null,null,null,null,null,null,null,null,null,null,null,null,null,null,null,null,null,null,null,null,null,null,null,null,null,0]
[null,null,null,null,null,null,null,null,null,null,null,null,null,null,null,null,null,null,null,null,null,null,null,null,null,null,null,null,null,null,null,null,0]
[null,null,null,null,null,null,null,null,null,null,null,null,null,null,null,null,null,null,null,null,null,null,null,null,null,null,null,null,null,null,null,null,0]
[null,null,null,null,null,null,null,null,null,null,null,null,null,null,null,null,null,null,null,null,null,null,null,null,null,null,null,null,null,null,null,null,0]
[null,null,null,null,null,null,null,null,null,null,null,null,null,null,null,null,null,null,null,null,null,null,null,null,null,null,null,null,null,null,null,null,0]
[null,null,null,null,null,null,null,null,null,null,null,null,null,null,null,null,null,null,null,null,null,null,null,null,null,null,null,null,null,null,null,null,0]
[null,null,null,null,null,null,null,null,null,null,null,null,null,null,null,null,null,null,null,null,null,null,null,null,null,null,null,null,null,null,null,null,0]
[null,null,null,null,null,null,null,null,null,null,null,null,null,null,null,null,null,null,null,null,null,null,null,null,null,null,null,null,null,null,null,null,0]
[null,null,null,null,null,null,null,null,null,null,null,null,null,null,null,null,null,null,null,null,null,null,null,null,null,null,null,null,null,null,null,null,0]
[null,null,null,null,null,null,null,null,null,null,null,null,null,null,null,null,null,null,null,null,null,null,null,null,null,null,null,null,null,null,null,null,0]
[null,null,null,null,null,null,null,null,null,null,null,null,null,null,null,null,null,null,null,null,null,null,null,null,null,null,null,null,null,null,null,null,0]
[null,null,null,null,null,null,null,null,null,null,null,null,null,null,null,null,null,null,null,null,null,null,null,null,null,null,null,null,null,null,null,null,0]
[null,null,null,null,null,null,null,null,null,null,null,null,null,null,null,null,null,null,null,null,null,null,null,null,null,null,null,null,null,null,null,null,0]
[null,null,null,null,null,null,null,null,null,null,null,null,null,null,null,null,null,null,null,null,null,null,null,null,null,null,null,null,null,null,null,null,0]
[null,null,null,null,null,null,null,null,null,null,null,null,null,null,null,null,null,null,null,null,null,null,null,null,null,null,null,null,null,null,null,null,0]
[null,null,null,null,null,null,null,null,null,null,null,null,null,null,null,null,null,null,null,null,null,null,null,null,null,null,null,null,null,null,null,null,0]
[null,null,null,null,null,null,null,null,null,null,null,null,null,null,null,null,null,null,null,null,null,null,null,null,null,null,null,null,null,null,null,null,0]
[null,null,null,null,null,null,null,null,null,null,null,null,null,null,null,null,null,null,null,null,null,null,null,null,null,null,null,null,null,null,null,null,0]
[null,null,null,null,null,null,null,null,null,null,null,null,null,null,null,null,null,null,null,null,null,null,null,null,null,null,null,null,null,null,null,null,0]
[null,null,null,null,null,null,null,null,null,null,null,null,null,null,null,null,null,null,null,null,null,null,null,null,null,null,null,null,null,null,null,null,0]
[null,null,null,null,null,null,null,null,null,null,null,null,null,null,null,null,null,null,null,null,null,null,null,null,null,null,null,null,null,null,null,null,0]
[null,null,null,null,null,null,null,null,null,null,null,null,null,null,null,null,null,null,null,null,null,null,null,null,null,null,null,null,null,null,null,null,0]
[null,null,null,null,null,null,null,null,null,null,null,null,null,null,null,null,null,null,null,null,null,null,null,null,null,null,null,null,null,null,null,null,0]
[null,null,null,null,null,null,null,null,null,null,null,null,null,null,null,null,null,null,null,null,null,null,null,null,null,null,null,null,null,null,null,null,0]
[null,null,null,null,null,null,null,null,null,null,null,null,null,null,null,null,null,null,null,null,null,null,null,null,null,null,null,null,null,null,null,null,0]
[null,null,null,null,null,null,null,null,null,null,null,null,null,null,null,null,null,null,null,null,null,null,null,null,null,null,null,null,null,null,null,null,0]
[null,null,null,null,null,null,null,null,null,null,null,null,null,null,null,null,null,null,null,null,null,null,null,null,null,null,null,null,null,null,null,null,0]
[null,null,null,null,null,null,null,null,null,null,null,null,null,null,null,null,null,null,null,null,null,null,null,null,null,null,null,null,null,null,null,null,0]
[null,null,null,null,null,null,null,null,null,null,null,null,null,null,null,null,null,null,null,null,null,null,null,null,null,null,null,null,null,null,null,null,0]
[null,null,null,null,null,null,null,null,null,null,null,null,null,null,null,null,null,null,null,null,null,null,null,null,null,null,null,null,null,null,null,null,0]
[null,null,null,null,null,null,null,null,null,null,null,null,null,null,null,null,null,null,null,null,null,null,null,null,null,null,null,null,null,null,null,null,0]
[null,null,null,null,null,null,null,null,null,null,null,null,null,null,null,null,null,null,null,null,null,null,null,null,null,null,null,null,null,null,null,null,{"$f":"G262-SUM(M262:AF262)","v":0}]
[null,null,null,null,null,null,null,null,null,null,null,null,null,null,null,null,null,null,null,null,null,null,null,null,null,null,null,null,null,null,null,null,0]
[null,null,null,null,null,null,null,null,null,null,null,null,null,null,null,null,null,null,null,null,null,null,null,null,null,null,null,null,null,null,null,null,0]
[null,null,null,null,null,null,null,null,null,null,null,null,null,null,null,null,null,null,null,null,null,null,null,null,null,null,null,null,null,null,null,null,0]
[null,null,null,null,null,null,null,null,null,null,null,null,null,null,null,null,null,null,null,null,null,null,null,null,null,null,null,null,null,null,null,null,0]
[null,null,null,null,null,null,null,null,null,null,null,null,null,null,null,null,null,null,null,null,null,null,null,null,null,null,null,null,null,null,null,null,0]
[null,null,null,null,null,null,null,null,null,null,null,null,null,null,null,null,null,null,null,null,null,null,null,null,null,null,null,null,null,null,null,null,0]
[null,null,null,null,null,null,null,null,null,null,null,null,null,null,null,null,null,null,null,null,null,null,null,null,null,null,null,null,null,null,null,null,0]
[null,null,null,null,null,null,null,null,null,null,null,null,null,null,null,null,null,null,null,null,null,null,null,null,null,null,null,null,null,null,null,null,0]
[null,null,null,null,null,null,null,null,null,null,null,null,null,null,null,null,null,null,null,null,null,null,null,null,null,null,null,null,null,null,null,null,0]
[null,null,null,null,null,null,null,null,null,null,null,null,null,null,null,null,null,null,null,null,null,null,null,null,null,null,null,null,null,null,null,null,0]
[null,null,null,null,null,null,null,null,null,null,null,null,null,null,null,null,null,null,null,null,null,null,null,null,null,null,null,null,null,null,null,null,0]
[null,null,null,null,null,null,null,null,null,null,null,null,null,null,null,null,null,null,null,null,null,null,null,null,null,null,null,null,null,null,null,null,0]
[null,null,null,null,null,null,null,null,null,null,null,null,null,null,null,null,null,null,null,null,null,null,null,null,null,null,null,null,null,null,null,null,0]
[null,null,null,null,null,null,null,null,null,null,null,null,null,null,null,null,null,null,null,null,null,null,null,null,null,null,null,null,null,null,null,null,0]
[null,null,null,null,null,null,null,null,null,null,null,null,null,null,null,null,null,null,null,null,null,null,null,null,null,null,null,null,null,null,null,null,0]
[null,null,null,null,null,null,null,null,null,null,null,null,null,null,null,null,null,null,null,null,null,null,null,null,null,null,null,null,null,null,null,null,0]
[null,null,null,null,null,null,null,null,null,null,null,null,null,null,null,null,null,null,null,null,null,null,null,null,null,null,null,null,null,null,null,null,0]
[null,null,null,null,null,null,null,null,null,null,null,null,null,null,null,null,null,null,null,null,null,null,null,null,null,null,null,null,null,null,null,null,0]
[null,null,null,null,null,null,null,null,null,null,null,null,null,null,null,null,null,null,null,null,null,null,null,null,null,null,null,null,null,null,null,null,0]
[null,null,null,null,null,null,null,null,null,null,null,null,null,null,null,null,null,null,null,null,null,null,null,null,null,null,null,null,null,null,null,null,0]
[null,null,null,null,null,null,null,null,null,null,null,null,null,null,null,null,null,null,null,null,null,null,null,null,null,null,null,null,null,null,null,null,0]
[null,null,null,null,null,null,null,null,null,null,null,null,null,null,null,null,null,null,null,null,null,null,null,null,null,null,null,null,null,null,null,null,0]
[null,null,null,null,null,null,null,null,null,null,null,null,null,null,null,null,null,null,null,null,null,null,null,null,null,null,null,null,null,null,null,null,0]
[null,null,null,null,null,null,null,null,null,null,null,null,null,null,null,null,null,null,null,null,null,null,null,null,null,null,null,null,null,null,null,null,0]
[null,null,null,null,null,null,null,null,null,null,null,null,null,null,null,null,null,null,null,null,null,null,null,null,null,null,null,null,null,null,null,null,0]
[null,null,null,null,null,null,null,null,null,null,null,null,null,null,null,null,null,null,null,null,null,null,null,null,null,null,null,null,null,null,null,null,0]
[null,null,null,null,null,null,null,null,null,null,null,null,null,null,null,null,null,null,null,null,null,null,null,null,null,null,null,null,null,null,null,null,0]
[null,null,null,null,null,null,null,null,null,null,null,null,null,null,null,null,null,null,null,null,null,null,null,null,null,null,null,null,null,null,null,null,0]
[null,null,null,null,null,null,null,null,null,null,null,null,null,null,null,null,null,null,null,null,null,null,null,null,null,null,null,null,null,null,null,null,0]
[null,null,null,null,null,null,null,null,null,null,null,null,null,null,null,null,null,null,null,null,null,null,null,null,null,null,null,null,null,null,null,null,0]
[null,null,null,null,null,null,null,null,null,null,null,null,null,null,null,null,null,null,null,null,null,null,null,null,null,null,null,null,null,null,null,null,0]
[null,null,null,null,null,null,null,null,null,null,null,null,null,null,null,null,null,null,null,null,null,null,null,null,null,null,null,null,null,null,null,null,0]
[null,null,null,null,null,null,null,null,null,null,null,null,null,null,null,null,null,null,null,null,null,null,null,null,null,null,null,null,null,null,null,null,0]
[null,null,null,null,null,null,null,null,null,null,null,null,null,null,null,null,null,null,null,null,null,null,null,null,null,null,null,null,null,null,null,null,0]
[null,null,null,null,null,null,null,null,null,null,null,null,null,null,null,null,null,null,null,null,null,null,null,null,null,null,null,null,null,null,null,null,0]
[null,null,null,null,null,null,null,null,null,null,null,null,null,null,null,null,null,null,null,null,null,null,null,null,null,null,null,null,null,null,null,null,0]
[null,null,null,null,null,null,null,null,null,null,null,null,null,null,null,null,null,null,null,null,null,null,null,null,null,null,null,null,null,null,null,null,0]
[null,null,null,null,null,null,null,null,null,null,null,null,null,null,null,null,null,null,null,null,null,null,null,null,null,null,null,null,null,null,null,null,0]
[null,null,null,null,null,null,null,null,null,null,null,null,null,null,null,null,null,null,null,null,null,null,null,null,null,null,null,null,null,null,null,null,0]
[null,null,null,null,null,null,null,null,null,null,null,null,null,null,null,null,null,null,null,null,null,null,null,null,null,null,null,null,null,null,null,null,0]
[null,null,null,null,null,null,null,null,null,null,null,null,null,null,null,null,null,null,null,null,null,null,null,null,null,null,null,null,null,null,null,null,0]
[null,null,null,null,null,null,null,null,null,null,null,null,null,null,null,null,null,null,null,null,null,null,null,null,null,null,null,null,null,null,null,null,0]
[null,null,null,null,null,null,null,null,null,null,null,null,null,null,null,null,null,null,null,null,null,null,null,null,null,null,null,null,null,null,null,null,0]
[null,null,null,null,null,null,null,null,null,null,null,null,null,null,null,null,null,null,null,null,null,null,null,null,null,null,null,null,null,null,null,null,0]
[null,null,null,null,null,null,null,null,null,null,null,null,null,null,null,null,null,null,null,null,null,null,null,null,null,null,null,null,null,null,null,null,0]
[null,null,null,null,null,null,null,null,null,null,null,null,null,null,null,null,null,null,null,null,null,null,null,null,null,null,null,null,null,null,null,null,0]
[null,null,null,null,null,null,null,null,null,null,null,null,null,null,null,null,null,null,null,null,null,null,null,null,null,null,null,null,null,null,null,null,0]
[null,null,null,null,null,null,null,null,null,null,null,null,null,null,null,null,null,null,null,null,null,null,null,null,null,null,null,null,null,null,null,null,0]
[null,null,null,null,null,null,null,null,null,null,null,null,null,null,null,null,null,null,null,null,null,null,null,null,null,null,null,null,null,null,null,null,0]
[null,null,null,null,null,null,null,null,null,null,null,null,null,null,null,null,null,null,null,null,null,null,null,null,null,null,null,null,null,null,null,null,0]
[null,null,null,null,null,null,null,null,null,null,null,null,null,null,null,null,null,null,null,null,null,null,null,null,null,null,null,null,null,null,null,null,0]
[null,null,null,null,null,null,null,null,null,null,null,null,null,null,null,null,null,null,null,null,null,null,null,null,null,null,null,null,null,null,null,null,0]
[null,null,null,null,null,null,null,null,null,null,null,null,null,null,null,null,null,null,null,null,null,null,null,null,null,null,null,null,null,null,null,null,0]
[null,null,null,null,null,null,null,null,null,null,null,null,null,null,null,null,null,null,null,null,null,null,null,null,null,null,null,null,null,null,null,null,0]
[null,null,null,null,null,null,null,null,null,null,null,null,null,null,null,null,null,null,null,null,null,null,null,null,null,null,null,null,null,null,null,null,0]
[null,null,null,null,null,null,null,null,null,null,null,null,null,null,null,null,null,null,null,null,null,null,null,null,null,null,null,null,null,null,null,null,0]
[null,null,null,null,null,null,null,null,null,null,null,null,null,null,null,null,null,null,null,null,null,null,null,null,null,null,null,null,null,null,null,null,0]
[null,null,null,null,null,null,null,null,null,null,null,null,null,null,null,null,null,null,null,null,null,null,null,null,null,null,null,null,null,null,null,null,0]
[null,null,null,null,null,null,null,null,null,null,null,null,null,null,null,null,null,null,null,null,null,null,null,null,null,null,null,null,null,null,null,null,0]
[null,null,null,null,null,null,null,null,null,null,null,null,null,null,null,null,null,null,null,null,null,null,null,null,null,null,null,null,null,null,null,null,0]
[null,null,null,null,null,null,null,null,null,null,null,null,null,null,null,null,null,null,null,null,null,null,null,null,null,null,null,null,null,null,null,null,0]
[null,null,null,null,null,null,null,null,null,null,null,null,null,null,null,null,null,null,null,null,null,null,null,null,null,null,null,null,null,null,null,null,0]
[null,null,null,null,null,null,null,null,null,null,null,null,null,null,null,null,null,null,null,null,null,null,null,null,null,null,null,null,null,null,null,null,0]
[null,null,null,null,null,null,null,null,null,null,null,null,null,null,null,null,null,null,null,null,null,null,null,null,null,null,null,null,null,null,null,null,{"$f":"G326-SUM(M326:AF326)","v":0}]
[null,null,null,null,null,null,null,null,null,null,null,null,null,null,null,null,null,null,null,null,null,null,null,null,null,null,null,null,null,null,null,null,0]
[null,null,null,null,null,null,null,null,null,null,null,null,null,null,null,null,null,null,null,null,null,null,null,null,null,null,null,null,null,null,null,null,0]
[null,null,null,null,null,null,null,null,null,null,null,null,null,null,null,null,null,null,null,null,null,null,null,null,null,null,null,null,null,null,null,null,0]
[null,null,null,null,null,null,null,null,null,null,null,null,null,null,null,null,null,null,null,null,null,null,null,null,null,null,null,null,null,null,null,null,0]
[null,null,null,null,null,null,null,null,null,null,null,null,null,null,null,null,null,null,null,null,null,null,null,null,null,null,null,null,null,null,null,null,0]
[null,null,null,null,null,null,null,null,null,null,null,null,null,null,null,null,null,null,null,null,null,null,null,null,null,null,null,null,null,null,null,null,0]
[null,null,null,null,null,null,null,null,null,null,null,null,null,null,null,null,null,null,null,null,null,null,null,null,null,null,null,null,null,null,null,null,0]
[null,null,null,null,null,null,null,null,null,null,null,null,null,null,null,null,null,null,null,null,null,null,null,null,null,null,null,null,null,null,null,null,0]
[null,null,null,null,null,null,null,null,null,null,null,null,null,null,null,null,null,null,null,null,null,null,null,null,null,null,null,null,null,null,null,null,0]
[null,null,null,null,null,null,null,null,null,null,null,null,null,null,null,null,null,null,null,null,null,null,null,null,null,null,null,null,null,null,null,null,0]
[null,null,null,null,null,null,null,null,null,null,null,null,null,null,null,null,null,null,null,null,null,null,null,null,null,null,null,null,null,null,null,null,0]
[null,null,null,null,null,null,null,null,null,null,null,null,null,null,null,null,null,null,null,null,null,null,null,null,null,null,null,null,null,null,null,null,0]
[null,null,null,null,null,null,null,null,null,null,null,null,null,null,null,null,null,null,null,null,null,null,null,null,null,null,null,null,null,null,null,null,0]
[null,null,null,null,null,null,null,null,null,null,null,null,null,null,null,null,null,null,null,null,null,null,null,null,null,null,null,null,null,null,null,null,0]
[null,null,null,null,null,null,null,null,null,null,null,null,null,null,null,null,null,null,null,null,null,null,null,null,null,null,null,null,null,null,null,null,0]
[null,null,null,null,null,null,null,null,null,null,null,null,null,null,null,null,null,null,null,null,null,null,null,null,null,null,null,null,null,null,null,null,0]
[null,null,null,null,null,null,null,null,null,null,null,null,null,null,null,null,null,null,null,null,null,null,null,null,null,null,null,null,null,null,null,null,0]
[null,null,null,null,null,null,null,null,null,null,null,null,null,null,null,null,null,null,null,null,null,null,null,null,null,null,null,null,null,null,null,null,0]
[null,null,null,null,null,null,null,null,null,null,null,null,null,null,null,null,null,null,null,null,null,null,null,null,null,null,null,null,null,null,null,null,0]
[null,null,null,null,null,null,null,null,null,null,null,null,null,null,null,null,null,null,null,null,null,null,null,null,null,null,null,null,null,null,null,null,0]
[null,null,null,null,null,null,null,null,null,null,null,null,null,null,null,null,null,null,null,null,null,null,null,null,null,null,null,null,null,null,null,null,0]
[null,null,null,null,null,null,null,null,null,null,null,null,null,null,null,null,null,null,null,null,null,null,null,null,null,null,null,null,null,null,null,null,0]
[null,null,null,null,null,null,null,null,null,null,null,null,null,null,null,null,null,null,null,null,null,null,null,null,null,null,null,null,null,null,null,null,0]
[null,null,null,null,null,null,null,null,null,null,null,null,null,null,null,null,null,null,null,null,null,null,null,null,null,null,null,null,null,null,null,null,0]
[null,null,null,null,null,null,null,null,null,null,null,null,null,null,null,null,null,null,null,null,null,null,null,null,null,null,null,null,null,null,null,null,0]
[null,null,null,null,null,null,null,null,null,null,null,null,null,null,null,null,null,null,null,null,null,null,null,null,null,null,null,null,null,null,null,null,0]
[null,null,null,null,null,null,null,null,null,null,null,null,null,null,null,null,null,null,null,null,null,null,null,null,null,null,null,null,null,null,null,null,0]
[null,null,null,null,null,null,null,null,null,null,null,null,null,null,null,null,null,null,null,null,null,null,null,null,null,null,null,null,null,null,null,null,0]
[null,null,null,null,null,null,null,null,null,null,null,null,null,null,null,null,null,null,null,null,null,null,null,null,null,null,null,null,null,null,null,null,0]
[null,null,null,null,null,null,null,null,null,null,null,null,null,null,null,null,null,null,null,null,null,null,null,null,null,null,null,null,null,null,null,null,0]
[null,null,null,null,null,null,null,null,null,null,null,null,null,null,null,null,null,null,null,null,null,null,null,null,null,null,null,null,null,null,null,null,0]
[null,null,null,null,null,null,null,null,null,null,null,null,null,null,null,null,null,null,null,null,null,null,null,null,null,null,null,null,null,null,null,null,0]
[null,null,null,null,null,null,null,null,null,null,null,null,null,null,null,null,null,null,null,null,null,null,null,null,null,null,null,null,null,null,null,null,0]
[null,null,null,null,null,null,null,null,null,null,null,null,null,null,null,null,null,null,null,null,null,null,null,null,null,null,null,null,null,null,null,null,0]
[null,null,null,null,null,null,null,null,null,null,null,null,null,null,null,null,null,null,null,null,null,null,null,null,null,null,null,null,null,null,null,null,0]
[null,null,null,null,null,null,null,null,null,null,null,null,null,null,null,null,null,null,null,null,null,null,null,null,null,null,null,null,null,null,null,null,0]
[null,null,null,null,null,null,null,null,null,null,null,null,null,null,null,null,null,null,null,null,null,null,null,null,null,null,null,null,null,null,null,null,0]
[null,null,null,null,null,null,null,null,null,null,null,null,null,null,null,null,null,null,null,null,null,null,null,null,null,null,null,null,null,null,null,null,0]
[null,null,null,null,null,null,null,null,null,null,null,null,null,null,null,null,null,null,null,null,null,null,null,null,null,null,null,null,null,null,null,null,0]
[null,null,null,null,null,null,null,null,null,null,null,null,null,null,null,null,null,null,null,null,null,null,null,null,null,null,null,null,null,null,null,null,0]
[null,null,null,null,null,null,null,null,null,null,null,null,null,null,null,null,null,null,null,null,null,null,null,null,null,null,null,null,null,null,null,null,0]
[null,null,null,null,null,null,null,null,null,null,null,null,null,null,null,null,null,null,null,null,null,null,null,null,null,null,null,null,null,null,null,null,0]
[null,null,null,null,null,null,null,null,null,null,null,null,null,null,null,null,null,null,null,null,null,null,null,null,null,null,null,null,null,null,null,null,0]
[null,null,null,null,null,null,null,null,null,null,null,null,null,null,null,null,null,null,null,null,null,null,null,null,null,null,null,null,null,null,null,null,0]
[null,null,null,null,null,null,null,null,null,null,null,null,null,null,null,null,null,null,null,null,null,null,null,null,null,null,null,null,null,null,null,null,0]
[null,null,null,null,null,null,null,null,null,null,null,null,null,null,null,null,null,null,null,null,null,null,null,null,null,null,null,null,null,null,null,null,0]
[null,null,null,null,null,null,null,null,null,null,null,null,null,null,null,null,null,null,null,null,null,null,null,null,null,null,null,null,null,null,null,null,0]
[null,null,null,null,null,null,null,null,null,null,null,null,null,null,null,null,null,null,null,null,null,null,null,null,null,null,null,null,null,null,null,null,0]
[null,null,null,null,null,null,null,null,null,null,null,null,null,null,null,null,null,null,null,null,null,null,null,null,null,null,null,null,null,null,null,null,0]
[null,null,null,null,null,null,null,null,null,null,null,null,null,null,null,null,null,null,null,null,null,null,null,null,null,null,null,null,null,null,null,null,0]
[null,null,null,null,null,null,null,null,null,null,null,null,null,null,null,null,null,null,null,null,null,null,null,null,null,null,null,null,null,null,null,null,0]
[null,null,null,null,null,null,null,null,null,null,null,null,null,null,null,null,null,null,null,null,null,null,null,null,null,null,null,null,null,null,null,null,0]
[null,null,null,null,null,null,null,null,null,null,null,null,null,null,null,null,null,null,null,null,null,null,null,null,null,null,null,null,null,null,null,null,0]
[null,null,null,null,null,null,null,null,null,null,null,null,null,null,null,null,null,null,null,null,null,null,null,null,null,null,null,null,null,null,null,null,0]
[null,null,null,null,null,null,null,null,null,null,null,null,null,null,null,null,null,null,null,null,null,null,null,null,null,null,null,null,null,null,null,null,0]
[null,null,null,null,null,null,null,null,null,null,null,null,null,null,null,null,null,null,null,null,null,null,null,null,null,null,null,null,null,null,null,null,0]
[null,null,null,null,null,null,null,null,null,null,null,null,null,null,null,null,null,null,null,null,null,null,null,null,null,null,null,null,null,null,null,null,0]
[null,null,null,null,null,null,null,null,null,null,null,null,null,null,null,null,null,null,null,null,null,null,null,null,null,null,null,null,null,null,null,null,0]
[null,null,null,null,null,null,null,null,null,null,null,null,null,null,null,null,null,null,null,null,null,null,null,null,null,null,null,null,null,null,null,null,0]
[null,null,null,null,null,null,null,null,null,null,null,null,null,null,null,null,null,null,null,null,null,null,null,null,null,null,null,null,null,null,null,null,0]
[null,null,null,null,null,null,null,null,null,null,null,null,null,null,null,null,null,null,null,null,null,null,null,null,null,null,null,null,null,null,null,null,0]
[null,null,null,null,null,null,null,null,null,null,null,null,null,null,null,null,null,null,null,null,null,null,null,null,null,null,null,null,null,null,null,null,0]
[null,null,null,null,null,null,null,null,null,null,null,null,null,null,null,null,null,null,null,null,null,null,null,null,null,null,null,null,null,null,null,null,0]
[null,null,null,null,null,null,null,null,null,null,null,null,null,null,null,null,null,null,null,null,null,null,null,null,null,null,null,null,null,null,null,null,{"$f":"G390-SUM(M390:AF390)","v":0}]
[null,null,null,null,null,null,null,null,null,null,null,null,null,null,null,null,null,null,null,null,null,null,null,null,null,null,null,null,null,null,null,null,0]
[null,null,null,null,null,null,null,null,null,null,null,null,null,null,null,null,null,null,null,null,null,null,null,null,null,null,null,null,null,null,null,null,0]
[null,null,null,null,null,null,null,null,null,null,null,null,null,null,null,null,null,null,null,null,null,null,null,null,null,null,null,null,null,null,null,null,0]
[null,null,null,null,null,null,null,null,null,null,null,null,null,null,null,null,null,null,null,null,null,null,null,null,null,null,null,null,null,null,null,null,0]
[null,null,null,null,null,null,null,null,null,null,null,null,null,null,null,null,null,null,null,null,null,null,null,null,null,null,null,null,null,null,null,null,0]
[null,null,null,null,null,null,null,null,null,null,null,null,null,null,null,null,null,null,null,null,null,null,null,null,null,null,null,null,null,null,null,null,0]
[null,null,null,null,null,null,null,null,null,null,null,null,null,null,null,null,null,null,null,null,null,null,null,null,null,null,null,null,null,null,null,null,0]
[null,null,null,null,null,null,null,null,null,null,null,null,null,null,null,null,null,null,null,null,null,null,null,null,null,null,null,null,null,null,null,null,0]
[null,null,null,null,null,null,null,null,null,null,null,null,null,null,null,null,null,null,null,null,null,null,null,null,null,null,null,null,null,null,null,null,0]
[null,null,null,null,null,null,null,null,null,null,null,null,null,null,null,null,null,null,null,null,null,null,null,null,null,null,null,null,null,null,null,null,0]
[null,null,null,null,null,null,null,null,null,null,null,null,null,null,null,null,null,null,null,null,null,null,null,null,null,null,null,null,null,null,null,null,0]
[null,null,null,null,null,null,null,null,null,null,null,null,null,null,null,null,null,null,null,null,null,null,null,null,null,null,null,null,null,null,null,null,0]
[null,null,null,null,null,null,null,null,null,null,null,null,null,null,null,null,null,null,null,null,null,null,null,null,null,null,null,null,null,null,null,null,0]
[null,null,null,null,null,null,null,null,null,null,null,null,null,null,null,null,null,null,null,null,null,null,null,null,null,null,null,null,null,null,null,null,0]
[null,null,null,null,null,null,null,null,null,null,null,null,null,null,null,null,null,null,null,null,null,null,null,null,null,null,null,null,null,null,null,null,0]
[null,null,null,null,null,null,null,null,null,null,null,null,null,null,null,null,null,null,null,null,null,null,null,null,null,null,null,null,null,null,null,null,0]
[null,null,null,null,null,null,null,null,null,null,null,null,null,null,null,null,null,null,null,null,null,null,null,null,null,null,null,null,null,null,null,null,0]
[null,null,null,null,null,null,null,null,null,null,null,null,null,null,null,null,null,null,null,null,null,null,null,null,null,null,null,null,null,null,null,null,0]
[null,null,null,null,null,null,null,null,null,null,null,null,null,null,null,null,null,null,null,null,null,null,null,null,null,null,null,null,null,null,null,null,0]
[null,null,null,null,null,null,null,null,null,null,null,null,null,null,null,null,null,null,null,null,null,null,null,null,null,null,null,null,null,null,null,null,0]
[null,null,null,null,null,null,null,null,null,null,null,null,null,null,null,null,null,null,null,null,null,null,null,null,null,null,null,null,null,null,null,null,0]
[null,null,null,null,null,null,null,null,null,null,null,null,null,null,null,null,null,null,null,null,null,null,null,null,null,null,null,null,null,null,null,null,0]
[null,null,null,null,null,null,null,null,null,null,null,null,null,null,null,null,null,null,null,null,null,null,null,null,null,null,null,null,null,null,null,null,0]
[null,null,null,null,null,null,null,null,null,null,null,null,null,null,null,null,null,null,null,null,null,null,null,null,null,null,null,null,null,null,null,null,0]
[null,null,null,null,null,null,null,null,null,null,null,null,null,null,null,null,null,null,null,null,null,null,null,null,null,null,null,null,null,null,null,null,0]
[null,null,null,null,null,null,null,null,null,null,null,null,null,null,null,null,null,null,null,null,null,null,null,null,null,null,null,null,null,null,null,null,0]
[null,null,null,null,null,null,null,null,null,null,null,null,null,null,null,null,null,null,null,null,null,null,null,null,null,null,null,null,null,null,null,null,0]
[null,null,null,null,null,null,null,null,null,null,null,null,null,null,null,null,null,null,null,null,null,null,null,null,null,null,null,null,null,null,null,null,0]
[null,null,null,null,null,null,null,null,null,null,null,null,null,null,null,null,null,null,null,null,null,null,null,null,null,null,null,null,null,null,null,null,0]
[null,null,null,null,null,null,null,null,null,null,null,null,null,null,null,null,null,null,null,null,null,null,null,null,null,null,null,null,null,null,null,null,0]
[null,null,null,null,null,null,null,null,null,null,null,null,null,null,null,null,null,null,null,null,null,null,null,null,null,null,null,null,null,null,null,null,0]
[null,null,null,null,null,null,null,null,null,null,null,null,null,null,null,null,null,null,null,null,null,null,null,null,null,null,null,null,null,null,null,null,0]
[null,null,null,null,null,null,null,null,null,null,null,null,null,null,null,null,null,null,null,null,null,null,null,null,null,null,null,null,null,null,null,null,0]
[null,null,null,null,null,null,null,null,null,null,null,null,null,null,null,null,null,null,null,null,null,null,null,null,null,null,null,null,null,null,null,null,0]
[null,null,null,null,null,null,null,null,null,null,null,null,null,null,null,null,null,null,null,null,null,null,null,null,null,null,null,null,null,null,null,null,0]
[null,null,null,null,null,null,null,null,null,null,null,null,null,null,null,null,null,null,null,null,null,null,null,null,null,null,null,null,null,null,null,null,0]
[null,null,null,null,null,null,null,null,null,null,null,null,null,null,null,null,null,null,null,null,null,null,null,null,null,null,null,null,null,null,null,null,0]
[null,null,null,null,null,null,null,null,null,null,null,null,null,null,null,null,null,null,null,null,null,null,null,null,null,null,null,null,null,null,null,null,0]
[null,null,null,null,null,null,null,null,null,null,null,null,null,null,null,null,null,null,null,null,null,null,null,null,null,null,null,null,null,null,null,null,0]
[null,null,null,null,null,null,null,null,null,null,null,null,null,null,null,null,null,null,null,null,null,null,null,null,null,null,null,null,null,null,null,null,0]
[null,null,null,null,null,null,null,null,null,null,null,null,null,null,null,null,null,null,null,null,null,null,null,null,null,null,null,null,null,null,null,null,0]
[null,null,null,null,null,null,null,null,null,null,null,null,null,null,null,null,null,null,null,null,null,null,null,null,null,null,null,null,null,null,null,null,0]
[null,null,null,null,null,null,null,null,null,null,null,null,null,null,null,null,null,null,null,null,null,null,null,null,null,null,null,null,null,null,null,null,0]
[null,null,null,null,null,null,null,null,null,null,null,null,null,null,null,null,null,null,null,null,null,null,null,null,null,null,null,null,null,null,null,null,0]
[null,null,null,null,null,null,null,null,null,null,null,null,null,null,null,null,null,null,null,null,null,null,null,null,null,null,null,null,null,null,null,null,0]
[null,null,null,null,null,null,null,null,null,null,null,null,null,null,null,null,null,null,null,null,null,null,null,null,null,null,null,null,null,null,null,null,0]
[null,null,null,null,null,null,null,null,null,null,null,null,null,null,null,null,null,null,null,null,null,null,null,null,null,null,null,null,null,null,null,null,0]
[null,null,null,null,null,null,null,null,null,null,null,null,null,null,null,null,null,null,null,null,null,null,null,null,null,null,null,null,null,null,null,null,0]
[null,null,null,null,null,null,null,null,null,null,null,null,null,null,null,null,null,null,null,null,null,null,null,null,null,null,null,null,null,null,null,null,0]
[null,null,null,null,null,null,null,null,null,null,null,null,null,null,null,null,null,null,null,null,null,null,null,null,null,null,null,null,null,null,null,null,0]
[null,null,null,null,null,null,null,null,null,null,null,null,null,null,null,null,null,null,null,null,null,null,null,null,null,null,null,null,null,null,null,null,0]
[null,null,null,null,null,null,null,null,null,null,null,null,null,null,null,null,null,null,null,null,null,null,null,null,null,null,null,null,null,null,null,null,0]
[null,null,null,null,null,null,null,null,null,null,null,null,null,null,null,null,null,null,null,null,null,null,null,null,null,null,null,null,null,null,null,null,0]
[null,null,null,null,null,null,null,null,null,null,null,null,null,null,null,null,null,null,null,null,null,null,null,null,null,null,null,null,null,null,null,null,0]
[null,null,null,null,null,null,null,null,null,null,null,null,null,null,null,null,null,null,null,null,null,null,null,null,null,null,null,null,null,null,null,null,0]
[null,null,null,null,null,null,null,null,null,null,null,null,null,null,null,null,null,null,null,null,null,null,null,null,null,null,null,null,null,null,null,null,0]
[null,null,null,null,null,null,null,null,null,null,null,null,null,null,null,null,null,null,null,null,null,null,null,null,null,null,null,null,null,null,null,null,0]
[null,null,null,null,null,null,null,null,null,null,null,null,null,null,null,null,null,null,null,null,null,null,null,null,null,null,null,null,null,null,null,null,0]
[null,null,null,null,null,null,null,null,null,null,null,null,null,null,null,null,null,null,null,null,null,null,null,null,null,null,null,null,null,null,null,null,0]
[null,null,null,null,null,null,null,null,null,null,null,null,null,null,null,null,null,null,null,null,null,null,null,null,null,null,null,null,null,null,null,null,0]
[null,null,null,null,null,null,null,null,null,null,null,null,null,null,null,null,null,null,null,null,null,null,null,null,null,null,null,null,null,null,null,null,0]
[null,null,null,null,null,null,null,null,null,null,null,null,null,null,null,null,null,null,null,null,null,null,null,null,null,null,null,null,null,null,null,null,0]
[null,null,null,null,null,null,null,null,null,null,null,null,null,null,null,null,null,null,null,null,null,null,null,null,null,null,null,null,null,null,null,null,0]
[null,null,null,null,null,null,null,null,null,null,null,null,null,null,null,null,null,null,null,null,null,null,null,null,null,null,null,null,null,null,null,null,{"$f":"G454-SUM(M454:AF454)","v":0}]
[null,null,null,null,null,null,null,null,null,null,null,null,null,null,null,null,null,null,null,null,null,null,null,null,null,null,null,null,null,null,null,null,0]
[null,null,null,null,null,null,null,null,null,null,null,null,null,null,null,null,null,null,null,null,null,null,null,null,null,null,null,null,null,null,null,null,0]
[null,null,null,null,null,null,null,null,null,null,null,null,null,null,null,null,null,null,null,null,null,null,null,null,null,null,null,null,null,null,null,null,0]
[null,null,null,null,null,null,null,null,null,null,null,null,null,null,null,null,null,null,null,null,null,null,null,null,null,null,null,null,null,null,null,null,0]
[null,null,null,null,null,null,null,null,null,null,null,null,null,null,null,null,null,null,null,null,null,null,null,null,null,null,null,null,null,null,null,null,0]
[null,null,null,null,null,null,null,null,null,null,null,null,null,null,null,null,null,null,null,null,null,null,null,null,null,null,null,null,null,null,null,null,0]
[null,null,null,null,null,null,null,null,null,null,null,null,null,null,null,null,null,null,null,null,null,null,null,null,null,null,null,null,null,null,null,null,0]
[null,null,null,null,null,null,null,null,null,null,null,null,null,null,null,null,null,null,null,null,null,null,null,null,null,null,null,null,null,null,null,null,0]
[null,null,null,null,null,null,null,null,null,null,null,null,null,null,null,null,null,null,null,null,null,null,null,null,null,null,null,null,null,null,null,null,0]
[null,null,null,null,null,null,null,null,null,null,null,null,null,null,null,null,null,null,null,null,null,null,null,null,null,null,null,null,null,null,null,null,0]
[null,null,null,null,null,null,null,null,null,null,null,null,null,null,null,null,null,null,null,null,null,null,null,null,null,null,null,null,null,null,null,null,0]
[null,null,null,null,null,null,null,null,null,null,null,null,null,null,null,null,null,null,null,null,null,null,null,null,null,null,null,null,null,null,null,null,0]
[null,null,null,null,null,null,null,null,null,null,null,null,null,null,null,null,null,null,null,null,null,null,null,null,null,null,null,null,null,null,null,null,0]
[null,null,null,null,null,null,null,null,null,null,null,null,null,null,null,null,null,null,null,null,null,null,null,null,null,null,null,null,null,null,null,null,0]
[null,null,null,null,null,null,null,null,null,null,null,null,null,null,null,null,null,null,null,null,null,null,null,null,null,null,null,null,null,null,null,null,0]
[null,null,null,null,null,null,null,null,null,null,null,null,null,null,null,null,null,null,null,null,null,null,null,null,null,null,null,null,null,null,null,null,0]
[null,null,null,null,null,null,null,null,null,null,null,null,null,null,null,null,null,null,null,null,null,null,null,null,null,null,null,null,null,null,null,null,0]
[null,null,null,null,null,null,null,null,null,null,null,null,null,null,null,null,null,null,null,null,null,null,null,null,null,null,null,null,null,null,null,null,0]
[null,null,null,null,null,null,null,null,null,null,null,null,null,null,null,null,null,null,null,null,null,null,null,null,null,null,null,null,null,null,null,null,0]
[null,null,null,null,null,null,null,null,null,null,null,null,null,null,null,null,null,null,null,null,null,null,null,null,null,null,null,null,null,null,null,null,0]
[null,null,null,null,null,null,null,null,null,null,null,null,null,null,null,null,null,null,null,null,null,null,null,null,null,null,null,null,null,null,null,null,0]
[null,null,null,null,null,null,null,null,null,null,null,null,null,null,null,null,null,null,null,null,null,null,null,null,null,null,null,null,null,null,null,null,0]
[null,null,null,null,null,null,null,null,null,null,null,null,null,null,null,null,null,null,null,null,null,null,null,null,null,null,null,null,null,null,null,null,0]
[null,null,null,null,null,null,null,null,null,null,null,null,null,null,null,null,null,null,null,null,null,null,null,null,null,null,null,null,null,null,null,null,0]
[null,null,null,null,null,null,null,null,null,null,null,null,null,null,null,null,null,null,null,null,null,null,null,null,null,null,null,null,null,null,null,null,0]
[null,null,null,null,null,null,null,null,null,null,null,null,null,null,null,null,null,null,null,null,null,null,null,null,null,null,null,null,null,null,null,null,0]
[null,null,null,null,null,null,null,null,null,null,null,null,null,null,null,null,null,null,null,null,null,null,null,null,null,null,null,null,null,null,null,null,0]
[null,null,null,null,null,null,null,null,null,null,null,null,null,null,null,null,null,null,null,null,null,null,null,null,null,null,null,null,null,null,null,null,0]
[null,null,null,null,null,null,null,null,null,null,null,null,null,null,null,null,null,null,null,null,null,null,null,null,null,null,null,null,null,null,null,null,0]
[null,null,null,null,null,null,null,null,null,null,null,null,null,null,null,null,null,null,null,null,null,null,null,null,null,null,null,null,null,null,null,null,0]
[null,null,null,null,null,null,null,null,null,null,null,null,null,null,null,null,null,null,null,null,null,null,null,null,null,null,null,null,null,null,null,null,0]
[null,null,null,null,null,null,null,null,null,null,null,null,null,null,null,null,null,null,null,null,null,null,null,null,null,null,null,null,null,null,null,null,0]
[null,null,null,null,null,null,null,null,null,null,null,null,null,null,null,null,null,null,null,null,null,null,null,null,null,null,null,null,null,null,null,null,0]
[null,null,null,null,null,null,null,null,null,null,null,null,null,null,null,null,null,null,null,null,null,null,null,null,null,null,null,null,null,null,null,null,0]
[null,null,null,null,null,null,null,null,null,null,null,null,null,null,null,null,null,null,null,null,null,null,null,null,null,null,null,null,null,null,null,null,0]
[null,null,null,null,null,null,null,null,null,null,null,null,null,null,null,null,null,null,null,null,null,null,null,null,null,null,null,null,null,null,null,null,0]
[null,null,null,null,null,null,null,null,null,null,null,null,null,null,null,null,null,null,null,null,null,null,null,null,null,null,null,null,null,null,null,null,0]
[null,null,null,null,null,null,null,null,null,null,null,null,null,null,null,null,null,null,null,null,null,null,null,null,null,null,null,null,null,null,null,null,0]
[null,null,null,null,null,null,null,null,null,null,null,null,null,null,null,null,null,null,null,null,null,null,null,null,null,null,null,null,null,null,null,null,0]
[null,null,null,null,null,null,null,null,null,null,null,null,null,null,null,null,null,null,null,null,null,null,null,null,null,null,null,null,null,null,null,null,0]
[null,null,null,null,null,null,null,null,null,null,null,null,null,null,null,null,null,null,null,null,null,null,null,null,null,null,null,null,null,null,null,null,0]
[null,null,null,null,null,null,null,null,null,null,null,null,null,null,null,null,null,null,null,null,null,null,null,null,null,null,null,null,null,null,null,null,0]
[null,null,null,null,null,null,null,null,null,null,null,null,null,null,null,null,null,null,null,null,null,null,null,null,null,null,null,null,null,null,null,null,0]
[null,null,null,null,null,null,null,null,null,null,null,null,null,null,null,null,null,null,null,null,null,null,null,null,null,null,null,null,null,null,null,null,0]
[null,null,null,null,null,null,null,null,null,null,null,null,null,null,null,null,null,null,null,null,null,null,null,null,null,null,null,null,null,null,null,null,0]
[null,null,null,null,null,null,null,null,null,null,null,null,null,null,null,null,null,null,null,null,null,null,null,null,null,null,null,null,null,null,null,null,0]
[null,null,null,null,null,null,null,null,null,null,null,null,{"$f":"SUM(M5:M500)","v":0},{"$f":"SUM(N5:N500)","v":0},0,0,0,0,0,0,0,{"$f":"SUM(V5:V500)","v":0},{"$f":"SUM(W5:W500)","v":0},{"$f":"SUM(X5:X500)","v":0},{"$f":"SUM(Y5:Y500)","v":0},{"$f":"SUM(Z5:Z500)","v":0},{"$f":"SUM(AA5:AA500)","v":0},{"$f":"SUM(AB5:AB500)","v":0},{"$f":"SUM(AC5:AC500)","v":0},{"$f":"SUM(AD5:AD500)","v":0},{"$f":"SUM(AE5:AE500)","v":0},{"$f":"SUM(AF5:AF500)","v":0}]

{"sheet":"Substrat","index":7,"n_rows":121,"n_cols":12,"rows_kept":121,"cut":false,"hidden":false,"merged":[[36,8,36,11],[37,8,37,11],[31,8,31,11],[32,8,32,11],[33,8,33,11],[34,8,34,11],[35,8,35,11],[26,8,26,11],[27,8,27,11],[28,8,28,11],[29,8,29,11],[30,8,30,11],[98,0,98,10],[15,8,15,11],[0,0,0,11],[7,8,7,11],[14,8,14,11],[1,8,1,11],[2,8,2,11],[3,8,3,11],[4,8,4,11],[6,8,6,11],[16,8,16,11],[17,8,17,11],[18,8,18,11],[19,8,19,11],[20,8,20,11],[21,8,21,11],[67,8,67,11],[40,8,40,11],[41,8,41,11],[42,8,42,11],[43,8,43,11],[44,8,44,11],[45,8,45,11],[46,8,46,11],[47,8,47,11],[48,8,48,11],[49,8,49,11],[50,8,50,11],[51,8,51,11],[52,8,52,11],[64,8,64,11],[65,8,65,11],[66,8,66,11],[58,8,58,11],[59,8,59,11],[60,8,60,11],[61,8,61,11],[62,8,62,11],[12,8,13,11],[8,8,9,11],[10,8,11,11],[5,8,5,11],[63,8,63,11],[53,8,53,11],[54,8,54,11],[55,8,55,11],[56,8,56,11],[57,8,57,11],[39,8,39,11],[38,8,38,11],[22,8,22,11],[23,8,23,11],[24,8,24,11],[25,8,25,11]]}
["HBK Biogasredovisning, ver 3.6 - Substrat för biogasproduktion"]
["Substratslag (kategori)","Typ","Nm3 biogas per ton substrat (Våtvikt)","Växthusgasutsläpp, g CO2eq/ton torrsubstans","Normalvärde , g CO2eq/MJ","Torrsubstanshalt, intervall, %","Krav på uppfyllande av markkriterie","Avfall Web-kod","Not"]
["Källsorterat matavfall från hushåll och verksamheter (fast form)","Avfall",148,0,23,"25 - 35","Nej","EB8","Hushåll och verksamheter inklusive t ex restauranger, skolkök och liknande. Hanteras i fast form i t ex påsar och transporteras med renhållningsfordon eller i container till anläggningen"]
["Källsorterat matavfall (kvarnat och spätt) - Låg TS","Avfall",45,0,23,"5 - 10","Nej","EB8","Hushåll och verksamheter som t ex restauranger, skolkök och liknande. Hanteras i flytande form med slamsugningsbil"]
["Källsorterat matavfall (kvarnat och spätt) - Hög TS","Avfall",72,0,23,"10 - 15","Nej","EB8","Hushåll och verksamheter som t ex restauranger, skolkök och liknande. Hanteras i flytande form med slamsugningsbil"]
["Fett från hushåll, restauranger och storkök","Avfall",780,0,23,"85 - 95","Nej","EB8","Frityrfett. Hanteras i flytande form med slamsugningsbil eller i kärl"]
["Fettavskiljareslam från restauranger och storkök","Avfall",44,0,23,"5 - 10","Nej","EB42","Hanteras i flytande form med slamsugningsbil"]
["Slam från kommunalt avloppsreningsverk och enskilda avlopp","Avfall",15,0,-1.0000000000000001E-5,"3 - 7","Nej","EB40","Inklusive slam från externa reningsverk utan rötkammare. Slam från enskilda avlopp och externa reningsverk hanteras med slamsugningsbil. Biogas från avloppsslam är en restprodukt från reningsprocessen. Inga utsläpp från produktionen ingår därför inte i beräkningarna"]
["Fast avfall från livsmedelsindustri","Avfall",170,0,null,"30 - 50","Nej","EB37","T ex bröd, deg, grönsaker, rester från charkuteri och styckning och färdig mat. Hanteras i fast form t ex med container"]
["Fast avfall från handel","Avfall",170,0,null,"30 - 50","Nej","EB41a"]
["Flytande avfall från livsmedelsindustri - Låg TS","Avfall",33,0,null,"5 - 10","Nej","EB37","T ex Förpackade livsmedel, skal från grönsaker, fiskrens, mejeriprodukter, läskedrycksrester. Hanteras antingen i flytande form till anläggningen eller pressas vid förbehandling"]
["Flytande avfall från livsmedelsindustri - Hög TS","Avfall",66,0,null,"10 - 15","Nej","EB37"]
["Flytande avfall från handel - Låg TS","Avfall",33,0,null,"5 - 10","Nej","EB41a","T ex Förpackade livsmedel, skal från grönsaker, fiskrens, mejeriprodukter, läskedrycksrester. Hanteras antingen i flytande form till anläggningen eller pressas vid förbehandling"]
["Flytande avfall från handel - Hög TS","Avfall",66,0,null,"10 - 15","Nej","EB41a"]
["Avfall från slakteri - Låg TS","Avfall",80,0,null,"5 - 15","Nej","EB36","T ex mag- och tarminnehåll, blod, fett och slam från reningsverk.  Hanteras i flytande form med tankbil"]
["Avfall från slakteri - Hög TS","Avfall",160,0,null,"15 - 25","Nej","EB36","T ex mag- och tarminnehåll, blod, fett och slam från reningsverk.  Hanteras i container"]
["Slam från papper-, massa- och cellulosaindustri","Avfall",12,0,null,"5 - 10","Nej","EB42"]
["Rester från djurfodertillverkning ","Restp",720,0,null,"80 - 85","Nej","EB42","Rester från tillverkning av foder till husdjur som nötkreatur, svin, fjäderfä, hund- och katt (hanteras i fast form)"]
["Rester från spannmålshantering","Restp",322,0,null,"80 - 85","Nej","EB42","Till exempel sekunda spannmål och spannmålsrester från etanoltillverkning"]
["Blast från sockerbeta och potatis","Restp",70,0,null,"15 - 35","Ja","EB42","Hanteras färsk direkt från fält eller ensilerad"]
["Halm (torkad)","Restp",207,0,null,"80 - 85","Ja","EB42","Torkad och balad"]
["Flytgödsel","Restp",{"$f":"AVERAGE(22,26)","v":24},0,16,"5 - 10","Nej","EB38","Gödsel från svin, nötkreatur och fjäderfä. Hanteras i flytande form med tankbil"]
["Fast stallgödsel","Restp",54,0,15,"15 - 25","Nej","EB38","Gödsel från svin, nötkreatur och hästar. Hanteras i fast form t ex med container"]
["Höns/kycklinggödsel","Restp",85,0,15,"25 - 35","Nej","EB38","Gödsel från höns och kycklingar. Hanteras i fast form t ex med container"]
["Råglycerin","Restp",500,0,null,"80 - 90","Nej","EB42","Ex från biodieseltillverkning, kallades i tidigare versioner \"Glycerol, oraffinerad\""]
["Höstvete","Gröda",550,{"$error":"#N/A"},null,"84 - 88","Ja","EB39"]
["Vårvete","Gröda",550,{"$error":"#N/A"},null,"84 - 88","Ja","EB39"]
["Korn","Gröda",550,{"$error":"#N/A"},null,"84 - 88","Ja","EB39"]
["Råg","Gröda",550,{"$error":"#N/A"},null,"84 - 88","Ja","EB39"]
["Rågvete","Gröda",550,{"$error":"#N/A"},null,"84 - 88","Ja","EB39"]
["Havre","Gröda",550,{"$error":"#N/A"},null,"84 - 88","Ja","EB39"]
["Helsäd-Vete","Gröda",174,{"$error":"#N/A"},null,"30 - 45","Ja","EB39","Kärna & halm, lagrat som ensilage. "]
["Vallgröda","Gröda",159,{"$error":"#N/A"},null,"30 - 45","Ja","EB39","Klövergräsblandning, lagrat som ensilage. "]
["Majs","Gröda",172,{"$error":"#N/A"},null,"30 - 45","Ja","EB39","Avser hela plantan, lagrat som ensilage"]
["Sockerbetor","Gröda",150,{"$error":"#N/A"},null,"20 - 30","Ja","EB39","Avser beta utan blast"]
["Drav","Restp",104,0,null,"20 - 30","Nej","EB37","Från bryggerier. Typ av substrat (avfall, restprodukt eller samprodukt) bestäms i samråd mellan leverantör och mottagare. Om substratet klassas som samprodukt ska växthusgasutsläpp anges."]
["Drank från etanoltillverkning","Restp",45,0,null,"5 - 15","Nej","EB42","Typ av substrat (avfall, restprodukt eller samprodukt) bestäms i samråd mellan leverantör och mottagare. Om substratet klassas som samprodukt ska växthusgasutsläpp anges."]
["Egen definition 1","Ej def",0,0]
["Egen definition 2","Ej def",0,0]
["Egen definition 3","Ej def",0,0]
["Egen definition 4","Ej def",0,0]
["Egen definition 5","Ej def",0,0]
["Egen definition 6","Ej def",0,0]
["Egen definition 7","Ej def",0,0]
["Egen definition 8","Ej def",0,0]
["Egen definition 9","Ej def",0,0]
["Egen definition 10","Ej def",0,0]
["Egen definition 11","Ej def",0,0]
["Egen definition 12","Ej def",0,0]
["Egen definition 13","Ej def",0,0]
["Egen definition 14","Ej def",0,0]
["Egen definition 15","Ej def",0,0]
["Egen definition 16","Ej def",0,0]
["Egen definition 17","Ej def",0,0]
["Egen definition 18","Ej def",0,0]
["Egen definition 19","Ej def",0,0]
["Egen definition 20","Ej def",0,0]
["Egen definition 21","Ej def",0,0]
["Egen definition 22","Ej def",0,0]
["Egen definition 23","Ej def",0,0]
["Egen definition 24","Ej def",0,0]
["Egen definition 25","Ej def",0,0]
["Egen definition 26","Ej def",0,0]
["Egen definition 27","Ej def",0,0]
["Egen definition 28","Ej def",0,0]
["Egen definition 29","Ej def",0,0]
["Egen definition 30","Ej def",0,0]
["Egen definition 31","Ej def",0,0]
["Egen definition 32","Ej def",0,0]
["Egen definition 33","Ej def",0,0]
["Egen definition 34","Ej def",0,0]
["Egen definition 35","Ej def",0,0]
["Egen definition 36","Ej def",0,0]
["Egen definition 37","Ej def",0,0]
["Egen definition 38","Ej def",0,0]
["Egen definition 39","Ej def",0,0]
["Egen definition 40","Ej def",0,0]
["Egen definition 41","Ej def",0,0]
["Egen definition 42","Ej def",0,0]
["Egen definition 43","Ej def",0,0]
["Egen definition 44","Ej def",0,0]
["Egen definition 45","Ej def",0,0]
["Egen definition 46","Ej def",0,0]
["Egen definition 47","Ej def",0,0]
["Egen definition 48","Ej def",0,0]
["Egen definition 49","Ej def",0,0]
["Egen definition 50","Ej def",0,0]
["Ursprungsland för substrat (för val vid inmatning av substrat)",null,null,null,null,null,null,null,null,null,null,"Kommentar"]
["Sverige"]
["Danmark"]
["Norge"]
["Finland "]
["Eget val 1"]
["Eget val 2"]
["Eget val 3"]
["Eget val 4"]
["Eget val 5"]
["Eget val 6"]
["Typiska växthusgasutsläpp för grödor från olika regioner, gram CO2eq/ton torrsubstans",null,null,null,null,null,null,null,null,null,null,"Kommentar"]
[null,"Höstvete","Vårvete","Korn","Råg","Rågvete","Havre","Helsäd-Vete","Vallgröda","Majs","Sockerbetor","För Spannmålsslagen har, tabell 23-25 samt 27-29 i SLU rapport (enligt ref.) samt spannmål som kärna 7.93 MJ etanol per kg säd (86% TS), samt allokering 60,8 % till etanolen baserat på energiinnehållet, nyttjats.                                                                       För Helsäd har antagits ensilage av hela plantan, 50% kärna (vårvete) samt 50% Vetehalm"]
["Blekinge",{"$f":"18.1*(1+(1/60.8)*39.2)*(7.93/0.86)*1000","v":274504.66646266828},{"$f":"21*(1+(1/60.8)*39.2)*(7.93/0.86)*1000","v":318486.07711138309},{"$f":"19.3*(1+(1/60.8)*39.2)*(7.93/0.86)*1000","v":292703.87086903304},"SAKNAS",{"$f":"19.2*(1+(1/60.8)*39.2)*(7.93/0.86)*1000","v":291187.27050183597},{"$f":"20.6*(1+(1/60.8)*39.2)*(7.93/0.86)*1000","v":312419.67564259487},{"$f":"C101/2+9000/2","v":163743.03855569154},135000,109000,89000,"SAKNAS = inget värde för denna NUTs region finns att hämta"]
["Dalarna",{"$f":"19.5*(1+(1/60.8)*39.2)*(7.93/0.86)*1000","v":295737.07160342718},"SAKNAS",{"$f":"20.9*(1+(1/60.8)*39.2)*(7.93/0.86)*1000","v":316969.47674418602},"SAKNAS","SAKNAS",{"$f":"21.1*(1+(1/60.8)*39.2)*(7.93/0.86)*1000","v":320002.67747858015},"SAKNAS",148000,"SAKNAS","SAKNAS","SAKNAS = inget värde för denna NUTs region finns att hämta"]
["Gotland",{"$f":"19*(1+(1/60.8)*39.2)*(7.93/0.86)*1000","v":288154.06976744183},{"$f":"23*(1+(1/60.8)*39.2)*(7.93/0.86)*1000","v":348818.0844553244},{"$f":"18.5*(1+(1/60.8)*39.2)*(7.93/0.86)*1000","v":280571.06793145655},{"$f":"16.7*(1+(1/60.8)*39.2)*(7.93/0.86)*1000","v":253272.26132190941},{"$f":"18.1*(1+(1/60.8)*39.2)*(7.93/0.86)*1000","v":274504.66646266828},{"$f":"20.8*(1+(1/60.8)*39.2)*(7.93/0.86)*1000","v":315452.87637698901},{"$f":"C103/2+9000/2","v":178909.0422276622},132000,114000,125000,"SAKNAS = inget värde för denna NUTs region finns att hämta"]
["Gävleborg","SAKNAS","SAKNAS",{"$f":"20.4*(1+(1/60.8)*39.2)*(7.93/0.86)*1000","v":309386.47490820073},"SAKNAS","SAKNAS",{"$f":"24.9*(1+(1/60.8)*39.2)*(7.93/0.86)*1000","v":377633.49143206852},"SAKNAS",150000,159000,"SAKNAS","SAKNAS = inget värde för denna NUTs region finns att hämta"]
["Halland",{"$f":"19.6*(1+(1/60.8)*39.2)*(7.93/0.86)*1000","v":297253.6719706243},{"$f":"20.3*(1+(1/60.8)*39.2)*(7.93/0.86)*1000","v":307869.87454100366},{"$f":"17.8*(1+(1/60.8)*39.2)*(7.93/0.86)*1000","v":269954.86536107713},"SAKNAS",{"$f":"15.8*(1+(1/60.8)*39.2)*(7.93/0.86)*1000","v":239622.85801713588},{"$f":"20.1*(1+(1/60.8)*39.2)*(7.93/0.86)*1000","v":304836.67380660953},{"$f":"C105/2+9000/2","v":158434.93727050183},137000,122000,107000,"SAKNAS = inget värde för denna NUTs region finns att hämta"]
["Jämtland","SAKNAS","SAKNAS",{"$f":"18.8*(1+(1/60.8)*39.2)*(7.93/0.86)*1000","v":285120.86903304775},"SAKNAS","SAKNAS","SAKNAS","SAKNAS",149000,"SAKNAS","SAKNAS","SAKNAS = inget värde för denna NUTs region finns att hämta"]
["Jönköping",{"$f":"18.8*(1+(1/60.8)*39.2)*(7.93/0.86)*1000","v":285120.86903304775},"SAKNAS",{"$f":"21.8*(1+(1/60.8)*39.2)*(7.93/0.86)*1000","v":330618.88004895963},"SAKNAS",{"$f":"21*(1+(1/60.8)*39.2)*(7.93/0.86)*1000","v":318486.07711138309},{"$f":"19.3*(1+(1/60.8)*39.2)*(7.93/0.86)*1000","v":292703.87086903304},"SAKNAS",136000,142000,"SAKNAS","SAKNAS = inget värde för denna NUTs region finns att hämta"]
["Kalmar",{"$f":"18.4*(1+(1/60.8)*39.2)*(7.93/0.86)*1000","v":279054.46756425948},{"$f":"16.2*(1+(1/60.8)*39.2)*(7.93/0.86)*1000","v":245689.25948592412},{"$f":"21.8*(1+(1/60.8)*39.2)*(7.93/0.86)*1000","v":330618.88004895963},"SAKNAS",{"$f":"20.9*(1+(1/60.8)*39.2)*(7.93/0.86)*1000","v":316969.47674418602},{"$f":"20*(1+(1/60.8)*39.2)*(7.93/0.86)*1000","v":303320.07343941252},{"$f":"C108/2+9000/2","v":127344.62974296206},134000,111000,103000,"SAKNAS = inget värde för denna NUTs region finns att hämta"]
["Kronoberg",{"$f":"18.5*(1+(1/60.8)*39.2)*(7.93/0.86)*1000","v":280571.06793145655},"SAKNAS",{"$f":"19.4*(1+(1/60.8)*39.2)*(7.93/0.86)*1000","v":294220.47123623011},"SAKNAS",{"$f":"17.2*(1+(1/60.8)*39.2)*(7.93/0.86)*1000","v":260855.26315789475},{"$f":"14.4*(1+(1/60.8)*39.2)*(7.93/0.86)*1000","v":218390.45287637701},"SAKNAS",135000,138000,"SAKNAS","SAKNAS = inget värde för denna NUTs region finns att hämta"]
["Norrbotten","SAKNAS","SAKNAS",{"$f":"23*(1+(1/60.8)*39.2)*(7.93/0.86)*1000","v":348818.0844553244},"SAKNAS","SAKNAS","SAKNAS","SAKNAS",142000,"SAKNAS","SAKNAS","SAKNAS = inget värde för denna NUTs region finns att hämta"]
["Skåne",{"$f":"18.3*(1+(1/60.8)*39.2)*(7.93/0.86)*1000","v":277537.86719706241},{"$f":"24.5*(1+(1/60.8)*39.2)*(7.93/0.86)*1000","v":371567.0899632803},{"$f":"17.6*(1+(1/60.8)*39.2)*(7.93/0.86)*1000","v":266921.66462668305},{"$f":"17.4*(1+(1/60.8)*39.2)*(7.93/0.86)*1000","v":263888.4638922888},{"$f":"19.7*(1+(1/60.8)*39.2)*(7.93/0.86)*1000","v":298770.27233782125},{"$f":"18.5*(1+(1/60.8)*39.2)*(7.93/0.86)*1000","v":280571.06793145655},{"$f":"C111/2+9000/2","v":190283.54498164015},136000,104000,104000,"SAKNAS = inget värde för denna NUTs region finns att hämta"]
["Stockholm",{"$f":"19.2*(1+(1/60.8)*39.2)*(7.93/0.86)*1000","v":291187.27050183597},{"$f":"23.3*(1+(1/60.8)*39.2)*(7.93/0.86)*1000","v":353367.88555691554},{"$f":"20.1*(1+(1/60.8)*39.2)*(7.93/0.86)*1000","v":304836.67380660953},"SAKNAS",{"$f":"18.8*(1+(1/60.8)*39.2)*(7.93/0.86)*1000","v":285120.86903304775},{"$f":"19.3*(1+(1/60.8)*39.2)*(7.93/0.86)*1000","v":292703.87086903304},{"$f":"C112/2+9000/2","v":181183.94277845777},150000,125000,"SAKNAS","SAKNAS = inget värde för denna NUTs region finns att hämta"]
["Södermanland",{"$f":"21*(1+(1/60.8)*39.2)*(7.92/0.86)*1000","v":318084.45532435743},{"$f":"22.8*(1+(1/60.8)*39.2)*(7.93/0.86)*1000","v":345784.88372093026},{"$f":"17.8*(1+(1/60.8)*39.2)*(7.93/0.86)*1000","v":269954.86536107713},{"$f":"16.1*(1+(1/60.8)*39.2)*(7.93/0.86)*1000","v":244172.65911872708},{"$f":"18.3*(1+(1/60.8)*39.2)*(7.93/0.86)*1000","v":277537.86719706241},{"$f":"19.6*(1+(1/60.8)*39.2)*(7.93/0.86)*1000","v":297253.6719706243},{"$f":"C113/2+9000/2","v":177392.44186046513},150000,126000,"SAKNAS","SAKNAS = inget värde för denna NUTs region finns att hämta"]
["Uppsala",{"$f":"19.8*(1+(1/60.8)*39.2)*(7.93/0.86)*1000","v":300286.87270501838},{"$f":"20.8*(1+(1/60.8)*39.2)*(7.93/0.86)*1000","v":315452.87637698901},{"$f":"17.6*(1+(1/60.8)*39.2)*(7.93/0.86)*1000","v":266921.66462668305},{"$f":"15.4*(1+(1/60.8)*39.2)*(7.93/0.86)*1000","v":233556.45654834763},{"$f":"19.3*(1+(1/60.8)*39.2)*(7.93/0.86)*1000","v":292703.87086903304},{"$f":"17.2*(1+(1/60.8)*39.2)*(7.93/0.86)*1000","v":260855.26315789475},{"$f":"C114/2+9000/2","v":162226.4381884945},151000,126000,"SAKNAS","SAKNAS = inget värde för denna NUTs region finns att hämta"]
["V:a Götaland",{"$f":"21*(1+(1/60.8)*39.2)*(7.93/0.86)*1000","v":318486.07711138309},{"$f":"22.2*(1+(1/60.8)*39.2)*(7.93/0.86)*1000","v":336685.28151774785},{"$f":"21.7*(1+(1/60.8)*39.2)*(7.93/0.86)*1000","v":329102.27968176251},{"$f":"17*(1+(1/60.8)*39.2)*(7.93/0.86)*1000","v":257822.06242350061},{"$f":"18.8*(1+(1/60.8)*39.2)*(7.93/0.86)*1000","v":285120.86903304775},{"$f":"21.4*(1+(1/60.8)*39.2)*(7.93/0.86)*1000","v":324552.47858017136},{"$f":"C115/2+9000/2","v":172842.64075887392},136000,136000,"SAKNAS","SAKNAS = inget värde för denna NUTs region finns att hämta"]
["Värmland",{"$f":"21.5*(1+(1/60.8)*39.2)*(7.93/0.86)*1000","v":326069.07894736837},"SAKNAS",{"$f":"22.8*(1+(1/60.8)*39.2)*(7.93/0.86)*1000","v":345784.88372093026},"SAKNAS",{"$f":"19.4*(1+(1/60.8)*39.2)*(7.93/0.86)*1000","v":294220.47123623011},{"$f":"21.8*(1+(1/60.8)*39.2)*(7.93/0.86)*1000","v":330618.88004895963},"SAKNAS",151000,145000,"SAKNAS","SAKNAS = inget värde för denna NUTs region finns att hämta"]
["Västerbotten","SAKNAS","SAKNAS",{"$f":"25.2*(1+(1/60.8)*39.2)*(7.93/0.86)*1000","v":382183.29253365973},"SAKNAS","SAKNAS",{"$f":"23*(1+(1/60.8)*39.2)*(7.93/0.86)*1000","v":348818.0844553244},"SAKNAS",147000,"SAKNAS","SAKNAS","SAKNAS = inget värde för denna NUTs region finns att hämta"]
["Västernorrland","SAKNAS","SAKNAS",{"$f":"23.3*(1+(1/60.8)*39.2)*(7.93/0.86)*1000","v":353367.88555691554},"SAKNAS","SAKNAS","SAKNAS","SAKNAS",148000,"SAKNAS","SAKNAS","SAKNAS = inget värde för denna NUTs region finns att hämta"]
["Västmanland",{"$f":"19.8*(1+(1/60.8)*39.2)*(7.93/0.86)*1000","v":300286.87270501838},{"$f":"20.7*(1+(1/60.8)*39.2)*(7.93/0.86)*1000","v":313936.27600979188},{"$f":"18*(1+(1/60.8)*39.2)*(7.93/0.86)*1000","v":272988.06609547127},"SAKNAS",{"$f":"17.8*(1+(1/60.8)*39.2)*(7.93/0.86)*1000","v":269954.86536107713},{"$f":"18.3*(1+(1/60.8)*39.2)*(7.93/0.86)*1000","v":277537.86719706241},{"$f":"C119/2+9000/2","v":161468.13800489594},150000,126000,"SAKNAS","SAKNAS = inget värde för denna NUTs region finns att hämta"]
["Örebro",{"$f":"18.8*(1+(1/60.8)*39.2)*(7.93/0.86)*1000","v":285120.86903304775},{"$f":"20*(1+(1/60.8)*39.2)*(7.93/0.86)*1000","v":303320.07343941252},{"$f":"18.3*(1+(1/60.8)*39.2)*(7.93/0.86)*1000","v":277537.86719706241},{"$f":"20.6*(1+(1/60.8)*39.2)*(7.93/0.86)*1000","v":312419.67564259487},{"$f":"19.7*(1+(1/60.8)*39.2)*(7.93/0.86)*1000","v":298770.27233782125},{"$f":"17.9*(1+(1/60.8)*39.2)*(7.93/0.86)*1000","v":271471.46572827414},{"$f":"C120/2+9000/2","v":156160.03671970626},150000,131000,"SAKNAS","SAKNAS = inget värde för denna NUTs region finns att hämta"]
["Östergötland",{"$f":"19.2*(1+(1/60.8)*39.2)*(7.93/0.86)*1000","v":291187.27050183597},{"$f":"20.6*(1+(1/60.8)*39.2)*(7.93/0.86)*1000","v":312419.67564259487},{"$f":"21*(1+(1/60.8)*39.2)*(7.93/0.86)*1000","v":318486.07711138309},{"$f":"17*(1+(1/60.8)*39.2)*(7.93/0.86)*1000","v":257822.06242350061},{"$f":"18.3*(1+(1/60.8)*39.2)*(7.93/0.86)*1000","v":277537.86719706241},{"$f":"18*(1+(1/60.8)*39.2)*(7.93/0.86)*1000","v":272988.06609547127},{"$f":"C121/2+9000/2","v":160709.83782129743},140000,145000,"SAKNAS","SAKNAS = inget värde för denna NUTs region finns att hämta"]

{"sheet":"Data","index":8,"n_rows":189,"n_cols":5,"rows_kept":189,"cut":false,"hidden":false,"merged":[[0,0,0,4]]}
["HBK Biogasredovisning, ver 3.6 - Underlagsdata"]
["Allmänna data",null,null,null,"Kommentar"]
["Omräkningsfaktorer till CO2 eq CH4 (gram/gram)",23,null,null,"STEMFS2011:2"]
["Omräkningsfaktorer till CO2 eq N2O (gram/gram)",296,null,null,"STEMFS2011:2"]
["Densitet metan, kg/Nm3",0.71750000000000003,null,null,"Svenskt Gastekniskt Center (www.sgc.se)"]
["Energiinnehåll metan, MJ/Nm3",{"$f":"50*B5","v":35.875},null,null,"Biograce: 50,0 MJ/kg "]
["Energiinnehåll metan, MJ/kg",50,null,null,"Biograce: 50,0 MJ/kg "]
["Ef; Fossila motsvarigheten till biodrivmedel för transport,  gCO2eq/MJ",83.8,null,null,"Energimyndighetens föreskrifter STEM2011:2"]
["Ja",null,null,null,"För val av Ja / Nej - alternativ"]
["Nej",null,null,null,"För val av Ja / Nej - alternativ"]
["Nm3",null,null,null,"För val av kg/Nm3 - alternativ"]
["kg",null,null,null,"För val av kg/Nm3 - alternativ"]
["Gränsvärde för varning för växthusgasminskning",0.5,null,null,"50% minskning gäller för för biogas som producerats i anläggningar som tagits i drift före 1 jan 2017"]
["Gränsvärde för varning för avvikelse i massbalans",0.05,null,null,"Detta värde används vid kontroll av massbalans i distributionsbladet. Vid större avvikelse rödmarkeras avvikelsen för partiet"]
["Gränsvärde för varning för avvikelse i mängd uppgraderad gas",0.05,null,null,"Detta värde används vid kontroll av mängden uppgraderad gas i förhållande till beräknad mängd uppgraderad gas som är = inkommande mängd gas x metanhalt in / metanhalt ut"]
["Visa startsida","Ja"]
["Visa välkomstsida","Ja"]
["Värmekälla","gCO2eq/MWh",null,null,"Kommentar"]
["Fjärrvärme - 25 % avfall, 27 % förnybart och 11 % stenkol, MWh",90000,null,null,"Emissionsdata för Fortums fjärrvärmenät 2015. Alternativproduktionsmetoden används vid allokering mellan producerad el och värme. Källa: http://www.svenskfjarrvarme.se/Statistik--Pris/Miljovardering-av-fjarrvarme/"]
["Fjärrvärme - 60 % avfall och 29 % naturgas, MWh",127000,null,null,"Emissionsdata för Malmö-Burlövs fjärrvärmenät 2015. Alternativproduktionsmetoden används vid allokering mellan producerad el och värme. Källa https://www.eon.se/foeretag/losningar/fjarrvarmenat/miljo-och-fjarrvarme.html"]
["Fjärrvärme - 70 % återvunnen energi, 8 % naturgas, MWh",53000,null,null,"Emissionsdata för Göteborg, Partille, Ale fjärrvärmenät 2015. Källa: http://www.svenskfjarrvarme.se/Statistik--Pris/Miljovardering-av-fjarrvarme/"]
["Fjärrvärme - 97 % olja, MWh",301000,null,null,"Emissionsdata från Ljungaverk/Ånge Energi för år 2015. Cirka 97 % eldningsolja. Källa: http://www.svenskfjarrvarme.se/Statistik--Pris/Miljovardering-av-fjarrvarme/"]
["Fjärrvärme - biokraft, MWh",20000,null,null,"Emissionsdata för Enköpings fjärrvärmenät år 2015.  Alternativproduktionsmetoden används vid allokering mellan producerad el och värme. Drygt 60 % av emissionerna allokeras till elproduktion. Källa: http://www.svenskfjarrvarme.se/Statistik--Pris/Miljovardering-av-fjarrvarme/"]
["Fjärrvärme - förnybar, MWh",31000,null,null,"Emissionsdata för Braås fjärrvärmenät 2015. Endast förnybara bränslen och ingen kraftproduktion.  Källa: http://www.svenskfjarrvarme.se/Statistik--Pris/Miljovardering-av-fjarrvarme/"]
["Fjärrvärme - Bra Miljöval, MWh",13000,null,null,"Emissioner för miljömärkt fjärrvärme kan användas om de beräknats enligt ett livscykelperspektiv. Emissionsdata för fjärrvärme märkt som Bra Miljöval i Göteborg, Partille, Ale fjärrvärmenät 2015. 23 % återvunnen energi och 77 % förnybart. Källa: http://www.svenskfjarrvarme.se/Statistik--Pris/Miljovardering-av-fjarrvarme/ "]
["Oljepanna Default om ingen info om värmeförsörjning finns, MWh",340000,null,null,"Beräknad med 85 % verkningsgrad och användning av 100 % eldningsolja 1. Både förbränningsemisisoner och uppströmsemissioner(produktion och transport mm) av olja ingår. Data från Miljöfaktabok 2011. "]
["Naturgaspanna, MWh",274800,null,null,"Beräknad med 90 % verkningsgrad och användning av 100 % naturgas. Data för förbränningsemissioner kommer från Palrud&Fridell (2008), Uppdatering av klimatrelaterade emissioner Tabell 2, 5 och 8. Data för uppströmsemissioner kommer från Miljöfaktabok 2011 ( västeuropeisk naturgas)"]
["Flispanna, MWh",9000,null,null,"Produktion och distribution av flis, exklusive förändringar av markkol samt en verkningsgrad på 80 %. Källor: Lindholm et al. (2011) och Lantz och Börjesson (2014)"]
["Pelletspanna, MWh",22000,null,null,"Data från Miljöfaktabok 2011 för pellets. Omräknat till värme med en verkningsgrad på 85 % "]
["Deponigaspanna, MWh",0]
["Biogaspanna, MWh",0,null,null,"Avser värme som framställts av egenproducerad biogas i gaspanna. Minskar mängden levererad biogas vilket leder till ökad emissionsfaktor för levererad biogas"]
["Biogas -  gasmotor/gasturbin, MWh",0,null,null,"Avser värme som framställts av egenproducerad biogas med hjälp av gasmotor eller gasturbin. Minskar mängden levererad biogas vilket leder till ökad emissionsfaktor för levererad biogas"]
["Eget värde 1",9999999,null,null,"Eget värde som ska kunna verifieras"]
["Eget värde 2",9999999,null,null,"Eget värde som ska kunna verifieras"]
["Eget värde 3",9999999,null,null,"Eget värde som ska kunna verifieras"]
["Eget värde 4",9999999,null,null,"Eget värde som ska kunna verifieras"]
["Eget värde 5",9999999,null,null,"Eget värde som ska kunna verifieras"]
["Eget värde 6",9999999,null,null,"Eget värde som ska kunna verifieras"]
["Eget värde 7",9999999,null,null,"Eget värde som ska kunna verifieras"]
["Eget värde 8",9999999,null,null,"Eget värde som ska kunna verifieras"]
["Eget värde 9",9999999,null,null,"Eget värde som ska kunna verifieras"]
["Eget värde 10",9999999,null,null,"Eget värde som ska kunna verifieras"]
["Eget värde 11",9999999,null,null,"Eget värde som ska kunna verifieras"]
["Eget värde 12",9999999,null,null,"Eget värde som ska kunna verifieras"]
["Eget värde 13",9999999,null,null,"Eget värde som ska kunna verifieras"]
["Eget värde 14",9999999,null,null,"Eget värde som ska kunna verifieras"]
["Eget värde 15",9999999,null,null,"Eget värde som ska kunna verifieras"]
["Elektricitet","gCO2eq/MWh","gCO2eq/MJ",null,"Kommentar"]
["El",47000,13,null,"Källa: Energimyndighetens webbsida Växthusgasutsläpp, uppdatarad 2020-11-18"]
["Bränsle till fordon (maskiner) och transporter","gCO2eq/liter (kg)","gCO2eq/MJ","MJ/liter (kg)","Kommentar"]
["Diesel MK1, liter",{"$f":"C51*D51","v":2692.8},76.5,35.200000000000003,"Källa: Drivmedel 2019, Energimyndighetens rapport ER 2020:26, Tabell 4"]
["Eco Par A",3289.8440999999998,94.3,34.887,"Källa: Well-to-tank appendix 2 - version 4A, summary of energy and GHG balance of individual pathways, well-to-wheels analysis of future automotive fuels and powertrains in the european context. http://iet.jrc.ec.europa.eu/about-jec"]
["Eco Par Bio",349.98796800000002,10.224,34.231999999999999,"Källa: Eco Par AB, 2019-01-24"]
["Preem Evolution Diesel +",1939,55.4,35,"Källa: Preem 2019-01-14"]
["FAME, liter",1079.1000000000001,32.700000000000003,33,"Källa: Energimyndighetens webbsida Växthusgasutsläpp, uppdatarad 2020-11-18"]
["HVO, liter",448.79999999999995,13.2,34,"Källa: Energimyndighetens webbsida Växthusgasutsläpp, uppdatarad 2020-11-18"]
["Biogas-100, kg",622.29999999999995,12.7,49,"Källa: Energimyndighetens webbsida Växthusgasutsläpp, uppdatarad 2020-11-18"]
["Biogas-50, kg",1991.165,{"$f":"(C57*0.5)+(C59*0.5)","v":41},{"$f":"D57*0.5+D59*0.5","v":48.564999999999998},"Fordonsgas bestående av 50 % biogas och 50 % naturgas"]
["Naturgas, kg",3335.4090000000001,69.3,48.13,"Källa: Energimyndighetens webbsida Växthusgasutsläpp, uppdatarad 2020-11-18"]
["LBG-100, kg",607.5,12.5,48.6,"För användning i Otto-motor. Baserat på METHANE AS VEHICLE FUEL  – A WELL-TO-WHEEL ANALYSIS (METDRIV) (Börjesson et al., 2016) antas samma som för komprimerad biogas."]
["LBG-50, kg",2129.3250000000003,{"$f":"(C60*0.5)+(C62*0.5)","v":43.5},{"$f":"(D60*0.5)+(D62*0.5)","v":48.95},"För användning i Otto-motor. 50 % LBG och 50 % LNG"]
["LNG, kg",3672.85,74.5,49.3,"Källa: Drivmedel 2017, Energimyndighetens rapport ER 2018:17, Tabell 3"]
["LBG+10% diesel, kg+liter",null,{"$f":"(0.9*C60)+(0.1*C51)","v":18.899999999999999},null,"För användning i dual-fuel motorer. Utsläpp från en mix bestående av 90 % biogas/naturgas och 10 % diesel. Energiinnehåll anges inte pga blandning mellan diesel och gas. "]
["LBG 50+10% diesel, kg+liter",null,{"$f":"(0.9*C61)+(0.1*C51)","v":46.8},null,"För användning i dual-fuel motorer. Utsläpp från en mix bestående av 90 % biogas/naturgas och 10 % diesel. Energiinnehåll anges inte pga blandning mellan diesel och gas. "]
["LNG+10% diesel, liter+kg",null,{"$f":"(0.9*C62)+(0.1*C51)","v":74.7},null,"För användning i dual-fuel motorer. Utsläpp från en mix bestående av 90 % biogas/naturgas och 10 % diesel. Energiinnehåll anges inte pga blandning mellan diesel och gas. "]
["Etanol E85, liter",{"$f":"C66*D66","v":1141.9199999999998},48.8,23.4,"Källa: Energimyndighetens webbsida Växthusgasutsläpp, uppdatarad 2020-11-18"]
["Eget värde 1",999999,999999,999999,"Eget värde som ska kunna verifieras"]
["Eget värde 2",999999,999999,999999,"Eget värde som ska kunna verifieras"]
["Eget värde 3",999999,999999,999999,"Eget värde som ska kunna verifieras"]
["Eget värde 4",999999,999999,999999,"Eget värde som ska kunna verifieras"]
["Eget värde 5",999999,999999,999999,"Eget värde som ska kunna verifieras"]
["Eget värde 6",999999,999999,999999,"Eget värde som ska kunna verifieras"]
["Insatsvaror - Produktion","CO2eq g/enhet",null,null,"Kommentar"]
["Vatten, m3",121,null,null,"Chalmers, Livscykelanalys av dricksvatten - en studie av ett vattenverk i Göteborg,  ERIKA WALLÈN  Examensarbete 1999:3. Metan och lustgas ingår ej i studien"]
["PAX-15- Aluminiumklorid, m3",286000,null,null,"Data från Kemira. Underlagsrapport, U-735, från IVL från 2003. PAX-15 framställs ur aluminiumhydroxid från bauxit och saltsyra . Densitet är 2898 kg/m^3 kristall. Densitet för mättad lösning antas vara 1280-1320 kg/m^3. Antar 1300 kg/m^3. referens: http://www.elkem.no/dav/88d55974e9.pdf"]
["PAX-215- Aluminiumklorid, m3",143000,null,null,"Data från Kemira. Underlagsrapport, U-735, från IVL från 2003. PAX-215 framställs ur aluminiumklorid, aluminiumhydroxid från bauxit och saltsyra där aluminiumklorid är en biprodukt från Kiselframställning. Densitet för mättad lösning antas vara 1280-1320 kg/m^3. Antar 1300 kg/m^3. referens: http://www.elkem.no/dav/88d55974e9.pdf"]
["PIX-111-Järnklorid, m3",230400,null,null,"Data från Kemira. Underlagsrapport, U-704, från IVL från 2003. PIX-111 framställd från magnetitmalm, saltsyra och syrgas. CO2-emissionerna kommer huvudsakligen från saltsyratillverkning.  Densitet 1380-1500 kg/m^3. Valt värde 1440 kg/m^3. Referens för densitet http://www.weglostal.com.pl/products/pix/en_pix111.html"]
["PIX-118-Järnklorid, m3",67275,null,null,"Data från Kemira. Underlagsrapport, U-704, från IVL från 2003. PIX-118 framställs från FeSO4 genom oxidation med klorgas. http://www.weglostal.com.pl/products/pix/en_pix110.html"]
["Magnafloc 336, kg",2260,null,null,"Antar data som är beräknat för Polyakrylamid. Polyakrylamid är modellerad i GaBi som en blandning av lika delar akrylsyra och akrylnitril. Europeiska genomsnittsdata från Ecoinvent 2.0"]
["Flockulenter från SNF Nordic, kg",2260,null,null,"Gäller för Nordic Nordfloc C-51, C-91, K-211, C-211, C-111 och C-172. Antaget data för polyakrylamid. Källa: modellerat i GaBi som en blandning av lika delar akrylsyra och akrylnitril. Europeiska genomsnittsdata från Ecoinvent 2.0."]
["Flockulenter från Kemira, kg",2260,null,null,"Gäller för Kemira Superfloc C492HMW, A110HMW och C-448. Antaget samma data som övriga polyakrylamider. Källa GaBi."]
["Kemira Kem Foam X2500, kg",2580,null,null,"Beräknad som \"Fatty alcohol\", approximerad som petroleumbaserad produkt (dvs. restriktivt värde). Referens GaBi. 2016-01-26: Nytt namn, hette tidigare Kemira Bevaloid 5000."]
["BC Fex 510","n.a.",null,null,"Data saknas"]
["Kemira BDP-Produkter, m3",230400,null,null,"Avser Kemira BDP-820, Kemira BDP-821, Kemira BDP-822, Kemira BDP-823, Kemira BDP-824, Kemira BDP-825, Kemira BDP-840, Kemira BDP-841, Kemira BDP-842, Kemira BDP-843, Kemira BDP-844, Kemira BDP-846, Kemira BDP-860, Kemira BDP-865, Kemira BDP-866, Kemira BDP-867, Kemira BDP-868, Kemira BDP-869 och Kemira BDP Start-up 100.  2016-01-26: Uppgift från Kemira"]
["Ekapam C3503, kg",2260,null,null,"Antaget samma data som övriga polyakrylamider. Källa GaBi."]
["Zetag 7563, kg",2260,null,null,"Approximeras som polyakrylamid"]
["Zetag 7155, kg",2260,null,null,"Approximeras som polyakrylamid"]
["Foamaster ENA-389 NO, kg",1901,null,null,"Baserat på data från fettsyreestrar, vegetabilisk olja, solikon och paraffin. Ursprunglig källa GaBi."]
["Polymerer från SNF Nordic, kg",2260,null,null,"Samma som Nordic Nordfloc."]
["Flopam FO 4440 SH , kg",2260,null,null,"Antaget samma data som övriga polyakrylamider. Källa GaBi."]
["Flopam FO 4700 SSH, kg",2260,null,null,"Antaget samma data som övriga polyakrylamider. Källa GaBi."]
["Svavelsyra-EU ursprung, m3",241040,null,null,"EcoInvent Databas 2.0. Europeiskt genomsnitt. Se faktaruta nedan. Framställs ur svavel från raffinaderier. densitet för 95 % svavelsyra används vid omräkning till volym, se http://www.simetric.co.uk/si_liquids.htm"]
["Svavelsyra-Svenskt ursprung, m3",55170,null,null,"Data från Kemira, Helsingborg. 70 % orsakas av transporter. Framställs ur svavel från raffinaderier. densitet för 95 % svavelsyra används vid omräkning till volym, se http://www.simetric.co.uk/si_liquids.htm"]
["Väteperoxid, m3",1663625.9008599999,null,null,"PE International 2008. EU-medelvärde. Densitet 1463 kg/m^3. Ref: Wikipedia"]
["Väteperoxid,  50 % i H2O, m3",1305390,null,null,"Per 100 % H2O2. EcoInvent Databas 2.0. Europeiskt genomsnitt. Densiteten är approximerad som ett medelvärde mellan 100 % väteperoxid och 100 % vatten."]
["Eget värde 1",9999,null,null,"Eget värde som ska kunna verifieras"]
["Eget värde 2",9999,null,null,"Eget värde som ska kunna verifieras"]
["Eget värde 3",9999,null,null,"Eget värde som ska kunna verifieras"]
["Eget värde 4",9999,null,null,"Eget värde som ska kunna verifieras"]
["Eget värde 5",9999,null,null,"Eget värde som ska kunna verifieras"]
["Eget värde 6",9999,null,null,"Eget värde som ska kunna verifieras"]
["Eget värde 7",9999,null,null,"Eget värde som ska kunna verifieras"]
["Eget värde 8",9999,null,null,"Eget värde som ska kunna verifieras"]
["Eget värde 9",9999,null,null,"Eget värde som ska kunna verifieras"]
["Eget värde 10",9999,null,null,"Eget värde som ska kunna verifieras"]
["Eget värde 11",9999,null,null,"Eget värde som ska kunna verifieras"]
["Eget värde 12",9999,null,null,"Eget värde som ska kunna verifieras"]
["Eget värde 13",9999,null,null,"Eget värde som ska kunna verifieras"]
["Eget värde 14",9999,null,null,"Eget värde som ska kunna verifieras"]
["Eget värde 15",9999,null,null,"Eget värde som ska kunna verifieras"]
["Eget värde 16",9999,null,null,"Eget värde som ska kunna verifieras"]
["Eget värde 17",9999,null,null,"Eget värde som ska kunna verifieras"]
["Eget värde 18",9999,null,null,"Eget värde som ska kunna verifieras"]
["Eget värde 19",9999,null,null,"Eget värde som ska kunna verifieras"]
["Eget värde 20",9999,null,null,"Eget värde som ska kunna verifieras"]
["Eget värde 21",9999,null,null,"Eget värde som ska kunna verifieras"]
["Metanförlust","%",null,null,"Kommentar"]
["Defaultvärde avloppsreningsverk, exklusive slamhantering % ",9.4999999999999998E-3,null,null,"Avser avloppsreningsverk där rötslammet används i jordbruket som gödselmedel"]
["Defaultvärde avloppsreningsverk, inklusive slamhantering % ",2.9000000000000001E-2,null,null,"Avser avloppsreningsverk där rötslammet används för andra ändamål än som gödselmedel i jordbruket"]
["Defaultvärde biogasanlägningar, exklusive rötresthantering, %",2.2000000000000001E-3,null,null,"Avser samrötningsanläggningar där rötresten (bioögdseln) änvänds i jorbruket"]
["Defaultvärde biogasanlägningar, inklusive rötresthantering, %",1.4E-2,null,null,"Avser samrötningsanläggningar där rötresten används för andra ändamål än som gödselmedel i jordbruket"]
["Uppmätt värde, % ",0.99,null,null,"Uppmätt värde enligt metod beskriven i Handbok metanmätningar, Avfall Sveriges rapport 2016:17 ”Handbok metanmätningar. Revidering 2016”. Har mätning utförts, ska värdet användas"]
["Defaultvärde för aminskrubber och anläggningar med RTO, %",1.9E-3,null,null,"Fastställt värde för anläggningar med aminskrubber och andra anläggningar försedda med RTO"]
["Defaultvärde för vattenskrubber och övriga typer av anläggningar, %",0.02,null,null,"Fastställt värde för vattensskrubberanläggningar, PSA och andra typer av anläggningar "]
["Uppmätt värde för anläggning 1, % ",0.99,null,null,"Uppmätt värde enligt metod beskriven i Handbok metanmätningar, Avfall Sveriges rapport 2016:17 ”Handbok metanmätningar. Revidering 2016”. Har mätning utförts, ska värdet användas"]
["Uppmätt värde för anläggning 2, % ",0.99,null,null,"Uppmätt värde enligt metod beskriven i Handbok metanmätningar, Avfall Sveriges rapport 2016:17 ”Handbok metanmätningar. Revidering 2016”. Har mätning utförts, ska värdet användas"]
["Uppmätt värde för anläggning 3, % ",0.99,null,null,"Uppmätt värde enligt metod beskriven i Handbok metanmätningar, Avfall Sveriges rapport 2016:17 ”Handbok metanmätningar. Revidering 2016”. Har mätning utförts, ska värdet användas"]
["Uppmätt värde för anläggning 4, % ",0.99,null,null,"Uppmätt värde enligt metod beskriven i Handbok metanmätningar, Avfall Sveriges rapport 2016:17 ”Handbok metanmätningar. Revidering 2016”. Har mätning utförts, ska värdet användas"]
["Defaultvärde distribution",1E-3,null,null,"Satt värde av Energimyndigheten"]
["Utrustning för reduktion av metanförluster",null,null,null,"Kommentar"]
["Utrustning för reduktion av metanförluster, drifttid, %",null,null,null,"Väljs om uppgraderingsanläggning har utrustning för reduktion av metan i restgas, värdet anges för uppgraderingsanläggningen"]
["Ingen metanreducerande utrustning finns",null,null,null,"Standardvärde, endast ledtext inget värde anges"]
["Fordon för transport av substrat","MJ/tonkm, full last","MJ/tonkm, tom","MJ/ton, Schablon","Kommentar"]
["Lastbil 12 ton flyt. bränsle",0.72,0.5,null,"NTM Lastbil med trailer, Euro 5 och transport på landsväg. Kan också användas för egna beräkningar av insamling av fettavskiljarslam."]
["Lastbil 33 ton flyt. bränsle",0.56000000000000005,0.26,null,"NTM Lastbil med trailer, Euro 5 och transport på landsväg"]
["Lastbil 12 ton gas",{"$f":"B134*1.18","v":0.84959999999999991},{"$f":"C134*1.18","v":0.59},null,"Lastbil med otto-motor antas ha 18 % högre bränsleförbrukning än motsvarande dieselmotor baserat på MetDriv (Börjesson et al., 2017). "]
["Lastbil 33 ton gas",{"$f":"B135*1.18","v":0.66080000000000005},{"$f":"C135*1.18","v":0.30680000000000002},null,"Lastbil med otto-motor antas ha 18 % högre bränsleförbrukning än motsvarande dieselmotor baserat på MetDriv (Börjesson et al., 2017). "]
["Lastbil 12 ton dual-fuel",0.72,0.5,null,"Antar samma verkningsgrad som för flytande bränsle"]
["Lastbil 33 ton dual-fuel",0.56000000000000005,0.26,null,"Antar samma verkningsgrad som för flytande bränsle"]
["Tankbil 33 ton fly. bränsle",0.56000000000000005,0.26,null,"NTM Lastbil med trailer, Euro 5 och transport på landsväg"]
["Tankbil 40 ton fly.bränsle",0.56999999999999995,0.25,null,"NTM Lastbil med trailer, Euro 5 och transport på landsväg"]
["Tankbil 33 ton gas",{"$f":"B140*1.18","v":0.66080000000000005},{"$f":"C140*1.18","v":0.30680000000000002},null,"Lastbil med otto-motor antas ha 18 % högre bränsleförbrukning än motsvarande dieselmotor baserat på MetDriv (Börjesson et al., 2017). "]
["Tankbil 40 ton gas",{"$f":"B141*1.18","v":0.67259999999999986},{"$f":"C141*1.18","v":0.29499999999999998},null,"Lastbil med otto-motor antas ha 18 % högre bränsleförbrukning än motsvarande dieselmotor baserat på MetDriv (Börjesson et al., 2017). "]
["Tankbil 33 ton dual-fuel",0.56000000000000005,0.26,null,"Antar samma verkningsgrad som för flytande bränsle"]
["Tankbil 40 ton dual-fuel",0.56999999999999995,0.25,null,"Antar samma verkningsgrad som för flytande bränsle"]
["Rörledning",0,0,null,"Används i de fall substrat pumpas till anläggningen via rörledning. El används för drift av pumparna och utsläppsvärde för el amvänds för beräkningarna"]
["Eget värde 1",99,99,null,"Eget värde som ska kunna verifieras"]
["Eget värde 2",99,99,null,"Eget värde som ska kunna verifieras"]
["Eget värde 3",99,99,null,"Eget värde som ska kunna verifieras"]
["Eget värde 4",99,99,null,"Eget värde som ska kunna verifieras"]
["Eget värde 5",99,99,null,"Eget värde som ska kunna verifieras"]
["Eget värde 6",99,99,null,"Eget värde som ska kunna verifieras"]
["Eget värde 7",99,99,null,"Eget värde som ska kunna verifieras"]
["Insatsvaror - Uppgradering","CO2eq g/enhet",null,null,"Kommentar"]
["Aktivt kol-fossilt ursprung, kg",2390,null,null,"Antar samma värde som för \"carbon black\". Troligtvis mer likt kimrök än aktivt kol men bör inte skilja avsevärt. Den totala klimatpåverkan  (koldioxid + metan + lustgas) beräknad  enligt Ecoinvent och GaBi (karakteriseringsfaktorer enligt CML2001 – nov.09, 100 års sikt)"]
["Aktivt kol-biogent ursprung, kg",1190,null,null,"EcoInvent Databas 2.0. Globalt värde. Betecknas som carbon, Aktivkohle i databasen, se faktaruta. CO2 (biotic) anges till 2820 g. Stor del av klimatpåverkan kommer från metan."]
["Kvävgas, Nm3",103,null,null,"Genomsnittsvärde EU27: Nitrogen ELCD/PE-GaBi"]
["Contraspum E640, kg",5282,null,null,"Approximeras som etylenglykoldietylether. Källa GaBi."]
["Vatten, m3",121,null,null,"Chalmers, Livscykelanalys av dricksvatten - en studie av ett vattenverk i Göteborg,  ERIKA WALLÈN  Examensarbete 1999:3. Metan och lustgas ingår ej i studien"]
["Capure, kg",2700,null,null,"Uppgift från Purac-Puregas december 2015. Uppgiften avser tillverkning av Ucarsol AP-814 (CApure/Cooab) "]
["Eget värde 1",9999,null,null,"Eget värde som ska kunna verifieras"]
["Eget värde 2",9999,null,null,"Eget värde som ska kunna verifieras"]
["Eget värde 3",9999,null,null,"Eget värde som ska kunna verifieras"]
["Eget värde 4",9999,null,null,"Eget värde som ska kunna verifieras"]
["Eget värde 5",9999,null,null,"Eget värde som ska kunna verifieras"]
["Eget värde 6",9999,null,null,"Eget värde som ska kunna verifieras"]
["Eget värde 7",9999,null,null,"Eget värde som ska kunna verifieras"]
["Eget värde 8",9999,null,null,"Eget värde som ska kunna verifieras"]
["Eget värde 9",9999,null,null,"Eget värde som ska kunna verifieras"]
["Transport av gas till tankstationer","Bränsleförbruk-ning, MJ/km",null,null,"Kommentar"]
["Rörledning",0,null,null,"Förbrukning ingår i uppgraderingsanläggningarna"]
["Lastbil, 1 cont, flytande bränsle",{"$f":"((0.251+0.495)/2)*D51","v":13.129600000000002},null,null,"NTM Fordonskategori 9. City trailer. 33 ton lastkapacitet. Landsväg. Genomsnittligförbrukning för hela transporten då tom återtransport inkluderas.  Förbrukning vid 100% lastgrad dit + Förbrukning vid 0 % lastgrad tillbaka."]
["Lastbil, m  släp, flytande bränsle",{"$f":"((0.608+0.334)/2)*D51","v":16.5792},null,null,"Baserat på 58 tons total lastvikt ( Benjaminsson & Nilsson 2009). NTM Fordonskategori 10. . 40 ton lastkapacitet. Landsväg. Genomsnittligförbrukning för hela transporten då tom återtransport inkluderas.  Förbrukning vid 100% lastgrad dit + Förbrukning vid 0 % lastgrad tillbaka."]
["Tankbil LBG, flytande bränsle",{"$f":"((0.268+0.528)/2)*D51","v":14.009600000000002},null,null,"NTM Fordonskategori 9. 33 ton lastkapacitet. Landsväg. Genomsnittlig förbrukning för hela transporten då tom återtransport inkluderas.  Förbrukning vid 100% lastgrad dit + Förbrukning vid 0 % lastgrad tillbaka."]
["Lastbil, 1 cont, gas",{"$f":"((0.251+0.495)/2)*D57*1.18","v":21.566859999999998},null,null,"NTM Fordonskategori 9. City trailer. 33 ton lastkapacitet. Landsväg. Genomsnittligförbrukning för hela transporten då tom återtransport inkluderas.  Förbrukning vid 100% lastgrad dit + Förbrukning vid 0 % lastgrad tillbaka. Energiförbrukning antas öka med 18 % pga gas baserat på MetDriv (Börjesson et al. 2017). "]
["Lastbil, m  släp, gas",{"$f":"((0.608+0.334)/2)*D57*1.18","v":27.233219999999996},null,null,"Baserat på 58 tons total lastvikt ( Benjaminsson & Nilsson 2009). NTM Fordonskategori 10. . 40 ton lastkapacitet. Landsväg. Genomsnittligförbrukning för hela transporten då tom återtransport inkluderas.  Förbrukning vid 100% lastgrad dit + Förbrukning vid 0 % lastgrad tillbaka. Energiförbrukning antas öka med 18 % pga gas baserat på MetDriv (Börjesson et al. 2017). "]
["Tankbil LBG, gas",{"$f":"((0.268+0.528)/2)*D57*1.18","v":23.012360000000001},null,null,"NTM Fordonskategori 9. 33 ton lastkapacitet. Landsväg. Genomsnittlig förbrukning för hela transporten då tom återtransport inkluderas.  Förbrukning vid 100% lastgrad dit + Förbrukning vid 0 % lastgrad tillbaka. Energiförbrukning antas öka med 18 % pga gas baserat på MetDriv (Börjesson et al. 2017). "]
["Lastbil, 1 cont, dual-fuel",{"$f":"B172","v":13.129600000000002},null,null,"NTM Fordonskategori 9. City trailer. 33 ton lastkapacitet. Landsväg. Genomsnittligförbrukning för hela transporten då tom återtransport inkluderas.  Förbrukning vid 100% lastgrad dit + Förbrukning vid 0 % lastgrad tillbaka."]
["Lastbil, m  släp, dual-fuel",{"$f":"B173","v":16.5792},null,null,"Baserat på 58 tons total lastvikt ( Benjaminsson & Nilsson 2009). NTM Fordonskategori 10. . 40 ton lastkapacitet. Landsväg. Genomsnittligförbrukning för hela transporten då tom återtransport inkluderas.  Förbrukning vid 100% lastgrad dit + Förbrukning vid 0 % lastgrad tillbaka."]
["Tankbil LBG, dual-fuel",14.009600000000002,null,null,"NTM Fordonskategori 9. 33 ton lastkapacitet. Landsväg. Genomsnittlig förbrukning för hela transporten då tom återtransport inkluderas.  Förbrukning vid 100% lastgrad dit + Förbrukning vid 0 % lastgrad tillbaka."]
["Eget värde 1",99,null,null,"Eget värde som ska kunna verifieras"]
["Eget värde 2",99,null,null,"Eget värde som ska kunna verifieras"]
["Eget värde 3",99,null,null,"Eget värde som ska kunna verifieras"]
["Eget värde 4",99,null,null,"Eget värde som ska kunna verifieras"]
["Eget värde 5",99,null,null,"Eget värde som ska kunna verifieras"]
["Naturgas som komplement till levererad biogas","Energiinnehåll, MJ/kg","Densitet, kg/Nm3",null,"Kommentar"]
["Naturgas från ledning",48.85,0.7585833333333335,null,"Typvärde för naturgas ifrån Danmark via ledning (medelvärde 2020, källa Swedegas)"]
["Förångad LNG ",49.3,0.78400000000000003,null,"Typvärde för LNG från Nynäshamn"]
["Naturgas (LNG) i flytande form till tankstation för tankning av flytande gas",49.3,0.78400000000000003,null,"Typvärde för LNG från Nynäshamn, avser förångad LNG. Densiteten används för kontroll av massbalans i det fall försäljning av förångad LNG sker i Nmn3 (kontrollen sker i jg)"]

{"sheet":"Resultat","index":9,"n_rows":8,"n_cols":11,"rows_kept":8,"cut":false,"hidden":false,"merged":[[0,0,0,10]]}
["HBK Biogasredovisning, ver 3.6 - Resultat - nyckeltal"]
[]
[null,"Växthusgasutsläpp, g CO2eq/MJ",null,null,null,null,"Växthusgasminskning, %",null,null,null,"Normalvärde"]
["Egen producerad biogas","Produktion","Uppgradering","Distribution","Summa",null,"Produktion","Uppgradering","Distribution","Summa"]
[]
["Inköpt rågas","Produktion","Uppgradering","Distribution","Summa",null,"Produktion","Uppgradering","Distribution","Summa"]
[]
["Inköpt uppgraderad biogas",null,"Prod + Uppgr","Distribution","Summa",null,"Prod + Uppgr","Distribution","Summa"]

{"sheet":"Avfall Web","index":10,"n_rows":120,"n_cols":7,"rows_kept":120,"cut":false,"hidden":false,"merged":[[0,0,0,6]]}
["HBK Biogasredovisning, ver 3.6 - Data till Avfall Web"]
[null,"Avser driftår",{"$f":"LEFT(Produktion!B3,4)","v":"2020"}]
[null,"Företag",{"$f":"Produktion!B2","v":"NNN"}]
[null,"Rapportdatum",{"$f":"TODAY()","v":"2021-01-18"}]
[null,"Rapport, klockslag",{"$f":"NOW()","v":44214.609568518521}]
[]
["ID","Namn","Beskrivning","Nivå","Enhet","Värde","Summerings- eller annan funktion"]
[null,"Nivå 1","Grundläggande data (kan ses av andra anläggningar)"]
[null,"Uppgifter om anläggningen"]
["EB27","Antal rötkammare",null,"1","st"]
["EB28","Rötkammarvolym","Ange anläggningens totala rötkammarvolym","1","m3"]
["EB4","Tillåten avfallsmängd enligt tillstånd","Tillåten mängd avfall enligt tillstånd.","1","ton"]
[null,"Behandlade mängder totalt"]
["EB7","Behandlade mängder totalt","Ton våtvikt. Utgör summan av \"Beandlade mängder biologiskt avfall\" (EB8, EB8a samt EB36-EB42). ","1","ton",{"$f":"Produktion!$S$36","v":0},"Summan av EB8, EB8a, EB36, EB37, EB38, EB39, EB40, EB41 och EB42"]
[null,"Producerad energi"]
["EB12","Energiproduktion totalt","Producerad energi i anläggningen (gas). Utgör summan av EB13, EB14, EB15, EB32 och EB33. ","1","MWh",{"$f":"SUM(F32:F36)","v":0},"Summan av EB13, EB14, EB15, EB32, EB33"]
["EB31","Metanhalt","Medeltal året","1","%",{"$f":"Produktion!$F$128*100","v":65}]
[null,"Process"]
["EB58","Temperatur","Medel per år. Uppgiften syftar till om processen drivs t.ex. mesofilt, termofilt eller i annat temperaturområde","1","Grader C"]
[null,"Nivå 2","Fördjupade data (kan inte ses av andra anläggningar)"]
[null,"Behandlade mängder biologiskt avfall"]
["EB8","Behandlad mängd inhemskt matavfall","Ton våtvikt, invägd på våg. ",2,"ton",{"$f":"SUMIFS( Produktion!$S$6:$S$35,    Produktion!$R$6:$R$35, G22, Produktion!$E$6:$E$35, \"=Sverige\" )","v":0},"EB8"]
["EB8a","Behandlad mängd importerat matavfall","Ton våtvikt, invägd på våg. ",2,"ton",{"$f":"SUMIFS( Produktion!$S$6:$S$35,    Produktion!$R$6:$R$35, G23, Produktion!$E$6:$E$35, \"<>Sverige\" )","v":0},"EB8"]
["EB36","Behandlad mängd från slakteri","Ton våtvikt, invägd på våg. ",2,"ton",{"$f":"SUMIFS( Produktion!$S$6:$S$35,    Produktion!$R$6:$R$35, G24 )","v":0},"EB36"]
["EB37","Behandlad mängd från livsmedelsindustri","Ton våtvikt, invägd på våg. ",2,"ton",{"$f":"SUMIFS( Produktion!$S$6:$S$35,    Produktion!$R$6:$R$35, G25 )","v":0},"EB37"]
["EB38","Behandlad mängd gödsel","Ton våtvikt, invägd på våg. ",2,"ton",{"$f":"SUMIFS( Produktion!$S$6:$S$35,    Produktion!$R$6:$R$35, G26 )","v":0},"EB38"]
["EB39","Behandlad mängd energigrödor","Ton våtvikt, invägd på våg. ",2,"ton",{"$f":"SUMIFS( Produktion!$S$6:$S$35,    Produktion!$R$6:$R$35, G27 )","v":0},"EB39"]
["EB40","Behandlad mängd avloppsslam","Ton våtvikt, invägd på våg. ",2,"ton",{"$f":"SUMIFS( Produktion!$S$6:$S$35,    Produktion!$R$6:$R$35, G28 )","v":0},"EB40"]
["EB41a","Behandlad mängd från livsmedelsbutiker","Ton våtvikt, invägd på våg. ",2,"ton",{"$f":"SUMIFS( Produktion!$S$6:$S$35,    Produktion!$R$6:$R$35, G29 )","v":0},"EB41a"]
["EB42","Behandlad mängd övrigt","Ton våtvikt, invägd på våg. ",2,"ton",{"$f":"SUMIFS( Produktion!$S$6:$S$35,    Produktion!$R$6:$R$35, G30 )","v":0},"EB42"]
[null,"Användning av producerad energi"]
["EB13","Biogas till värme","Producerad värme i anläggningen inklusive gas till extern värmeproduktion. ","2","MWh",{"$f":"IF(Produktion!$G$131=\"Nm3\",  (Produktion!$F$130+Produktion!F133)*1000* Produktion!$F$128*10/1000,  ((Produktion!$F$130+Produktion!F133)/Produktion!$H$131)*1000* Produktion!$F$128*10/1000) - (Produktion!$C$98 + Produktion!$C$123)","v":0}]
["EB14","Biogas till uppgradering ","Producerad gas till uppgradering.","2","MWh",{"$f":"IF(Produktion!$G$131=\"Nm3\",  Produktion!$F$134*1000* Produktion!$F$128*10/1000,  (Produktion!$F$134/Produktion!$H$131)*1000* Produktion!$F$128*10/1000)","v":0}]
["EB15","Biogas till elproduktion","Producerad el i anläggningen.","2","MWh",{"$f":"Produktion!$C$98+Produktion!$C$123","v":0}]
["EB32","Biogas till övrigt","Producerad gas till extern industriell användning samt övrig användning.","2","MWh",{"$f":"IF(Produktion!$G$131=\"Nm3\",  Produktion!$F$132*1000* Produktion!$F$128*10/1000,  (Produktion!$F$132/Produktion!$H$131)*1000* Produktion!$F$128*10/1000)","v":0}]
["EB33","Biogas som facklats","Fackling av gas från biogasanläggningen.","2","MWh",{"$f":"IF(Produktion!$G$131=\"Nm3\",  Produktion!$F$129*1000* Produktion!$F$128*10/1000,  (Produktion!$F$129/Produktion!$H$131)*1000* Produktion!$F$128*10/1000)","v":0}]
[null,"Biogödsel","Allmänt"]
["EB16","Certifierad biogödsel enligt SPCR 120","Välj ett alternativ: Ja, Nej.","2","Val","Ja"]
["EB104","Andel certifierad biogödsel","Andel av biogödseln som levererats som certifierad till kund. Om hela biogödselmängden levererats ut som certifierad innebär det 100%, om vissa partier underkänts blir det <100%.","2","%"]
["EB61","Biogödsel ur rötkammaren","Den mängd biogödsel som tas ut från rötkammaren, innan ev fasseparering/efterbehandling. Utgör summan av EB62, EB63 och EB64. ","2","Ton våtvikt",{"$f":"F47+F97+F72","v":0},"Summan av EB62, EB63 och EB64. "]
["EB61a","varav godkänd för ekologisk produktion","Andel av den producerade biogödseln som är godkänd för ekologisk produktion.","2","%"]
["EB17","Avsättning biogödsel där växtnäring tas till vara","Andel av den producerade biogödseln som fått avsättning i åkermark, skogsmark, energiskog, kompostjord inom trädgårdsodling eller grönytor med behov av näring.  för den anläggning som matavfallet har skickats till. Summan av EB17 och EB18 ska vara lika med 100 %.","2","%"]
["EB18","Annan avsättning biogödsel","Andel av den producerade biogödseln som fått annan avsättning som inte kan tillgodoräknas som tillvaratagande av växtnäring. Exempel på annan avsättning är växtetableringsskikt på deponier och vid täckning av gruvhögar. Summan av EB17 och EB18 ska vara lika med 100 %. ",2,"%"]
["EB105","Fasseparering/efterbehandling av biogödsel","Välj ett alternativ: Ja, Nej.","2","Val","Ja"]
["EB108","Beskrivning av fasseparering/eftebehandling biogödsel","Här kan du beskriva kortfattat hur fasseparering/efterbehandling utförs, t.ex. vilken teknik och vilka produkter som genereras. ","2","Fritext"]
[null,"EJ fasseparerad/efterbehandlad biogödsel ","Fraktion som sprids utan behandling/förädling på t.ex. åkermark"]
["EB63","Mängd biogödsel","Biogödsel utan fasseparering.",2,"Ton våtvikt"]
[null,"Innehåll av tungmetaller (medel/år)"]
["EB43","Bly","Pb. Medel/år. Obs! \"Mindre än\"-värden ska anges som halva värdet. T.ex <0,5 ska rapporteras som 0,25.","2","mg/kg TS"]
["EB44","Kadmium","Cd. Medel/år. Obs! \"Mindre än\"-värden ska anges som halva värdet. T.ex <0,5 ska rapporteras som 0,25.","2","mg/kg TS"]
["EB45","Koppar","Cu. Medel/år. Obs! \"Mindre än\"-värden ska anges som halva värdet. T.ex <0,5 ska rapporteras som 0,25.","2","mg/kg TS"]
["EB46","Krom","Cr. Medel/år. Obs! \"Mindre än\"-värden ska anges som halva värdet. T.ex <0,5 ska rapporteras som 0,25.","2","mg/kg TS"]
["EB47","Kvicksilver","Hg. Medel/år. Obs! \"Mindre än\"-värden ska anges som halva värdet. T.ex <0,5 ska rapporteras som 0,25.","2","mg/kg TS"]
["EB48","Nickel","Ni. Medel/år. Obs! \"Mindre än\"-värden ska anges som halva värdet. T.ex <0,5 ska rapporteras som 0,25.","2","mg/kg TS"]
["EB49","Zink","Zn. Medel/år. Obs! \"Mindre än\"-värden ska anges som halva värdet. T.ex <0,5 ska rapporteras som 0,25.","2","mg/kg TS"]
[null,"Innehåll av växtnäring (medel/år)"]
["EB50","Totalkväve","N-tot. Medel/år","2","kg/ton"]
["EB51","Ammoniumkväve","NH4-N. Medel/år","2","kg/ton"]
["EB52","Totalfosfor","P-tot. Medel/år","2","kg/ton"]
["EB53","Totalkalium","K-tot. Medel/år","2","kg/ton"]
["EB101","Magnesium","Mg. Medel/år","2","kg/ton"]
["EB102","Svavel","S. Medel/år","2","kg/ton"]
["EB103","Kalcium","Ca. Medel/år","2","kg/ton"]
[null,"Jordförbättrande och fysikaliska egenskaper (medel/år)"]
["EB66","Torrsubstanshalt","TS-halt, medel/år",2,"%"]
["EB106","Organisk substans","Glödgningsförlust i viktprocent av torrsubstansen. Medel/år",2,"% av TS"]
["EB107","pH",null,2]
[null,"Synliga föroreningar (medel/år)"]
["EB84","Synliga föroreningar i biogödsel med <20% TS-halt (s.k. flytande biogödsel)","Synliga föroreningar är föremål som är mer än 2 mm, dvs sådana föremål som inte passerar en sikt med 2 mm maskvidd, och som utgörs av glas, plast, metall, gummi, kompositer, biologiskt nedbrytbara polymerer och papper. Enheten är cm2 per kg biogödsel. Medel/år.",2,"cm2/kg"]
["EB84a","Synliga föroreningar i biogödsel med >20% TS-halt (s.k. fast biogödsel)","Synliga föroreningar är föremål som är mer än 2 mm, dvs sådana föremål som inte passerar en sikt med 2 mm maskvidd, och som utgörs av glas, plast, metall, gummi, kompositer, biologiskt nedbrytbara polymerer och papper. Enheten är cm2 per kg biogödsel. Medel/år.",2,"cm2/kg"]
[null,"Fasseparerad/efterbehandlad biogödsel","FLYTANDE fraktion (sprids som flytgödsel)"]
["EB64","Mängd biogödsel","Ton våtvikt","2","Ton våtvikt"]
[null,"Innehåll av tungmetaller (medel/år)"]
["EB76","Bly","Pb. Medel/år. Obs! \"Mindre än\"-värden ska anges som halva värdet. T.ex <0,5 ska rapporteras som 0,25.","2","mg/kg TS"]
["EB77","Kadmium","Cd. Medel/år. Obs! \"Mindre än\"-värden ska anges som halva värdet. T.ex <0,5 ska rapporteras som 0,25.","2","mg/kg TS"]
["EB78","Koppar","Cu. Medel/år. Obs! \"Mindre än\"-värden ska anges som halva värdet. T.ex <0,5 ska rapporteras som 0,25.","2","mg/kg TS"]
["EB79","Krom","Cr. Medel/år. Obs! \"Mindre än\"-värden ska anges som halva värdet. T.ex <0,5 ska rapporteras som 0,25.","2","mg/kg TS"]
["EB80","Kvicksilver","Hg. Medel/år. Obs! \"Mindre än\"-värden ska anges som halva värdet. T.ex <0,5 ska rapporteras som 0,25.","2","mg/kg TS"]
["EB81","Nickel","Ni. Medel/år. Obs! \"Mindre än\"-värden ska anges som halva värdet. T.ex <0,5 ska rapporteras som 0,25.","2","mg/kg TS"]
["EB82","Zink","Zn. Medel/år. Obs! \"Mindre än\"-värden ska anges som halva värdet. T.ex <0,5 ska rapporteras som 0,25.","2","mg/kg TS"]
[null,"Innehåll av växtnäring (medel/år)"]
["EB50a","Totalkväve","N-tot. Medel/år","2","kg/ton"]
["EB51a","Ammoniumkväve","NH4-N. Medel/år","2","kg/ton"]
["EB52a","Totalfosfor","P-tot. Medel/år","2","kg/ton"]
["EB53a","Totalkalium","K-tot. Medel/år","2","kg/ton"]
["EB101a","Magnesium","Mg. Medel/år","2","kg/ton"]
["EB102a","Svavel","S. Medel/år","2","kg/ton"]
["EB103a","Kalcium","Ca. Medel/år","2","kg/ton"]
[null,"Jordförbättrande och fysikaliska egenskaper (medel/år)"]
["EB75","Torrsubstanshalt","TS-halt, medel/år",2,"%"]
["EB106a","Organisk substtans","Glödgningsförlust i viktprocent av torrsubstansen. Medel/år",2,"% av TS"]
["EB107a","pH",null,2]
[null,"Synliga föroreningar (medel/år)"]
["EB83","Synliga föroreningar i biogödsel med <20% TS-halt (s.k. flytande biogödsel)","Synliga föroreningar är föremål som är mer än 2 mm, dvs sådana föremål som inte passerar en sikt med 2 mm maskvidd, och som utgörs av glas, plast, metall, gummi, kompositer, biologiskt nedbrytbara polymerer och papper. Enheten är cm2 per kg biogödsel. Medel/år.",2,"cm2/kg"]
["EB83a","Synliga föroreningar i biogödsel med >20% TS-halt (s.k. fast biogödsel)","Synliga föroreningar är föremål som är mer än 2 mm, dvs sådana föremål som inte passerar en sikt med 2 mm maskvidd, och som utgörs av glas, plast, metall, gummi, kompositer, biologiskt nedbrytbara polymerer och papper. Enheten är cm2 per kg biogödsel. Medel/år.",2,"cm2/kg"]
[null,"Fasseparerad/efterbehandlad biogödsel","FAST fraktion (sprids som fastgödsel)"]
["EB62","Mängd biogödsel","Ton våtvikt","2","Ton våtvikt"]
[null,"Innehåll av tungmetaller (medel/år)"]
["EB68","Bly","Pb. Medel/år. Obs! \"Mindre än\"-värden ska anges som halva värdet. T.ex <0,5 ska rapporteras som 0,25.","2","mg/kg TS"]
["EB69","Kadmium","Cd. Medel/år. Obs! \"Mindre än\"-värden ska anges som halva värdet. T.ex <0,5 ska rapporteras som 0,25.","2","mg/kg TS"]
["EB70","Koppar","Cu. Medel/år. Obs! \"Mindre än\"-värden ska anges som halva värdet. T.ex <0,5 ska rapporteras som 0,25.","2","mg/kg TS"]
["EB71","Krom","Cr. Medel/år. Obs! \"Mindre än\"-värden ska anges som halva värdet. T.ex <0,5 ska rapporteras som 0,25.","2","mg/kg TS"]
["EB72","Kvicksilver","Hg. Medel/år. Obs! \"Mindre än\"-värden ska anges som halva värdet. T.ex <0,5 ska rapporteras som 0,25.","2","mg/kg TS"]
["EB73","Nickel","Ni. Medel/år. Obs! \"Mindre än\"-värden ska anges som halva värdet. T.ex <0,5 ska rapporteras som 0,25.","2","mg/kg TS"]
["EB74","Zink","Zn. Medel/år. Obs! \"Mindre än\"-värden ska anges som halva värdet. T.ex <0,5 ska rapporteras som 0,25.","2","mg/kg TS"]
[null,"Innehåll av växtnäring (medel/år)"]
["EB50b","Totalkväve","N-tot. Medel/år","2","kg/ton"]
["EB51b","Ammoniumkväve","NH4-N. Medel/år","2","kg/ton"]
["EB52b","Totalfosfor","P-tot. Medel/år","2","kg/ton"]
["EB53b","Totalkalium","K-tot. Medel/år","2","kg/ton"]
["EB101b","Magnesium","Mg. Medel/år","2","kg/ton"]
["EB102b","Svavel","S. Medel/år","2","kg/ton"]
["EB103b","Kalcium","Ca. Medel/år","2","kg/ton"]
[null,"Jordförbättrande och fysikaliska egenskaper (medel/år)"]
["EB67","Torrsubstanshalt","TS-halt, medel/år",2,"%"]
["EB106b","Organisk substans","Glödgningsförlust i viktprocent av torrsubstansen. Medel/år",2,"% av TS"]
["EB107b","pH",null,2]
[null,"Synliga föroreningar (medel/år)"]
["EB85","Synliga föroreningar i biogödsel med <20% TS-halt (s.k. flytande biogödsel)","Synliga föroreningar är föremål som är mer än 2 mm, dvs sådana föremål som inte passerar en sikt med 2 mm maskvidd, och som utgörs av glas, plast, metall, gummi, kompositer, biologiskt nedbrytbara polymerer och papper. Enheten är cm2 per kg biogödsel. Medel/år.",2,"cm2/kg"]
["EB85b","Synliga föroreningar i biogödsel med >20% TS-halt (s.k. fast biogödsel)","Synliga föroreningar är föremål som är mer än 2 mm, dvs sådana föremål som inte passerar en sikt med 2 mm maskvidd, och som utgörs av glas, plast, metall, gummi, kompositer, biologiskt nedbrytbara polymerer och papper. Enheten är cm2 per kg biogödsel. Medel/år.",2,"cm2/kg"]

{"sheet":"Egna Data 1","index":11,"n_rows":1,"n_cols":1,"rows_kept":1,"cut":false,"hidden":false,"merged":[[0,0,0,13]]}
["HBK Biogasredovisning, ver 3.6 - Egna data, blad 1"]

{"sheet":"Egna Data 2","index":12,"n_rows":1,"n_cols":1,"rows_kept":1,"cut":false,"hidden":false,"merged":[[0,0,0,13]]}
["HBK Biogasredovisning, ver 3.6 - Egna data, blad 2"]